{"text_format":"1","workbook":"xlsx","n_sheets":4,"sheets":["控制頁面","總表","董監事持股狀況","股價"],"not_rendered":{"charts":0,"images":1,"macros":1,"external_links":0,"defined_names":8,"comments":2,"pivot_tables":0},"unopened":[],"bounds":{"document_bytes":16777216,"sheet_cells":100000,"rows_first":2000,"rows_last":500,"rows_between":2000,"halvings":0,"cell_chars":16384,"cell_head_chars":4096},"cells_cut":0,"cells_raw":0,"read":"whole","date_system":"1900"}

{"sheet":"控制頁面","index":0,"n_rows":5,"n_cols":4,"rows_kept":5,"cut":false,"hidden":false,"merged":[[0,0,1,2],[0,3,1,4],[2,0,3,2],[4,0,5,2],[2,3,3,4],[4,3,5,4]]}
["請選擇需要查詢的公司"]
[]
["請輸入董監事持股月份",null,null,"2023/04/30"]
[]
["請輸入股價日期",null,null,"2023/05/16"]

{"sheet":"總表","index":1,"n_rows":999,"n_cols":7,"rows_kept":999,"cut":false,"hidden":false,"merged":[[994,0,994,1],[995,0,995,1],[996,0,996,1],[997,0,997,1],[998,0,998,1],[5,0,6,1],[988,0,988,1],[989,0,989,1],[990,0,990,1],[991,0,991,1],[992,0,992,1],[993,0,993,1],[982,0,982,1],[983,0,983,1],[984,0,984,1],[985,0,985,1],[986,0,986,1],[987,0,987,1],[976,0,976,1],[977,0,977,1],[978,0,978,1],[979,0,979,1],[980,0,980,1],[981,0,981,1],[970,0,970,1],[971,0,971,1],[972,0,972,1],[973,0,973,1],[974,0,974,1],[975,0,975,1],[964,0,964,1],[965,0,965,1],[966,0,966,1],[967,0,967,1],[968,0,968,1],[969,0,969,1],[958,0,958,1],[959,0,959,1],[960,0,960,1],[961,0,961,1],[962,0,962,1],[963,0,963,1],[952,0,952,1],[953,0,953,1],[954,0,954,1],[955,0,955,1],[956,0,956,1],[957,0,957,1],[946,0,946,1],[947,0,947,1],[948,0,948,1],[949,0,949,1],[950,0,950,1],[951,0,951,1],[940,0,940,1],[941,0,941,1],[942,0,942,1],[943,0,943,1],[944,0,944,1],[945,0,945,1],[934,0,934,1],[935,0,935,1],[936,0,936,1],[937,0,937,1],[938,0,938,1],[939,0,939,1],[928,0,928,1],[929,0,929,1],[930,0,930,1],[931,0,931,1],[932,0,932,1],[933,0,933,1],[922,0,922,1],[923,0,923,1],[924,0,924,1],[925,0,925,1],[926,0,926,1],[927,0,927,1],[916,0,916,1],[917,0,917,1],[918,0,918,1],[919,0,919,1],[920,0,920,1],[921,0,921,1],[910,0,910,1],[911,0,911,1],[912,0,912,1],[913,0,913,1],[914,0,914,1],[915,0,915,1],[904,0,904,1],[905,0,905,1],[906,0,906,1],[907,0,907,1],[908,0,908,1],[909,0,909,1],[898,0,898,1],[899,0,899,1],[900,0,900,1],[901,0,901,1],[902,0,902,1],[903,0,903,1],[892,0,892,1],[893,0,893,1],[894,0,894,1],[895,0,895,1],[896,0,896,1],[897,0,897,1],[886,0,886,1],[887,0,887,1],[888,0,888,1],[889,0,889,1],[890,0,890,1],[891,0,891,1],[880,0,880,1],[881,0,881,1],[882,0,882,1],[883,0,883,1],[884,0,884,1],[885,0,885,1],[874,0,874,1],[875,0,875,1],[876,0,876,1],[877,0,877,1],[878,0,878,1],[879,0,879,1],[868,0,868,1],[869,0,869,1],[870,0,870,1],[871,0,871,1],[872,0,872,1],[873,0,873,1],[862,0,862,1],[863,0,863,1],[864,0,864,1],[865,0,865,1],[866,0,866,1],[867,0,867,1],[856,0,856,1],[857,0,857,1],[858,0,858,1],[859,0,859,1],[860,0,860,1],[861,0,861,1],[850,0,850,1],[851,0,851,1],[852,0,852,1],[853,0,853,1],[854,0,854,1],[855,0,855,1],[844,0,844,1],[845,0,845,1],[846,0,846,1],[847,0,847,1],[848,0,848,1],[849,0,849,1],[838,0,838,1],[839,0,839,1],[840,0,840,1],[841,0,841,1],[842,0,842,1],[843,0,843,1],[832,0,832,1],[833,0,833,1],[834,0,834,1],[835,0,835,1],[836,0,836,1],[837,0,837,1],[826,0,826,1],[827,0,827,1],[828,0,828,1],[829,0,829,1],[830,0,830,1],[831,0,831,1],[820,0,820,1],[821,0,821,1],[822,0,822,1],[823,0,823,1],[824,0,824,1],[825,0,825,1],[814,0,814,1],[815,0,815,1],[816,0,816,1],[817,0,817,1],[818,0,818,1],[819,0,819,1],[808,0,808,1],[809,0,809,1],[810,0,810,1],[811,0,811,1],[812,0,812,1],[813,0,813,1],[802,0,802,1],[803,0,803,1],[804,0,804,1],[805,0,805,1],[806,0,806,1],[807,0,807,1],[796,0,796,1],[797,0,797,1],[798,0,798,1],[799,0,799,1],[800,0,800,1],[801,0,801,1],[790,0,790,1],[791,0,791,1],[792,0,792,1],[793,0,793,1],[794,0,794,1],[795,0,795,1],[784,0,784,1],[785,0,785,1],[786,0,786,1],[787,0,787,1],[788,0,788,1],[789,0,789,1],[778,0,778,1],[779,0,779,1],[780,0,780,1],[781,0,781,1],[782,0,782,1],[783,0,783,1],[772,0,772,1],[773,0,773,1],[774,0,774,1],[775,0,775,1],[776,0,776,1],[777,0,777,1],[766,0,766,1],[767,0,767,1],[768,0,768,1],[769,0,769,1],[770,0,770,1],[771,0,771,1],[760,0,760,1],[761,0,761,1],[762,0,762,1],[763,0,763,1],[764,0,764,1],[765,0,765,1],[754,0,754,1],[755,0,755,1],[756,0,756,1],[757,0,757,1],[758,0,758,1],[759,0,759,1],[748,0,748,1],[749,0,749,1],[750,0,750,1],[751,0,751,1],[752,0,752,1],[753,0,753,1],[742,0,742,1],[743,0,743,1],[744,0,744,1],[745,0,745,1],[746,0,746,1],[747,0,747,1],[736,0,736,1],[737,0,737,1],[738,0,738,1],[739,0,739,1],[740,0,740,1],[741,0,741,1],[730,0,730,1],[731,0,731,1],[732,0,732,1],[733,0,733,1],[734,0,734,1],[735,0,735,1],[724,0,724,1],[725,0,725,1],[726,0,726,1],[727,0,727,1],[728,0,728,1],[729,0,729,1],[718,0,718,1],[719,0,719,1],[720,0,720,1],[721,0,721,1],[722,0,722,1],[723,0,723,1],[712,0,712,1],[713,0,713,1],[714,0,714,1],[715,0,715,1],[716,0,716,1],[717,0,717,1],[706,0,706,1],[707,0,707,1],[708,0,708,1],[709,0,709,1],[710,0,710,1],[711,0,711,1],[700,0,700,1],[701,0,701,1],[702,0,702,1],[703,0,703,1],[704,0,704,1],[705,0,705,1],[694,0,694,1],[695,0,695,1],[696,0,696,1],[697,0,697,1],[698,0,698,1],[699,0,699,1],[688,0,688,1],[689,0,689,1],[690,0,690,1],[691,0,691,1],[692,0,692,1],[693,0,693,1],[682,0,682,1],[683,0,683,1],[684,0,684,1],[685,0,685,1],[686,0,686,1],[687,0,687,1],[676,0,676,1],[677,0,677,1],[678,0,678,1],[679,0,679,1],[680,0,680,1],[681,0,681,1],[670,0,670,1],[671,0,671,1],[672,0,672,1],[673,0,673,1],[674,0,674,1],[675,0,675,1],[664,0,664,1],[665,0,665,1],[666,0,666,1],[667,0,667,1],[668,0,668,1],[669,0,669,1],[658,0,658,1],[659,0,659,1],[660,0,660,1],[661,0,661,1],[662,0,662,1],[663,0,663,1],[652,0,652,1],[653,0,653,1],[654,0,654,1],[655,0,655,1],[656,0,656,1],[657,0,657,1],[646,0,646,1],[647,0,647,1],[648,0,648,1],[649,0,649,1],[650,0,650,1],[651,0,651,1],[640,0,640,1],[641,0,641,1],[642,0,642,1],[643,0,643,1],[644,0,644,1],[645,0,645,1],[634,0,634,1],[635,0,635,1],[636,0,636,1],[637,0,637,1],[638,0,638,1],[639,0,639,1],[628,0,628,1],[629,0,629,1],[630,0,630,1],[631,0,631,1],[632,0,632,1],[633,0,633,1],[622,0,622,1],[623,0,623,1],[624,0,624,1],[625,0,625,1],[626,0,626,1],[627,0,627,1],[616,0,616,1],[617,0,617,1],[618,0,618,1],[619,0,619,1],[620,0,620,1],[621,0,621,1],[610,0,610,1],[611,0,611,1],[612,0,612,1],[613,0,613,1],[614,0,614,1],[615,0,615,1],[604,0,604,1],[605,0,605,1],[606,0,606,1],[607,0,607,1],[608,0,608,1],[609,0,609,1],[598,0,598,1],[599,0,599,1],[600,0,600,1],[601,0,601,1],[602,0,602,1],[603,0,603,1],[592,0,592,1],[593,0,593,1],[594,0,594,1],[595,0,595,1],[596,0,596,1],[597,0,597,1],[586,0,586,1],[587,0,587,1],[588,0,588,1],[589,0,589,1],[590,0,590,1],[591,0,591,1],[580,0,580,1],[581,0,581,1],[582,0,582,1],[583,0,583,1],[584,0,584,1],[585,0,585,1],[574,0,574,1],[575,0,575,1],[576,0,576,1],[577,0,577,1],[578,0,578,1],[579,0,579,1],[568,0,568,1],[569,0,569,1],[570,0,570,1],[571,0,571,1],[572,0,572,1],[573,0,573,1],[562,0,562,1],[563,0,563,1],[564,0,564,1],[565,0,565,1],[566,0,566,1],[567,0,567,1],[556,0,556,1],[557,0,557,1],[558,0,558,1],[559,0,559,1],[560,0,560,1],[561,0,561,1],[550,0,550,1],[551,0,551,1],[552,0,552,1],[553,0,553,1],[554,0,554,1],[555,0,555,1],[544,0,544,1],[545,0,545,1],[546,0,546,1],[547,0,547,1],[548,0,548,1],[549,0,549,1],[538,0,538,1],[539,0,539,1],[540,0,540,1],[541,0,541,1],[542,0,542,1],[543,0,543,1],[532,0,532,1],[533,0,533,1],[534,0,534,1],[535,0,535,1],[536,0,536,1],[537,0,537,1],[526,0,526,1],[527,0,527,1],[528,0,528,1],[529,0,529,1],[530,0,530,1],[531,0,531,1],[520,0,520,1],[521,0,521,1],[522,0,522,1],[523,0,523,1],[524,0,524,1],[525,0,525,1],[514,0,514,1],[515,0,515,1],[516,0,516,1],[517,0,517,1],[518,0,518,1],[519,0,519,1],[508,0,508,1],[509,0,509,1],[510,0,510,1],[511,0,511,1],[512,0,512,1],[513,0,513,1],[502,0,502,1],[503,0,503,1],[504,0,504,1],[505,0,505,1],[506,0,506,1],[507,0,507,1],[496,0,496,1],[497,0,497,1],[498,0,498,1],[499,0,499,1],[500,0,500,1],[501,0,501,1],[490,0,490,1],[491,0,491,1],[492,0,492,1],[493,0,493,1],[494,0,494,1],[495,0,495,1],[484,0,484,1],[485,0,485,1],[486,0,486,1],[487,0,487,1],[488,0,488,1],[489,0,489,1],[478,0,478,1],[479,0,479,1],[480,0,480,1],[481,0,481,1],[482,0,482,1],[483,0,483,1],[472,0,472,1],[473,0,473,1],[474,0,474,1],[475,0,475,1],[476,0,476,1],[477,0,477,1],[466,0,466,1],[467,0,467,1],[468,0,468,1],[469,0,469,1],[470,0,470,1],[471,0,471,1],[460,0,460,1],[461,0,461,1],[462,0,462,1],[463,0,463,1],[464,0,464,1],[465,0,465,1],[454,0,454,1],[455,0,455,1],[456,0,456,1],[457,0,457,1],[458,0,458,1],[459,0,459,1],[448,0,448,1],[449,0,449,1],[450,0,450,1],[451,0,451,1],[452,0,452,1],[453,0,453,1],[442,0,442,1],[443,0,443,1],[444,0,444,1],[445,0,445,1],[446,0,446,1],[447,0,447,1],[436,0,436,1],[437,0,437,1],[438,0,438,1],[439,0,439,1],[440,0,440,1],[441,0,441,1],[430,0,430,1],[431,0,431,1],[432,0,432,1],[433,0,433,1],[434,0,434,1],[435,0,435,1],[424,0,424,1],[425,0,425,1],[426,0,426,1],[427,0,427,1],[428,0,428,1],[429,0,429,1],[418,0,418,1],[419,0,419,1],[420,0,420,1],[421,0,421,1],[422,0,422,1],[423,0,423,1],[412,0,412,1],[413,0,413,1],[414,0,414,1],[415,0,415,1],[416,0,416,1],[417,0,417,1],[406,0,406,1],[407,0,407,1],[408,0,408,1],[409,0,409,1],[410,0,410,1],[411,0,411,1],[400,0,400,1],[401,0,401,1],[402,0,402,1],[403,0,403,1],[404,0,404,1],[405,0,405,1],[394,0,394,1],[395,0,395,1],[396,0,396,1],[397,0,397,1],[398,0,398,1],[399,0,399,1],[388,0,388,1],[389,0,389,1],[390,0,390,1],[391,0,391,1],[392,0,392,1],[393,0,393,1],[382,0,382,1],[383,0,383,1],[384,0,384,1],[385,0,385,1],[386,0,386,1],[387,0,387,1],[376,0,376,1],[377,0,377,1],[378,0,378,1],[379,0,379,1],[380,0,380,1],[381,0,381,1],[370,0,370,1],[371,0,371,1],[372,0,372,1],[373,0,373,1],[374,0,374,1],[375,0,375,1],[364,0,364,1],[365,0,365,1],[366,0,366,1],[367,0,367,1],[368,0,368,1],[369,0,369,1],[358,0,358,1],[359,0,359,1],[360,0,360,1],[361,0,361,1],[362,0,362,1],[363,0,363,1],[352,0,352,1],[353,0,353,1],[354,0,354,1],[355,0,355,1],[356,0,356,1],[357,0,357,1],[346,0,346,1],[347,0,347,1],[348,0,348,1],[349,0,349,1],[350,0,350,1],[351,0,351,1],[340,0,340,1],[341,0,341,1],[342,0,342,1],[343,0,343,1],[344,0,344,1],[345,0,345,1],[334,0,334,1],[335,0,335,1],[336,0,336,1],[337,0,337,1],[338,0,338,1],[339,0,339,1],[328,0,328,1],[329,0,329,1],[330,0,330,1],[331,0,331,1],[332,0,332,1],[333,0,333,1],[322,0,322,1],[323,0,323,1],[324,0,324,1],[325,0,325,1],[326,0,326,1],[327,0,327,1],[316,0,316,1],[317,0,317,1],[318,0,318,1],[319,0,319,1],[320,0,320,1],[321,0,321,1],[310,0,310,1],[311,0,311,1],[312,0,312,1],[313,0,313,1],[314,0,314,1],[315,0,315,1],[304,0,304,1],[305,0,305,1],[306,0,306,1],[307,0,307,1],[308,0,308,1],[309,0,309,1],[298,0,298,1],[299,0,299,1],[300,0,300,1],[301,0,301,1],[302,0,302,1],[303,0,303,1],[292,0,292,1],[293,0,293,1],[294,0,294,1],[295,0,295,1],[296,0,296,1],[297,0,297,1],[286,0,286,1],[287,0,287,1],[288,0,288,1],[289,0,289,1],[290,0,290,1],[291,0,291,1],[280,0,280,1],[281,0,281,1],[282,0,282,1],[283,0,283,1],[284,0,284,1],[285,0,285,1],[274,0,274,1],[275,0,275,1],[276,0,276,1],[277,0,277,1],[278,0,278,1],[279,0,279,1],[268,0,268,1],[269,0,269,1],[270,0,270,1],[271,0,271,1],[272,0,272,1],[273,0,273,1],[262,0,262,1],[263,0,263,1],[264,0,264,1],[265,0,265,1],[266,0,266,1],[267,0,267,1],[256,0,256,1],[257,0,257,1],[258,0,258,1],[259,0,259,1],[260,0,260,1],[261,0,261,1],[250,0,250,1],[251,0,251,1],[252,0,252,1],[253,0,253,1],[254,0,254,1],[255,0,255,1],[244,0,244,1],[245,0,245,1],[246,0,246,1],[247,0,247,1],[248,0,248,1],[249,0,249,1],[238,0,238,1],[239,0,239,1],[240,0,240,1],[241,0,241,1],[242,0,242,1],[243,0,243,1],[232,0,232,1],[233,0,233,1],[234,0,234,1],[235,0,235,1],[236,0,236,1],[237,0,237,1],[226,0,226,1],[227,0,227,1],[228,0,228,1],[229,0,229,1],[230,0,230,1],[231,0,231,1],[220,0,220,1],[221,0,221,1],[222,0,222,1],[223,0,223,1],[224,0,224,1],[225,0,225,1],[214,0,214,1],[215,0,215,1],[216,0,216,1],[217,0,217,1],[218,0,218,1],[219,0,219,1],[208,0,208,1],[209,0,209,1],[210,0,210,1],[211,0,211,1],[212,0,212,1],[213,0,213,1],[202,0,202,1],[203,0,203,1],[204,0,204,1],[205,0,205,1],[206,0,206,1],[207,0,207,1],[196,0,196,1],[197,0,197,1],[198,0,198,1],[199,0,199,1],[200,0,200,1],[201,0,201,1],[190,0,190,1],[191,0,191,1],[192,0,192,1],[193,0,193,1],[194,0,194,1],[195,0,195,1],[184,0,184,1],[185,0,185,1],[186,0,186,1],[187,0,187,1],[188,0,188,1],[189,0,189,1],[178,0,178,1],[179,0,179,1],[180,0,180,1],[181,0,181,1],[182,0,182,1],[183,0,183,1],[172,0,172,1],[173,0,173,1],[174,0,174,1],[175,0,175,1],[176,0,176,1],[177,0,177,1],[166,0,166,1],[167,0,167,1],[168,0,168,1],[169,0,169,1],[170,0,170,1],[171,0,171,1],[160,0,160,1],[161,0,161,1],[162,0,162,1],[163,0,163,1],[164,0,164,1],[165,0,165,1],[154,0,154,1],[155,0,155,1],[156,0,156,1],[157,0,157,1],[158,0,158,1],[159,0,159,1],[148,0,148,1],[149,0,149,1],[150,0,150,1],[151,0,151,1],[152,0,152,1],[153,0,153,1],[142,0,142,1],[143,0,143,1],[144,0,144,1],[145,0,145,1],[146,0,146,1],[147,0,147,1],[136,0,136,1],[137,0,137,1],[138,0,138,1],[139,0,139,1],[140,0,140,1],[141,0,141,1],[130,0,130,1],[131,0,131,1],[132,0,132,1],[133,0,133,1],[134,0,134,1],[135,0,135,1],[124,0,124,1],[125,0,125,1],[126,0,126,1],[127,0,127,1],[128,0,128,1],[129,0,129,1],[118,0,118,1],[119,0,119,1],[120,0,120,1],[121,0,121,1],[122,0,122,1],[123,0,123,1],[112,0,112,1],[113,0,113,1],[114,0,114,1],[115,0,115,1],[116,0,116,1],[117,0,117,1],[106,0,106,1],[107,0,107,1],[108,0,108,1],[109,0,109,1],[110,0,110,1],[111,0,111,1],[100,0,100,1],[101,0,101,1],[102,0,102,1],[103,0,103,1],[104,0,104,1],[105,0,105,1],[94,0,94,1],[95,0,95,1],[96,0,96,1],[97,0,97,1],[98,0,98,1],[99,0,99,1],[88,0,88,1],[89,0,89,1],[90,0,90,1],[91,0,91,1],[92,0,92,1],[93,0,93,1],[82,0,82,1],[83,0,83,1],[84,0,84,1],[85,0,85,1],[86,0,86,1],[87,0,87,1],[76,0,76,1],[77,0,77,1],[78,0,78,1],[79,0,79,1],[80,0,80,1],[81,0,81,1],[70,0,70,1],[71,0,71,1],[72,0,72,1],[73,0,73,1],[74,0,74,1],[75,0,75,1],[64,0,64,1],[65,0,65,1],[66,0,66,1],[67,0,67,1],[68,0,68,1],[69,0,69,1],[58,0,58,1],[59,0,59,1],[60,0,60,1],[61,0,61,1],[62,0,62,1],[63,0,63,1],[52,0,52,1],[53,0,53,1],[54,0,54,1],[55,0,55,1],[56,0,56,1],[57,0,57,1],[46,0,46,1],[47,0,47,1],[48,0,48,1],[49,0,49,1],[50,0,50,1],[51,0,51,1],[40,0,40,1],[41,0,41,1],[42,0,42,1],[43,0,43,1],[44,0,44,1],[45,0,45,1],[37,0,37,1],[38,0,38,1],[39,0,39,1],[28,0,28,1],[29,0,29,1],[30,0,30,1],[31,0,31,1],[32,0,32,1],[33,0,33,1],[25,0,25,1],[26,0,26,1],[27,0,27,1],[19,0,19,1],[20,0,20,1],[21,0,21,1],[34,0,34,1],[35,0,35,1],[36,0,36,1],[0,0,3,6],[7,0,7,1],[8,0,8,1],[9,0,9,1],[5,6,6,6],[5,4,6,4],[22,0,22,1],[23,0,23,1],[24,0,24,1],[16,0,16,1],[17,0,17,1],[18,0,18,1],[5,5,6,5],[5,2,6,2],[5,3,6,3],[10,0,10,1],[11,0,11,1],[12,0,12,1],[13,0,13,1],[14,0,14,1],[15,0,15,1]]}
[{"$f":"\"     \"&董監事持股狀況!G2&\"投資概況\"","v":"     遠壽投資概況"}]
[]
[]
[]
[null,null,null,null,{"$f":"SUM(E8:E999)","v":313353568.45000005}]
["公司代碼",null,"持股數\n(千股)\n(千股)","股價\n(元)","投資金額\n(千元)","投資金額佔比(%)","排名"]
[]
[{"$f":"IF(董監事持股狀況!K2=\"\",\"\",董監事持股狀況!K2)","v":"2891 中信金"},null,{"$f":"IF(董監事持股狀況!M2=\"\",\"\",董監事持股狀況!M2)","v":814000},{"$f":"IFERROR(VLOOKUP(A8,股價!A:B,2,0),\"\")","v":23.55},{"$f":"IFERROR(C8*D8,\"\")","v":19169700},{"$f":"IFERROR(E8/$E$5*100,\"\")","v":6.1175942864868933},{"$f":"IF(F8=\"\",\"\",RANK(F8,$F$8:$F$999))","v":1}]
[{"$f":"IF(董監事持股狀況!K3=\"\",\"\",董監事持股狀況!K3)","v":"2454 聯發科"},null,{"$f":"IF(董監事持股狀況!M3=\"\",\"\",董監事持股狀況!M3)","v":24748},{"$f":"IFERROR(VLOOKUP(A9,股價!A:B,2,0),\"\")","v":680},{"$f":"IFERROR(C9*D9,\"\")","v":16828640},5.3704957257205272,2]
[{"$f":"IF(董監事持股狀況!K4=\"\",\"\",董監事持股狀況!K4)","v":"3045 台灣大"},null,{"$f":"IF(董監事持股狀況!M4=\"\",\"\",董監事持股狀況!M4)","v":150880},{"$f":"IFERROR(VLOOKUP(A10,股價!A:B,2,0),\"\")","v":103.5},15616080,4.9835334817614392,3]
[{"$f":"IF(董監事持股狀況!K5=\"\",\"\",董監事持股狀況!K5)","v":"2002 中鋼"},null,{"$f":"IF(董監事持股狀況!M5=\"\",\"\",董監事持股狀況!M5)","v":393777},{"$f":"IFERROR(VLOOKUP(A11,股價!A:B,2,0),\"\")","v":29.2},11498288.4,3.6694295382931674,4]
[{"$f":"IF(董監事持股狀況!K6=\"\",\"\",董監事持股狀況!K6)","v":"2886 兆豐金"},null,{"$f":"IF(董監事持股狀況!M6=\"\",\"\",董監事持股狀況!M6)","v":270088},{"$f":"IFERROR(VLOOKUP(A12,股價!A:B,2,0),\"\")","v":35.15},9493593.1999999993,3.0296745133492347,5]
[{"$f":"IF(董監事持股狀況!K7=\"\",\"\",董監事持股狀況!K7)","v":"3034 聯詠"},null,{"$f":"IF(董監事持股狀況!M7=\"\",\"\",董監事持股狀況!M7)","v":22447},{"$f":"IFERROR(VLOOKUP(A13,股價!A:B,2,0),\"\")","v":406},9113482,2.908370262090755,6]
[{"$f":"IF(董監事持股狀況!K8=\"\",\"\",董監事持股狀況!K8)","v":"1326 台化"},null,{"$f":"IF(董監事持股狀況!M8=\"\",\"\",董監事持股狀況!M8)","v":130301},{"$f":"IFERROR(VLOOKUP(A14,股價!A:B,2,0),\"\")","v":69.099999999999994},9003799.0999999996,2.8733673417338732,7]
[{"$f":"IF(董監事持股狀況!K9=\"\",\"\",董監事持股狀況!K9)","v":"2303 聯電"},null,{"$f":"IF(董監事持股狀況!M9=\"\",\"\",董監事持股狀況!M9)","v":172449},{"$f":"IFERROR(VLOOKUP(A15,股價!A:B,2,0),\"\")","v":48.8},8415511.1999999993,2.6856280085231621,8]
[{"$f":"IF(董監事持股狀況!K10=\"\",\"\",董監事持股狀況!K10)","v":"8454 富邦媒"},null,{"$f":"IF(董監事持股狀況!M10=\"\",\"\",董監事持股狀況!M10)","v":10374},{"$f":"IFERROR(VLOOKUP(A16,股價!A:B,2,0),\"\")","v":716},7427784,2.3704162798405171,9]
[{"$f":"IF(董監事持股狀況!K11=\"\",\"\",董監事持股狀況!K11)","v":"2412 中華電"},null,{"$f":"IF(董監事持股狀況!M11=\"\",\"\",董監事持股狀況!M11)","v":54639},{"$f":"IFERROR(VLOOKUP(A17,股價!A:B,2,0),\"\")","v":126},6884514,2.1970434337333931,10]
[{"$f":"IF(董監事持股狀況!K12=\"\",\"\",董監事持股狀況!K12)","v":"2379 瑞昱"},null,{"$f":"IF(董監事持股狀況!M12=\"\",\"\",董監事持股狀況!M12)","v":17661},{"$f":"IFERROR(VLOOKUP(A18,股價!A:B,2,0),\"\")","v":374},6605214,2.107910892054818,11]
[{"$f":"IF(董監事持股狀況!K13=\"\",\"\",董監事持股狀況!K13)","v":"2885 元大金"},null,{"$f":"IF(董監事持股狀況!M13=\"\",\"\",董監事持股狀況!M13)","v":286278},{"$f":"IFERROR(VLOOKUP(A19,股價!A:B,2,0),\"\")","v":22.95},6570080.0999999996,2.0966986693334397,12]
[{"$f":"IF(董監事持股狀況!K14=\"\",\"\",董監事持股狀況!K14)","v":"2890 永豐金"},null,{"$f":"IF(董監事持股狀況!M14=\"\",\"\",董監事持股狀況!M14)","v":311526},{"$f":"IFERROR(VLOOKUP(A20,股價!A:B,2,0),\"\")","v":17.100000000000001},5327094.6000000006,1.7000267864669343,13]
[{"$f":"IF(董監事持股狀況!K15=\"\",\"\",董監事持股狀況!K15)","v":"5876 上海商銀"},null,{"$f":"IF(董監事持股狀況!M15=\"\",\"\",董監事持股狀況!M15)","v":112697},{"$f":"IFERROR(VLOOKUP(A21,股價!A:B,2,0),\"\")","v":46.55},5246045.3499999996,1.6741616749250712,14]
[{"$f":"IF(董監事持股狀況!K16=\"\",\"\",董監事持股狀況!K16)","v":"2912 統一超"},null,{"$f":"IF(董監事持股狀況!M16=\"\",\"\",董監事持股狀況!M16)","v":17361},{"$f":"IFERROR(VLOOKUP(A22,股價!A:B,2,0),\"\")","v":289.5},5026009.5,1.6039420022759276,15]
[{"$f":"IF(董監事持股狀況!K17=\"\",\"\",董監事持股狀況!K17)","v":"2892 第一金"},null,{"$f":"IF(董監事持股狀況!M17=\"\",\"\",董監事持股狀況!M17)","v":177684},{"$f":"IFERROR(VLOOKUP(A23,股價!A:B,2,0),\"\")","v":27.55},4895194.2,1.5621951344655252,16]
[{"$f":"IF(董監事持股狀況!K18=\"\",\"\",董監事持股狀況!K18)","v":"8464 億豐"},null,{"$f":"IF(董監事持股狀況!M18=\"\",\"\",董監事持股狀況!M18)","v":13950},{"$f":"IFERROR(VLOOKUP(A24,股價!A:B,2,0),\"\")","v":338},4715100,1.5047219737509898,17]
[{"$f":"IF(董監事持股狀況!K19=\"\",\"\",董監事持股狀況!K19)","v":"3702 大聯大"},null,{"$f":"IF(董監事持股狀況!M19=\"\",\"\",董監事持股狀況!M19)","v":93413},{"$f":"IFERROR(VLOOKUP(A25,股價!A:B,2,0),\"\")","v":50.3},4698673.8999999994,1.4994799399419441,18]
[{"$f":"IF(董監事持股狀況!K20=\"\",\"\",董監事持股狀況!K20)","v":"3293 鈊象"},null,{"$f":"IF(董監事持股狀況!M20=\"\",\"\",董監事持股狀況!M20)","v":7120},{"$f":"IFERROR(VLOOKUP(A26,股價!A:B,2,0),\"\")","v":546},3887520,1.2406177530479627,19]
[{"$f":"IF(董監事持股狀況!K21=\"\",\"\",董監事持股狀況!K21)","v":"4938 和碩"},null,{"$f":"IF(董監事持股狀況!M21=\"\",\"\",董監事持股狀況!M21)","v":54051},{"$f":"IFERROR(VLOOKUP(A27,股價!A:B,2,0),\"\")","v":71.3},3853836.3,1.2298683302261271,20]
[{"$f":"IF(董監事持股狀況!K22=\"\",\"\",董監事持股狀況!K22)","v":"1590 亞德客-KY"},null,{"$f":"IF(董監事持股狀況!M22=\"\",\"\",董監事持股狀況!M22)","v":3401},{"$f":"IFERROR(VLOOKUP(A28,股價!A:B,2,0),\"\")","v":1060},3605060,1.1504767658566613,21]
[{"$f":"IF(董監事持股狀況!K23=\"\",\"\",董監事持股狀況!K23)","v":"4966 譜瑞-KY"},null,{"$f":"IF(董監事持股狀況!M23=\"\",\"\",董監事持股狀況!M23)","v":3875},{"$f":"IFERROR(VLOOKUP(A29,股價!A:B,2,0),\"\")","v":926},3588250,1.1451122186829525,22]
[{"$f":"IF(董監事持股狀況!K24=\"\",\"\",董監事持股狀況!K24)","v":"4743 合一"},null,{"$f":"IF(董監事持股狀況!M24=\"\",\"\",董監事持股狀況!M24)","v":15392},{"$f":"IFERROR(VLOOKUP(A30,股價!A:B,2,0),\"\")","v":226},3478592,1.1101172446214087,23]
[{"$f":"IF(董監事持股狀況!K25=\"\",\"\",董監事持股狀況!K25)","v":"6488 環球晶"},null,{"$f":"IF(董監事持股狀況!M25=\"\",\"\",董監事持股狀況!M25)","v":6534},{"$f":"IFERROR(VLOOKUP(A31,股價!A:B,2,0),\"\")","v":475.5},3106917,0.99150522375357986,24]
[{"$f":"IF(董監事持股狀況!K26=\"\",\"\",董監事持股狀況!K26)","v":"2357 華碩"},null,{"$f":"IF(董監事持股狀況!M26=\"\",\"\",董監事持股狀況!M26)","v":10027},{"$f":"IFERROR(VLOOKUP(A32,股價!A:B,2,0),\"\")","v":303.5},3043194.5,0.97116956894830586,25]
[{"$f":"IF(董監事持股狀況!K27=\"\",\"\",董監事持股狀況!K27)","v":"2377 微星"},null,{"$f":"IF(董監事持股狀況!M27=\"\",\"\",董監事持股狀況!M27)","v":19681},{"$f":"IFERROR(VLOOKUP(A33,股價!A:B,2,0),\"\")","v":154.5},3040714.5,0.9703781306978122,26]
[{"$f":"IF(董監事持股狀況!K28=\"\",\"\",董監事持股狀況!K28)","v":"1476 儒鴻"},null,{"$f":"IF(董監事持股狀況!M28=\"\",\"\",董監事持股狀況!M28)","v":6196},{"$f":"IFERROR(VLOOKUP(A34,股價!A:B,2,0),\"\")","v":479},2967884,0.9471358550919351,27]
[{"$f":"IF(董監事持股狀況!K29=\"\",\"\",董監事持股狀況!K29)","v":"6592 和潤企業"},null,{"$f":"IF(董監事持股狀況!M29=\"\",\"\",董監事持股狀況!M29)","v":22780},{"$f":"IFERROR(VLOOKUP(A35,股價!A:B,2,0),\"\")","v":126},2870280,0.91598765388178227,28]
[{"$f":"IF(董監事持股狀況!K30=\"\",\"\",董監事持股狀況!K30)","v":"6121 新普"},null,{"$f":"IF(董監事持股狀況!M30=\"\",\"\",董監事持股狀況!M30)","v":9246},{"$f":"IFERROR(VLOOKUP(A36,股價!A:B,2,0),\"\")","v":307.5},2843145,0.9073281067337402,29]
[{"$f":"IF(董監事持股狀況!K31=\"\",\"\",董監事持股狀況!K31)","v":"1477 聚陽"},null,{"$f":"IF(董監事持股狀況!M31=\"\",\"\",董監事持股狀況!M31)","v":12576},{"$f":"IFERROR(VLOOKUP(A37,股價!A:B,2,0),\"\")","v":225.5},2835888,0.90501219246606579,30]
[{"$f":"IF(董監事持股狀況!K32=\"\",\"\",董監事持股狀況!K32)","v":"3533 嘉澤"},null,{"$f":"IF(董監事持股狀況!M32=\"\",\"\",董監事持股狀況!M32)","v":3149},{"$f":"IFERROR(VLOOKUP(A38,股價!A:B,2,0),\"\")","v":892},2808908,0.89640211020867966,31]
[{"$f":"IF(董監事持股狀況!K33=\"\",\"\",董監事持股狀況!K33)","v":"3023 信邦"},null,{"$f":"IF(董監事持股狀況!M33=\"\",\"\",董監事持股狀況!M33)","v":7750},{"$f":"IFERROR(VLOOKUP(A39,股價!A:B,2,0),\"\")","v":357},2766750,0.88294829820694187,32]
[{"$f":"IF(董監事持股狀況!K34=\"\",\"\",董監事持股狀況!K34)","v":"9933 中鼎"},null,{"$f":"IF(董監事持股狀況!M34=\"\",\"\",董監事持股狀況!M34)","v":60129},{"$f":"IFERROR(VLOOKUP(A40,股價!A:B,2,0),\"\")","v":40.799999999999997},2453263.1999999997,0.78290578024531166,33]
[{"$f":"IF(董監事持股狀況!K35=\"\",\"\",董監事持股狀況!K35)","v":"2059 川湖"},null,{"$f":"IF(董監事持股狀況!M35=\"\",\"\",董監事持股狀況!M35)","v":5716},{"$f":"IFERROR(VLOOKUP(A41,股價!A:B,2,0),\"\")","v":421.5},2409294,0.76887396301805211,34]
[{"$f":"IF(董監事持股狀況!K36=\"\",\"\",董監事持股狀況!K36)","v":"2634 漢翔"},null,{"$f":"IF(董監事持股狀況!M36=\"\",\"\",董監事持股狀況!M36)","v":43570},{"$f":"IFERROR(VLOOKUP(A42,股價!A:B,2,0),\"\")","v":53.7},2339709,0.74666741839684314,35]
[{"$f":"IF(董監事持股狀況!K37=\"\",\"\",董監事持股狀況!K37)","v":"9904 寶成"},null,{"$f":"IF(董監事持股狀況!M37=\"\",\"\",董監事持股狀況!M37)","v":73000},{"$f":"IFERROR(VLOOKUP(A43,股價!A:B,2,0),\"\")","v":31.25},2281250,0.72801149553974376,36]
[{"$f":"IF(董監事持股狀況!K38=\"\",\"\",董監事持股狀況!K38)","v":"9941 裕融"},null,{"$f":"IF(董監事持股狀況!M38=\"\",\"\",董監事持股狀況!M38)","v":11995},{"$f":"IFERROR(VLOOKUP(A44,股價!A:B,2,0),\"\")","v":190},2279050,0.72730941322075748,37]
[{"$f":"IF(董監事持股狀況!K39=\"\",\"\",董監事持股狀況!K39)","v":"3665 貿聯-KY"},null,{"$f":"IF(董監事持股狀況!M39=\"\",\"\",董監事持股狀況!M39)","v":8715},{"$f":"IFERROR(VLOOKUP(A45,股價!A:B,2,0),\"\")","v":259.5},2261542.5,0.72172227403909739,38]
[{"$f":"IF(董監事持股狀況!K40=\"\",\"\",董監事持股狀況!K40)","v":"2449 京元電子"},null,{"$f":"IF(董監事持股狀況!M40=\"\",\"\",董監事持股狀況!M40)","v":48092},{"$f":"IFERROR(VLOOKUP(A46,股價!A:B,2,0),\"\")","v":45.75},2200209,0.70214901680657715,39]
[{"$f":"IF(董監事持股狀況!K41=\"\",\"\",董監事持股狀況!K41)","v":"8299 群聯"},null,{"$f":"IF(董監事持股狀況!M41=\"\",\"\",董監事持股狀況!M41)","v":5709},{"$f":"IFERROR(VLOOKUP(A47,股價!A:B,2,0),\"\")","v":373.5},2132311.5,0.68048100123686328,40]
[{"$f":"IF(董監事持股狀況!K42=\"\",\"\",董監事持股狀況!K42)","v":"2376 技嘉"},null,{"$f":"IF(董監事持股狀況!M42=\"\",\"\",董監事持股狀況!M42)","v":14545},{"$f":"IFERROR(VLOOKUP(A48,股價!A:B,2,0),\"\")","v":144.5},2101752.5,0.67072875869781712,41]
[{"$f":"IF(董監事持股狀況!K43=\"\",\"\",董監事持股狀況!K43)","v":"4128 中天"},null,{"$f":"IF(董監事持股狀況!M43=\"\",\"\",董監事持股狀況!M43)","v":32043},{"$f":"IFERROR(VLOOKUP(A49,股價!A:B,2,0),\"\")","v":60.8},1948214.4,0.62173040174293237,42]
[{"$f":"IF(董監事持股狀況!K44=\"\",\"\",董監事持股狀況!K44)","v":"1707 葡萄王"},null,{"$f":"IF(董監事持股狀況!M44=\"\",\"\",董監事持股狀況!M44)","v":10757},{"$f":"IFERROR(VLOOKUP(A50,股價!A:B,2,0),\"\")","v":175},1882475,0.60075109701531137,43]
[{"$f":"IF(董監事持股狀況!K45=\"\",\"\",董監事持股狀況!K45)","v":"3231 緯創"},null,{"$f":"IF(董監事持股狀況!M45=\"\",\"\",董監事持股狀況!M45)","v":38000},{"$f":"IFERROR(VLOOKUP(A51,股價!A:B,2,0),\"\")","v":48.45},1841100,0.58754716249346728,44]
[{"$f":"IF(董監事持股狀況!K46=\"\",\"\",董監事持股狀況!K46)","v":"9802 鈺齊-KY"},null,{"$f":"IF(董監事持股狀況!M46=\"\",\"\",董監事持股狀況!M46)","v":14893},{"$f":"IFERROR(VLOOKUP(A52,股價!A:B,2,0),\"\")","v":117.5},1749927.5,0.55845143511720541,45]
[{"$f":"IF(董監事持股狀況!K47=\"\",\"\",董監事持股狀況!K47)","v":"2609 陽明"},null,{"$f":"IF(董監事持股狀況!M47=\"\",\"\",董監事持股狀況!M47)","v":27546},{"$f":"IFERROR(VLOOKUP(A53,股價!A:B,2,0),\"\")","v":60.9},1677551.4,0.53535417142303166,46]
[{"$f":"IF(董監事持股狀況!K48=\"\",\"\",董監事持股狀況!K48)","v":"6176 瑞儀"},null,{"$f":"IF(董監事持股狀況!M48=\"\",\"\",董監事持股狀況!M48)","v":14600},{"$f":"IFERROR(VLOOKUP(A54,股價!A:B,2,0),\"\")","v":114},1664400,0.53115718714579707,47]
[{"$f":"IF(董監事持股狀況!K49=\"\",\"\",董監事持股狀況!K49)","v":"6472 保瑞"},null,{"$f":"IF(董監事持股狀況!M49=\"\",\"\",董監事持股狀況!M49)","v":2018},{"$f":"IFERROR(VLOOKUP(A55,股價!A:B,2,0),\"\")","v":787},1588166,0.50682875827961549,48]
[{"$f":"IF(董監事持股狀況!K50=\"\",\"\",董監事持股狀況!K50)","v":"3406 玉晶光"},null,{"$f":"IF(董監事持股狀況!M50=\"\",\"\",董監事持股狀況!M50)","v":4000},{"$f":"IFERROR(VLOOKUP(A56,股價!A:B,2,0),\"\")","v":394},1576000,0.5029462430556213,49]
[{"$f":"IF(董監事持股狀況!K51=\"\",\"\",董監事持股狀況!K51)","v":"8070 長華*"},null,{"$f":"IF(董監事持股狀況!M51=\"\",\"\",董監事持股狀況!M51)","v":45080},{"$f":"IFERROR(VLOOKUP(A57,股價!A:B,2,0),\"\")","v":34.25},1543990,0.49273094531437106,50]
[{"$f":"IF(董監事持股狀況!K52=\"\",\"\",董監事持股狀況!K52)","v":"3189 景碩"},null,{"$f":"IF(董監事持股狀況!M52=\"\",\"\",董監事持股狀況!M52)","v":14223},{"$f":"IFERROR(VLOOKUP(A58,股價!A:B,2,0),\"\")","v":108},1536084,0.49020791676259584,51]
[{"$f":"IF(董監事持股狀況!K53=\"\",\"\",董監事持股狀況!K53)","v":"5347 世界"},null,{"$f":"IF(董監事持股狀況!M53=\"\",\"\",董監事持股狀況!M53)","v":16575},{"$f":"IFERROR(VLOOKUP(A59,股價!A:B,2,0),\"\")","v":90.3},1496722.5,0.47764654712678761,52]
[{"$f":"IF(董監事持股狀況!K54=\"\",\"\",董監事持股狀況!K54)","v":"2408 南亞科"},null,{"$f":"IF(董監事持股狀況!M54=\"\",\"\",董監事持股狀況!M54)","v":22755},{"$f":"IFERROR(VLOOKUP(A60,股價!A:B,2,0),\"\")","v":64.599999999999994},1469972.9999999998,0.46911002394873147,53]
[{"$f":"IF(董監事持股狀況!K55=\"\",\"\",董監事持股狀況!K55)","v":"9917 中保科"},null,{"$f":"IF(董監事持股狀況!M55=\"\",\"\",董監事持股狀況!M55)","v":13161},{"$f":"IFERROR(VLOOKUP(A61,股價!A:B,2,0),\"\")","v":111},1460871,0.46620531791808917,54]
[{"$f":"IF(董監事持股狀況!K56=\"\",\"\",董監事持股狀況!K56)","v":"4763 材料-KY"},null,{"$f":"IF(董監事持股狀況!M56=\"\",\"\",董監事持股狀況!M56)","v":2791},{"$f":"IFERROR(VLOOKUP(A62,股價!A:B,2,0),\"\")","v":520},1451320,0.46315732326870829,55]
[{"$f":"IF(董監事持股狀況!K57=\"\",\"\",董監事持股狀況!K57)","v":"2501 國建"},null,{"$f":"IF(董監事持股狀況!M57=\"\",\"\",董監事持股狀況!M57)","v":87000},{"$f":"IFERROR(VLOOKUP(A63,股價!A:B,2,0),\"\")","v":16.3},1418100,0.4525558802520156,56]
[{"$f":"IF(董監事持股狀況!K58=\"\",\"\",董監事持股狀況!K58)","v":"1723 中碳"},null,{"$f":"IF(董監事持股狀況!M58=\"\",\"\",董監事持股狀況!M58)","v":12578},{"$f":"IFERROR(VLOOKUP(A64,股價!A:B,2,0),\"\")","v":112},1408736,0.44956756259974856,57]
[{"$f":"IF(董監事持股狀況!K59=\"\",\"\",董監事持股狀況!K59)","v":"9914 美利達"},null,{"$f":"IF(董監事持股狀況!M59=\"\",\"\",董監事持股狀況!M59)","v":7930},{"$f":"IFERROR(VLOOKUP(A65,股價!A:B,2,0),\"\")","v":173},1371890,0.43780896027003574,58]
[{"$f":"IF(董監事持股狀況!K60=\"\",\"\",董監事持股狀況!K60)","v":"3592 瑞鼎"},null,{"$f":"IF(董監事持股狀況!M60=\"\",\"\",董監事持股狀況!M60)","v":4045},{"$f":"IFERROR(VLOOKUP(A66,股價!A:B,2,0),\"\")","v":336.5},1361142.5,0.43437912857762445,59]
[{"$f":"IF(董監事持股狀況!K61=\"\",\"\",董監事持股狀況!K61)","v":"6670 復盛應用"},null,{"$f":"IF(董監事持股狀況!M61=\"\",\"\",董監事持股狀況!M61)","v":6299},{"$f":"IFERROR(VLOOKUP(A67,股價!A:B,2,0),\"\")","v":211.5},1332238.5,0.42515504341945204,60]
[{"$f":"IF(董監事持股狀況!K62=\"\",\"\",董監事持股狀況!K62)","v":"1904 正隆"},null,{"$f":"IF(董監事持股狀況!M62=\"\",\"\",董監事持股狀況!M62)","v":41865},{"$f":"IFERROR(VLOOKUP(A68,股價!A:B,2,0),\"\")","v":31.7},1327120.5,0.42352174464282855,61]
[{"$f":"IF(董監事持股狀況!K63=\"\",\"\",董監事持股狀況!K63)","v":"9938 百和"},null,{"$f":"IF(董監事持股狀況!M63=\"\",\"\",董監事持股狀況!M63)","v":23363},{"$f":"IFERROR(VLOOKUP(A69,股價!A:B,2,0),\"\")","v":54.9},1282628.7,0.40932315095197691,62]
[{"$f":"IF(董監事持股狀況!K64=\"\",\"\",董監事持股狀況!K64)","v":"3703 欣陸"},null,{"$f":"IF(董監事持股狀況!M64=\"\",\"\",董監事持股狀況!M64)","v":41078},{"$f":"IFERROR(VLOOKUP(A70,股價!A:B,2,0),\"\")","v":30.7},1261094.5999999999,0.40245100964957581,63]
[{"$f":"IF(董監事持股狀況!K65=\"\",\"\",董監事持股狀況!K65)","v":"9921 巨大"},null,{"$f":"IF(董監事持股狀況!M65=\"\",\"\",董監事持股狀況!M65)","v":6208},{"$f":"IFERROR(VLOOKUP(A71,股價!A:B,2,0),\"\")","v":201},1247808,0.39821087922255627,64]
[{"$f":"IF(董監事持股狀況!K66=\"\",\"\",董監事持股狀況!K66)","v":"6781 AES-KY"},null,{"$f":"IF(董監事持股狀況!M66=\"\",\"\",董監事持股狀況!M66)","v":1905},{"$f":"IFERROR(VLOOKUP(A72,股價!A:B,2,0),\"\")","v":652},1242060,{"$f":"IFERROR(E72/$E$5*100,\"\")","v":0.39637652960004127},{"$f":"IF(F72=\"\",\"\",RANK(F72,$F$8:$F$999))","v":65}]
[{"$f":"IF(董監事持股狀況!K67=\"\",\"\",董監事持股狀況!K67)","v":"6414 樺漢"},null,{"$f":"IF(董監事持股狀況!M67=\"\",\"\",董監事持股狀況!M67)","v":4457},{"$f":"IFERROR(VLOOKUP(A73,股價!A:B,2,0),\"\")","v":277},{"$f":"IFERROR(C73*D73,\"\")","v":1234589},0.39399232187042921,66]
[{"$f":"IF(董監事持股狀況!K68=\"\",\"\",董監事持股狀況!K68)","v":"2504 國產"},null,{"$f":"IF(董監事持股狀況!M68=\"\",\"\",董監事持股狀況!M68)","v":41015},{"$f":"IFERROR(VLOOKUP(A74,股價!A:B,2,0),\"\")","v":28.6},1173029,0.3743467820718861,67]
[{"$f":"IF(董監事持股狀況!K69=\"\",\"\",董監事持股狀況!K69)","v":"5534 長虹"},null,{"$f":"IF(董監事持股狀況!M69=\"\",\"\",董監事持股狀況!M69)","v":14445},{"$f":"IFERROR(VLOOKUP(A75,股價!A:B,2,0),\"\")","v":78.400000000000006},1132488,0.36140900057460312,68]
[{"$f":"IF(董監事持股狀況!K70=\"\",\"\",董監事持股狀況!K70)","v":"6548 長科*"},null,{"$f":"IF(董監事持股狀況!M70=\"\",\"\",董監事持股狀況!M70)","v":27415},{"$f":"IFERROR(VLOOKUP(A76,股價!A:B,2,0),\"\")","v":40.950000000000003},1122644.25,0.35826758110754808,69]
[{"$f":"IF(董監事持股狀況!K71=\"\",\"\",董監事持股狀況!K71)","v":"1304 台聚"},null,{"$f":"IF(董監事持股狀況!M71=\"\",\"\",董監事持股狀況!M71)","v":47506},{"$f":"IFERROR(VLOOKUP(A77,股價!A:B,2,0),\"\")","v":23.2},1102139.2,0.35172383880985281,70]
[{"$f":"IF(董監事持股狀況!K72=\"\",\"\",董監事持股狀況!K72)","v":"8422 可寧衛"},null,{"$f":"IF(董監事持股狀況!M72=\"\",\"\",董監事持股狀況!M72)","v":5425},{"$f":"IFERROR(VLOOKUP(A78,股價!A:B,2,0),\"\")","v":202},1095850,0.34971677693686715,71]
[{"$f":"IF(董監事持股狀況!K73=\"\",\"\",董監事持股狀況!K73)","v":"2645 長榮航太"},null,{"$f":"IF(董監事持股狀況!M73=\"\",\"\",董監事持股狀況!M73)","v":10580},{"$f":"IFERROR(VLOOKUP(A79,股價!A:B,2,0),\"\")","v":102.5},1084450,0.34607871401121104,72]
[{"$f":"IF(董監事持股狀況!K74=\"\",\"\",董監事持股狀況!K74)","v":"9911 櫻花"},null,{"$f":"IF(董監事持股狀況!M74=\"\",\"\",董監事持股狀況!M74)","v":16613},{"$f":"IFERROR(VLOOKUP(A80,股價!A:B,2,0),\"\")","v":64.2},1066554.6000000001,0.3403677849515806,73]
[{"$f":"IF(董監事持股狀況!K75=\"\",\"\",董監事持股狀況!K75)","v":"2106 建大"},null,{"$f":"IF(董監事持股狀況!M75=\"\",\"\",董監事持股狀況!M75)","v":34914},{"$f":"IFERROR(VLOOKUP(A81,股價!A:B,2,0),\"\")","v":30.4},1061385.5999999999,0.33871821063028962,74]
[{"$f":"IF(董監事持股狀況!K76=\"\",\"\",董監事持股狀況!K76)","v":"2548 華固"},null,{"$f":"IF(董監事持股狀況!M76=\"\",\"\",董監事持股狀況!M76)","v":11000},{"$f":"IFERROR(VLOOKUP(A82,股價!A:B,2,0),\"\")","v":96.3},1059300,0.33805263659189067,75]
[{"$f":"IF(董監事持股狀況!K77=\"\",\"\",董監事持股狀況!K77)","v":"4919 新唐"},null,{"$f":"IF(董監事持股狀況!M77=\"\",\"\",董監事持股狀況!M77)","v":8322},{"$f":"IFERROR(VLOOKUP(A83,股價!A:B,2,0),\"\")","v":121.5},1011123,0.32267799119107171,76]
[{"$f":"IF(董監事持股狀況!K78=\"\",\"\",董監事持股狀況!K78)","v":"5288 豐祥-KY"},null,{"$f":"IF(董監事持股狀況!M78=\"\",\"\",董監事持股狀況!M78)","v":5217},{"$f":"IFERROR(VLOOKUP(A84,股價!A:B,2,0),\"\")","v":188},980796,0.3129997864238459,77]
[{"$f":"IF(董監事持股狀況!K79=\"\",\"\",董監事持股狀況!K79)","v":"4766 南寶"},null,{"$f":"IF(董監事持股狀況!M79=\"\",\"\",董監事持股狀況!M79)","v":6023},{"$f":"IFERROR(VLOOKUP(A85,股價!A:B,2,0),\"\")","v":162.5},978737.5,0.31234286076310352,78]
[{"$f":"IF(董監事持股狀況!K80=\"\",\"\",董監事持股狀況!K80)","v":"1532 勤美"},null,{"$f":"IF(董監事持股狀況!M80=\"\",\"\",董監事持股狀況!M80)","v":27944},{"$f":"IFERROR(VLOOKUP(A86,股價!A:B,2,0),\"\")","v":33.85},945904.4,0.30186488849605436,79]
[{"$f":"IF(董監事持股狀況!K81=\"\",\"\",董監事持股狀況!K81)","v":"2006 東和鋼鐵"},null,{"$f":"IF(董監事持股狀況!M81=\"\",\"\",董監事持股狀況!M81)","v":16186},{"$f":"IFERROR(VLOOKUP(A87,股價!A:B,2,0),\"\")","v":57.6},932313.59999999998,0.29752767923201856,80]
[{"$f":"IF(董監事持股狀況!K82=\"\",\"\",董監事持股狀況!K82)","v":"3707 漢磊"},null,{"$f":"IF(董監事持股狀況!M82=\"\",\"\",董監事持股狀況!M82)","v":11940},{"$f":"IFERROR(VLOOKUP(A88,股價!A:B,2,0),\"\")","v":76.599999999999994},914603.99999999988,0.29187604421550978,81]
[{"$f":"IF(董監事持股狀況!K83=\"\",\"\",董監事持股狀況!K83)","v":"1537 廣隆"},null,{"$f":"IF(董監事持股狀況!M83=\"\",\"\",董監事持股狀況!M83)","v":6500},{"$f":"IFERROR(VLOOKUP(A89,股價!A:B,2,0),\"\")","v":139},903500,0.28833244327459001,82]
[{"$f":"IF(董監事持股狀況!K84=\"\",\"\",董監事持股狀況!K84)","v":"2103 台橡"},null,{"$f":"IF(董監事持股狀況!M84=\"\",\"\",董監事持股狀況!M84)","v":33435},{"$f":"IFERROR(VLOOKUP(A90,股價!A:B,2,0),\"\")","v":26.65},891042.75,0.28435698192541198,83]
[{"$f":"IF(董監事持股狀況!K85=\"\",\"\",董監事持股狀況!K85)","v":"3376 新日興"},null,{"$f":"IF(董監事持股狀況!M85=\"\",\"\",董監事持股狀況!M85)","v":9619},{"$f":"IFERROR(VLOOKUP(A91,股價!A:B,2,0),\"\")","v":92.6},890719.39999999991,0.28425379178093729,84]
[{"$f":"IF(董監事持股狀況!K86=\"\",\"\",董監事持股狀況!K86)","v":"1909 榮成"},null,{"$f":"IF(董監事持股狀況!M86=\"\",\"\",董監事持股狀況!M86)","v":54133},{"$f":"IFERROR(VLOOKUP(A92,股價!A:B,2,0),\"\")","v":16.350000000000001},885074.55,0.28245236024533293,85]
[{"$f":"IF(董監事持股狀況!K87=\"\",\"\",董監事持股狀況!K87)","v":"6510 精測"},null,{"$f":"IF(董監事持股狀況!M87=\"\",\"\",董監事持股狀況!M87)","v":1846},{"$f":"IFERROR(VLOOKUP(A93,股價!A:B,2,0),\"\")","v":471},869466,0.27747122979987238,86]
[{"$f":"IF(董監事持股狀況!K88=\"\",\"\",董監事持股狀況!K88)","v":"3022 威強電"},null,{"$f":"IF(董監事持股狀況!M88=\"\",\"\",董監事持股狀況!M88)","v":8911},{"$f":"IFERROR(VLOOKUP(A94,股價!A:B,2,0),\"\")","v":93},828723,0.26446898438057342,87]
[{"$f":"IF(董監事持股狀況!K89=\"\",\"\",董監事持股狀況!K89)","v":"8046 南電"},null,{"$f":"IF(董監事持股狀況!M89=\"\",\"\",董監事持股狀況!M89)","v":2861},{"$f":"IFERROR(VLOOKUP(A95,股價!A:B,2,0),\"\")","v":288.5},825398.5,0.26340804225808712,88]
[{"$f":"IF(董監事持股狀況!K90=\"\",\"\",董監事持股狀況!K90)","v":"6456 GIS-KY"},null,{"$f":"IF(董監事持股狀況!M90=\"\",\"\",董監事持股狀況!M90)","v":11100},{"$f":"IFERROR(VLOOKUP(A96,股價!A:B,2,0),\"\")","v":74.099999999999994},822509.99999999988,0.26248624008609078,89]
[{"$f":"IF(董監事持股狀況!K91=\"\",\"\",董監事持股狀況!K91)","v":"2409 友達"},null,{"$f":"IF(董監事持股狀況!M91=\"\",\"\",董監事持股狀況!M91)","v":48000},{"$f":"IFERROR(VLOOKUP(A97,股價!A:B,2,0),\"\")","v":17.05},818400,0.26117462266289371,90]
[{"$f":"IF(董監事持股狀況!K92=\"\",\"\",董監事持股狀況!K92)","v":"3026 禾伸堂"},null,{"$f":"IF(董監事持股狀況!M92=\"\",\"\",董監事持股狀況!M92)","v":7820},{"$f":"IFERROR(VLOOKUP(A98,股價!A:B,2,0),\"\")","v":102.5},801550,0.25579731035611247,91]
[{"$f":"IF(董監事持股狀況!K93=\"\",\"\",董監事持股狀況!K93)","v":"2355 敬鵬"},null,{"$f":"IF(董監事持股狀況!M93=\"\",\"\",董監事持股狀況!M93)","v":26499},{"$f":"IFERROR(VLOOKUP(A99,股價!A:B,2,0),\"\")","v":30.2},800269.79999999993,0.25538876227212781,92]
[{"$f":"IF(董監事持股狀況!K94=\"\",\"\",董監事持股狀況!K94)","v":"5903 全家"},null,{"$f":"IF(董監事持股狀況!M94=\"\",\"\",董監事持股狀況!M94)","v":3745},{"$f":"IFERROR(VLOOKUP(A100,股價!A:B,2,0),\"\")","v":211.5},792067.5,0.25277117599711824,93]
[{"$f":"IF(董監事持股狀況!K95=\"\",\"\",董監事持股狀況!K95)","v":"5388 中磊"},null,{"$f":"IF(董監事持股狀況!M95=\"\",\"\",董監事持股狀況!M95)","v":9013},{"$f":"IFERROR(VLOOKUP(A101,股價!A:B,2,0),\"\")","v":86.7},781427.1,0.24937552294850845,94]
[{"$f":"IF(董監事持股狀況!K96=\"\",\"\",董監事持股狀況!K96)","v":"6491 晶碩"},null,{"$f":"IF(董監事持股狀況!M96=\"\",\"\",董監事持股狀況!M96)","v":2183},{"$f":"IFERROR(VLOOKUP(A102,股價!A:B,2,0),\"\")","v":356.5},778239.5,0.2483582694939627,95]
[{"$f":"IF(董監事持股狀況!K97=\"\",\"\",董監事持股狀況!K97)","v":"5306 桂盟"},null,{"$f":"IF(董監事持股狀況!M97=\"\",\"\",董監事持股狀況!M97)","v":5398},{"$f":"IFERROR(VLOOKUP(A103,股價!A:B,2,0),\"\")","v":143},771914,0.24633962326271377,96]
[{"$f":"IF(董監事持股狀況!K98=\"\",\"\",董監事持股狀況!K98)","v":"2723 美食-KY"},null,{"$f":"IF(董監事持股狀況!M98=\"\",\"\",董監事持股狀況!M98)","v":4673},{"$f":"IFERROR(VLOOKUP(A104,股價!A:B,2,0),\"\")","v":159.5},745343.5,0.23786022405515705,97]
[{"$f":"IF(董監事持股狀況!K99=\"\",\"\",董監事持股狀況!K99)","v":"3131 弘塑"},null,{"$f":"IF(董監事持股狀況!M99=\"\",\"\",董監事持股狀況!M99)","v":1948},{"$f":"IFERROR(VLOOKUP(A105,股價!A:B,2,0),\"\")","v":368},716864,0.22877160887171633,98]
[{"$f":"IF(董監事持股狀況!K100=\"\",\"\",董監事持股狀況!K100)","v":"2313 華通"},null,{"$f":"IF(董監事持股狀況!M100=\"\",\"\",董監事持股狀況!M100)","v":17000},{"$f":"IFERROR(VLOOKUP(A106,股價!A:B,2,0),\"\")","v":41.8},710600,0.22677258903256631,99]
[{"$f":"IF(董監事持股狀況!K101=\"\",\"\",董監事持股狀況!K101)","v":"4551 智伸科"},null,{"$f":"IF(董監事持股狀況!M101=\"\",\"\",董監事持股狀況!M101)","v":5347},{"$f":"IFERROR(VLOOKUP(A107,股價!A:B,2,0),\"\")","v":131},700457,0.22353567041371281,100]
[{"$f":"IF(董監事持股狀況!K102=\"\",\"\",董監事持股狀況!K102)","v":"4105 東洋"},null,{"$f":"IF(董監事持股狀況!M102=\"\",\"\",董監事持股狀況!M102)","v":9310},{"$f":"IFERROR(VLOOKUP(A108,股價!A:B,2,0),\"\")","v":75.099999999999994},699181,0.22312846266870073,101]
[{"$f":"IF(董監事持股狀況!K103=\"\",\"\",董監事持股狀況!K103)","v":"3264 欣銓"},null,{"$f":"IF(董監事持股狀況!M103=\"\",\"\",董監事持股狀況!M103)","v":12244},{"$f":"IFERROR(VLOOKUP(A109,股價!A:B,2,0),\"\")","v":53},648932,0.20709258337472747,102]
[{"$f":"IF(董監事持股狀況!K104=\"\",\"\",董監事持股狀況!K104)","v":"4536 拓凱"},null,{"$f":"IF(董監事持股狀況!M104=\"\",\"\",董監事持股狀況!M104)","v":3172},{"$f":"IFERROR(VLOOKUP(A110,股價!A:B,2,0),\"\")","v":196},621712,0.19840591031890639,103]
[{"$f":"IF(董監事持股狀況!K105=\"\",\"\",董監事持股狀況!K105)","v":"9925 新保"},null,{"$f":"IF(董監事持股狀況!M105=\"\",\"\",董監事持股狀況!M105)","v":14737},{"$f":"IFERROR(VLOOKUP(A111,股價!A:B,2,0),\"\")","v":41.7},614532.9,0.19611485614789079,104]
[{"$f":"IF(董監事持股狀況!K106=\"\",\"\",董監事持股狀況!K106)","v":"3042 晶技"},null,{"$f":"IF(董監事持股狀況!M106=\"\",\"\",董監事持股狀況!M106)","v":7087},{"$f":"IFERROR(VLOOKUP(A112,股價!A:B,2,0),\"\")","v":86.2},610899.4,0.19495530337241956,105]
[{"$f":"IF(董監事持股狀況!K107=\"\",\"\",董監事持股狀況!K107)","v":"6206 飛捷"},null,{"$f":"IF(董監事持股狀況!M107=\"\",\"\",董監事持股狀況!M107)","v":8540},{"$f":"IFERROR(VLOOKUP(A113,股價!A:B,2,0),\"\")","v":70},597800,0.19077491376817921,106]
[{"$f":"IF(董監事持股狀況!K108=\"\",\"\",董監事持股狀況!K108)","v":"3035 智原"},null,{"$f":"IF(董監事持股狀況!M108=\"\",\"\",董監事持股狀況!M108)","v":3620},{"$f":"IFERROR(VLOOKUP(A114,股價!A:B,2,0),\"\")","v":162},586440,0.18714961597559554,107]
[{"$f":"IF(董監事持股狀況!K109=\"\",\"\",董監事持股狀況!K109)","v":"6271 同欣電"},null,{"$f":"IF(董監事持股狀況!M109=\"\",\"\",董監事持股狀況!M109)","v":3318},{"$f":"IFERROR(VLOOKUP(A115,股價!A:B,2,0),\"\")","v":170.5},565719,0.18053695791572527,108]
[{"$f":"IF(董監事持股狀況!K110=\"\",\"\",董監事持股狀況!K110)","v":"5234 達興材料"},null,{"$f":"IF(董監事持股狀況!M110=\"\",\"\",董監事持股狀況!M110)","v":5850},{"$f":"IFERROR(VLOOKUP(A116,股價!A:B,2,0),\"\")","v":95.1},556335,0.177542257696922,109]
[{"$f":"IF(董監事持股狀況!K111=\"\",\"\",董監事持股狀況!K111)","v":"4438 廣越"},null,{"$f":"IF(董監事持股狀況!M111=\"\",\"\",董監事持股狀況!M111)","v":4667},{"$f":"IFERROR(VLOOKUP(A117,股價!A:B,2,0),\"\")","v":117},546039,0.17425651244406626,110]
[{"$f":"IF(董監事持股狀況!K112=\"\",\"\",董監事持股狀況!K112)","v":"6561 是方"},null,{"$f":"IF(董監事持股狀況!M112=\"\",\"\",董監事持股狀況!M112)","v":1449},{"$f":"IFERROR(VLOOKUP(A118,股價!A:B,2,0),\"\")","v":369.5},535405.5,0.17086306138091148,111]
[{"$f":"IF(董監事持股狀況!K113=\"\",\"\",董監事持股狀況!K113)","v":"2729 瓦城"},null,{"$f":"IF(董監事持股狀況!M113=\"\",\"\",董監事持股狀況!M113)","v":1905},{"$f":"IFERROR(VLOOKUP(A119,股價!A:B,2,0),\"\")","v":275},523875,0.16718335220860636,112]
[{"$f":"IF(董監事持股狀況!K114=\"\",\"\",董監事持股狀況!K114)","v":"4770 上品"},null,{"$f":"IF(董監事持股狀況!M114=\"\",\"\",董監事持股狀況!M114)","v":1802},{"$f":"IFERROR(VLOOKUP(A120,股價!A:B,2,0),\"\")","v":285},513570,0.16389473480080929,113]
[{"$f":"IF(董監事持股狀況!K115=\"\",\"\",董監事持股狀況!K115)","v":"6278 台表科"},null,{"$f":"IF(董監事持股狀況!M115=\"\",\"\",董監事持股狀況!M115)","v":5300},{"$f":"IFERROR(VLOOKUP(A121,股價!A:B,2,0),\"\")","v":95.2},504560,0.16101938857623369,114]
[{"$f":"IF(董監事持股狀況!K116=\"\",\"\",董監事持股狀況!K116)","v":"1305 華夏"},null,{"$f":"IF(董監事持股狀況!M116=\"\",\"\",董監事持股狀況!M116)","v":20770},{"$f":"IFERROR(VLOOKUP(A122,股價!A:B,2,0),\"\")","v":23.65},491210.49999999994,0.15675918497745767,115]
[{"$f":"IF(董監事持股狀況!K117=\"\",\"\",董監事持股狀況!K117)","v":"4137 麗豐-KY"},null,{"$f":"IF(董監事持股狀況!M117=\"\",\"\",董監事持股狀況!M117)","v":2070},{"$f":"IFERROR(VLOOKUP(A123,股價!A:B,2,0),\"\")","v":232},480240,0.15325818766816723,116]
[{"$f":"IF(董監事持股狀況!K118=\"\",\"\",董監事持股狀況!K118)","v":"8462 柏文"},null,{"$f":"IF(董監事持股狀況!M118=\"\",\"\",董監事持股狀況!M118)","v":3339},{"$f":"IFERROR(VLOOKUP(A124,股價!A:B,2,0),\"\")","v":143.5},479146.5,0.1529092208427984,117]
[{"$f":"IF(董監事持股狀況!K119=\"\",\"\",董監事持股狀況!K119)","v":"9924 福興"},null,{"$f":"IF(董監事持股狀況!M119=\"\",\"\",董監事持股狀況!M119)","v":10886},{"$f":"IFERROR(VLOOKUP(A125,股價!A:B,2,0),\"\")","v":43.8},476806.8,0.15216255629655648,118]
[{"$f":"IF(董監事持股狀況!K120=\"\",\"\",董監事持股狀況!K120)","v":"8436 大江"},null,{"$f":"IF(董監事持股狀況!M120=\"\",\"\",董監事持股狀況!M120)","v":2619},{"$f":"IFERROR(VLOOKUP(A126,股價!A:B,2,0),\"\")","v":177},463563,0.14793608456192447,119]
[{"$f":"IF(董監事持股狀況!K121=\"\",\"\",董監事持股狀況!K121)","v":"6192 巨路"},null,{"$f":"IF(董監事持股狀況!M121=\"\",\"\",董監事持股狀況!M121)","v":6221},{"$f":"IFERROR(VLOOKUP(A127,股價!A:B,2,0),\"\")","v":73.8},459109.8,0.14651494229696554,120]
[{"$f":"IF(董監事持股狀況!K122=\"\",\"\",董監事持股狀況!K122)","v":"9958 世紀鋼"},null,{"$f":"IF(董監事持股狀況!M122=\"\",\"\",董監事持股狀況!M122)","v":4559},{"$f":"IFERROR(VLOOKUP(A128,股價!A:B,2,0),\"\")","v":98.9},450885.10000000003,0.14389020754743537,121]
[{"$f":"IF(董監事持股狀況!K123=\"\",\"\",董監事持股狀況!K123)","v":"8039 台虹"},null,{"$f":"IF(董監事持股狀況!M123=\"\",\"\",董監事持股狀況!M123)","v":10453},{"$f":"IFERROR(VLOOKUP(A129,股價!A:B,2,0),\"\")","v":41.7},435890.10000000003,0.1391048782868903,122]
[{"$f":"IF(董監事持股狀況!K124=\"\",\"\",董監事持股狀況!K124)","v":"1227 佳格"},null,{"$f":"IF(董監事持股狀況!M124=\"\",\"\",董監事持股狀況!M124)","v":10661},{"$f":"IFERROR(VLOOKUP(A130,股價!A:B,2,0),\"\")","v":40.799999999999997},434968.8,0.13881086535939843,123]
[{"$f":"IF(董監事持股狀況!K125=\"\",\"\",董監事持股狀況!K125)","v":"1702 南僑"},null,{"$f":"IF(董監事持股狀況!M125=\"\",\"\",董監事持股狀況!M125)","v":8359},{"$f":"IFERROR(VLOOKUP(A131,股價!A:B,2,0),\"\")","v":51.2},427980.80000000005,0.13658079661163661,124]
[{"$f":"IF(董監事持股狀況!K126=\"\",\"\",董監事持股狀況!K126)","v":"3708 上緯投控"},null,{"$f":"IF(董監事持股狀況!M126=\"\",\"\",董監事持股狀況!M126)","v":4205},{"$f":"IFERROR(VLOOKUP(A132,股價!A:B,2,0),\"\")","v":95.4},401157,0.1280205621988984,125]
[{"$f":"IF(董監事持股狀況!K127=\"\",\"\",董監事持股狀況!K127)","v":"8916 光隆"},null,{"$f":"IF(董監事持股狀況!M127=\"\",\"\",董監事持股狀況!M127)","v":7441},{"$f":"IFERROR(VLOOKUP(A133,股價!A:B,2,0),\"\")","v":52.1},387676.10000000003,0.1237184251379793,126]
[{"$f":"IF(董監事持股狀況!K128=\"\",\"\",董監事持股狀況!K128)","v":"3413 京鼎"},null,{"$f":"IF(董監事持股狀況!M128=\"\",\"\",董監事持股狀況!M128)","v":2056},{"$f":"IFERROR(VLOOKUP(A134,股價!A:B,2,0),\"\")","v":184.5},379332,0.12105558646622776,127]
[{"$f":"IF(董監事持股狀況!K129=\"\",\"\",董監事持股狀況!K129)","v":"6281 全國電"},null,{"$f":"IF(董監事持股狀況!M129=\"\",\"\",董監事持股狀況!M129)","v":4491},{"$f":"IFERROR(VLOOKUP(A135,股價!A:B,2,0),\"\")","v":84.2},378142.2,0.12067588758298692,128]
[{"$f":"IF(董監事持股狀況!K130=\"\",\"\",董監事持股狀況!K130)","v":"5457 宣德"},null,{"$f":"IF(董監事持股狀況!M130=\"\",\"\",董監事持股狀況!M130)","v":7415},{"$f":"IFERROR(VLOOKUP(A136,股價!A:B,2,0),\"\")","v":50.4},373716,{"$f":"IFERROR(E136/$E$5*100,\"\")","v":0.11926336178285188},{"$f":"IF(F136=\"\",\"\",RANK(F136,$F$8:$F$999))","v":129}]
[{"$f":"IF(董監事持股狀況!K131=\"\",\"\",董監事持股狀況!K131)","v":"4532 瑞智"},null,{"$f":"IF(董監事持股狀況!M131=\"\",\"\",董監事持股狀況!M131)","v":20400},{"$f":"IFERROR(VLOOKUP(A137,股價!A:B,2,0),\"\")","v":18.100000000000001},{"$f":"IFERROR(C137*D137,\"\")","v":369240},0.11783494339204163,130]
[{"$f":"IF(董監事持股狀況!K132=\"\",\"\",董監事持股狀況!K132)","v":"3217 優群"},null,{"$f":"IF(董監事持股狀況!M132=\"\",\"\",董監事持股狀況!M132)","v":3600},{"$f":"IFERROR(VLOOKUP(A138,股價!A:B,2,0),\"\")","v":102},367200,0.11718392160534527,131]
[{"$f":"IF(董監事持股狀況!K133=\"\",\"\",董監事持股狀況!K133)","v":"3526 凡甲"},null,{"$f":"IF(董監事持股狀況!M133=\"\",\"\",董監事持股狀況!M133)","v":2707},{"$f":"IFERROR(VLOOKUP(A139,股價!A:B,2,0),\"\")","v":134.5},364091.5,0.11619191120145035,132]
[{"$f":"IF(董監事持股狀況!K134=\"\",\"\",董監事持股狀況!K134)","v":"6732 昇佳電子"},null,{"$f":"IF(董監事持股狀況!M134=\"\",\"\",董監事持股狀況!M134)","v":1109},{"$f":"IFERROR(VLOOKUP(A140,股價!A:B,2,0),\"\")","v":328},363752,0.1160835671344977,133]
[{"$f":"IF(董監事持股狀況!K135=\"\",\"\",董監事持股狀況!K135)","v":"2536 宏普"},null,{"$f":"IF(董監事持股狀況!M135=\"\",\"\",董監事持股狀況!M135)","v":14215},{"$f":"IFERROR(VLOOKUP(A141,股價!A:B,2,0),\"\")","v":25.5},362482.5,0.11567843372360995,134]
[{"$f":"IF(董監事持股狀況!K136=\"\",\"\",董監事持股狀況!K136)","v":"4164 承業醫"},null,{"$f":"IF(董監事持股狀況!M136=\"\",\"\",董監事持股狀況!M136)","v":5390},{"$f":"IFERROR(VLOOKUP(A142,股價!A:B,2,0),\"\")","v":66.900000000000006},360591.00000000006,0.11507480249344516,135]
[{"$f":"IF(董監事持股狀況!K137=\"\",\"\",董監事持股狀況!K137)","v":"3714 富采"},null,{"$f":"IF(董監事持股狀況!M137=\"\",\"\",董監事持股狀況!M137)","v":7500},{"$f":"IFERROR(VLOOKUP(A143,股價!A:B,2,0),\"\")","v":47.6},357000,0.11392881267186346,136]
[{"$f":"IF(董監事持股狀況!K138=\"\",\"\",董監事持股狀況!K138)","v":"6789 采鈺"},null,{"$f":"IF(董監事持股狀況!M138=\"\",\"\",董監事持股狀況!M138)","v":1700},{"$f":"IFERROR(VLOOKUP(A144,股價!A:B,2,0),\"\")","v":208},353600,0.11284377636070286,137]
[{"$f":"IF(董監事持股狀況!K139=\"\",\"\",董監事持股狀況!K139)","v":"6284 佳邦"},null,{"$f":"IF(董監事持股狀況!M139=\"\",\"\",董監事持股狀況!M139)","v":6515},{"$f":"IFERROR(VLOOKUP(A145,股價!A:B,2,0),\"\")","v":53.9},351158.5,0.11206462455079151,138]
[{"$f":"IF(董監事持股狀況!K140=\"\",\"\",董監事持股狀況!K140)","v":"1701 中化"},null,{"$f":"IF(董監事持股狀況!M140=\"\",\"\",董監事持股狀況!M140)","v":12766},{"$f":"IFERROR(VLOOKUP(A146,股價!A:B,2,0),\"\")","v":25.8},329362.8,0.10510899927809644,139]
[{"$f":"IF(董監事持股狀況!K141=\"\",\"\",董監事持股狀況!K141)","v":"6416 瑞祺電通"},null,{"$f":"IF(董監事持股狀況!M141=\"\",\"\",董監事持股狀況!M141)","v":3400},{"$f":"IFERROR(VLOOKUP(A147,股價!A:B,2,0),\"\")","v":96.7},328780,0.10492301128923044,140]
[{"$f":"IF(董監事持股狀況!K142=\"\",\"\",董監事持股狀況!K142)","v":"6166 凌華"},null,{"$f":"IF(董監事持股狀況!M142=\"\",\"\",董監事持股狀況!M142)","v":4941},{"$f":"IFERROR(VLOOKUP(A148,股價!A:B,2,0),\"\")","v":60.2},297448.2,9.4924146379224028E-2,141]
[{"$f":"IF(董監事持股狀況!K143=\"\",\"\",董監事持股狀況!K143)","v":"9905 大華"},null,{"$f":"IF(董監事持股狀況!M143=\"\",\"\",董監事持股狀況!M143)","v":11632},{"$f":"IFERROR(VLOOKUP(A149,股價!A:B,2,0),\"\")","v":25.55},297197.60000000003,9.4844172820524958E-2,142]
[{"$f":"IF(董監事持股狀況!K144=\"\",\"\",董監事持股狀況!K144)","v":"1583 程泰"},null,{"$f":"IF(董監事持股狀況!M144=\"\",\"\",董監事持股狀況!M144)","v":4264},{"$f":"IFERROR(VLOOKUP(A150,股價!A:B,2,0),\"\")","v":66.599999999999994},283982.39999999997,9.0626828156039757E-2,143]
[{"$f":"IF(董監事持股狀況!K145=\"\",\"\",董監事持股狀況!K145)","v":"1597 直得"},null,{"$f":"IF(董監事持股狀況!M145=\"\",\"\",董監事持股狀況!M145)","v":3473},{"$f":"IFERROR(VLOOKUP(A151,股價!A:B,2,0),\"\")","v":73.900000000000006},256654.7,8.1905784979421054E-2,144]
[{"$f":"IF(董監事持股狀況!K146=\"\",\"\",董監事持股狀況!K146)","v":"4540 全球傳動"},null,{"$f":"IF(董監事持股狀況!M146=\"\",\"\",董監事持股狀況!M146)","v":6255},{"$f":"IFERROR(VLOOKUP(A152,股價!A:B,2,0),\"\")","v":40.549999999999997},253640.24999999997,8.094378859466278E-2,145]
[{"$f":"IF(董監事持股狀況!K147=\"\",\"\",董監事持股狀況!K147)","v":"4163 鐿鈦"},null,{"$f":"IF(董監事持股狀況!M147=\"\",\"\",董監事持股狀況!M147)","v":1825},{"$f":"IFERROR(VLOOKUP(A153,股價!A:B,2,0),\"\")","v":136.5},249112.5,7.9498855312940014E-2,146]
[{"$f":"IF(董監事持股狀況!K148=\"\",\"\",董監事持股狀況!K148)","v":"5285 界霖"},null,{"$f":"IF(董監事持股狀況!M148=\"\",\"\",董監事持股狀況!M148)","v":3366},{"$f":"IFERROR(VLOOKUP(A154,股價!A:B,2,0),\"\")","v":71.599999999999994},241005.59999999998,7.6911713880308277E-2,147]
[{"$f":"IF(董監事持股狀況!K149=\"\",\"\",董監事持股狀況!K149)","v":"4535 至興"},null,{"$f":"IF(董監事持股狀況!M149=\"\",\"\",董監事持股狀況!M149)","v":5695},{"$f":"IFERROR(VLOOKUP(A155,股價!A:B,2,0),\"\")","v":39.4},224383,7.1606971355044097E-2,148]
[{"$f":"IF(董監事持股狀況!K150=\"\",\"\",董監事持股狀況!K150)","v":"8437 大地-KY"},null,{"$f":"IF(董監事持股狀況!M150=\"\",\"\",董監事持股狀況!M150)","v":1966},{"$f":"IFERROR(VLOOKUP(A156,股價!A:B,2,0),\"\")","v":106},208396,6.6505066794301557E-2,149]
[{"$f":"IF(董監事持股狀況!K151=\"\",\"\",董監事持股狀況!K151)","v":"3611 鼎翰"},null,{"$f":"IF(董監事持股狀況!M151=\"\",\"\",董監事持股狀況!M151)","v":828},{"$f":"IFERROR(VLOOKUP(A157,股價!A:B,2,0),\"\")","v":236},195408,6.236022808566806E-2,150]
[{"$f":"IF(董監事持股狀況!K152=\"\",\"\",董監事持股狀況!K152)","v":"8227 巨有科技"},null,{"$f":"IF(董監事持股狀況!M152=\"\",\"\",董監事持股狀況!M152)","v":1083},{"$f":"IFERROR(VLOOKUP(A158,股價!A:B,2,0),\"\")","v":174},188442,6.0137180161096065E-2,151]
[{"$f":"IF(董監事持股狀況!K153=\"\",\"\",董監事持股狀況!K153)","v":"6120 達運"},null,{"$f":"IF(董監事持股狀況!M153=\"\",\"\",董監事持股狀況!M153)","v":18300},{"$f":"IFERROR(VLOOKUP(A159,股價!A:B,2,0),\"\")","v":10.199999999999999},186660,5.9568493482717179E-2,152]
[{"$f":"IF(董監事持股狀況!K154=\"\",\"\",董監事持股狀況!K154)","v":"6104 創惟"},null,{"$f":"IF(董監事持股狀況!M154=\"\",\"\",董監事持股狀況!M154)","v":1727},{"$f":"IFERROR(VLOOKUP(A160,股價!A:B,2,0),\"\")","v":105.5},182198.5,5.8144702452645691E-2,153]
[{"$f":"IF(董監事持股狀況!K155=\"\",\"\",董監事持股狀況!K155)","v":"1530 亞崴"},null,{"$f":"IF(董監事持股狀況!M155=\"\",\"\",董監事持股狀況!M155)","v":5457},{"$f":"IFERROR(VLOOKUP(A161,股價!A:B,2,0),\"\")","v":32.6},177898.2,5.6772354908856307E-2,154]
[{"$f":"IF(董監事持股狀況!K156=\"\",\"\",董監事持股狀況!K156)","v":"6541 泰福-KY"},null,{"$f":"IF(董監事持股狀況!M156=\"\",\"\",董監事持股狀況!M156)","v":2232},{"$f":"IFERROR(VLOOKUP(A162,股價!A:B,2,0),\"\")","v":79},176328,5.6271259610096193E-2,155]
[{"$f":"IF(董監事持股狀況!K157=\"\",\"\",董監事持股狀況!K157)","v":"2062 橋椿"},null,{"$f":"IF(董監事持股狀況!M157=\"\",\"\",董監事持股狀況!M157)","v":8150},{"$f":"IFERROR(VLOOKUP(A163,股價!A:B,2,0),\"\")","v":21.3},173595,5.5399081892919158E-2,156]
[{"$f":"IF(董監事持股狀況!K158=\"\",\"\",董監事持股狀況!K158)","v":"4401 東隆興"},null,{"$f":"IF(董監事持股狀況!M158=\"\",\"\",董監事持股狀況!M158)","v":5402},{"$f":"IFERROR(VLOOKUP(A164,股價!A:B,2,0),\"\")","v":27},145854,4.6546142978829058E-2,157]
[{"$f":"IF(董監事持股狀況!K159=\"\",\"\",董監事持股狀況!K159)","v":"4572 駐龍"},null,{"$f":"IF(董監事持股狀況!M159=\"\",\"\",董監事持股狀況!M159)","v":915},{"$f":"IFERROR(VLOOKUP(A165,股價!A:B,2,0),\"\")","v":156},142740,4.5552377369136664E-2,158]
[{"$f":"IF(董監事持股狀況!K160=\"\",\"\",董監事持股狀況!K160)","v":"1558 伸興"},null,{"$f":"IF(董監事持股狀況!M160=\"\",\"\",董監事持股狀況!M160)","v":1239},{"$f":"IFERROR(VLOOKUP(A166,股價!A:B,2,0),\"\")","v":108.5},134431.5,4.2900899665819642E-2,159]
[{"$f":"IF(董監事持股狀況!K161=\"\",\"\",董監事持股狀況!K161)","v":"6581 鋼聯"},null,{"$f":"IF(董監事持股狀況!M161=\"\",\"\",董監事持股狀況!M161)","v":1413},{"$f":"IFERROR(VLOOKUP(A167,股價!A:B,2,0),\"\")","v":90.2},127452.6,4.067373498583178E-2,160]
[{"$f":"IF(董監事持股狀況!K162=\"\",\"\",董監事持股狀況!K162)","v":"9951 皇田"},null,{"$f":"IF(董監事持股狀況!M162=\"\",\"\",董監事持股狀況!M162)","v":1797},{"$f":"IFERROR(VLOOKUP(A168,股價!A:B,2,0),\"\")","v":70.599999999999994},126868.19999999998,4.0487236391642874E-2,161]
[{"$f":"IF(董監事持股狀況!K163=\"\",\"\",董監事持股狀況!K163)","v":"1527 鑽全"},null,{"$f":"IF(董監事持股狀況!M163=\"\",\"\",董監事持股狀況!M163)","v":2820},{"$f":"IFERROR(VLOOKUP(A169,股價!A:B,2,0),\"\")","v":41.85},118017,3.7662567745365014E-2,162]
[{"$f":"IF(董監事持股狀況!K164=\"\",\"\",董監事持股狀況!K164)","v":"6195 詩肯"},null,{"$f":"IF(董監事持股狀況!M164=\"\",\"\",董監事持股狀況!M164)","v":2000},{"$f":"IFERROR(VLOOKUP(A170,股價!A:B,2,0),\"\")","v":46.15},92300,2.9455544564742288E-2,163]
[{"$f":"IF(董監事持股狀況!K165=\"\",\"\",董監事持股狀況!K165)","v":"6683 雍智科技"},null,{"$f":"IF(董監事持股狀況!M165=\"\",\"\",董監事持股狀況!M165)","v":472},{"$f":"IFERROR(VLOOKUP(A171,股價!A:B,2,0),\"\")","v":193.5},91332,2.9146628344388331E-2,164]
[{"$f":"IF(董監事持股狀況!K166=\"\",\"\",董監事持股狀況!K166)","v":"2419 仲琦"},null,{"$f":"IF(董監事持股狀況!M166=\"\",\"\",董監事持股狀況!M166)","v":3265},{"$f":"IFERROR(VLOOKUP(A172,股價!A:B,2,0),\"\")","v":26.1},85216.5,2.7194999061769892E-2,165]
[{"$f":"IF(董監事持股狀況!K167=\"\",\"\",董監事持股狀況!K167)","v":"1338 廣華-KY"},null,{"$f":"IF(董監事持股狀況!M167=\"\",\"\",董監事持股狀況!M167)","v":1725},{"$f":"IFERROR(VLOOKUP(A173,股價!A:B,2,0),\"\")","v":42.6},73485,2.3451145095775592E-2,166]
[{"$f":"IF(董監事持股狀況!K168=\"\",\"\",董監事持股狀況!K168)","v":"4198 欣大健康"},null,{"$f":"IF(董監事持股狀況!M168=\"\",\"\",董監事持股狀況!M168)","v":489},{"$f":"IFERROR(VLOOKUP(A174,股價!A:B,2,0),\"\")","v":25},12225,3.9013437952759968E-3,167]
[{"$f":"IF(董監事持股狀況!K169=\"\",\"\",董監事持股狀況!K169)","v":""},null,{"$f":"IF(董監事持股狀況!M169=\"\",\"\",董監事持股狀況!M169)","v":""},{"$f":"IFERROR(VLOOKUP(A175,股價!A:B,2,0),\"\")","v":""},"","",""]
[{"$f":"IF(董監事持股狀況!K170=\"\",\"\",董監事持股狀況!K170)","v":""},null,{"$f":"IF(董監事持股狀況!M170=\"\",\"\",董監事持股狀況!M170)","v":""},{"$f":"IFERROR(VLOOKUP(A176,股價!A:B,2,0),\"\")","v":""},"","",""]
[{"$f":"IF(董監事持股狀況!K171=\"\",\"\",董監事持股狀況!K171)","v":""},null,{"$f":"IF(董監事持股狀況!M171=\"\",\"\",董監事持股狀況!M171)","v":""},{"$f":"IFERROR(VLOOKUP(A177,股價!A:B,2,0),\"\")","v":""},"","",""]
[{"$f":"IF(董監事持股狀況!K172=\"\",\"\",董監事持股狀況!K172)","v":""},null,{"$f":"IF(董監事持股狀況!M172=\"\",\"\",董監事持股狀況!M172)","v":""},{"$f":"IFERROR(VLOOKUP(A178,股價!A:B,2,0),\"\")","v":""},"","",""]
[{"$f":"IF(董監事持股狀況!K173=\"\",\"\",董監事持股狀況!K173)","v":""},null,{"$f":"IF(董監事持股狀況!M173=\"\",\"\",董監事持股狀況!M173)","v":""},{"$f":"IFERROR(VLOOKUP(A179,股價!A:B,2,0),\"\")","v":""},"","",""]
[{"$f":"IF(董監事持股狀況!K174=\"\",\"\",董監事持股狀況!K174)","v":""},null,{"$f":"IF(董監事持股狀況!M174=\"\",\"\",董監事持股狀況!M174)","v":""},{"$f":"IFERROR(VLOOKUP(A180,股價!A:B,2,0),\"\")","v":""},"","",""]
[{"$f":"IF(董監事持股狀況!K175=\"\",\"\",董監事持股狀況!K175)","v":""},null,{"$f":"IF(董監事持股狀況!M175=\"\",\"\",董監事持股狀況!M175)","v":""},{"$f":"IFERROR(VLOOKUP(A181,股價!A:B,2,0),\"\")","v":""},"","",""]
[{"$f":"IF(董監事持股狀況!K176=\"\",\"\",董監事持股狀況!K176)","v":""},null,{"$f":"IF(董監事持股狀況!M176=\"\",\"\",董監事持股狀況!M176)","v":""},{"$f":"IFERROR(VLOOKUP(A182,股價!A:B,2,0),\"\")","v":""},"","",""]
[{"$f":"IF(董監事持股狀況!K177=\"\",\"\",董監事持股狀況!K177)","v":""},null,{"$f":"IF(董監事持股狀況!M177=\"\",\"\",董監事持股狀況!M177)","v":""},{"$f":"IFERROR(VLOOKUP(A183,股價!A:B,2,0),\"\")","v":""},"","",""]
[{"$f":"IF(董監事持股狀況!K178=\"\",\"\",董監事持股狀況!K178)","v":""},null,{"$f":"IF(董監事持股狀況!M178=\"\",\"\",董監事持股狀況!M178)","v":""},{"$f":"IFERROR(VLOOKUP(A184,股價!A:B,2,0),\"\")","v":""},"","",""]
[{"$f":"IF(董監事持股狀況!K179=\"\",\"\",董監事持股狀況!K179)","v":""},null,{"$f":"IF(董監事持股狀況!M179=\"\",\"\",董監事持股狀況!M179)","v":""},{"$f":"IFERROR(VLOOKUP(A185,股價!A:B,2,0),\"\")","v":""},"","",""]
[{"$f":"IF(董監事持股狀況!K180=\"\",\"\",董監事持股狀況!K180)","v":""},null,{"$f":"IF(董監事持股狀況!M180=\"\",\"\",董監事持股狀況!M180)","v":""},{"$f":"IFERROR(VLOOKUP(A186,股價!A:B,2,0),\"\")","v":""},"","",""]
[{"$f":"IF(董監事持股狀況!K181=\"\",\"\",董監事持股狀況!K181)","v":""},null,{"$f":"IF(董監事持股狀況!M181=\"\",\"\",董監事持股狀況!M181)","v":""},{"$f":"IFERROR(VLOOKUP(A187,股價!A:B,2,0),\"\")","v":""},"","",""]
[{"$f":"IF(董監事持股狀況!K182=\"\",\"\",董監事持股狀況!K182)","v":""},null,{"$f":"IF(董監事持股狀況!M182=\"\",\"\",董監事持股狀況!M182)","v":""},{"$f":"IFERROR(VLOOKUP(A188,股價!A:B,2,0),\"\")","v":""},"","",""]
[{"$f":"IF(董監事持股狀況!K183=\"\",\"\",董監事持股狀況!K183)","v":""},null,{"$f":"IF(董監事持股狀況!M183=\"\",\"\",董監事持股狀況!M183)","v":""},{"$f":"IFERROR(VLOOKUP(A189,股價!A:B,2,0),\"\")","v":""},"","",""]
[{"$f":"IF(董監事持股狀況!K184=\"\",\"\",董監事持股狀況!K184)","v":""},null,{"$f":"IF(董監事持股狀況!M184=\"\",\"\",董監事持股狀況!M184)","v":""},{"$f":"IFERROR(VLOOKUP(A190,股價!A:B,2,0),\"\")","v":""},"","",""]
[{"$f":"IF(董監事持股狀況!K185=\"\",\"\",董監事持股狀況!K185)","v":""},null,{"$f":"IF(董監事持股狀況!M185=\"\",\"\",董監事持股狀況!M185)","v":""},{"$f":"IFERROR(VLOOKUP(A191,股價!A:B,2,0),\"\")","v":""},"","",""]
[{"$f":"IF(董監事持股狀況!K186=\"\",\"\",董監事持股狀況!K186)","v":""},null,{"$f":"IF(董監事持股狀況!M186=\"\",\"\",董監事持股狀況!M186)","v":""},{"$f":"IFERROR(VLOOKUP(A192,股價!A:B,2,0),\"\")","v":""},"","",""]
[{"$f":"IF(董監事持股狀況!K187=\"\",\"\",董監事持股狀況!K187)","v":""},null,{"$f":"IF(董監事持股狀況!M187=\"\",\"\",董監事持股狀況!M187)","v":""},{"$f":"IFERROR(VLOOKUP(A193,股價!A:B,2,0),\"\")","v":""},"","",""]
[{"$f":"IF(董監事持股狀況!K188=\"\",\"\",董監事持股狀況!K188)","v":""},null,{"$f":"IF(董監事持股狀況!M188=\"\",\"\",董監事持股狀況!M188)","v":""},{"$f":"IFERROR(VLOOKUP(A194,股價!A:B,2,0),\"\")","v":""},"","",""]
[{"$f":"IF(董監事持股狀況!K189=\"\",\"\",董監事持股狀況!K189)","v":""},null,{"$f":"IF(董監事持股狀況!M189=\"\",\"\",董監事持股狀況!M189)","v":""},{"$f":"IFERROR(VLOOKUP(A195,股價!A:B,2,0),\"\")","v":""},"","",""]
[{"$f":"IF(董監事持股狀況!K190=\"\",\"\",董監事持股狀況!K190)","v":""},null,{"$f":"IF(董監事持股狀況!M190=\"\",\"\",董監事持股狀況!M190)","v":""},{"$f":"IFERROR(VLOOKUP(A196,股價!A:B,2,0),\"\")","v":""},"","",""]
[{"$f":"IF(董監事持股狀況!K191=\"\",\"\",董監事持股狀況!K191)","v":""},null,{"$f":"IF(董監事持股狀況!M191=\"\",\"\",董監事持股狀況!M191)","v":""},{"$f":"IFERROR(VLOOKUP(A197,股價!A:B,2,0),\"\")","v":""},"","",""]
[{"$f":"IF(董監事持股狀況!K192=\"\",\"\",董監事持股狀況!K192)","v":""},null,{"$f":"IF(董監事持股狀況!M192=\"\",\"\",董監事持股狀況!M192)","v":""},{"$f":"IFERROR(VLOOKUP(A198,股價!A:B,2,0),\"\")","v":""},"","",""]
[{"$f":"IF(董監事持股狀況!K193=\"\",\"\",董監事持股狀況!K193)","v":""},null,{"$f":"IF(董監事持股狀況!M193=\"\",\"\",董監事持股狀況!M193)","v":""},{"$f":"IFERROR(VLOOKUP(A199,股價!A:B,2,0),\"\")","v":""},"","",""]
[{"$f":"IF(董監事持股狀況!K194=\"\",\"\",董監事持股狀況!K194)","v":""},null,{"$f":"IF(董監事持股狀況!M194=\"\",\"\",董監事持股狀況!M194)","v":""},{"$f":"IFERROR(VLOOKUP(A200,股價!A:B,2,0),\"\")","v":""},"",{"$f":"IFERROR(E200/$E$5*100,\"\")","v":""},{"$f":"IF(F200=\"\",\"\",RANK(F200,$F$8:$F$999))","v":""}]
[{"$f":"IF(董監事持股狀況!K195=\"\",\"\",董監事持股狀況!K195)","v":""},null,{"$f":"IF(董監事持股狀況!M195=\"\",\"\",董監事持股狀況!M195)","v":""},{"$f":"IFERROR(VLOOKUP(A201,股價!A:B,2,0),\"\")","v":""},{"$f":"IFERROR(C201*D201,\"\")","v":""},"",""]
[{"$f":"IF(董監事持股狀況!K196=\"\",\"\",董監事持股狀況!K196)","v":""},null,{"$f":"IF(董監事持股狀況!M196=\"\",\"\",董監事持股狀況!M196)","v":""},{"$f":"IFERROR(VLOOKUP(A202,股價!A:B,2,0),\"\")","v":""},"","",""]
[{"$f":"IF(董監事持股狀況!K197=\"\",\"\",董監事持股狀況!K197)","v":""},null,{"$f":"IF(董監事持股狀況!M197=\"\",\"\",董監事持股狀況!M197)","v":""},{"$f":"IFERROR(VLOOKUP(A203,股價!A:B,2,0),\"\")","v":""},"","",""]
[{"$f":"IF(董監事持股狀況!K198=\"\",\"\",董監事持股狀況!K198)","v":""},null,{"$f":"IF(董監事持股狀況!M198=\"\",\"\",董監事持股狀況!M198)","v":""},{"$f":"IFERROR(VLOOKUP(A204,股價!A:B,2,0),\"\")","v":""},"","",""]
[{"$f":"IF(董監事持股狀況!K199=\"\",\"\",董監事持股狀況!K199)","v":""},null,{"$f":"IF(董監事持股狀況!M199=\"\",\"\",董監事持股狀況!M199)","v":""},{"$f":"IFERROR(VLOOKUP(A205,股價!A:B,2,0),\"\")","v":""},"","",""]
[{"$f":"IF(董監事持股狀況!K200=\"\",\"\",董監事持股狀況!K200)","v":""},null,{"$f":"IF(董監事持股狀況!M200=\"\",\"\",董監事持股狀況!M200)","v":""},{"$f":"IFERROR(VLOOKUP(A206,股價!A:B,2,0),\"\")","v":""},"","",""]
[{"$f":"IF(董監事持股狀況!K201=\"\",\"\",董監事持股狀況!K201)","v":""},null,{"$f":"IF(董監事持股狀況!M201=\"\",\"\",董監事持股狀況!M201)","v":""},{"$f":"IFERROR(VLOOKUP(A207,股價!A:B,2,0),\"\")","v":""},"","",""]
[{"$f":"IF(董監事持股狀況!K202=\"\",\"\",董監事持股狀況!K202)","v":""},null,{"$f":"IF(董監事持股狀況!M202=\"\",\"\",董監事持股狀況!M202)","v":""},{"$f":"IFERROR(VLOOKUP(A208,股價!A:B,2,0),\"\")","v":""},"","",""]
[{"$f":"IF(董監事持股狀況!K203=\"\",\"\",董監事持股狀況!K203)","v":""},null,{"$f":"IF(董監事持股狀況!M203=\"\",\"\",董監事持股狀況!M203)","v":""},{"$f":"IFERROR(VLOOKUP(A209,股價!A:B,2,0),\"\")","v":""},"","",""]
[{"$f":"IF(董監事持股狀況!K204=\"\",\"\",董監事持股狀況!K204)","v":""},null,{"$f":"IF(董監事持股狀況!M204=\"\",\"\",董監事持股狀況!M204)","v":""},{"$f":"IFERROR(VLOOKUP(A210,股價!A:B,2,0),\"\")","v":""},"","",""]
[{"$f":"IF(董監事持股狀況!K205=\"\",\"\",董監事持股狀況!K205)","v":""},null,{"$f":"IF(董監事持股狀況!M205=\"\",\"\",董監事持股狀況!M205)","v":""},{"$f":"IFERROR(VLOOKUP(A211,股價!A:B,2,0),\"\")","v":""},"","",""]
[{"$f":"IF(董監事持股狀況!K206=\"\",\"\",董監事持股狀況!K206)","v":""},null,{"$f":"IF(董監事持股狀況!M206=\"\",\"\",董監事持股狀況!M206)","v":""},{"$f":"IFERROR(VLOOKUP(A212,股價!A:B,2,0),\"\")","v":""},"","",""]
[{"$f":"IF(董監事持股狀況!K207=\"\",\"\",董監事持股狀況!K207)","v":""},null,{"$f":"IF(董監事持股狀況!M207=\"\",\"\",董監事持股狀況!M207)","v":""},{"$f":"IFERROR(VLOOKUP(A213,股價!A:B,2,0),\"\")","v":""},"","",""]
[{"$f":"IF(董監事持股狀況!K208=\"\",\"\",董監事持股狀況!K208)","v":""},null,{"$f":"IF(董監事持股狀況!M208=\"\",\"\",董監事持股狀況!M208)","v":""},{"$f":"IFERROR(VLOOKUP(A214,股價!A:B,2,0),\"\")","v":""},"","",""]
[{"$f":"IF(董監事持股狀況!K209=\"\",\"\",董監事持股狀況!K209)","v":""},null,{"$f":"IF(董監事持股狀況!M209=\"\",\"\",董監事持股狀況!M209)","v":""},{"$f":"IFERROR(VLOOKUP(A215,股價!A:B,2,0),\"\")","v":""},"","",""]
[{"$f":"IF(董監事持股狀況!K210=\"\",\"\",董監事持股狀況!K210)","v":""},null,{"$f":"IF(董監事持股狀況!M210=\"\",\"\",董監事持股狀況!M210)","v":""},{"$f":"IFERROR(VLOOKUP(A216,股價!A:B,2,0),\"\")","v":""},"","",""]
[{"$f":"IF(董監事持股狀況!K211=\"\",\"\",董監事持股狀況!K211)","v":""},null,{"$f":"IF(董監事持股狀況!M211=\"\",\"\",董監事持股狀況!M211)","v":""},{"$f":"IFERROR(VLOOKUP(A217,股價!A:B,2,0),\"\")","v":""},"","",""]
[{"$f":"IF(董監事持股狀況!K212=\"\",\"\",董監事持股狀況!K212)","v":""},null,{"$f":"IF(董監事持股狀況!M212=\"\",\"\",董監事持股狀況!M212)","v":""},{"$f":"IFERROR(VLOOKUP(A218,股價!A:B,2,0),\"\")","v":""},"","",""]
[{"$f":"IF(董監事持股狀況!K213=\"\",\"\",董監事持股狀況!K213)","v":""},null,{"$f":"IF(董監事持股狀況!M213=\"\",\"\",董監事持股狀況!M213)","v":""},{"$f":"IFERROR(VLOOKUP(A219,股價!A:B,2,0),\"\")","v":""},"","",""]
[{"$f":"IF(董監事持股狀況!K214=\"\",\"\",董監事持股狀況!K214)","v":""},null,{"$f":"IF(董監事持股狀況!M214=\"\",\"\",董監事持股狀況!M214)","v":""},{"$f":"IFERROR(VLOOKUP(A220,股價!A:B,2,0),\"\")","v":""},"","",""]
[{"$f":"IF(董監事持股狀況!K215=\"\",\"\",董監事持股狀況!K215)","v":""},null,{"$f":"IF(董監事持股狀況!M215=\"\",\"\",董監事持股狀況!M215)","v":""},{"$f":"IFERROR(VLOOKUP(A221,股價!A:B,2,0),\"\")","v":""},"","",""]
[{"$f":"IF(董監事持股狀況!K216=\"\",\"\",董監事持股狀況!K216)","v":""},null,{"$f":"IF(董監事持股狀況!M216=\"\",\"\",董監事持股狀況!M216)","v":""},{"$f":"IFERROR(VLOOKUP(A222,股價!A:B,2,0),\"\")","v":""},"","",""]
[{"$f":"IF(董監事持股狀況!K217=\"\",\"\",董監事持股狀況!K217)","v":""},null,{"$f":"IF(董監事持股狀況!M217=\"\",\"\",董監事持股狀況!M217)","v":""},{"$f":"IFERROR(VLOOKUP(A223,股價!A:B,2,0),\"\")","v":""},"","",""]
[{"$f":"IF(董監事持股狀況!K218=\"\",\"\",董監事持股狀況!K218)","v":""},null,{"$f":"IF(董監事持股狀況!M218=\"\",\"\",董監事持股狀況!M218)","v":""},{"$f":"IFERROR(VLOOKUP(A224,股價!A:B,2,0),\"\")","v":""},"","",""]
[{"$f":"IF(董監事持股狀況!K219=\"\",\"\",董監事持股狀況!K219)","v":""},null,{"$f":"IF(董監事持股狀況!M219=\"\",\"\",董監事持股狀況!M219)","v":""},{"$f":"IFERROR(VLOOKUP(A225,股價!A:B,2,0),\"\")","v":""},"","",""]
[{"$f":"IF(董監事持股狀況!K220=\"\",\"\",董監事持股狀況!K220)","v":""},null,{"$f":"IF(董監事持股狀況!M220=\"\",\"\",董監事持股狀況!M220)","v":""},{"$f":"IFERROR(VLOOKUP(A226,股價!A:B,2,0),\"\")","v":""},"","",""]
[{"$f":"IF(董監事持股狀況!K221=\"\",\"\",董監事持股狀況!K221)","v":""},null,{"$f":"IF(董監事持股狀況!M221=\"\",\"\",董監事持股狀況!M221)","v":""},{"$f":"IFERROR(VLOOKUP(A227,股價!A:B,2,0),\"\")","v":""},"","",""]
[{"$f":"IF(董監事持股狀況!K222=\"\",\"\",董監事持股狀況!K222)","v":""},null,{"$f":"IF(董監事持股狀況!M222=\"\",\"\",董監事持股狀況!M222)","v":""},{"$f":"IFERROR(VLOOKUP(A228,股價!A:B,2,0),\"\")","v":""},"","",""]
[{"$f":"IF(董監事持股狀況!K223=\"\",\"\",董監事持股狀況!K223)","v":""},null,{"$f":"IF(董監事持股狀況!M223=\"\",\"\",董監事持股狀況!M223)","v":""},{"$f":"IFERROR(VLOOKUP(A229,股價!A:B,2,0),\"\")","v":""},"","",""]
[{"$f":"IF(董監事持股狀況!K224=\"\",\"\",董監事持股狀況!K224)","v":""},null,{"$f":"IF(董監事持股狀況!M224=\"\",\"\",董監事持股狀況!M224)","v":""},{"$f":"IFERROR(VLOOKUP(A230,股價!A:B,2,0),\"\")","v":""},"","",""]
[{"$f":"IF(董監事持股狀況!K225=\"\",\"\",董監事持股狀況!K225)","v":""},null,{"$f":"IF(董監事持股狀況!M225=\"\",\"\",董監事持股狀況!M225)","v":""},{"$f":"IFERROR(VLOOKUP(A231,股價!A:B,2,0),\"\")","v":""},"","",""]
[{"$f":"IF(董監事持股狀況!K226=\"\",\"\",董監事持股狀況!K226)","v":""},null,{"$f":"IF(董監事持股狀況!M226=\"\",\"\",董監事持股狀況!M226)","v":""},{"$f":"IFERROR(VLOOKUP(A232,股價!A:B,2,0),\"\")","v":""},"","",""]
[{"$f":"IF(董監事持股狀況!K227=\"\",\"\",董監事持股狀況!K227)","v":""},null,{"$f":"IF(董監事持股狀況!M227=\"\",\"\",董監事持股狀況!M227)","v":""},{"$f":"IFERROR(VLOOKUP(A233,股價!A:B,2,0),\"\")","v":""},"","",""]
[{"$f":"IF(董監事持股狀況!K228=\"\",\"\",董監事持股狀況!K228)","v":""},null,{"$f":"IF(董監事持股狀況!M228=\"\",\"\",董監事持股狀況!M228)","v":""},{"$f":"IFERROR(VLOOKUP(A234,股價!A:B,2,0),\"\")","v":""},"","",""]
[{"$f":"IF(董監事持股狀況!K229=\"\",\"\",董監事持股狀況!K229)","v":""},null,{"$f":"IF(董監事持股狀況!M229=\"\",\"\",董監事持股狀況!M229)","v":""},{"$f":"IFERROR(VLOOKUP(A235,股價!A:B,2,0),\"\")","v":""},"","",""]
[{"$f":"IF(董監事持股狀況!K230=\"\",\"\",董監事持股狀況!K230)","v":""},null,{"$f":"IF(董監事持股狀況!M230=\"\",\"\",董監事持股狀況!M230)","v":""},{"$f":"IFERROR(VLOOKUP(A236,股價!A:B,2,0),\"\")","v":""},"","",""]
[{"$f":"IF(董監事持股狀況!K231=\"\",\"\",董監事持股狀況!K231)","v":""},null,{"$f":"IF(董監事持股狀況!M231=\"\",\"\",董監事持股狀況!M231)","v":""},{"$f":"IFERROR(VLOOKUP(A237,股價!A:B,2,0),\"\")","v":""},"","",""]
[{"$f":"IF(董監事持股狀況!K232=\"\",\"\",董監事持股狀況!K232)","v":""},null,{"$f":"IF(董監事持股狀況!M232=\"\",\"\",董監事持股狀況!M232)","v":""},{"$f":"IFERROR(VLOOKUP(A238,股價!A:B,2,0),\"\")","v":""},"","",""]
[{"$f":"IF(董監事持股狀況!K233=\"\",\"\",董監事持股狀況!K233)","v":""},null,{"$f":"IF(董監事持股狀況!M233=\"\",\"\",董監事持股狀況!M233)","v":""},{"$f":"IFERROR(VLOOKUP(A239,股價!A:B,2,0),\"\")","v":""},"","",""]
[{"$f":"IF(董監事持股狀況!K234=\"\",\"\",董監事持股狀況!K234)","v":""},null,{"$f":"IF(董監事持股狀況!M234=\"\",\"\",董監事持股狀況!M234)","v":""},{"$f":"IFERROR(VLOOKUP(A240,股價!A:B,2,0),\"\")","v":""},"","",""]
[{"$f":"IF(董監事持股狀況!K235=\"\",\"\",董監事持股狀況!K235)","v":""},null,{"$f":"IF(董監事持股狀況!M235=\"\",\"\",董監事持股狀況!M235)","v":""},{"$f":"IFERROR(VLOOKUP(A241,股價!A:B,2,0),\"\")","v":""},"","",""]
[{"$f":"IF(董監事持股狀況!K236=\"\",\"\",董監事持股狀況!K236)","v":""},null,{"$f":"IF(董監事持股狀況!M236=\"\",\"\",董監事持股狀況!M236)","v":""},{"$f":"IFERROR(VLOOKUP(A242,股價!A:B,2,0),\"\")","v":""},"","",""]
[{"$f":"IF(董監事持股狀況!K237=\"\",\"\",董監事持股狀況!K237)","v":""},null,{"$f":"IF(董監事持股狀況!M237=\"\",\"\",董監事持股狀況!M237)","v":""},{"$f":"IFERROR(VLOOKUP(A243,股價!A:B,2,0),\"\")","v":""},"","",""]
[{"$f":"IF(董監事持股狀況!K238=\"\",\"\",董監事持股狀況!K238)","v":""},null,{"$f":"IF(董監事持股狀況!M238=\"\",\"\",董監事持股狀況!M238)","v":""},{"$f":"IFERROR(VLOOKUP(A244,股價!A:B,2,0),\"\")","v":""},"","",""]
[{"$f":"IF(董監事持股狀況!K239=\"\",\"\",董監事持股狀況!K239)","v":""},null,{"$f":"IF(董監事持股狀況!M239=\"\",\"\",董監事持股狀況!M239)","v":""},{"$f":"IFERROR(VLOOKUP(A245,股價!A:B,2,0),\"\")","v":""},"","",""]
[{"$f":"IF(董監事持股狀況!K240=\"\",\"\",董監事持股狀況!K240)","v":""},null,{"$f":"IF(董監事持股狀況!M240=\"\",\"\",董監事持股狀況!M240)","v":""},{"$f":"IFERROR(VLOOKUP(A246,股價!A:B,2,0),\"\")","v":""},"","",""]
[{"$f":"IF(董監事持股狀況!K241=\"\",\"\",董監事持股狀況!K241)","v":""},null,{"$f":"IF(董監事持股狀況!M241=\"\",\"\",董監事持股狀況!M241)","v":""},{"$f":"IFERROR(VLOOKUP(A247,股價!A:B,2,0),\"\")","v":""},"","",""]
[{"$f":"IF(董監事持股狀況!K242=\"\",\"\",董監事持股狀況!K242)","v":""},null,{"$f":"IF(董監事持股狀況!M242=\"\",\"\",董監事持股狀況!M242)","v":""},{"$f":"IFERROR(VLOOKUP(A248,股價!A:B,2,0),\"\")","v":""},"","",""]
[{"$f":"IF(董監事持股狀況!K243=\"\",\"\",董監事持股狀況!K243)","v":""},null,{"$f":"IF(董監事持股狀況!M243=\"\",\"\",董監事持股狀況!M243)","v":""},{"$f":"IFERROR(VLOOKUP(A249,股價!A:B,2,0),\"\")","v":""},"","",""]
[{"$f":"IF(董監事持股狀況!K244=\"\",\"\",董監事持股狀況!K244)","v":""},null,{"$f":"IF(董監事持股狀況!M244=\"\",\"\",董監事持股狀況!M244)","v":""},{"$f":"IFERROR(VLOOKUP(A250,股價!A:B,2,0),\"\")","v":""},"","",""]
[{"$f":"IF(董監事持股狀況!K245=\"\",\"\",董監事持股狀況!K245)","v":""},null,{"$f":"IF(董監事持股狀況!M245=\"\",\"\",董監事持股狀況!M245)","v":""},{"$f":"IFERROR(VLOOKUP(A251,股價!A:B,2,0),\"\")","v":""},"","",""]
[{"$f":"IF(董監事持股狀況!K246=\"\",\"\",董監事持股狀況!K246)","v":""},null,{"$f":"IF(董監事持股狀況!M246=\"\",\"\",董監事持股狀況!M246)","v":""},{"$f":"IFERROR(VLOOKUP(A252,股價!A:B,2,0),\"\")","v":""},"","",""]
[{"$f":"IF(董監事持股狀況!K247=\"\",\"\",董監事持股狀況!K247)","v":""},null,{"$f":"IF(董監事持股狀況!M247=\"\",\"\",董監事持股狀況!M247)","v":""},{"$f":"IFERROR(VLOOKUP(A253,股價!A:B,2,0),\"\")","v":""},"","",""]
[{"$f":"IF(董監事持股狀況!K248=\"\",\"\",董監事持股狀況!K248)","v":""},null,{"$f":"IF(董監事持股狀況!M248=\"\",\"\",董監事持股狀況!M248)","v":""},{"$f":"IFERROR(VLOOKUP(A254,股價!A:B,2,0),\"\")","v":""},"","",""]
[{"$f":"IF(董監事持股狀況!K249=\"\",\"\",董監事持股狀況!K249)","v":""},null,{"$f":"IF(董監事持股狀況!M249=\"\",\"\",董監事持股狀況!M249)","v":""},{"$f":"IFERROR(VLOOKUP(A255,股價!A:B,2,0),\"\")","v":""},"","",""]
[{"$f":"IF(董監事持股狀況!K250=\"\",\"\",董監事持股狀況!K250)","v":""},null,{"$f":"IF(董監事持股狀況!M250=\"\",\"\",董監事持股狀況!M250)","v":""},{"$f":"IFERROR(VLOOKUP(A256,股價!A:B,2,0),\"\")","v":""},"","",""]
[{"$f":"IF(董監事持股狀況!K251=\"\",\"\",董監事持股狀況!K251)","v":""},null,{"$f":"IF(董監事持股狀況!M251=\"\",\"\",董監事持股狀況!M251)","v":""},{"$f":"IFERROR(VLOOKUP(A257,股價!A:B,2,0),\"\")","v":""},"","",""]
[{"$f":"IF(董監事持股狀況!K252=\"\",\"\",董監事持股狀況!K252)","v":""},null,{"$f":"IF(董監事持股狀況!M252=\"\",\"\",董監事持股狀況!M252)","v":""},{"$f":"IFERROR(VLOOKUP(A258,股價!A:B,2,0),\"\")","v":""},"","",""]
[{"$f":"IF(董監事持股狀況!K253=\"\",\"\",董監事持股狀況!K253)","v":""},null,{"$f":"IF(董監事持股狀況!M253=\"\",\"\",董監事持股狀況!M253)","v":""},{"$f":"IFERROR(VLOOKUP(A259,股價!A:B,2,0),\"\")","v":""},"","",""]
[{"$f":"IF(董監事持股狀況!K254=\"\",\"\",董監事持股狀況!K254)","v":""},null,{"$f":"IF(董監事持股狀況!M254=\"\",\"\",董監事持股狀況!M254)","v":""},{"$f":"IFERROR(VLOOKUP(A260,股價!A:B,2,0),\"\")","v":""},"","",""]
[{"$f":"IF(董監事持股狀況!K255=\"\",\"\",董監事持股狀況!K255)","v":""},null,{"$f":"IF(董監事持股狀況!M255=\"\",\"\",董監事持股狀況!M255)","v":""},{"$f":"IFERROR(VLOOKUP(A261,股價!A:B,2,0),\"\")","v":""},"","",""]
[{"$f":"IF(董監事持股狀況!K256=\"\",\"\",董監事持股狀況!K256)","v":""},null,{"$f":"IF(董監事持股狀況!M256=\"\",\"\",董監事持股狀況!M256)","v":""},{"$f":"IFERROR(VLOOKUP(A262,股價!A:B,2,0),\"\")","v":""},"","",""]
[{"$f":"IF(董監事持股狀況!K257=\"\",\"\",董監事持股狀況!K257)","v":""},null,{"$f":"IF(董監事持股狀況!M257=\"\",\"\",董監事持股狀況!M257)","v":""},{"$f":"IFERROR(VLOOKUP(A263,股價!A:B,2,0),\"\")","v":""},"","",""]
[{"$f":"IF(董監事持股狀況!K258=\"\",\"\",董監事持股狀況!K258)","v":""},null,{"$f":"IF(董監事持股狀況!M258=\"\",\"\",董監事持股狀況!M258)","v":""},{"$f":"IFERROR(VLOOKUP(A264,股價!A:B,2,0),\"\")","v":""},"",{"$f":"IFERROR(E264/$E$5*100,\"\")","v":""},{"$f":"IF(F264=\"\",\"\",RANK(F264,$F$8:$F$999))","v":""}]
[{"$f":"IF(董監事持股狀況!K259=\"\",\"\",董監事持股狀況!K259)","v":""},null,{"$f":"IF(董監事持股狀況!M259=\"\",\"\",董監事持股狀況!M259)","v":""},{"$f":"IFERROR(VLOOKUP(A265,股價!A:B,2,0),\"\")","v":""},{"$f":"IFERROR(C265*D265,\"\")","v":""},"",""]
[{"$f":"IF(董監事持股狀況!K260=\"\",\"\",董監事持股狀況!K260)","v":""},null,{"$f":"IF(董監事持股狀況!M260=\"\",\"\",董監事持股狀況!M260)","v":""},{"$f":"IFERROR(VLOOKUP(A266,股價!A:B,2,0),\"\")","v":""},"","",""]
[{"$f":"IF(董監事持股狀況!K261=\"\",\"\",董監事持股狀況!K261)","v":""},null,{"$f":"IF(董監事持股狀況!M261=\"\",\"\",董監事持股狀況!M261)","v":""},{"$f":"IFERROR(VLOOKUP(A267,股價!A:B,2,0),\"\")","v":""},"","",""]
[{"$f":"IF(董監事持股狀況!K262=\"\",\"\",董監事持股狀況!K262)","v":""},null,{"$f":"IF(董監事持股狀況!M262=\"\",\"\",董監事持股狀況!M262)","v":""},{"$f":"IFERROR(VLOOKUP(A268,股價!A:B,2,0),\"\")","v":""},"","",""]
[{"$f":"IF(董監事持股狀況!K263=\"\",\"\",董監事持股狀況!K263)","v":""},null,{"$f":"IF(董監事持股狀況!M263=\"\",\"\",董監事持股狀況!M263)","v":""},{"$f":"IFERROR(VLOOKUP(A269,股價!A:B,2,0),\"\")","v":""},"","",""]
[{"$f":"IF(董監事持股狀況!K264=\"\",\"\",董監事持股狀況!K264)","v":""},null,{"$f":"IF(董監事持股狀況!M264=\"\",\"\",董監事持股狀況!M264)","v":""},{"$f":"IFERROR(VLOOKUP(A270,股價!A:B,2,0),\"\")","v":""},"","",""]
[{"$f":"IF(董監事持股狀況!K265=\"\",\"\",董監事持股狀況!K265)","v":""},null,{"$f":"IF(董監事持股狀況!M265=\"\",\"\",董監事持股狀況!M265)","v":""},{"$f":"IFERROR(VLOOKUP(A271,股價!A:B,2,0),\"\")","v":""},"","",""]
[{"$f":"IF(董監事持股狀況!K266=\"\",\"\",董監事持股狀況!K266)","v":""},null,{"$f":"IF(董監事持股狀況!M266=\"\",\"\",董監事持股狀況!M266)","v":""},{"$f":"IFERROR(VLOOKUP(A272,股價!A:B,2,0),\"\")","v":""},"","",""]
[{"$f":"IF(董監事持股狀況!K267=\"\",\"\",董監事持股狀況!K267)","v":""},null,{"$f":"IF(董監事持股狀況!M267=\"\",\"\",董監事持股狀況!M267)","v":""},{"$f":"IFERROR(VLOOKUP(A273,股價!A:B,2,0),\"\")","v":""},"","",""]
[{"$f":"IF(董監事持股狀況!K268=\"\",\"\",董監事持股狀況!K268)","v":""},null,{"$f":"IF(董監事持股狀況!M268=\"\",\"\",董監事持股狀況!M268)","v":""},{"$f":"IFERROR(VLOOKUP(A274,股價!A:B,2,0),\"\")","v":""},"","",""]
[{"$f":"IF(董監事持股狀況!K269=\"\",\"\",董監事持股狀況!K269)","v":""},null,{"$f":"IF(董監事持股狀況!M269=\"\",\"\",董監事持股狀況!M269)","v":""},{"$f":"IFERROR(VLOOKUP(A275,股價!A:B,2,0),\"\")","v":""},"","",""]
[{"$f":"IF(董監事持股狀況!K270=\"\",\"\",董監事持股狀況!K270)","v":""},null,{"$f":"IF(董監事持股狀況!M270=\"\",\"\",董監事持股狀況!M270)","v":""},{"$f":"IFERROR(VLOOKUP(A276,股價!A:B,2,0),\"\")","v":""},"","",""]
[{"$f":"IF(董監事持股狀況!K271=\"\",\"\",董監事持股狀況!K271)","v":""},null,{"$f":"IF(董監事持股狀況!M271=\"\",\"\",董監事持股狀況!M271)","v":""},{"$f":"IFERROR(VLOOKUP(A277,股價!A:B,2,0),\"\")","v":""},"","",""]
[{"$f":"IF(董監事持股狀況!K272=\"\",\"\",董監事持股狀況!K272)","v":""},null,{"$f":"IF(董監事持股狀況!M272=\"\",\"\",董監事持股狀況!M272)","v":""},{"$f":"IFERROR(VLOOKUP(A278,股價!A:B,2,0),\"\")","v":""},"","",""]
[{"$f":"IF(董監事持股狀況!K273=\"\",\"\",董監事持股狀況!K273)","v":""},null,{"$f":"IF(董監事持股狀況!M273=\"\",\"\",董監事持股狀況!M273)","v":""},{"$f":"IFERROR(VLOOKUP(A279,股價!A:B,2,0),\"\")","v":""},"","",""]
[{"$f":"IF(董監事持股狀況!K274=\"\",\"\",董監事持股狀況!K274)","v":""},null,{"$f":"IF(董監事持股狀況!M274=\"\",\"\",董監事持股狀況!M274)","v":""},{"$f":"IFERROR(VLOOKUP(A280,股價!A:B,2,0),\"\")","v":""},"","",""]
[{"$f":"IF(董監事持股狀況!K275=\"\",\"\",董監事持股狀況!K275)","v":""},null,{"$f":"IF(董監事持股狀況!M275=\"\",\"\",董監事持股狀況!M275)","v":""},{"$f":"IFERROR(VLOOKUP(A281,股價!A:B,2,0),\"\")","v":""},"","",""]
[{"$f":"IF(董監事持股狀況!K276=\"\",\"\",董監事持股狀況!K276)","v":""},null,{"$f":"IF(董監事持股狀況!M276=\"\",\"\",董監事持股狀況!M276)","v":""},{"$f":"IFERROR(VLOOKUP(A282,股價!A:B,2,0),\"\")","v":""},"","",""]
[{"$f":"IF(董監事持股狀況!K277=\"\",\"\",董監事持股狀況!K277)","v":""},null,{"$f":"IF(董監事持股狀況!M277=\"\",\"\",董監事持股狀況!M277)","v":""},{"$f":"IFERROR(VLOOKUP(A283,股價!A:B,2,0),\"\")","v":""},"","",""]
[{"$f":"IF(董監事持股狀況!K278=\"\",\"\",董監事持股狀況!K278)","v":""},null,{"$f":"IF(董監事持股狀況!M278=\"\",\"\",董監事持股狀況!M278)","v":""},{"$f":"IFERROR(VLOOKUP(A284,股價!A:B,2,0),\"\")","v":""},"","",""]
[{"$f":"IF(董監事持股狀況!K279=\"\",\"\",董監事持股狀況!K279)","v":""},null,{"$f":"IF(董監事持股狀況!M279=\"\",\"\",董監事持股狀況!M279)","v":""},{"$f":"IFERROR(VLOOKUP(A285,股價!A:B,2,0),\"\")","v":""},"","",""]
[{"$f":"IF(董監事持股狀況!K280=\"\",\"\",董監事持股狀況!K280)","v":""},null,{"$f":"IF(董監事持股狀況!M280=\"\",\"\",董監事持股狀況!M280)","v":""},{"$f":"IFERROR(VLOOKUP(A286,股價!A:B,2,0),\"\")","v":""},"","",""]
[{"$f":"IF(董監事持股狀況!K281=\"\",\"\",董監事持股狀況!K281)","v":""},null,{"$f":"IF(董監事持股狀況!M281=\"\",\"\",董監事持股狀況!M281)","v":""},{"$f":"IFERROR(VLOOKUP(A287,股價!A:B,2,0),\"\")","v":""},"","",""]
[{"$f":"IF(董監事持股狀況!K282=\"\",\"\",董監事持股狀況!K282)","v":""},null,{"$f":"IF(董監事持股狀況!M282=\"\",\"\",董監事持股狀況!M282)","v":""},{"$f":"IFERROR(VLOOKUP(A288,股價!A:B,2,0),\"\")","v":""},"","",""]
[{"$f":"IF(董監事持股狀況!K283=\"\",\"\",董監事持股狀況!K283)","v":""},null,{"$f":"IF(董監事持股狀況!M283=\"\",\"\",董監事持股狀況!M283)","v":""},{"$f":"IFERROR(VLOOKUP(A289,股價!A:B,2,0),\"\")","v":""},"","",""]
[{"$f":"IF(董監事持股狀況!K284=\"\",\"\",董監事持股狀況!K284)","v":""},null,{"$f":"IF(董監事持股狀況!M284=\"\",\"\",董監事持股狀況!M284)","v":""},{"$f":"IFERROR(VLOOKUP(A290,股價!A:B,2,0),\"\")","v":""},"","",""]
[{"$f":"IF(董監事持股狀況!K285=\"\",\"\",董監事持股狀況!K285)","v":""},null,{"$f":"IF(董監事持股狀況!M285=\"\",\"\",董監事持股狀況!M285)","v":""},{"$f":"IFERROR(VLOOKUP(A291,股價!A:B,2,0),\"\")","v":""},"","",""]
[{"$f":"IF(董監事持股狀況!K286=\"\",\"\",董監事持股狀況!K286)","v":""},null,{"$f":"IF(董監事持股狀況!M286=\"\",\"\",董監事持股狀況!M286)","v":""},{"$f":"IFERROR(VLOOKUP(A292,股價!A:B,2,0),\"\")","v":""},"","",""]
[{"$f":"IF(董監事持股狀況!K287=\"\",\"\",董監事持股狀況!K287)","v":""},null,{"$f":"IF(董監事持股狀況!M287=\"\",\"\",董監事持股狀況!M287)","v":""},{"$f":"IFERROR(VLOOKUP(A293,股價!A:B,2,0),\"\")","v":""},"","",""]
[{"$f":"IF(董監事持股狀況!K288=\"\",\"\",董監事持股狀況!K288)","v":""},null,{"$f":"IF(董監事持股狀況!M288=\"\",\"\",董監事持股狀況!M288)","v":""},{"$f":"IFERROR(VLOOKUP(A294,股價!A:B,2,0),\"\")","v":""},"","",""]
[{"$f":"IF(董監事持股狀況!K289=\"\",\"\",董監事持股狀況!K289)","v":""},null,{"$f":"IF(董監事持股狀況!M289=\"\",\"\",董監事持股狀況!M289)","v":""},{"$f":"IFERROR(VLOOKUP(A295,股價!A:B,2,0),\"\")","v":""},"","",""]
[{"$f":"IF(董監事持股狀況!K290=\"\",\"\",董監事持股狀況!K290)","v":""},null,{"$f":"IF(董監事持股狀況!M290=\"\",\"\",董監事持股狀況!M290)","v":""},{"$f":"IFERROR(VLOOKUP(A296,股價!A:B,2,0),\"\")","v":""},"","",""]
[{"$f":"IF(董監事持股狀況!K291=\"\",\"\",董監事持股狀況!K291)","v":""},null,{"$f":"IF(董監事持股狀況!M291=\"\",\"\",董監事持股狀況!M291)","v":""},{"$f":"IFERROR(VLOOKUP(A297,股價!A:B,2,0),\"\")","v":""},"","",""]
[{"$f":"IF(董監事持股狀況!K292=\"\",\"\",董監事持股狀況!K292)","v":""},null,{"$f":"IF(董監事持股狀況!M292=\"\",\"\",董監事持股狀況!M292)","v":""},{"$f":"IFERROR(VLOOKUP(A298,股價!A:B,2,0),\"\")","v":""},"","",""]
[{"$f":"IF(董監事持股狀況!K293=\"\",\"\",董監事持股狀況!K293)","v":""},null,{"$f":"IF(董監事持股狀況!M293=\"\",\"\",董監事持股狀況!M293)","v":""},{"$f":"IFERROR(VLOOKUP(A299,股價!A:B,2,0),\"\")","v":""},"","",""]
[{"$f":"IF(董監事持股狀況!K294=\"\",\"\",董監事持股狀況!K294)","v":""},null,{"$f":"IF(董監事持股狀況!M294=\"\",\"\",董監事持股狀況!M294)","v":""},{"$f":"IFERROR(VLOOKUP(A300,股價!A:B,2,0),\"\")","v":""},"","",""]
[{"$f":"IF(董監事持股狀況!K295=\"\",\"\",董監事持股狀況!K295)","v":""},null,{"$f":"IF(董監事持股狀況!M295=\"\",\"\",董監事持股狀況!M295)","v":""},{"$f":"IFERROR(VLOOKUP(A301,股價!A:B,2,0),\"\")","v":""},"","",""]
[{"$f":"IF(董監事持股狀況!K296=\"\",\"\",董監事持股狀況!K296)","v":""},null,{"$f":"IF(董監事持股狀況!M296=\"\",\"\",董監事持股狀況!M296)","v":""},{"$f":"IFERROR(VLOOKUP(A302,股價!A:B,2,0),\"\")","v":""},"","",""]
[{"$f":"IF(董監事持股狀況!K297=\"\",\"\",董監事持股狀況!K297)","v":""},null,{"$f":"IF(董監事持股狀況!M297=\"\",\"\",董監事持股狀況!M297)","v":""},{"$f":"IFERROR(VLOOKUP(A303,股價!A:B,2,0),\"\")","v":""},"","",""]
[{"$f":"IF(董監事持股狀況!K298=\"\",\"\",董監事持股狀況!K298)","v":""},null,{"$f":"IF(董監事持股狀況!M298=\"\",\"\",董監事持股狀況!M298)","v":""},{"$f":"IFERROR(VLOOKUP(A304,股價!A:B,2,0),\"\")","v":""},"","",""]
[{"$f":"IF(董監事持股狀況!K299=\"\",\"\",董監事持股狀況!K299)","v":""},null,{"$f":"IF(董監事持股狀況!M299=\"\",\"\",董監事持股狀況!M299)","v":""},{"$f":"IFERROR(VLOOKUP(A305,股價!A:B,2,0),\"\")","v":""},"","",""]
[{"$f":"IF(董監事持股狀況!K300=\"\",\"\",董監事持股狀況!K300)","v":""},null,{"$f":"IF(董監事持股狀況!M300=\"\",\"\",董監事持股狀況!M300)","v":""},{"$f":"IFERROR(VLOOKUP(A306,股價!A:B,2,0),\"\")","v":""},"","",""]
[{"$f":"IF(董監事持股狀況!K301=\"\",\"\",董監事持股狀況!K301)","v":""},null,{"$f":"IF(董監事持股狀況!M301=\"\",\"\",董監事持股狀況!M301)","v":""},{"$f":"IFERROR(VLOOKUP(A307,股價!A:B,2,0),\"\")","v":""},"","",""]
[{"$f":"IF(董監事持股狀況!K302=\"\",\"\",董監事持股狀況!K302)","v":""},null,{"$f":"IF(董監事持股狀況!M302=\"\",\"\",董監事持股狀況!M302)","v":""},{"$f":"IFERROR(VLOOKUP(A308,股價!A:B,2,0),\"\")","v":""},"","",""]
[{"$f":"IF(董監事持股狀況!K303=\"\",\"\",董監事持股狀況!K303)","v":""},null,{"$f":"IF(董監事持股狀況!M303=\"\",\"\",董監事持股狀況!M303)","v":""},{"$f":"IFERROR(VLOOKUP(A309,股價!A:B,2,0),\"\")","v":""},"","",""]
[{"$f":"IF(董監事持股狀況!K304=\"\",\"\",董監事持股狀況!K304)","v":""},null,{"$f":"IF(董監事持股狀況!M304=\"\",\"\",董監事持股狀況!M304)","v":""},{"$f":"IFERROR(VLOOKUP(A310,股價!A:B,2,0),\"\")","v":""},"","",""]
[{"$f":"IF(董監事持股狀況!K305=\"\",\"\",董監事持股狀況!K305)","v":""},null,{"$f":"IF(董監事持股狀況!M305=\"\",\"\",董監事持股狀況!M305)","v":""},{"$f":"IFERROR(VLOOKUP(A311,股價!A:B,2,0),\"\")","v":""},"","",""]
[{"$f":"IF(董監事持股狀況!K306=\"\",\"\",董監事持股狀況!K306)","v":""},null,{"$f":"IF(董監事持股狀況!M306=\"\",\"\",董監事持股狀況!M306)","v":""},{"$f":"IFERROR(VLOOKUP(A312,股價!A:B,2,0),\"\")","v":""},"","",""]
[{"$f":"IF(董監事持股狀況!K307=\"\",\"\",董監事持股狀況!K307)","v":""},null,{"$f":"IF(董監事持股狀況!M307=\"\",\"\",董監事持股狀況!M307)","v":""},{"$f":"IFERROR(VLOOKUP(A313,股價!A:B,2,0),\"\")","v":""},"","",""]
[{"$f":"IF(董監事持股狀況!K308=\"\",\"\",董監事持股狀況!K308)","v":""},null,{"$f":"IF(董監事持股狀況!M308=\"\",\"\",董監事持股狀況!M308)","v":""},{"$f":"IFERROR(VLOOKUP(A314,股價!A:B,2,0),\"\")","v":""},"","",""]
[{"$f":"IF(董監事持股狀況!K309=\"\",\"\",董監事持股狀況!K309)","v":""},null,{"$f":"IF(董監事持股狀況!M309=\"\",\"\",董監事持股狀況!M309)","v":""},{"$f":"IFERROR(VLOOKUP(A315,股價!A:B,2,0),\"\")","v":""},"","",""]
[{"$f":"IF(董監事持股狀況!K310=\"\",\"\",董監事持股狀況!K310)","v":""},null,{"$f":"IF(董監事持股狀況!M310=\"\",\"\",董監事持股狀況!M310)","v":""},{"$f":"IFERROR(VLOOKUP(A316,股價!A:B,2,0),\"\")","v":""},"","",""]
[{"$f":"IF(董監事持股狀況!K311=\"\",\"\",董監事持股狀況!K311)","v":""},null,{"$f":"IF(董監事持股狀況!M311=\"\",\"\",董監事持股狀況!M311)","v":""},{"$f":"IFERROR(VLOOKUP(A317,股價!A:B,2,0),\"\")","v":""},"","",""]
[{"$f":"IF(董監事持股狀況!K312=\"\",\"\",董監事持股狀況!K312)","v":""},null,{"$f":"IF(董監事持股狀況!M312=\"\",\"\",董監事持股狀況!M312)","v":""},{"$f":"IFERROR(VLOOKUP(A318,股價!A:B,2,0),\"\")","v":""},"","",""]
[{"$f":"IF(董監事持股狀況!K313=\"\",\"\",董監事持股狀況!K313)","v":""},null,{"$f":"IF(董監事持股狀況!M313=\"\",\"\",董監事持股狀況!M313)","v":""},{"$f":"IFERROR(VLOOKUP(A319,股價!A:B,2,0),\"\")","v":""},"","",""]
[{"$f":"IF(董監事持股狀況!K314=\"\",\"\",董監事持股狀況!K314)","v":""},null,{"$f":"IF(董監事持股狀況!M314=\"\",\"\",董監事持股狀況!M314)","v":""},{"$f":"IFERROR(VLOOKUP(A320,股價!A:B,2,0),\"\")","v":""},"","",""]
[{"$f":"IF(董監事持股狀況!K315=\"\",\"\",董監事持股狀況!K315)","v":""},null,{"$f":"IF(董監事持股狀況!M315=\"\",\"\",董監事持股狀況!M315)","v":""},{"$f":"IFERROR(VLOOKUP(A321,股價!A:B,2,0),\"\")","v":""},"","",""]
[{"$f":"IF(董監事持股狀況!K316=\"\",\"\",董監事持股狀況!K316)","v":""},null,{"$f":"IF(董監事持股狀況!M316=\"\",\"\",董監事持股狀況!M316)","v":""},{"$f":"IFERROR(VLOOKUP(A322,股價!A:B,2,0),\"\")","v":""},"","",""]
[{"$f":"IF(董監事持股狀況!K317=\"\",\"\",董監事持股狀況!K317)","v":""},null,{"$f":"IF(董監事持股狀況!M317=\"\",\"\",董監事持股狀況!M317)","v":""},{"$f":"IFERROR(VLOOKUP(A323,股價!A:B,2,0),\"\")","v":""},"","",""]
[{"$f":"IF(董監事持股狀況!K318=\"\",\"\",董監事持股狀況!K318)","v":""},null,{"$f":"IF(董監事持股狀況!M318=\"\",\"\",董監事持股狀況!M318)","v":""},{"$f":"IFERROR(VLOOKUP(A324,股價!A:B,2,0),\"\")","v":""},"","",""]
[{"$f":"IF(董監事持股狀況!K319=\"\",\"\",董監事持股狀況!K319)","v":""},null,{"$f":"IF(董監事持股狀況!M319=\"\",\"\",董監事持股狀況!M319)","v":""},{"$f":"IFERROR(VLOOKUP(A325,股價!A:B,2,0),\"\")","v":""},"","",""]
[{"$f":"IF(董監事持股狀況!K320=\"\",\"\",董監事持股狀況!K320)","v":""},null,{"$f":"IF(董監事持股狀況!M320=\"\",\"\",董監事持股狀況!M320)","v":""},{"$f":"IFERROR(VLOOKUP(A326,股價!A:B,2,0),\"\")","v":""},"","",""]
[{"$f":"IF(董監事持股狀況!K321=\"\",\"\",董監事持股狀況!K321)","v":""},null,{"$f":"IF(董監事持股狀況!M321=\"\",\"\",董監事持股狀況!M321)","v":""},{"$f":"IFERROR(VLOOKUP(A327,股價!A:B,2,0),\"\")","v":""},"","",""]
[{"$f":"IF(董監事持股狀況!K322=\"\",\"\",董監事持股狀況!K322)","v":""},null,{"$f":"IF(董監事持股狀況!M322=\"\",\"\",董監事持股狀況!M322)","v":""},{"$f":"IFERROR(VLOOKUP(A328,股價!A:B,2,0),\"\")","v":""},"",{"$f":"IFERROR(E328/$E$5*100,\"\")","v":""},{"$f":"IF(F328=\"\",\"\",RANK(F328,$F$8:$F$999))","v":""}]
[{"$f":"IF(董監事持股狀況!K323=\"\",\"\",董監事持股狀況!K323)","v":""},null,{"$f":"IF(董監事持股狀況!M323=\"\",\"\",董監事持股狀況!M323)","v":""},{"$f":"IFERROR(VLOOKUP(A329,股價!A:B,2,0),\"\")","v":""},{"$f":"IFERROR(C329*D329,\"\")","v":""},"",""]
[{"$f":"IF(董監事持股狀況!K324=\"\",\"\",董監事持股狀況!K324)","v":""},null,{"$f":"IF(董監事持股狀況!M324=\"\",\"\",董監事持股狀況!M324)","v":""},{"$f":"IFERROR(VLOOKUP(A330,股價!A:B,2,0),\"\")","v":""},"","",""]
[{"$f":"IF(董監事持股狀況!K325=\"\",\"\",董監事持股狀況!K325)","v":""},null,{"$f":"IF(董監事持股狀況!M325=\"\",\"\",董監事持股狀況!M325)","v":""},{"$f":"IFERROR(VLOOKUP(A331,股價!A:B,2,0),\"\")","v":""},"","",""]
[{"$f":"IF(董監事持股狀況!K326=\"\",\"\",董監事持股狀況!K326)","v":""},null,{"$f":"IF(董監事持股狀況!M326=\"\",\"\",董監事持股狀況!M326)","v":""},{"$f":"IFERROR(VLOOKUP(A332,股價!A:B,2,0),\"\")","v":""},"","",""]
[{"$f":"IF(董監事持股狀況!K327=\"\",\"\",董監事持股狀況!K327)","v":""},null,{"$f":"IF(董監事持股狀況!M327=\"\",\"\",董監事持股狀況!M327)","v":""},{"$f":"IFERROR(VLOOKUP(A333,股價!A:B,2,0),\"\")","v":""},"","",""]
[{"$f":"IF(董監事持股狀況!K328=\"\",\"\",董監事持股狀況!K328)","v":""},null,{"$f":"IF(董監事持股狀況!M328=\"\",\"\",董監事持股狀況!M328)","v":""},{"$f":"IFERROR(VLOOKUP(A334,股價!A:B,2,0),\"\")","v":""},"","",""]
[{"$f":"IF(董監事持股狀況!K329=\"\",\"\",董監事持股狀況!K329)","v":""},null,{"$f":"IF(董監事持股狀況!M329=\"\",\"\",董監事持股狀況!M329)","v":""},{"$f":"IFERROR(VLOOKUP(A335,股價!A:B,2,0),\"\")","v":""},"","",""]
[{"$f":"IF(董監事持股狀況!K330=\"\",\"\",董監事持股狀況!K330)","v":""},null,{"$f":"IF(董監事持股狀況!M330=\"\",\"\",董監事持股狀況!M330)","v":""},{"$f":"IFERROR(VLOOKUP(A336,股價!A:B,2,0),\"\")","v":""},"","",""]
[{"$f":"IF(董監事持股狀況!K331=\"\",\"\",董監事持股狀況!K331)","v":""},null,{"$f":"IF(董監事持股狀況!M331=\"\",\"\",董監事持股狀況!M331)","v":""},{"$f":"IFERROR(VLOOKUP(A337,股價!A:B,2,0),\"\")","v":""},"","",""]
[{"$f":"IF(董監事持股狀況!K332=\"\",\"\",董監事持股狀況!K332)","v":""},null,{"$f":"IF(董監事持股狀況!M332=\"\",\"\",董監事持股狀況!M332)","v":""},{"$f":"IFERROR(VLOOKUP(A338,股價!A:B,2,0),\"\")","v":""},"","",""]
[{"$f":"IF(董監事持股狀況!K333=\"\",\"\",董監事持股狀況!K333)","v":""},null,{"$f":"IF(董監事持股狀況!M333=\"\",\"\",董監事持股狀況!M333)","v":""},{"$f":"IFERROR(VLOOKUP(A339,股價!A:B,2,0),\"\")","v":""},"","",""]
[{"$f":"IF(董監事持股狀況!K334=\"\",\"\",董監事持股狀況!K334)","v":""},null,{"$f":"IF(董監事持股狀況!M334=\"\",\"\",董監事持股狀況!M334)","v":""},{"$f":"IFERROR(VLOOKUP(A340,股價!A:B,2,0),\"\")","v":""},"","",""]
[{"$f":"IF(董監事持股狀況!K335=\"\",\"\",董監事持股狀況!K335)","v":""},null,{"$f":"IF(董監事持股狀況!M335=\"\",\"\",董監事持股狀況!M335)","v":""},{"$f":"IFERROR(VLOOKUP(A341,股價!A:B,2,0),\"\")","v":""},"","",""]
[{"$f":"IF(董監事持股狀況!K336=\"\",\"\",董監事持股狀況!K336)","v":""},null,{"$f":"IF(董監事持股狀況!M336=\"\",\"\",董監事持股狀況!M336)","v":""},{"$f":"IFERROR(VLOOKUP(A342,股價!A:B,2,0),\"\")","v":""},"","",""]
[{"$f":"IF(董監事持股狀況!K337=\"\",\"\",董監事持股狀況!K337)","v":""},null,{"$f":"IF(董監事持股狀況!M337=\"\",\"\",董監事持股狀況!M337)","v":""},{"$f":"IFERROR(VLOOKUP(A343,股價!A:B,2,0),\"\")","v":""},"","",""]
[{"$f":"IF(董監事持股狀況!K338=\"\",\"\",董監事持股狀況!K338)","v":""},null,{"$f":"IF(董監事持股狀況!M338=\"\",\"\",董監事持股狀況!M338)","v":""},{"$f":"IFERROR(VLOOKUP(A344,股價!A:B,2,0),\"\")","v":""},"","",""]
[{"$f":"IF(董監事持股狀況!K339=\"\",\"\",董監事持股狀況!K339)","v":""},null,{"$f":"IF(董監事持股狀況!M339=\"\",\"\",董監事持股狀況!M339)","v":""},{"$f":"IFERROR(VLOOKUP(A345,股價!A:B,2,0),\"\")","v":""},"","",""]
[{"$f":"IF(董監事持股狀況!K340=\"\",\"\",董監事持股狀況!K340)","v":""},null,{"$f":"IF(董監事持股狀況!M340=\"\",\"\",董監事持股狀況!M340)","v":""},{"$f":"IFERROR(VLOOKUP(A346,股價!A:B,2,0),\"\")","v":""},"","",""]
[{"$f":"IF(董監事持股狀況!K341=\"\",\"\",董監事持股狀況!K341)","v":""},null,{"$f":"IF(董監事持股狀況!M341=\"\",\"\",董監事持股狀況!M341)","v":""},{"$f":"IFERROR(VLOOKUP(A347,股價!A:B,2,0),\"\")","v":""},"","",""]
[{"$f":"IF(董監事持股狀況!K342=\"\",\"\",董監事持股狀況!K342)","v":""},null,{"$f":"IF(董監事持股狀況!M342=\"\",\"\",董監事持股狀況!M342)","v":""},{"$f":"IFERROR(VLOOKUP(A348,股價!A:B,2,0),\"\")","v":""},"","",""]
[{"$f":"IF(董監事持股狀況!K343=\"\",\"\",董監事持股狀況!K343)","v":""},null,{"$f":"IF(董監事持股狀況!M343=\"\",\"\",董監事持股狀況!M343)","v":""},{"$f":"IFERROR(VLOOKUP(A349,股價!A:B,2,0),\"\")","v":""},"","",""]
[{"$f":"IF(董監事持股狀況!K344=\"\",\"\",董監事持股狀況!K344)","v":""},null,{"$f":"IF(董監事持股狀況!M344=\"\",\"\",董監事持股狀況!M344)","v":""},{"$f":"IFERROR(VLOOKUP(A350,股價!A:B,2,0),\"\")","v":""},"","",""]
[{"$f":"IF(董監事持股狀況!K345=\"\",\"\",董監事持股狀況!K345)","v":""},null,{"$f":"IF(董監事持股狀況!M345=\"\",\"\",董監事持股狀況!M345)","v":""},{"$f":"IFERROR(VLOOKUP(A351,股價!A:B,2,0),\"\")","v":""},"","",""]
[{"$f":"IF(董監事持股狀況!K346=\"\",\"\",董監事持股狀況!K346)","v":""},null,{"$f":"IF(董監事持股狀況!M346=\"\",\"\",董監事持股狀況!M346)","v":""},{"$f":"IFERROR(VLOOKUP(A352,股價!A:B,2,0),\"\")","v":""},"","",""]
[{"$f":"IF(董監事持股狀況!K347=\"\",\"\",董監事持股狀況!K347)","v":""},null,{"$f":"IF(董監事持股狀況!M347=\"\",\"\",董監事持股狀況!M347)","v":""},{"$f":"IFERROR(VLOOKUP(A353,股價!A:B,2,0),\"\")","v":""},"","",""]
[{"$f":"IF(董監事持股狀況!K348=\"\",\"\",董監事持股狀況!K348)","v":""},null,{"$f":"IF(董監事持股狀況!M348=\"\",\"\",董監事持股狀況!M348)","v":""},{"$f":"IFERROR(VLOOKUP(A354,股價!A:B,2,0),\"\")","v":""},"","",""]
[{"$f":"IF(董監事持股狀況!K349=\"\",\"\",董監事持股狀況!K349)","v":""},null,{"$f":"IF(董監事持股狀況!M349=\"\",\"\",董監事持股狀況!M349)","v":""},{"$f":"IFERROR(VLOOKUP(A355,股價!A:B,2,0),\"\")","v":""},"","",""]
[{"$f":"IF(董監事持股狀況!K350=\"\",\"\",董監事持股狀況!K350)","v":""},null,{"$f":"IF(董監事持股狀況!M350=\"\",\"\",董監事持股狀況!M350)","v":""},{"$f":"IFERROR(VLOOKUP(A356,股價!A:B,2,0),\"\")","v":""},"","",""]
[{"$f":"IF(董監事持股狀況!K351=\"\",\"\",董監事持股狀況!K351)","v":""},null,{"$f":"IF(董監事持股狀況!M351=\"\",\"\",董監事持股狀況!M351)","v":""},{"$f":"IFERROR(VLOOKUP(A357,股價!A:B,2,0),\"\")","v":""},"","",""]
[{"$f":"IF(董監事持股狀況!K352=\"\",\"\",董監事持股狀況!K352)","v":""},null,{"$f":"IF(董監事持股狀況!M352=\"\",\"\",董監事持股狀況!M352)","v":""},{"$f":"IFERROR(VLOOKUP(A358,股價!A:B,2,0),\"\")","v":""},"","",""]
[{"$f":"IF(董監事持股狀況!K353=\"\",\"\",董監事持股狀況!K353)","v":""},null,{"$f":"IF(董監事持股狀況!M353=\"\",\"\",董監事持股狀況!M353)","v":""},{"$f":"IFERROR(VLOOKUP(A359,股價!A:B,2,0),\"\")","v":""},"","",""]
[{"$f":"IF(董監事持股狀況!K354=\"\",\"\",董監事持股狀況!K354)","v":""},null,{"$f":"IF(董監事持股狀況!M354=\"\",\"\",董監事持股狀況!M354)","v":""},{"$f":"IFERROR(VLOOKUP(A360,股價!A:B,2,0),\"\")","v":""},"","",""]
[{"$f":"IF(董監事持股狀況!K355=\"\",\"\",董監事持股狀況!K355)","v":""},null,{"$f":"IF(董監事持股狀況!M355=\"\",\"\",董監事持股狀況!M355)","v":""},{"$f":"IFERROR(VLOOKUP(A361,股價!A:B,2,0),\"\")","v":""},"","",""]
[{"$f":"IF(董監事持股狀況!K356=\"\",\"\",董監事持股狀況!K356)","v":""},null,{"$f":"IF(董監事持股狀況!M356=\"\",\"\",董監事持股狀況!M356)","v":""},{"$f":"IFERROR(VLOOKUP(A362,股價!A:B,2,0),\"\")","v":""},"","",""]
[{"$f":"IF(董監事持股狀況!K357=\"\",\"\",董監事持股狀況!K357)","v":""},null,{"$f":"IF(董監事持股狀況!M357=\"\",\"\",董監事持股狀況!M357)","v":""},{"$f":"IFERROR(VLOOKUP(A363,股價!A:B,2,0),\"\")","v":""},"","",""]
[{"$f":"IF(董監事持股狀況!K358=\"\",\"\",董監事持股狀況!K358)","v":""},null,{"$f":"IF(董監事持股狀況!M358=\"\",\"\",董監事持股狀況!M358)","v":""},{"$f":"IFERROR(VLOOKUP(A364,股價!A:B,2,0),\"\")","v":""},"","",""]
[{"$f":"IF(董監事持股狀況!K359=\"\",\"\",董監事持股狀況!K359)","v":""},null,{"$f":"IF(董監事持股狀況!M359=\"\",\"\",董監事持股狀況!M359)","v":""},{"$f":"IFERROR(VLOOKUP(A365,股價!A:B,2,0),\"\")","v":""},"","",""]
[{"$f":"IF(董監事持股狀況!K360=\"\",\"\",董監事持股狀況!K360)","v":""},null,{"$f":"IF(董監事持股狀況!M360=\"\",\"\",董監事持股狀況!M360)","v":""},{"$f":"IFERROR(VLOOKUP(A366,股價!A:B,2,0),\"\")","v":""},"","",""]
[{"$f":"IF(董監事持股狀況!K361=\"\",\"\",董監事持股狀況!K361)","v":""},null,{"$f":"IF(董監事持股狀況!M361=\"\",\"\",董監事持股狀況!M361)","v":""},{"$f":"IFERROR(VLOOKUP(A367,股價!A:B,2,0),\"\")","v":""},"","",""]
[{"$f":"IF(董監事持股狀況!K362=\"\",\"\",董監事持股狀況!K362)","v":""},null,{"$f":"IF(董監事持股狀況!M362=\"\",\"\",董監事持股狀況!M362)","v":""},{"$f":"IFERROR(VLOOKUP(A368,股價!A:B,2,0),\"\")","v":""},"","",""]
[{"$f":"IF(董監事持股狀況!K363=\"\",\"\",董監事持股狀況!K363)","v":""},null,{"$f":"IF(董監事持股狀況!M363=\"\",\"\",董監事持股狀況!M363)","v":""},{"$f":"IFERROR(VLOOKUP(A369,股價!A:B,2,0),\"\")","v":""},"","",""]
[{"$f":"IF(董監事持股狀況!K364=\"\",\"\",董監事持股狀況!K364)","v":""},null,{"$f":"IF(董監事持股狀況!M364=\"\",\"\",董監事持股狀況!M364)","v":""},{"$f":"IFERROR(VLOOKUP(A370,股價!A:B,2,0),\"\")","v":""},"","",""]
[{"$f":"IF(董監事持股狀況!K365=\"\",\"\",董監事持股狀況!K365)","v":""},null,{"$f":"IF(董監事持股狀況!M365=\"\",\"\",董監事持股狀況!M365)","v":""},{"$f":"IFERROR(VLOOKUP(A371,股價!A:B,2,0),\"\")","v":""},"","",""]
[{"$f":"IF(董監事持股狀況!K366=\"\",\"\",董監事持股狀況!K366)","v":""},null,{"$f":"IF(董監事持股狀況!M366=\"\",\"\",董監事持股狀況!M366)","v":""},{"$f":"IFERROR(VLOOKUP(A372,股價!A:B,2,0),\"\")","v":""},"","",""]
[{"$f":"IF(董監事持股狀況!K367=\"\",\"\",董監事持股狀況!K367)","v":""},null,{"$f":"IF(董監事持股狀況!M367=\"\",\"\",董監事持股狀況!M367)","v":""},{"$f":"IFERROR(VLOOKUP(A373,股價!A:B,2,0),\"\")","v":""},"","",""]
[{"$f":"IF(董監事持股狀況!K368=\"\",\"\",董監事持股狀況!K368)","v":""},null,{"$f":"IF(董監事持股狀況!M368=\"\",\"\",董監事持股狀況!M368)","v":""},{"$f":"IFERROR(VLOOKUP(A374,股價!A:B,2,0),\"\")","v":""},"","",""]
[{"$f":"IF(董監事持股狀況!K369=\"\",\"\",董監事持股狀況!K369)","v":""},null,{"$f":"IF(董監事持股狀況!M369=\"\",\"\",董監事持股狀況!M369)","v":""},{"$f":"IFERROR(VLOOKUP(A375,股價!A:B,2,0),\"\")","v":""},"","",""]
[{"$f":"IF(董監事持股狀況!K370=\"\",\"\",董監事持股狀況!K370)","v":""},null,{"$f":"IF(董監事持股狀況!M370=\"\",\"\",董監事持股狀況!M370)","v":""},{"$f":"IFERROR(VLOOKUP(A376,股價!A:B,2,0),\"\")","v":""},"","",""]
[{"$f":"IF(董監事持股狀況!K371=\"\",\"\",董監事持股狀況!K371)","v":""},null,{"$f":"IF(董監事持股狀況!M371=\"\",\"\",董監事持股狀況!M371)","v":""},{"$f":"IFERROR(VLOOKUP(A377,股價!A:B,2,0),\"\")","v":""},"","",""]
[{"$f":"IF(董監事持股狀況!K372=\"\",\"\",董監事持股狀況!K372)","v":""},null,{"$f":"IF(董監事持股狀況!M372=\"\",\"\",董監事持股狀況!M372)","v":""},{"$f":"IFERROR(VLOOKUP(A378,股價!A:B,2,0),\"\")","v":""},"","",""]
[{"$f":"IF(董監事持股狀況!K373=\"\",\"\",董監事持股狀況!K373)","v":""},null,{"$f":"IF(董監事持股狀況!M373=\"\",\"\",董監事持股狀況!M373)","v":""},{"$f":"IFERROR(VLOOKUP(A379,股價!A:B,2,0),\"\")","v":""},"","",""]
[{"$f":"IF(董監事持股狀況!K374=\"\",\"\",董監事持股狀況!K374)","v":""},null,{"$f":"IF(董監事持股狀況!M374=\"\",\"\",董監事持股狀況!M374)","v":""},{"$f":"IFERROR(VLOOKUP(A380,股價!A:B,2,0),\"\")","v":""},"","",""]
[{"$f":"IF(董監事持股狀況!K375=\"\",\"\",董監事持股狀況!K375)","v":""},null,{"$f":"IF(董監事持股狀況!M375=\"\",\"\",董監事持股狀況!M375)","v":""},{"$f":"IFERROR(VLOOKUP(A381,股價!A:B,2,0),\"\")","v":""},"","",""]
[{"$f":"IF(董監事持股狀況!K376=\"\",\"\",董監事持股狀況!K376)","v":""},null,{"$f":"IF(董監事持股狀況!M376=\"\",\"\",董監事持股狀況!M376)","v":""},{"$f":"IFERROR(VLOOKUP(A382,股價!A:B,2,0),\"\")","v":""},"","",""]
[{"$f":"IF(董監事持股狀況!K377=\"\",\"\",董監事持股狀況!K377)","v":""},null,{"$f":"IF(董監事持股狀況!M377=\"\",\"\",董監事持股狀況!M377)","v":""},{"$f":"IFERROR(VLOOKUP(A383,股價!A:B,2,0),\"\")","v":""},"","",""]
[{"$f":"IF(董監事持股狀況!K378=\"\",\"\",董監事持股狀況!K378)","v":""},null,{"$f":"IF(董監事持股狀況!M378=\"\",\"\",董監事持股狀況!M378)","v":""},{"$f":"IFERROR(VLOOKUP(A384,股價!A:B,2,0),\"\")","v":""},"","",""]
[{"$f":"IF(董監事持股狀況!K379=\"\",\"\",董監事持股狀況!K379)","v":""},null,{"$f":"IF(董監事持股狀況!M379=\"\",\"\",董監事持股狀況!M379)","v":""},{"$f":"IFERROR(VLOOKUP(A385,股價!A:B,2,0),\"\")","v":""},"","",""]
[{"$f":"IF(董監事持股狀況!K380=\"\",\"\",董監事持股狀況!K380)","v":""},null,{"$f":"IF(董監事持股狀況!M380=\"\",\"\",董監事持股狀況!M380)","v":""},{"$f":"IFERROR(VLOOKUP(A386,股價!A:B,2,0),\"\")","v":""},"","",""]
[{"$f":"IF(董監事持股狀況!K381=\"\",\"\",董監事持股狀況!K381)","v":""},null,{"$f":"IF(董監事持股狀況!M381=\"\",\"\",董監事持股狀況!M381)","v":""},{"$f":"IFERROR(VLOOKUP(A387,股價!A:B,2,0),\"\")","v":""},"","",""]
[{"$f":"IF(董監事持股狀況!K382=\"\",\"\",董監事持股狀況!K382)","v":""},null,{"$f":"IF(董監事持股狀況!M382=\"\",\"\",董監事持股狀況!M382)","v":""},{"$f":"IFERROR(VLOOKUP(A388,股價!A:B,2,0),\"\")","v":""},"","",""]
[{"$f":"IF(董監事持股狀況!K383=\"\",\"\",董監事持股狀況!K383)","v":""},null,{"$f":"IF(董監事持股狀況!M383=\"\",\"\",董監事持股狀況!M383)","v":""},{"$f":"IFERROR(VLOOKUP(A389,股價!A:B,2,0),\"\")","v":""},"","",""]
[{"$f":"IF(董監事持股狀況!K384=\"\",\"\",董監事持股狀況!K384)","v":""},null,{"$f":"IF(董監事持股狀況!M384=\"\",\"\",董監事持股狀況!M384)","v":""},{"$f":"IFERROR(VLOOKUP(A390,股價!A:B,2,0),\"\")","v":""},"","",""]
[{"$f":"IF(董監事持股狀況!K385=\"\",\"\",董監事持股狀況!K385)","v":""},null,{"$f":"IF(董監事持股狀況!M385=\"\",\"\",董監事持股狀況!M385)","v":""},{"$f":"IFERROR(VLOOKUP(A391,股價!A:B,2,0),\"\")","v":""},"","",""]
[{"$f":"IF(董監事持股狀況!K386=\"\",\"\",董監事持股狀況!K386)","v":""},null,{"$f":"IF(董監事持股狀況!M386=\"\",\"\",董監事持股狀況!M386)","v":""},{"$f":"IFERROR(VLOOKUP(A392,股價!A:B,2,0),\"\")","v":""},"",{"$f":"IFERROR(E392/$E$5*100,\"\")","v":""},{"$f":"IF(F392=\"\",\"\",RANK(F392,$F$8:$F$999))","v":""}]
[{"$f":"IF(董監事持股狀況!K387=\"\",\"\",董監事持股狀況!K387)","v":""},null,{"$f":"IF(董監事持股狀況!M387=\"\",\"\",董監事持股狀況!M387)","v":""},{"$f":"IFERROR(VLOOKUP(A393,股價!A:B,2,0),\"\")","v":""},{"$f":"IFERROR(C393*D393,\"\")","v":""},"",""]
[{"$f":"IF(董監事持股狀況!K388=\"\",\"\",董監事持股狀況!K388)","v":""},null,{"$f":"IF(董監事持股狀況!M388=\"\",\"\",董監事持股狀況!M388)","v":""},{"$f":"IFERROR(VLOOKUP(A394,股價!A:B,2,0),\"\")","v":""},"","",""]
[{"$f":"IF(董監事持股狀況!K389=\"\",\"\",董監事持股狀況!K389)","v":""},null,{"$f":"IF(董監事持股狀況!M389=\"\",\"\",董監事持股狀況!M389)","v":""},{"$f":"IFERROR(VLOOKUP(A395,股價!A:B,2,0),\"\")","v":""},"","",""]
[{"$f":"IF(董監事持股狀況!K390=\"\",\"\",董監事持股狀況!K390)","v":""},null,{"$f":"IF(董監事持股狀況!M390=\"\",\"\",董監事持股狀況!M390)","v":""},{"$f":"IFERROR(VLOOKUP(A396,股價!A:B,2,0),\"\")","v":""},"","",""]
[{"$f":"IF(董監事持股狀況!K391=\"\",\"\",董監事持股狀況!K391)","v":""},null,{"$f":"IF(董監事持股狀況!M391=\"\",\"\",董監事持股狀況!M391)","v":""},{"$f":"IFERROR(VLOOKUP(A397,股價!A:B,2,0),\"\")","v":""},"","",""]
[{"$f":"IF(董監事持股狀況!K392=\"\",\"\",董監事持股狀況!K392)","v":""},null,{"$f":"IF(董監事持股狀況!M392=\"\",\"\",董監事持股狀況!M392)","v":""},{"$f":"IFERROR(VLOOKUP(A398,股價!A:B,2,0),\"\")","v":""},"","",""]
[{"$f":"IF(董監事持股狀況!K393=\"\",\"\",董監事持股狀況!K393)","v":""},null,{"$f":"IF(董監事持股狀況!M393=\"\",\"\",董監事持股狀況!M393)","v":""},{"$f":"IFERROR(VLOOKUP(A399,股價!A:B,2,0),\"\")","v":""},"","",""]
[{"$f":"IF(董監事持股狀況!K394=\"\",\"\",董監事持股狀況!K394)","v":""},null,{"$f":"IF(董監事持股狀況!M394=\"\",\"\",董監事持股狀況!M394)","v":""},{"$f":"IFERROR(VLOOKUP(A400,股價!A:B,2,0),\"\")","v":""},"","",""]
[{"$f":"IF(董監事持股狀況!K395=\"\",\"\",董監事持股狀況!K395)","v":""},null,{"$f":"IF(董監事持股狀況!M395=\"\",\"\",董監事持股狀況!M395)","v":""},{"$f":"IFERROR(VLOOKUP(A401,股價!A:B,2,0),\"\")","v":""},"","",""]
[{"$f":"IF(董監事持股狀況!K396=\"\",\"\",董監事持股狀況!K396)","v":""},null,{"$f":"IF(董監事持股狀況!M396=\"\",\"\",董監事持股狀況!M396)","v":""},{"$f":"IFERROR(VLOOKUP(A402,股價!A:B,2,0),\"\")","v":""},"","",""]
[{"$f":"IF(董監事持股狀況!K397=\"\",\"\",董監事持股狀況!K397)","v":""},null,{"$f":"IF(董監事持股狀況!M397=\"\",\"\",董監事持股狀況!M397)","v":""},{"$f":"IFERROR(VLOOKUP(A403,股價!A:B,2,0),\"\")","v":""},"","",""]
[{"$f":"IF(董監事持股狀況!K398=\"\",\"\",董監事持股狀況!K398)","v":""},null,{"$f":"IF(董監事持股狀況!M398=\"\",\"\",董監事持股狀況!M398)","v":""},{"$f":"IFERROR(VLOOKUP(A404,股價!A:B,2,0),\"\")","v":""},"","",""]
[{"$f":"IF(董監事持股狀況!K399=\"\",\"\",董監事持股狀況!K399)","v":""},null,{"$f":"IF(董監事持股狀況!M399=\"\",\"\",董監事持股狀況!M399)","v":""},{"$f":"IFERROR(VLOOKUP(A405,股價!A:B,2,0),\"\")","v":""},"","",""]
[{"$f":"IF(董監事持股狀況!K400=\"\",\"\",董監事持股狀況!K400)","v":""},null,{"$f":"IF(董監事持股狀況!M400=\"\",\"\",董監事持股狀況!M400)","v":""},{"$f":"IFERROR(VLOOKUP(A406,股價!A:B,2,0),\"\")","v":""},"","",""]
[{"$f":"IF(董監事持股狀況!K401=\"\",\"\",董監事持股狀況!K401)","v":""},null,{"$f":"IF(董監事持股狀況!M401=\"\",\"\",董監事持股狀況!M401)","v":""},{"$f":"IFERROR(VLOOKUP(A407,股價!A:B,2,0),\"\")","v":""},"","",""]
[{"$f":"IF(董監事持股狀況!K402=\"\",\"\",董監事持股狀況!K402)","v":""},null,{"$f":"IF(董監事持股狀況!M402=\"\",\"\",董監事持股狀況!M402)","v":""},{"$f":"IFERROR(VLOOKUP(A408,股價!A:B,2,0),\"\")","v":""},"","",""]
[{"$f":"IF(董監事持股狀況!K403=\"\",\"\",董監事持股狀況!K403)","v":""},null,{"$f":"IF(董監事持股狀況!M403=\"\",\"\",董監事持股狀況!M403)","v":""},{"$f":"IFERROR(VLOOKUP(A409,股價!A:B,2,0),\"\")","v":""},"","",""]
[{"$f":"IF(董監事持股狀況!K404=\"\",\"\",董監事持股狀況!K404)","v":""},null,{"$f":"IF(董監事持股狀況!M404=\"\",\"\",董監事持股狀況!M404)","v":""},{"$f":"IFERROR(VLOOKUP(A410,股價!A:B,2,0),\"\")","v":""},"","",""]
[{"$f":"IF(董監事持股狀況!K405=\"\",\"\",董監事持股狀況!K405)","v":""},null,{"$f":"IF(董監事持股狀況!M405=\"\",\"\",董監事持股狀況!M405)","v":""},{"$f":"IFERROR(VLOOKUP(A411,股價!A:B,2,0),\"\")","v":""},"","",""]
[{"$f":"IF(董監事持股狀況!K406=\"\",\"\",董監事持股狀況!K406)","v":""},null,{"$f":"IF(董監事持股狀況!M406=\"\",\"\",董監事持股狀況!M406)","v":""},{"$f":"IFERROR(VLOOKUP(A412,股價!A:B,2,0),\"\")","v":""},"","",""]
[{"$f":"IF(董監事持股狀況!K407=\"\",\"\",董監事持股狀況!K407)","v":""},null,{"$f":"IF(董監事持股狀況!M407=\"\",\"\",董監事持股狀況!M407)","v":""},{"$f":"IFERROR(VLOOKUP(A413,股價!A:B,2,0),\"\")","v":""},"","",""]
[{"$f":"IF(董監事持股狀況!K408=\"\",\"\",董監事持股狀況!K408)","v":""},null,{"$f":"IF(董監事持股狀況!M408=\"\",\"\",董監事持股狀況!M408)","v":""},{"$f":"IFERROR(VLOOKUP(A414,股價!A:B,2,0),\"\")","v":""},"","",""]
[{"$f":"IF(董監事持股狀況!K409=\"\",\"\",董監事持股狀況!K409)","v":""},null,{"$f":"IF(董監事持股狀況!M409=\"\",\"\",董監事持股狀況!M409)","v":""},{"$f":"IFERROR(VLOOKUP(A415,股價!A:B,2,0),\"\")","v":""},"","",""]
[{"$f":"IF(董監事持股狀況!K410=\"\",\"\",董監事持股狀況!K410)","v":""},null,{"$f":"IF(董監事持股狀況!M410=\"\",\"\",董監事持股狀況!M410)","v":""},{"$f":"IFERROR(VLOOKUP(A416,股價!A:B,2,0),\"\")","v":""},"","",""]
[{"$f":"IF(董監事持股狀況!K411=\"\",\"\",董監事持股狀況!K411)","v":""},null,{"$f":"IF(董監事持股狀況!M411=\"\",\"\",董監事持股狀況!M411)","v":""},{"$f":"IFERROR(VLOOKUP(A417,股價!A:B,2,0),\"\")","v":""},"","",""]
[{"$f":"IF(董監事持股狀況!K412=\"\",\"\",董監事持股狀況!K412)","v":""},null,{"$f":"IF(董監事持股狀況!M412=\"\",\"\",董監事持股狀況!M412)","v":""},{"$f":"IFERROR(VLOOKUP(A418,股價!A:B,2,0),\"\")","v":""},"","",""]
[{"$f":"IF(董監事持股狀況!K413=\"\",\"\",董監事持股狀況!K413)","v":""},null,{"$f":"IF(董監事持股狀況!M413=\"\",\"\",董監事持股狀況!M413)","v":""},{"$f":"IFERROR(VLOOKUP(A419,股價!A:B,2,0),\"\")","v":""},"","",""]
[{"$f":"IF(董監事持股狀況!K414=\"\",\"\",董監事持股狀況!K414)","v":""},null,{"$f":"IF(董監事持股狀況!M414=\"\",\"\",董監事持股狀況!M414)","v":""},{"$f":"IFERROR(VLOOKUP(A420,股價!A:B,2,0),\"\")","v":""},"","",""]
[{"$f":"IF(董監事持股狀況!K415=\"\",\"\",董監事持股狀況!K415)","v":""},null,{"$f":"IF(董監事持股狀況!M415=\"\",\"\",董監事持股狀況!M415)","v":""},{"$f":"IFERROR(VLOOKUP(A421,股價!A:B,2,0),\"\")","v":""},"","",""]
[{"$f":"IF(董監事持股狀況!K416=\"\",\"\",董監事持股狀況!K416)","v":""},null,{"$f":"IF(董監事持股狀況!M416=\"\",\"\",董監事持股狀況!M416)","v":""},{"$f":"IFERROR(VLOOKUP(A422,股價!A:B,2,0),\"\")","v":""},"","",""]
[{"$f":"IF(董監事持股狀況!K417=\"\",\"\",董監事持股狀況!K417)","v":""},null,{"$f":"IF(董監事持股狀況!M417=\"\",\"\",董監事持股狀況!M417)","v":""},{"$f":"IFERROR(VLOOKUP(A423,股價!A:B,2,0),\"\")","v":""},"","",""]
[{"$f":"IF(董監事持股狀況!K418=\"\",\"\",董監事持股狀況!K418)","v":""},null,{"$f":"IF(董監事持股狀況!M418=\"\",\"\",董監事持股狀況!M418)","v":""},{"$f":"IFERROR(VLOOKUP(A424,股價!A:B,2,0),\"\")","v":""},"","",""]
[{"$f":"IF(董監事持股狀況!K419=\"\",\"\",董監事持股狀況!K419)","v":""},null,{"$f":"IF(董監事持股狀況!M419=\"\",\"\",董監事持股狀況!M419)","v":""},{"$f":"IFERROR(VLOOKUP(A425,股價!A:B,2,0),\"\")","v":""},"","",""]
[{"$f":"IF(董監事持股狀況!K420=\"\",\"\",董監事持股狀況!K420)","v":""},null,{"$f":"IF(董監事持股狀況!M420=\"\",\"\",董監事持股狀況!M420)","v":""},{"$f":"IFERROR(VLOOKUP(A426,股價!A:B,2,0),\"\")","v":""},"","",""]
[{"$f":"IF(董監事持股狀況!K421=\"\",\"\",董監事持股狀況!K421)","v":""},null,{"$f":"IF(董監事持股狀況!M421=\"\",\"\",董監事持股狀況!M421)","v":""},{"$f":"IFERROR(VLOOKUP(A427,股價!A:B,2,0),\"\")","v":""},"","",""]
[{"$f":"IF(董監事持股狀況!K422=\"\",\"\",董監事持股狀況!K422)","v":""},null,{"$f":"IF(董監事持股狀況!M422=\"\",\"\",董監事持股狀況!M422)","v":""},{"$f":"IFERROR(VLOOKUP(A428,股價!A:B,2,0),\"\")","v":""},"","",""]
[{"$f":"IF(董監事持股狀況!K423=\"\",\"\",董監事持股狀況!K423)","v":""},null,{"$f":"IF(董監事持股狀況!M423=\"\",\"\",董監事持股狀況!M423)","v":""},{"$f":"IFERROR(VLOOKUP(A429,股價!A:B,2,0),\"\")","v":""},"","",""]
[{"$f":"IF(董監事持股狀況!K424=\"\",\"\",董監事持股狀況!K424)","v":""},null,{"$f":"IF(董監事持股狀況!M424=\"\",\"\",董監事持股狀況!M424)","v":""},{"$f":"IFERROR(VLOOKUP(A430,股價!A:B,2,0),\"\")","v":""},"","",""]
[{"$f":"IF(董監事持股狀況!K425=\"\",\"\",董監事持股狀況!K425)","v":""},null,{"$f":"IF(董監事持股狀況!M425=\"\",\"\",董監事持股狀況!M425)","v":""},{"$f":"IFERROR(VLOOKUP(A431,股價!A:B,2,0),\"\")","v":""},"","",""]
[{"$f":"IF(董監事持股狀況!K426=\"\",\"\",董監事持股狀況!K426)","v":""},null,{"$f":"IF(董監事持股狀況!M426=\"\",\"\",董監事持股狀況!M426)","v":""},{"$f":"IFERROR(VLOOKUP(A432,股價!A:B,2,0),\"\")","v":""},"","",""]
[{"$f":"IF(董監事持股狀況!K427=\"\",\"\",董監事持股狀況!K427)","v":""},null,{"$f":"IF(董監事持股狀況!M427=\"\",\"\",董監事持股狀況!M427)","v":""},{"$f":"IFERROR(VLOOKUP(A433,股價!A:B,2,0),\"\")","v":""},"","",""]
[{"$f":"IF(董監事持股狀況!K428=\"\",\"\",董監事持股狀況!K428)","v":""},null,{"$f":"IF(董監事持股狀況!M428=\"\",\"\",董監事持股狀況!M428)","v":""},{"$f":"IFERROR(VLOOKUP(A434,股價!A:B,2,0),\"\")","v":""},"","",""]
[{"$f":"IF(董監事持股狀況!K429=\"\",\"\",董監事持股狀況!K429)","v":""},null,{"$f":"IF(董監事持股狀況!M429=\"\",\"\",董監事持股狀況!M429)","v":""},{"$f":"IFERROR(VLOOKUP(A435,股價!A:B,2,0),\"\")","v":""},"","",""]
[{"$f":"IF(董監事持股狀況!K430=\"\",\"\",董監事持股狀況!K430)","v":""},null,{"$f":"IF(董監事持股狀況!M430=\"\",\"\",董監事持股狀況!M430)","v":""},{"$f":"IFERROR(VLOOKUP(A436,股價!A:B,2,0),\"\")","v":""},"","",""]
[{"$f":"IF(董監事持股狀況!K431=\"\",\"\",董監事持股狀況!K431)","v":""},null,{"$f":"IF(董監事持股狀況!M431=\"\",\"\",董監事持股狀況!M431)","v":""},{"$f":"IFERROR(VLOOKUP(A437,股價!A:B,2,0),\"\")","v":""},"","",""]
[{"$f":"IF(董監事持股狀況!K432=\"\",\"\",董監事持股狀況!K432)","v":""},null,{"$f":"IF(董監事持股狀況!M432=\"\",\"\",董監事持股狀況!M432)","v":""},{"$f":"IFERROR(VLOOKUP(A438,股價!A:B,2,0),\"\")","v":""},"","",""]
[{"$f":"IF(董監事持股狀況!K433=\"\",\"\",董監事持股狀況!K433)","v":""},null,{"$f":"IF(董監事持股狀況!M433=\"\",\"\",董監事持股狀況!M433)","v":""},{"$f":"IFERROR(VLOOKUP(A439,股價!A:B,2,0),\"\")","v":""},"","",""]
[{"$f":"IF(董監事持股狀況!K434=\"\",\"\",董監事持股狀況!K434)","v":""},null,{"$f":"IF(董監事持股狀況!M434=\"\",\"\",董監事持股狀況!M434)","v":""},{"$f":"IFERROR(VLOOKUP(A440,股價!A:B,2,0),\"\")","v":""},"","",""]
[{"$f":"IF(董監事持股狀況!K435=\"\",\"\",董監事持股狀況!K435)","v":""},null,{"$f":"IF(董監事持股狀況!M435=\"\",\"\",董監事持股狀況!M435)","v":""},{"$f":"IFERROR(VLOOKUP(A441,股價!A:B,2,0),\"\")","v":""},"","",""]
[{"$f":"IF(董監事持股狀況!K436=\"\",\"\",董監事持股狀況!K436)","v":""},null,{"$f":"IF(董監事持股狀況!M436=\"\",\"\",董監事持股狀況!M436)","v":""},{"$f":"IFERROR(VLOOKUP(A442,股價!A:B,2,0),\"\")","v":""},"","",""]
[{"$f":"IF(董監事持股狀況!K437=\"\",\"\",董監事持股狀況!K437)","v":""},null,{"$f":"IF(董監事持股狀況!M437=\"\",\"\",董監事持股狀況!M437)","v":""},{"$f":"IFERROR(VLOOKUP(A443,股價!A:B,2,0),\"\")","v":""},"","",""]
[{"$f":"IF(董監事持股狀況!K438=\"\",\"\",董監事持股狀況!K438)","v":""},null,{"$f":"IF(董監事持股狀況!M438=\"\",\"\",董監事持股狀況!M438)","v":""},{"$f":"IFERROR(VLOOKUP(A444,股價!A:B,2,0),\"\")","v":""},"","",""]
[{"$f":"IF(董監事持股狀況!K439=\"\",\"\",董監事持股狀況!K439)","v":""},null,{"$f":"IF(董監事持股狀況!M439=\"\",\"\",董監事持股狀況!M439)","v":""},{"$f":"IFERROR(VLOOKUP(A445,股價!A:B,2,0),\"\")","v":""},"","",""]
[{"$f":"IF(董監事持股狀況!K440=\"\",\"\",董監事持股狀況!K440)","v":""},null,{"$f":"IF(董監事持股狀況!M440=\"\",\"\",董監事持股狀況!M440)","v":""},{"$f":"IFERROR(VLOOKUP(A446,股價!A:B,2,0),\"\")","v":""},"","",""]
[{"$f":"IF(董監事持股狀況!K441=\"\",\"\",董監事持股狀況!K441)","v":""},null,{"$f":"IF(董監事持股狀況!M441=\"\",\"\",董監事持股狀況!M441)","v":""},{"$f":"IFERROR(VLOOKUP(A447,股價!A:B,2,0),\"\")","v":""},"","",""]
[{"$f":"IF(董監事持股狀況!K442=\"\",\"\",董監事持股狀況!K442)","v":""},null,{"$f":"IF(董監事持股狀況!M442=\"\",\"\",董監事持股狀況!M442)","v":""},{"$f":"IFERROR(VLOOKUP(A448,股價!A:B,2,0),\"\")","v":""},"","",""]
[{"$f":"IF(董監事持股狀況!K443=\"\",\"\",董監事持股狀況!K443)","v":""},null,{"$f":"IF(董監事持股狀況!M443=\"\",\"\",董監事持股狀況!M443)","v":""},{"$f":"IFERROR(VLOOKUP(A449,股價!A:B,2,0),\"\")","v":""},"","",""]
[{"$f":"IF(董監事持股狀況!K444=\"\",\"\",董監事持股狀況!K444)","v":""},null,{"$f":"IF(董監事持股狀況!M444=\"\",\"\",董監事持股狀況!M444)","v":""},{"$f":"IFERROR(VLOOKUP(A450,股價!A:B,2,0),\"\")","v":""},"","",""]
[{"$f":"IF(董監事持股狀況!K445=\"\",\"\",董監事持股狀況!K445)","v":""},null,{"$f":"IF(董監事持股狀況!M445=\"\",\"\",董監事持股狀況!M445)","v":""},{"$f":"IFERROR(VLOOKUP(A451,股價!A:B,2,0),\"\")","v":""},"","",""]
[{"$f":"IF(董監事持股狀況!K446=\"\",\"\",董監事持股狀況!K446)","v":""},null,{"$f":"IF(董監事持股狀況!M446=\"\",\"\",董監事持股狀況!M446)","v":""},{"$f":"IFERROR(VLOOKUP(A452,股價!A:B,2,0),\"\")","v":""},"","",""]
[{"$f":"IF(董監事持股狀況!K447=\"\",\"\",董監事持股狀況!K447)","v":""},null,{"$f":"IF(董監事持股狀況!M447=\"\",\"\",董監事持股狀況!M447)","v":""},{"$f":"IFERROR(VLOOKUP(A453,股價!A:B,2,0),\"\")","v":""},"","",""]
[{"$f":"IF(董監事持股狀況!K448=\"\",\"\",董監事持股狀況!K448)","v":""},null,{"$f":"IF(董監事持股狀況!M448=\"\",\"\",董監事持股狀況!M448)","v":""},{"$f":"IFERROR(VLOOKUP(A454,股價!A:B,2,0),\"\")","v":""},"","",""]
[{"$f":"IF(董監事持股狀況!K449=\"\",\"\",董監事持股狀況!K449)","v":""},null,{"$f":"IF(董監事持股狀況!M449=\"\",\"\",董監事持股狀況!M449)","v":""},{"$f":"IFERROR(VLOOKUP(A455,股價!A:B,2,0),\"\")","v":""},"","",""]
[{"$f":"IF(董監事持股狀況!K450=\"\",\"\",董監事持股狀況!K450)","v":""},null,{"$f":"IF(董監事持股狀況!M450=\"\",\"\",董監事持股狀況!M450)","v":""},{"$f":"IFERROR(VLOOKUP(A456,股價!A:B,2,0),\"\")","v":""},"",{"$f":"IFERROR(E456/$E$5*100,\"\")","v":""},{"$f":"IF(F456=\"\",\"\",RANK(F456,$F$8:$F$999))","v":""}]
[{"$f":"IF(董監事持股狀況!K451=\"\",\"\",董監事持股狀況!K451)","v":""},null,{"$f":"IF(董監事持股狀況!M451=\"\",\"\",董監事持股狀況!M451)","v":""},{"$f":"IFERROR(VLOOKUP(A457,股價!A:B,2,0),\"\")","v":""},{"$f":"IFERROR(C457*D457,\"\")","v":""},"",""]
[{"$f":"IF(董監事持股狀況!K452=\"\",\"\",董監事持股狀況!K452)","v":""},null,{"$f":"IF(董監事持股狀況!M452=\"\",\"\",董監事持股狀況!M452)","v":""},{"$f":"IFERROR(VLOOKUP(A458,股價!A:B,2,0),\"\")","v":""},"","",""]
[{"$f":"IF(董監事持股狀況!K453=\"\",\"\",董監事持股狀況!K453)","v":""},null,{"$f":"IF(董監事持股狀況!M453=\"\",\"\",董監事持股狀況!M453)","v":""},{"$f":"IFERROR(VLOOKUP(A459,股價!A:B,2,0),\"\")","v":""},"","",""]
[{"$f":"IF(董監事持股狀況!K454=\"\",\"\",董監事持股狀況!K454)","v":""},null,{"$f":"IF(董監事持股狀況!M454=\"\",\"\",董監事持股狀況!M454)","v":""},{"$f":"IFERROR(VLOOKUP(A460,股價!A:B,2,0),\"\")","v":""},"","",""]
[{"$f":"IF(董監事持股狀況!K455=\"\",\"\",董監事持股狀況!K455)","v":""},null,{"$f":"IF(董監事持股狀況!M455=\"\",\"\",董監事持股狀況!M455)","v":""},{"$f":"IFERROR(VLOOKUP(A461,股價!A:B,2,0),\"\")","v":""},"","",""]
[{"$f":"IF(董監事持股狀況!K456=\"\",\"\",董監事持股狀況!K456)","v":""},null,{"$f":"IF(董監事持股狀況!M456=\"\",\"\",董監事持股狀況!M456)","v":""},{"$f":"IFERROR(VLOOKUP(A462,股價!A:B,2,0),\"\")","v":""},"","",""]
[{"$f":"IF(董監事持股狀況!K457=\"\",\"\",董監事持股狀況!K457)","v":""},null,{"$f":"IF(董監事持股狀況!M457=\"\",\"\",董監事持股狀況!M457)","v":""},{"$f":"IFERROR(VLOOKUP(A463,股價!A:B,2,0),\"\")","v":""},"","",""]
[{"$f":"IF(董監事持股狀況!K458=\"\",\"\",董監事持股狀況!K458)","v":""},null,{"$f":"IF(董監事持股狀況!M458=\"\",\"\",董監事持股狀況!M458)","v":""},{"$f":"IFERROR(VLOOKUP(A464,股價!A:B,2,0),\"\")","v":""},"","",""]
[{"$f":"IF(董監事持股狀況!K459=\"\",\"\",董監事持股狀況!K459)","v":""},null,{"$f":"IF(董監事持股狀況!M459=\"\",\"\",董監事持股狀況!M459)","v":""},{"$f":"IFERROR(VLOOKUP(A465,股價!A:B,2,0),\"\")","v":""},"","",""]
[{"$f":"IF(董監事持股狀況!K460=\"\",\"\",董監事持股狀況!K460)","v":""},null,{"$f":"IF(董監事持股狀況!M460=\"\",\"\",董監事持股狀況!M460)","v":""},{"$f":"IFERROR(VLOOKUP(A466,股價!A:B,2,0),\"\")","v":""},"","",""]
[{"$f":"IF(董監事持股狀況!K461=\"\",\"\",董監事持股狀況!K461)","v":""},null,{"$f":"IF(董監事持股狀況!M461=\"\",\"\",董監事持股狀況!M461)","v":""},{"$f":"IFERROR(VLOOKUP(A467,股價!A:B,2,0),\"\")","v":""},"","",""]
[{"$f":"IF(董監事持股狀況!K462=\"\",\"\",董監事持股狀況!K462)","v":""},null,{"$f":"IF(董監事持股狀況!M462=\"\",\"\",董監事持股狀況!M462)","v":""},{"$f":"IFERROR(VLOOKUP(A468,股價!A:B,2,0),\"\")","v":""},"","",""]
[{"$f":"IF(董監事持股狀況!K463=\"\",\"\",董監事持股狀況!K463)","v":""},null,{"$f":"IF(董監事持股狀況!M463=\"\",\"\",董監事持股狀況!M463)","v":""},{"$f":"IFERROR(VLOOKUP(A469,股價!A:B,2,0),\"\")","v":""},"","",""]
[{"$f":"IF(董監事持股狀況!K464=\"\",\"\",董監事持股狀況!K464)","v":""},null,{"$f":"IF(董監事持股狀況!M464=\"\",\"\",董監事持股狀況!M464)","v":""},{"$f":"IFERROR(VLOOKUP(A470,股價!A:B,2,0),\"\")","v":""},"","",""]
[{"$f":"IF(董監事持股狀況!K465=\"\",\"\",董監事持股狀況!K465)","v":""},null,{"$f":"IF(董監事持股狀況!M465=\"\",\"\",董監事持股狀況!M465)","v":""},{"$f":"IFERROR(VLOOKUP(A471,股價!A:B,2,0),\"\")","v":""},"","",""]
[{"$f":"IF(董監事持股狀況!K466=\"\",\"\",董監事持股狀況!K466)","v":""},null,{"$f":"IF(董監事持股狀況!M466=\"\",\"\",董監事持股狀況!M466)","v":""},{"$f":"IFERROR(VLOOKUP(A472,股價!A:B,2,0),\"\")","v":""},"","",""]
[{"$f":"IF(董監事持股狀況!K467=\"\",\"\",董監事持股狀況!K467)","v":""},null,{"$f":"IF(董監事持股狀況!M467=\"\",\"\",董監事持股狀況!M467)","v":""},{"$f":"IFERROR(VLOOKUP(A473,股價!A:B,2,0),\"\")","v":""},"","",""]
[{"$f":"IF(董監事持股狀況!K468=\"\",\"\",董監事持股狀況!K468)","v":""},null,{"$f":"IF(董監事持股狀況!M468=\"\",\"\",董監事持股狀況!M468)","v":""},{"$f":"IFERROR(VLOOKUP(A474,股價!A:B,2,0),\"\")","v":""},"","",""]
[{"$f":"IF(董監事持股狀況!K469=\"\",\"\",董監事持股狀況!K469)","v":""},null,{"$f":"IF(董監事持股狀況!M469=\"\",\"\",董監事持股狀況!M469)","v":""},{"$f":"IFERROR(VLOOKUP(A475,股價!A:B,2,0),\"\")","v":""},"","",""]
[{"$f":"IF(董監事持股狀況!K470=\"\",\"\",董監事持股狀況!K470)","v":""},null,{"$f":"IF(董監事持股狀況!M470=\"\",\"\",董監事持股狀況!M470)","v":""},{"$f":"IFERROR(VLOOKUP(A476,股價!A:B,2,0),\"\")","v":""},"","",""]
[{"$f":"IF(董監事持股狀況!K471=\"\",\"\",董監事持股狀況!K471)","v":""},null,{"$f":"IF(董監事持股狀況!M471=\"\",\"\",董監事持股狀況!M471)","v":""},{"$f":"IFERROR(VLOOKUP(A477,股價!A:B,2,0),\"\")","v":""},"","",""]
[{"$f":"IF(董監事持股狀況!K472=\"\",\"\",董監事持股狀況!K472)","v":""},null,{"$f":"IF(董監事持股狀況!M472=\"\",\"\",董監事持股狀況!M472)","v":""},{"$f":"IFERROR(VLOOKUP(A478,股價!A:B,2,0),\"\")","v":""},"","",""]
[{"$f":"IF(董監事持股狀況!K473=\"\",\"\",董監事持股狀況!K473)","v":""},null,{"$f":"IF(董監事持股狀況!M473=\"\",\"\",董監事持股狀況!M473)","v":""},{"$f":"IFERROR(VLOOKUP(A479,股價!A:B,2,0),\"\")","v":""},"","",""]
[{"$f":"IF(董監事持股狀況!K474=\"\",\"\",董監事持股狀況!K474)","v":""},null,{"$f":"IF(董監事持股狀況!M474=\"\",\"\",董監事持股狀況!M474)","v":""},{"$f":"IFERROR(VLOOKUP(A480,股價!A:B,2,0),\"\")","v":""},"","",""]
[{"$f":"IF(董監事持股狀況!K475=\"\",\"\",董監事持股狀況!K475)","v":""},null,{"$f":"IF(董監事持股狀況!M475=\"\",\"\",董監事持股狀況!M475)","v":""},{"$f":"IFERROR(VLOOKUP(A481,股價!A:B,2,0),\"\")","v":""},"","",""]
[{"$f":"IF(董監事持股狀況!K476=\"\",\"\",董監事持股狀況!K476)","v":""},null,{"$f":"IF(董監事持股狀況!M476=\"\",\"\",董監事持股狀況!M476)","v":""},{"$f":"IFERROR(VLOOKUP(A482,股價!A:B,2,0),\"\")","v":""},"","",""]
[{"$f":"IF(董監事持股狀況!K477=\"\",\"\",董監事持股狀況!K477)","v":""},null,{"$f":"IF(董監事持股狀況!M477=\"\",\"\",董監事持股狀況!M477)","v":""},{"$f":"IFERROR(VLOOKUP(A483,股價!A:B,2,0),\"\")","v":""},"","",""]
[{"$f":"IF(董監事持股狀況!K478=\"\",\"\",董監事持股狀況!K478)","v":""},null,{"$f":"IF(董監事持股狀況!M478=\"\",\"\",董監事持股狀況!M478)","v":""},{"$f":"IFERROR(VLOOKUP(A484,股價!A:B,2,0),\"\")","v":""},"","",""]
[{"$f":"IF(董監事持股狀況!K479=\"\",\"\",董監事持股狀況!K479)","v":""},null,{"$f":"IF(董監事持股狀況!M479=\"\",\"\",董監事持股狀況!M479)","v":""},{"$f":"IFERROR(VLOOKUP(A485,股價!A:B,2,0),\"\")","v":""},"","",""]
[{"$f":"IF(董監事持股狀況!K480=\"\",\"\",董監事持股狀況!K480)","v":""},null,{"$f":"IF(董監事持股狀況!M480=\"\",\"\",董監事持股狀況!M480)","v":""},{"$f":"IFERROR(VLOOKUP(A486,股價!A:B,2,0),\"\")","v":""},"","",""]
[{"$f":"IF(董監事持股狀況!K481=\"\",\"\",董監事持股狀況!K481)","v":""},null,{"$f":"IF(董監事持股狀況!M481=\"\",\"\",董監事持股狀況!M481)","v":""},{"$f":"IFERROR(VLOOKUP(A487,股價!A:B,2,0),\"\")","v":""},"","",""]
[{"$f":"IF(董監事持股狀況!K482=\"\",\"\",董監事持股狀況!K482)","v":""},null,{"$f":"IF(董監事持股狀況!M482=\"\",\"\",董監事持股狀況!M482)","v":""},{"$f":"IFERROR(VLOOKUP(A488,股價!A:B,2,0),\"\")","v":""},"","",""]
[{"$f":"IF(董監事持股狀況!K483=\"\",\"\",董監事持股狀況!K483)","v":""},null,{"$f":"IF(董監事持股狀況!M483=\"\",\"\",董監事持股狀況!M483)","v":""},{"$f":"IFERROR(VLOOKUP(A489,股價!A:B,2,0),\"\")","v":""},"","",""]
[{"$f":"IF(董監事持股狀況!K484=\"\",\"\",董監事持股狀況!K484)","v":""},null,{"$f":"IF(董監事持股狀況!M484=\"\",\"\",董監事持股狀況!M484)","v":""},{"$f":"IFERROR(VLOOKUP(A490,股價!A:B,2,0),\"\")","v":""},"","",""]
[{"$f":"IF(董監事持股狀況!K485=\"\",\"\",董監事持股狀況!K485)","v":""},null,{"$f":"IF(董監事持股狀況!M485=\"\",\"\",董監事持股狀況!M485)","v":""},{"$f":"IFERROR(VLOOKUP(A491,股價!A:B,2,0),\"\")","v":""},"","",""]
[{"$f":"IF(董監事持股狀況!K486=\"\",\"\",董監事持股狀況!K486)","v":""},null,{"$f":"IF(董監事持股狀況!M486=\"\",\"\",董監事持股狀況!M486)","v":""},{"$f":"IFERROR(VLOOKUP(A492,股價!A:B,2,0),\"\")","v":""},"","",""]
[{"$f":"IF(董監事持股狀況!K487=\"\",\"\",董監事持股狀況!K487)","v":""},null,{"$f":"IF(董監事持股狀況!M487=\"\",\"\",董監事持股狀況!M487)","v":""},{"$f":"IFERROR(VLOOKUP(A493,股價!A:B,2,0),\"\")","v":""},"","",""]
[{"$f":"IF(董監事持股狀況!K488=\"\",\"\",董監事持股狀況!K488)","v":""},null,{"$f":"IF(董監事持股狀況!M488=\"\",\"\",董監事持股狀況!M488)","v":""},{"$f":"IFERROR(VLOOKUP(A494,股價!A:B,2,0),\"\")","v":""},"","",""]
[{"$f":"IF(董監事持股狀況!K489=\"\",\"\",董監事持股狀況!K489)","v":""},null,{"$f":"IF(董監事持股狀況!M489=\"\",\"\",董監事持股狀況!M489)","v":""},{"$f":"IFERROR(VLOOKUP(A495,股價!A:B,2,0),\"\")","v":""},"","",""]
[{"$f":"IF(董監事持股狀況!K490=\"\",\"\",董監事持股狀況!K490)","v":""},null,{"$f":"IF(董監事持股狀況!M490=\"\",\"\",董監事持股狀況!M490)","v":""},{"$f":"IFERROR(VLOOKUP(A496,股價!A:B,2,0),\"\")","v":""},"","",""]
[{"$f":"IF(董監事持股狀況!K491=\"\",\"\",董監事持股狀況!K491)","v":""},null,{"$f":"IF(董監事持股狀況!M491=\"\",\"\",董監事持股狀況!M491)","v":""},{"$f":"IFERROR(VLOOKUP(A497,股價!A:B,2,0),\"\")","v":""},"","",""]
[{"$f":"IF(董監事持股狀況!K492=\"\",\"\",董監事持股狀況!K492)","v":""},null,{"$f":"IF(董監事持股狀況!M492=\"\",\"\",董監事持股狀況!M492)","v":""},{"$f":"IFERROR(VLOOKUP(A498,股價!A:B,2,0),\"\")","v":""},"","",""]
[{"$f":"IF(董監事持股狀況!K493=\"\",\"\",董監事持股狀況!K493)","v":""},null,{"$f":"IF(董監事持股狀況!M493=\"\",\"\",董監事持股狀況!M493)","v":""},{"$f":"IFERROR(VLOOKUP(A499,股價!A:B,2,0),\"\")","v":""},"","",""]
[{"$f":"IF(董監事持股狀況!K494=\"\",\"\",董監事持股狀況!K494)","v":""},null,{"$f":"IF(董監事持股狀況!M494=\"\",\"\",董監事持股狀況!M494)","v":""},{"$f":"IFERROR(VLOOKUP(A500,股價!A:B,2,0),\"\")","v":""},"","",""]
[{"$f":"IF(董監事持股狀況!K495=\"\",\"\",董監事持股狀況!K495)","v":""},null,{"$f":"IF(董監事持股狀況!M495=\"\",\"\",董監事持股狀況!M495)","v":""},{"$f":"IFERROR(VLOOKUP(A501,股價!A:B,2,0),\"\")","v":""},"","",""]
[{"$f":"IF(董監事持股狀況!K496=\"\",\"\",董監事持股狀況!K496)","v":""},null,{"$f":"IF(董監事持股狀況!M496=\"\",\"\",董監事持股狀況!M496)","v":""},{"$f":"IFERROR(VLOOKUP(A502,股價!A:B,2,0),\"\")","v":""},"","",""]
[{"$f":"IF(董監事持股狀況!K497=\"\",\"\",董監事持股狀況!K497)","v":""},null,{"$f":"IF(董監事持股狀況!M497=\"\",\"\",董監事持股狀況!M497)","v":""},{"$f":"IFERROR(VLOOKUP(A503,股價!A:B,2,0),\"\")","v":""},"","",""]
[{"$f":"IF(董監事持股狀況!K498=\"\",\"\",董監事持股狀況!K498)","v":""},null,{"$f":"IF(董監事持股狀況!M498=\"\",\"\",董監事持股狀況!M498)","v":""},{"$f":"IFERROR(VLOOKUP(A504,股價!A:B,2,0),\"\")","v":""},"","",""]
[{"$f":"IF(董監事持股狀況!K499=\"\",\"\",董監事持股狀況!K499)","v":""},null,{"$f":"IF(董監事持股狀況!M499=\"\",\"\",董監事持股狀況!M499)","v":""},{"$f":"IFERROR(VLOOKUP(A505,股價!A:B,2,0),\"\")","v":""},"","",""]
[{"$f":"IF(董監事持股狀況!K500=\"\",\"\",董監事持股狀況!K500)","v":""},null,{"$f":"IF(董監事持股狀況!M500=\"\",\"\",董監事持股狀況!M500)","v":""},{"$f":"IFERROR(VLOOKUP(A506,股價!A:B,2,0),\"\")","v":""},"","",""]
[{"$f":"IF(董監事持股狀況!K501=\"\",\"\",董監事持股狀況!K501)","v":""},null,{"$f":"IF(董監事持股狀況!M501=\"\",\"\",董監事持股狀況!M501)","v":""},{"$f":"IFERROR(VLOOKUP(A507,股價!A:B,2,0),\"\")","v":""},"","",""]
[{"$f":"IF(董監事持股狀況!K502=\"\",\"\",董監事持股狀況!K502)","v":""},null,{"$f":"IF(董監事持股狀況!M502=\"\",\"\",董監事持股狀況!M502)","v":""},{"$f":"IFERROR(VLOOKUP(A508,股價!A:B,2,0),\"\")","v":""},"","",""]
[{"$f":"IF(董監事持股狀況!K503=\"\",\"\",董監事持股狀況!K503)","v":""},null,{"$f":"IF(董監事持股狀況!M503=\"\",\"\",董監事持股狀況!M503)","v":""},{"$f":"IFERROR(VLOOKUP(A509,股價!A:B,2,0),\"\")","v":""},"","",""]
[{"$f":"IF(董監事持股狀況!K504=\"\",\"\",董監事持股狀況!K504)","v":""},null,{"$f":"IF(董監事持股狀況!M504=\"\",\"\",董監事持股狀況!M504)","v":""},{"$f":"IFERROR(VLOOKUP(A510,股價!A:B,2,0),\"\")","v":""},"","",""]
[{"$f":"IF(董監事持股狀況!K505=\"\",\"\",董監事持股狀況!K505)","v":""},null,{"$f":"IF(董監事持股狀況!M505=\"\",\"\",董監事持股狀況!M505)","v":""},{"$f":"IFERROR(VLOOKUP(A511,股價!A:B,2,0),\"\")","v":""},"","",""]
[{"$f":"IF(董監事持股狀況!K506=\"\",\"\",董監事持股狀況!K506)","v":""},null,{"$f":"IF(董監事持股狀況!M506=\"\",\"\",董監事持股狀況!M506)","v":""},{"$f":"IFERROR(VLOOKUP(A512,股價!A:B,2,0),\"\")","v":""},"","",""]
[{"$f":"IF(董監事持股狀況!K507=\"\",\"\",董監事持股狀況!K507)","v":""},null,{"$f":"IF(董監事持股狀況!M507=\"\",\"\",董監事持股狀況!M507)","v":""},{"$f":"IFERROR(VLOOKUP(A513,股價!A:B,2,0),\"\")","v":""},"","",""]
[{"$f":"IF(董監事持股狀況!K508=\"\",\"\",董監事持股狀況!K508)","v":""},null,{"$f":"IF(董監事持股狀況!M508=\"\",\"\",董監事持股狀況!M508)","v":""},{"$f":"IFERROR(VLOOKUP(A514,股價!A:B,2,0),\"\")","v":""},"","",""]
[{"$f":"IF(董監事持股狀況!K509=\"\",\"\",董監事持股狀況!K509)","v":""},null,{"$f":"IF(董監事持股狀況!M509=\"\",\"\",董監事持股狀況!M509)","v":""},{"$f":"IFERROR(VLOOKUP(A515,股價!A:B,2,0),\"\")","v":""},"","",""]
[{"$f":"IF(董監事持股狀況!K510=\"\",\"\",董監事持股狀況!K510)","v":""},null,{"$f":"IF(董監事持股狀況!M510=\"\",\"\",董監事持股狀況!M510)","v":""},{"$f":"IFERROR(VLOOKUP(A516,股價!A:B,2,0),\"\")","v":""},"","",""]
[{"$f":"IF(董監事持股狀況!K511=\"\",\"\",董監事持股狀況!K511)","v":""},null,{"$f":"IF(董監事持股狀況!M511=\"\",\"\",董監事持股狀況!M511)","v":""},{"$f":"IFERROR(VLOOKUP(A517,股價!A:B,2,0),\"\")","v":""},"","",""]
[{"$f":"IF(董監事持股狀況!K512=\"\",\"\",董監事持股狀況!K512)","v":""},null,{"$f":"IF(董監事持股狀況!M512=\"\",\"\",董監事持股狀況!M512)","v":""},{"$f":"IFERROR(VLOOKUP(A518,股價!A:B,2,0),\"\")","v":""},"","",""]
[{"$f":"IF(董監事持股狀況!K513=\"\",\"\",董監事持股狀況!K513)","v":""},null,{"$f":"IF(董監事持股狀況!M513=\"\",\"\",董監事持股狀況!M513)","v":""},{"$f":"IFERROR(VLOOKUP(A519,股價!A:B,2,0),\"\")","v":""},"","",""]
[{"$f":"IF(董監事持股狀況!K514=\"\",\"\",董監事持股狀況!K514)","v":""},null,{"$f":"IF(董監事持股狀況!M514=\"\",\"\",董監事持股狀況!M514)","v":""},{"$f":"IFERROR(VLOOKUP(A520,股價!A:B,2,0),\"\")","v":""},"",{"$f":"IFERROR(E520/$E$5*100,\"\")","v":""},{"$f":"IF(F520=\"\",\"\",RANK(F520,$F$8:$F$999))","v":""}]
[{"$f":"IF(董監事持股狀況!K515=\"\",\"\",董監事持股狀況!K515)","v":""},null,{"$f":"IF(董監事持股狀況!M515=\"\",\"\",董監事持股狀況!M515)","v":""},{"$f":"IFERROR(VLOOKUP(A521,股價!A:B,2,0),\"\")","v":""},{"$f":"IFERROR(C521*D521,\"\")","v":""},"",""]
[{"$f":"IF(董監事持股狀況!K516=\"\",\"\",董監事持股狀況!K516)","v":""},null,{"$f":"IF(董監事持股狀況!M516=\"\",\"\",董監事持股狀況!M516)","v":""},{"$f":"IFERROR(VLOOKUP(A522,股價!A:B,2,0),\"\")","v":""},"","",""]
[{"$f":"IF(董監事持股狀況!K517=\"\",\"\",董監事持股狀況!K517)","v":""},null,{"$f":"IF(董監事持股狀況!M517=\"\",\"\",董監事持股狀況!M517)","v":""},{"$f":"IFERROR(VLOOKUP(A523,股價!A:B,2,0),\"\")","v":""},"","",""]
[{"$f":"IF(董監事持股狀況!K518=\"\",\"\",董監事持股狀況!K518)","v":""},null,{"$f":"IF(董監事持股狀況!M518=\"\",\"\",董監事持股狀況!M518)","v":""},{"$f":"IFERROR(VLOOKUP(A524,股價!A:B,2,0),\"\")","v":""},"","",""]
[{"$f":"IF(董監事持股狀況!K519=\"\",\"\",董監事持股狀況!K519)","v":""},null,{"$f":"IF(董監事持股狀況!M519=\"\",\"\",董監事持股狀況!M519)","v":""},{"$f":"IFERROR(VLOOKUP(A525,股價!A:B,2,0),\"\")","v":""},"","",""]
[{"$f":"IF(董監事持股狀況!K520=\"\",\"\",董監事持股狀況!K520)","v":""},null,{"$f":"IF(董監事持股狀況!M520=\"\",\"\",董監事持股狀況!M520)","v":""},{"$f":"IFERROR(VLOOKUP(A526,股價!A:B,2,0),\"\")","v":""},"","",""]
[{"$f":"IF(董監事持股狀況!K521=\"\",\"\",董監事持股狀況!K521)","v":""},null,{"$f":"IF(董監事持股狀況!M521=\"\",\"\",董監事持股狀況!M521)","v":""},{"$f":"IFERROR(VLOOKUP(A527,股價!A:B,2,0),\"\")","v":""},"","",""]
[{"$f":"IF(董監事持股狀況!K522=\"\",\"\",董監事持股狀況!K522)","v":""},null,{"$f":"IF(董監事持股狀況!M522=\"\",\"\",董監事持股狀況!M522)","v":""},{"$f":"IFERROR(VLOOKUP(A528,股價!A:B,2,0),\"\")","v":""},"","",""]
[{"$f":"IF(董監事持股狀況!K523=\"\",\"\",董監事持股狀況!K523)","v":""},null,{"$f":"IF(董監事持股狀況!M523=\"\",\"\",董監事持股狀況!M523)","v":""},{"$f":"IFERROR(VLOOKUP(A529,股價!A:B,2,0),\"\")","v":""},"","",""]
[{"$f":"IF(董監事持股狀況!K524=\"\",\"\",董監事持股狀況!K524)","v":""},null,{"$f":"IF(董監事持股狀況!M524=\"\",\"\",董監事持股狀況!M524)","v":""},{"$f":"IFERROR(VLOOKUP(A530,股價!A:B,2,0),\"\")","v":""},"","",""]
[{"$f":"IF(董監事持股狀況!K525=\"\",\"\",董監事持股狀況!K525)","v":""},null,{"$f":"IF(董監事持股狀況!M525=\"\",\"\",董監事持股狀況!M525)","v":""},{"$f":"IFERROR(VLOOKUP(A531,股價!A:B,2,0),\"\")","v":""},"","",""]
[{"$f":"IF(董監事持股狀況!K526=\"\",\"\",董監事持股狀況!K526)","v":""},null,{"$f":"IF(董監事持股狀況!M526=\"\",\"\",董監事持股狀況!M526)","v":""},{"$f":"IFERROR(VLOOKUP(A532,股價!A:B,2,0),\"\")","v":""},"","",""]
[{"$f":"IF(董監事持股狀況!K527=\"\",\"\",董監事持股狀況!K527)","v":""},null,{"$f":"IF(董監事持股狀況!M527=\"\",\"\",董監事持股狀況!M527)","v":""},{"$f":"IFERROR(VLOOKUP(A533,股價!A:B,2,0),\"\")","v":""},"","",""]
[{"$f":"IF(董監事持股狀況!K528=\"\",\"\",董監事持股狀況!K528)","v":""},null,{"$f":"IF(董監事持股狀況!M528=\"\",\"\",董監事持股狀況!M528)","v":""},{"$f":"IFERROR(VLOOKUP(A534,股價!A:B,2,0),\"\")","v":""},"","",""]
[{"$f":"IF(董監事持股狀況!K529=\"\",\"\",董監事持股狀況!K529)","v":""},null,{"$f":"IF(董監事持股狀況!M529=\"\",\"\",董監事持股狀況!M529)","v":""},{"$f":"IFERROR(VLOOKUP(A535,股價!A:B,2,0),\"\")","v":""},"","",""]
[{"$f":"IF(董監事持股狀況!K530=\"\",\"\",董監事持股狀況!K530)","v":""},null,{"$f":"IF(董監事持股狀況!M530=\"\",\"\",董監事持股狀況!M530)","v":""},{"$f":"IFERROR(VLOOKUP(A536,股價!A:B,2,0),\"\")","v":""},"","",""]
[{"$f":"IF(董監事持股狀況!K531=\"\",\"\",董監事持股狀況!K531)","v":""},null,{"$f":"IF(董監事持股狀況!M531=\"\",\"\",董監事持股狀況!M531)","v":""},{"$f":"IFERROR(VLOOKUP(A537,股價!A:B,2,0),\"\")","v":""},"","",""]
[{"$f":"IF(董監事持股狀況!K532=\"\",\"\",董監事持股狀況!K532)","v":""},null,{"$f":"IF(董監事持股狀況!M532=\"\",\"\",董監事持股狀況!M532)","v":""},{"$f":"IFERROR(VLOOKUP(A538,股價!A:B,2,0),\"\")","v":""},"","",""]
[{"$f":"IF(董監事持股狀況!K533=\"\",\"\",董監事持股狀況!K533)","v":""},null,{"$f":"IF(董監事持股狀況!M533=\"\",\"\",董監事持股狀況!M533)","v":""},{"$f":"IFERROR(VLOOKUP(A539,股價!A:B,2,0),\"\")","v":""},"","",""]
[{"$f":"IF(董監事持股狀況!K534=\"\",\"\",董監事持股狀況!K534)","v":""},null,{"$f":"IF(董監事持股狀況!M534=\"\",\"\",董監事持股狀況!M534)","v":""},{"$f":"IFERROR(VLOOKUP(A540,股價!A:B,2,0),\"\")","v":""},"","",""]
[{"$f":"IF(董監事持股狀況!K535=\"\",\"\",董監事持股狀況!K535)","v":""},null,{"$f":"IF(董監事持股狀況!M535=\"\",\"\",董監事持股狀況!M535)","v":""},{"$f":"IFERROR(VLOOKUP(A541,股價!A:B,2,0),\"\")","v":""},"","",""]
[{"$f":"IF(董監事持股狀況!K536=\"\",\"\",董監事持股狀況!K536)","v":""},null,{"$f":"IF(董監事持股狀況!M536=\"\",\"\",董監事持股狀況!M536)","v":""},{"$f":"IFERROR(VLOOKUP(A542,股價!A:B,2,0),\"\")","v":""},"","",""]
[{"$f":"IF(董監事持股狀況!K537=\"\",\"\",董監事持股狀況!K537)","v":""},null,{"$f":"IF(董監事持股狀況!M537=\"\",\"\",董監事持股狀況!M537)","v":""},{"$f":"IFERROR(VLOOKUP(A543,股價!A:B,2,0),\"\")","v":""},"","",""]
[{"$f":"IF(董監事持股狀況!K538=\"\",\"\",董監事持股狀況!K538)","v":""},null,{"$f":"IF(董監事持股狀況!M538=\"\",\"\",董監事持股狀況!M538)","v":""},{"$f":"IFERROR(VLOOKUP(A544,股價!A:B,2,0),\"\")","v":""},"","",""]
[{"$f":"IF(董監事持股狀況!K539=\"\",\"\",董監事持股狀況!K539)","v":""},null,{"$f":"IF(董監事持股狀況!M539=\"\",\"\",董監事持股狀況!M539)","v":""},{"$f":"IFERROR(VLOOKUP(A545,股價!A:B,2,0),\"\")","v":""},"","",""]
[{"$f":"IF(董監事持股狀況!K540=\"\",\"\",董監事持股狀況!K540)","v":""},null,{"$f":"IF(董監事持股狀況!M540=\"\",\"\",董監事持股狀況!M540)","v":""},{"$f":"IFERROR(VLOOKUP(A546,股價!A:B,2,0),\"\")","v":""},"","",""]
[{"$f":"IF(董監事持股狀況!K541=\"\",\"\",董監事持股狀況!K541)","v":""},null,{"$f":"IF(董監事持股狀況!M541=\"\",\"\",董監事持股狀況!M541)","v":""},{"$f":"IFERROR(VLOOKUP(A547,股價!A:B,2,0),\"\")","v":""},"","",""]
[{"$f":"IF(董監事持股狀況!K542=\"\",\"\",董監事持股狀況!K542)","v":""},null,{"$f":"IF(董監事持股狀況!M542=\"\",\"\",董監事持股狀況!M542)","v":""},{"$f":"IFERROR(VLOOKUP(A548,股價!A:B,2,0),\"\")","v":""},"","",""]
[{"$f":"IF(董監事持股狀況!K543=\"\",\"\",董監事持股狀況!K543)","v":""},null,{"$f":"IF(董監事持股狀況!M543=\"\",\"\",董監事持股狀況!M543)","v":""},{"$f":"IFERROR(VLOOKUP(A549,股價!A:B,2,0),\"\")","v":""},"","",""]
[{"$f":"IF(董監事持股狀況!K544=\"\",\"\",董監事持股狀況!K544)","v":""},null,{"$f":"IF(董監事持股狀況!M544=\"\",\"\",董監事持股狀況!M544)","v":""},{"$f":"IFERROR(VLOOKUP(A550,股價!A:B,2,0),\"\")","v":""},"","",""]
[{"$f":"IF(董監事持股狀況!K545=\"\",\"\",董監事持股狀況!K545)","v":""},null,{"$f":"IF(董監事持股狀況!M545=\"\",\"\",董監事持股狀況!M545)","v":""},{"$f":"IFERROR(VLOOKUP(A551,股價!A:B,2,0),\"\")","v":""},"","",""]
[{"$f":"IF(董監事持股狀況!K546=\"\",\"\",董監事持股狀況!K546)","v":""},null,{"$f":"IF(董監事持股狀況!M546=\"\",\"\",董監事持股狀況!M546)","v":""},{"$f":"IFERROR(VLOOKUP(A552,股價!A:B,2,0),\"\")","v":""},"","",""]
[{"$f":"IF(董監事持股狀況!K547=\"\",\"\",董監事持股狀況!K547)","v":""},null,{"$f":"IF(董監事持股狀況!M547=\"\",\"\",董監事持股狀況!M547)","v":""},{"$f":"IFERROR(VLOOKUP(A553,股價!A:B,2,0),\"\")","v":""},"","",""]
[{"$f":"IF(董監事持股狀況!K548=\"\",\"\",董監事持股狀況!K548)","v":""},null,{"$f":"IF(董監事持股狀況!M548=\"\",\"\",董監事持股狀況!M548)","v":""},{"$f":"IFERROR(VLOOKUP(A554,股價!A:B,2,0),\"\")","v":""},"","",""]
[{"$f":"IF(董監事持股狀況!K549=\"\",\"\",董監事持股狀況!K549)","v":""},null,{"$f":"IF(董監事持股狀況!M549=\"\",\"\",董監事持股狀況!M549)","v":""},{"$f":"IFERROR(VLOOKUP(A555,股價!A:B,2,0),\"\")","v":""},"","",""]
[{"$f":"IF(董監事持股狀況!K550=\"\",\"\",董監事持股狀況!K550)","v":""},null,{"$f":"IF(董監事持股狀況!M550=\"\",\"\",董監事持股狀況!M550)","v":""},{"$f":"IFERROR(VLOOKUP(A556,股價!A:B,2,0),\"\")","v":""},"","",""]
[{"$f":"IF(董監事持股狀況!K551=\"\",\"\",董監事持股狀況!K551)","v":""},null,{"$f":"IF(董監事持股狀況!M551=\"\",\"\",董監事持股狀況!M551)","v":""},{"$f":"IFERROR(VLOOKUP(A557,股價!A:B,2,0),\"\")","v":""},"","",""]
[{"$f":"IF(董監事持股狀況!K552=\"\",\"\",董監事持股狀況!K552)","v":""},null,{"$f":"IF(董監事持股狀況!M552=\"\",\"\",董監事持股狀況!M552)","v":""},{"$f":"IFERROR(VLOOKUP(A558,股價!A:B,2,0),\"\")","v":""},"","",""]
[{"$f":"IF(董監事持股狀況!K553=\"\",\"\",董監事持股狀況!K553)","v":""},null,{"$f":"IF(董監事持股狀況!M553=\"\",\"\",董監事持股狀況!M553)","v":""},{"$f":"IFERROR(VLOOKUP(A559,股價!A:B,2,0),\"\")","v":""},"","",""]
[{"$f":"IF(董監事持股狀況!K554=\"\",\"\",董監事持股狀況!K554)","v":""},null,{"$f":"IF(董監事持股狀況!M554=\"\",\"\",董監事持股狀況!M554)","v":""},{"$f":"IFERROR(VLOOKUP(A560,股價!A:B,2,0),\"\")","v":""},"","",""]
[{"$f":"IF(董監事持股狀況!K555=\"\",\"\",董監事持股狀況!K555)","v":""},null,{"$f":"IF(董監事持股狀況!M555=\"\",\"\",董監事持股狀況!M555)","v":""},{"$f":"IFERROR(VLOOKUP(A561,股價!A:B,2,0),\"\")","v":""},"","",""]
[{"$f":"IF(董監事持股狀況!K556=\"\",\"\",董監事持股狀況!K556)","v":""},null,{"$f":"IF(董監事持股狀況!M556=\"\",\"\",董監事持股狀況!M556)","v":""},{"$f":"IFERROR(VLOOKUP(A562,股價!A:B,2,0),\"\")","v":""},"","",""]
[{"$f":"IF(董監事持股狀況!K557=\"\",\"\",董監事持股狀況!K557)","v":""},null,{"$f":"IF(董監事持股狀況!M557=\"\",\"\",董監事持股狀況!M557)","v":""},{"$f":"IFERROR(VLOOKUP(A563,股價!A:B,2,0),\"\")","v":""},"","",""]
[{"$f":"IF(董監事持股狀況!K558=\"\",\"\",董監事持股狀況!K558)","v":""},null,{"$f":"IF(董監事持股狀況!M558=\"\",\"\",董監事持股狀況!M558)","v":""},{"$f":"IFERROR(VLOOKUP(A564,股價!A:B,2,0),\"\")","v":""},"","",""]
[{"$f":"IF(董監事持股狀況!K559=\"\",\"\",董監事持股狀況!K559)","v":""},null,{"$f":"IF(董監事持股狀況!M559=\"\",\"\",董監事持股狀況!M559)","v":""},{"$f":"IFERROR(VLOOKUP(A565,股價!A:B,2,0),\"\")","v":""},"","",""]
[{"$f":"IF(董監事持股狀況!K560=\"\",\"\",董監事持股狀況!K560)","v":""},null,{"$f":"IF(董監事持股狀況!M560=\"\",\"\",董監事持股狀況!M560)","v":""},{"$f":"IFERROR(VLOOKUP(A566,股價!A:B,2,0),\"\")","v":""},"","",""]
[{"$f":"IF(董監事持股狀況!K561=\"\",\"\",董監事持股狀況!K561)","v":""},null,{"$f":"IF(董監事持股狀況!M561=\"\",\"\",董監事持股狀況!M561)","v":""},{"$f":"IFERROR(VLOOKUP(A567,股價!A:B,2,0),\"\")","v":""},"","",""]
[{"$f":"IF(董監事持股狀況!K562=\"\",\"\",董監事持股狀況!K562)","v":""},null,{"$f":"IF(董監事持股狀況!M562=\"\",\"\",董監事持股狀況!M562)","v":""},{"$f":"IFERROR(VLOOKUP(A568,股價!A:B,2,0),\"\")","v":""},"","",""]
[{"$f":"IF(董監事持股狀況!K563=\"\",\"\",董監事持股狀況!K563)","v":""},null,{"$f":"IF(董監事持股狀況!M563=\"\",\"\",董監事持股狀況!M563)","v":""},{"$f":"IFERROR(VLOOKUP(A569,股價!A:B,2,0),\"\")","v":""},"","",""]
[{"$f":"IF(董監事持股狀況!K564=\"\",\"\",董監事持股狀況!K564)","v":""},null,{"$f":"IF(董監事持股狀況!M564=\"\",\"\",董監事持股狀況!M564)","v":""},{"$f":"IFERROR(VLOOKUP(A570,股價!A:B,2,0),\"\")","v":""},"","",""]
[{"$f":"IF(董監事持股狀況!K565=\"\",\"\",董監事持股狀況!K565)","v":""},null,{"$f":"IF(董監事持股狀況!M565=\"\",\"\",董監事持股狀況!M565)","v":""},{"$f":"IFERROR(VLOOKUP(A571,股價!A:B,2,0),\"\")","v":""},"","",""]
[{"$f":"IF(董監事持股狀況!K566=\"\",\"\",董監事持股狀況!K566)","v":""},null,{"$f":"IF(董監事持股狀況!M566=\"\",\"\",董監事持股狀況!M566)","v":""},{"$f":"IFERROR(VLOOKUP(A572,股價!A:B,2,0),\"\")","v":""},"","",""]
[{"$f":"IF(董監事持股狀況!K567=\"\",\"\",董監事持股狀況!K567)","v":""},null,{"$f":"IF(董監事持股狀況!M567=\"\",\"\",董監事持股狀況!M567)","v":""},{"$f":"IFERROR(VLOOKUP(A573,股價!A:B,2,0),\"\")","v":""},"","",""]
[{"$f":"IF(董監事持股狀況!K568=\"\",\"\",董監事持股狀況!K568)","v":""},null,{"$f":"IF(董監事持股狀況!M568=\"\",\"\",董監事持股狀況!M568)","v":""},{"$f":"IFERROR(VLOOKUP(A574,股價!A:B,2,0),\"\")","v":""},"","",""]
[{"$f":"IF(董監事持股狀況!K569=\"\",\"\",董監事持股狀況!K569)","v":""},null,{"$f":"IF(董監事持股狀況!M569=\"\",\"\",董監事持股狀況!M569)","v":""},{"$f":"IFERROR(VLOOKUP(A575,股價!A:B,2,0),\"\")","v":""},"","",""]
[{"$f":"IF(董監事持股狀況!K570=\"\",\"\",董監事持股狀況!K570)","v":""},null,{"$f":"IF(董監事持股狀況!M570=\"\",\"\",董監事持股狀況!M570)","v":""},{"$f":"IFERROR(VLOOKUP(A576,股價!A:B,2,0),\"\")","v":""},"","",""]
[{"$f":"IF(董監事持股狀況!K571=\"\",\"\",董監事持股狀況!K571)","v":""},null,{"$f":"IF(董監事持股狀況!M571=\"\",\"\",董監事持股狀況!M571)","v":""},{"$f":"IFERROR(VLOOKUP(A577,股價!A:B,2,0),\"\")","v":""},"","",""]
[{"$f":"IF(董監事持股狀況!K572=\"\",\"\",董監事持股狀況!K572)","v":""},null,{"$f":"IF(董監事持股狀況!M572=\"\",\"\",董監事持股狀況!M572)","v":""},{"$f":"IFERROR(VLOOKUP(A578,股價!A:B,2,0),\"\")","v":""},"","",""]
[{"$f":"IF(董監事持股狀況!K573=\"\",\"\",董監事持股狀況!K573)","v":""},null,{"$f":"IF(董監事持股狀況!M573=\"\",\"\",董監事持股狀況!M573)","v":""},{"$f":"IFERROR(VLOOKUP(A579,股價!A:B,2,0),\"\")","v":""},"","",""]
[{"$f":"IF(董監事持股狀況!K574=\"\",\"\",董監事持股狀況!K574)","v":""},null,{"$f":"IF(董監事持股狀況!M574=\"\",\"\",董監事持股狀況!M574)","v":""},{"$f":"IFERROR(VLOOKUP(A580,股價!A:B,2,0),\"\")","v":""},"","",""]
[{"$f":"IF(董監事持股狀況!K575=\"\",\"\",董監事持股狀況!K575)","v":""},null,{"$f":"IF(董監事持股狀況!M575=\"\",\"\",董監事持股狀況!M575)","v":""},{"$f":"IFERROR(VLOOKUP(A581,股價!A:B,2,0),\"\")","v":""},"","",""]
[{"$f":"IF(董監事持股狀況!K576=\"\",\"\",董監事持股狀況!K576)","v":""},null,{"$f":"IF(董監事持股狀況!M576=\"\",\"\",董監事持股狀況!M576)","v":""},{"$f":"IFERROR(VLOOKUP(A582,股價!A:B,2,0),\"\")","v":""},"","",""]
[{"$f":"IF(董監事持股狀況!K577=\"\",\"\",董監事持股狀況!K577)","v":""},null,{"$f":"IF(董監事持股狀況!M577=\"\",\"\",董監事持股狀況!M577)","v":""},{"$f":"IFERROR(VLOOKUP(A583,股價!A:B,2,0),\"\")","v":""},"","",""]
[{"$f":"IF(董監事持股狀況!K578=\"\",\"\",董監事持股狀況!K578)","v":""},null,{"$f":"IF(董監事持股狀況!M578=\"\",\"\",董監事持股狀況!M578)","v":""},{"$f":"IFERROR(VLOOKUP(A584,股價!A:B,2,0),\"\")","v":""},"",{"$f":"IFERROR(E584/$E$5*100,\"\")","v":""},{"$f":"IF(F584=\"\",\"\",RANK(F584,$F$8:$F$999))","v":""}]
[{"$f":"IF(董監事持股狀況!K579=\"\",\"\",董監事持股狀況!K579)","v":""},null,{"$f":"IF(董監事持股狀況!M579=\"\",\"\",董監事持股狀況!M579)","v":""},{"$f":"IFERROR(VLOOKUP(A585,股價!A:B,2,0),\"\")","v":""},{"$f":"IFERROR(C585*D585,\"\")","v":""},"",""]
[{"$f":"IF(董監事持股狀況!K580=\"\",\"\",董監事持股狀況!K580)","v":""},null,{"$f":"IF(董監事持股狀況!M580=\"\",\"\",董監事持股狀況!M580)","v":""},{"$f":"IFERROR(VLOOKUP(A586,股價!A:B,2,0),\"\")","v":""},"","",""]
[{"$f":"IF(董監事持股狀況!K581=\"\",\"\",董監事持股狀況!K581)","v":""},null,{"$f":"IF(董監事持股狀況!M581=\"\",\"\",董監事持股狀況!M581)","v":""},{"$f":"IFERROR(VLOOKUP(A587,股價!A:B,2,0),\"\")","v":""},"","",""]
[{"$f":"IF(董監事持股狀況!K582=\"\",\"\",董監事持股狀況!K582)","v":""},null,{"$f":"IF(董監事持股狀況!M582=\"\",\"\",董監事持股狀況!M582)","v":""},{"$f":"IFERROR(VLOOKUP(A588,股價!A:B,2,0),\"\")","v":""},"","",""]
[{"$f":"IF(董監事持股狀況!K583=\"\",\"\",董監事持股狀況!K583)","v":""},null,{"$f":"IF(董監事持股狀況!M583=\"\",\"\",董監事持股狀況!M583)","v":""},{"$f":"IFERROR(VLOOKUP(A589,股價!A:B,2,0),\"\")","v":""},"","",""]
[{"$f":"IF(董監事持股狀況!K584=\"\",\"\",董監事持股狀況!K584)","v":""},null,{"$f":"IF(董監事持股狀況!M584=\"\",\"\",董監事持股狀況!M584)","v":""},{"$f":"IFERROR(VLOOKUP(A590,股價!A:B,2,0),\"\")","v":""},"","",""]
[{"$f":"IF(董監事持股狀況!K585=\"\",\"\",董監事持股狀況!K585)","v":""},null,{"$f":"IF(董監事持股狀況!M585=\"\",\"\",董監事持股狀況!M585)","v":""},{"$f":"IFERROR(VLOOKUP(A591,股價!A:B,2,0),\"\")","v":""},"","",""]
[{"$f":"IF(董監事持股狀況!K586=\"\",\"\",董監事持股狀況!K586)","v":""},null,{"$f":"IF(董監事持股狀況!M586=\"\",\"\",董監事持股狀況!M586)","v":""},{"$f":"IFERROR(VLOOKUP(A592,股價!A:B,2,0),\"\")","v":""},"","",""]
[{"$f":"IF(董監事持股狀況!K587=\"\",\"\",董監事持股狀況!K587)","v":""},null,{"$f":"IF(董監事持股狀況!M587=\"\",\"\",董監事持股狀況!M587)","v":""},{"$f":"IFERROR(VLOOKUP(A593,股價!A:B,2,0),\"\")","v":""},"","",""]
[{"$f":"IF(董監事持股狀況!K588=\"\",\"\",董監事持股狀況!K588)","v":""},null,{"$f":"IF(董監事持股狀況!M588=\"\",\"\",董監事持股狀況!M588)","v":""},{"$f":"IFERROR(VLOOKUP(A594,股價!A:B,2,0),\"\")","v":""},"","",""]
[{"$f":"IF(董監事持股狀況!K589=\"\",\"\",董監事持股狀況!K589)","v":""},null,{"$f":"IF(董監事持股狀況!M589=\"\",\"\",董監事持股狀況!M589)","v":""},{"$f":"IFERROR(VLOOKUP(A595,股價!A:B,2,0),\"\")","v":""},"","",""]
[{"$f":"IF(董監事持股狀況!K590=\"\",\"\",董監事持股狀況!K590)","v":""},null,{"$f":"IF(董監事持股狀況!M590=\"\",\"\",董監事持股狀況!M590)","v":""},{"$f":"IFERROR(VLOOKUP(A596,股價!A:B,2,0),\"\")","v":""},"","",""]
[{"$f":"IF(董監事持股狀況!K591=\"\",\"\",董監事持股狀況!K591)","v":""},null,{"$f":"IF(董監事持股狀況!M591=\"\",\"\",董監事持股狀況!M591)","v":""},{"$f":"IFERROR(VLOOKUP(A597,股價!A:B,2,0),\"\")","v":""},"","",""]
[{"$f":"IF(董監事持股狀況!K592=\"\",\"\",董監事持股狀況!K592)","v":""},null,{"$f":"IF(董監事持股狀況!M592=\"\",\"\",董監事持股狀況!M592)","v":""},{"$f":"IFERROR(VLOOKUP(A598,股價!A:B,2,0),\"\")","v":""},"","",""]
[{"$f":"IF(董監事持股狀況!K593=\"\",\"\",董監事持股狀況!K593)","v":""},null,{"$f":"IF(董監事持股狀況!M593=\"\",\"\",董監事持股狀況!M593)","v":""},{"$f":"IFERROR(VLOOKUP(A599,股價!A:B,2,0),\"\")","v":""},"","",""]
[{"$f":"IF(董監事持股狀況!K594=\"\",\"\",董監事持股狀況!K594)","v":""},null,{"$f":"IF(董監事持股狀況!M594=\"\",\"\",董監事持股狀況!M594)","v":""},{"$f":"IFERROR(VLOOKUP(A600,股價!A:B,2,0),\"\")","v":""},"","",""]
[{"$f":"IF(董監事持股狀況!K595=\"\",\"\",董監事持股狀況!K595)","v":""},null,{"$f":"IF(董監事持股狀況!M595=\"\",\"\",董監事持股狀況!M595)","v":""},{"$f":"IFERROR(VLOOKUP(A601,股價!A:B,2,0),\"\")","v":""},"","",""]
[{"$f":"IF(董監事持股狀況!K596=\"\",\"\",董監事持股狀況!K596)","v":""},null,{"$f":"IF(董監事持股狀況!M596=\"\",\"\",董監事持股狀況!M596)","v":""},{"$f":"IFERROR(VLOOKUP(A602,股價!A:B,2,0),\"\")","v":""},"","",""]
[{"$f":"IF(董監事持股狀況!K597=\"\",\"\",董監事持股狀況!K597)","v":""},null,{"$f":"IF(董監事持股狀況!M597=\"\",\"\",董監事持股狀況!M597)","v":""},{"$f":"IFERROR(VLOOKUP(A603,股價!A:B,2,0),\"\")","v":""},"","",""]
[{"$f":"IF(董監事持股狀況!K598=\"\",\"\",董監事持股狀況!K598)","v":""},null,{"$f":"IF(董監事持股狀況!M598=\"\",\"\",董監事持股狀況!M598)","v":""},{"$f":"IFERROR(VLOOKUP(A604,股價!A:B,2,0),\"\")","v":""},"","",""]
[{"$f":"IF(董監事持股狀況!K599=\"\",\"\",董監事持股狀況!K599)","v":""},null,{"$f":"IF(董監事持股狀況!M599=\"\",\"\",董監事持股狀況!M599)","v":""},{"$f":"IFERROR(VLOOKUP(A605,股價!A:B,2,0),\"\")","v":""},"","",""]
[{"$f":"IF(董監事持股狀況!K600=\"\",\"\",董監事持股狀況!K600)","v":""},null,{"$f":"IF(董監事持股狀況!M600=\"\",\"\",董監事持股狀況!M600)","v":""},{"$f":"IFERROR(VLOOKUP(A606,股價!A:B,2,0),\"\")","v":""},"","",""]
[{"$f":"IF(董監事持股狀況!K601=\"\",\"\",董監事持股狀況!K601)","v":""},null,{"$f":"IF(董監事持股狀況!M601=\"\",\"\",董監事持股狀況!M601)","v":""},{"$f":"IFERROR(VLOOKUP(A607,股價!A:B,2,0),\"\")","v":""},"","",""]
[{"$f":"IF(董監事持股狀況!K602=\"\",\"\",董監事持股狀況!K602)","v":""},null,{"$f":"IF(董監事持股狀況!M602=\"\",\"\",董監事持股狀況!M602)","v":""},{"$f":"IFERROR(VLOOKUP(A608,股價!A:B,2,0),\"\")","v":""},"","",""]
[{"$f":"IF(董監事持股狀況!K603=\"\",\"\",董監事持股狀況!K603)","v":""},null,{"$f":"IF(董監事持股狀況!M603=\"\",\"\",董監事持股狀況!M603)","v":""},{"$f":"IFERROR(VLOOKUP(A609,股價!A:B,2,0),\"\")","v":""},"","",""]
[{"$f":"IF(董監事持股狀況!K604=\"\",\"\",董監事持股狀況!K604)","v":""},null,{"$f":"IF(董監事持股狀況!M604=\"\",\"\",董監事持股狀況!M604)","v":""},{"$f":"IFERROR(VLOOKUP(A610,股價!A:B,2,0),\"\")","v":""},"","",""]
[{"$f":"IF(董監事持股狀況!K605=\"\",\"\",董監事持股狀況!K605)","v":""},null,{"$f":"IF(董監事持股狀況!M605=\"\",\"\",董監事持股狀況!M605)","v":""},{"$f":"IFERROR(VLOOKUP(A611,股價!A:B,2,0),\"\")","v":""},"","",""]
[{"$f":"IF(董監事持股狀況!K606=\"\",\"\",董監事持股狀況!K606)","v":""},null,{"$f":"IF(董監事持股狀況!M606=\"\",\"\",董監事持股狀況!M606)","v":""},{"$f":"IFERROR(VLOOKUP(A612,股價!A:B,2,0),\"\")","v":""},"","",""]
[{"$f":"IF(董監事持股狀況!K607=\"\",\"\",董監事持股狀況!K607)","v":""},null,{"$f":"IF(董監事持股狀況!M607=\"\",\"\",董監事持股狀況!M607)","v":""},{"$f":"IFERROR(VLOOKUP(A613,股價!A:B,2,0),\"\")","v":""},"","",""]
[{"$f":"IF(董監事持股狀況!K608=\"\",\"\",董監事持股狀況!K608)","v":""},null,{"$f":"IF(董監事持股狀況!M608=\"\",\"\",董監事持股狀況!M608)","v":""},{"$f":"IFERROR(VLOOKUP(A614,股價!A:B,2,0),\"\")","v":""},"","",""]
[{"$f":"IF(董監事持股狀況!K609=\"\",\"\",董監事持股狀況!K609)","v":""},null,{"$f":"IF(董監事持股狀況!M609=\"\",\"\",董監事持股狀況!M609)","v":""},{"$f":"IFERROR(VLOOKUP(A615,股價!A:B,2,0),\"\")","v":""},"","",""]
[{"$f":"IF(董監事持股狀況!K610=\"\",\"\",董監事持股狀況!K610)","v":""},null,{"$f":"IF(董監事持股狀況!M610=\"\",\"\",董監事持股狀況!M610)","v":""},{"$f":"IFERROR(VLOOKUP(A616,股價!A:B,2,0),\"\")","v":""},"","",""]
[{"$f":"IF(董監事持股狀況!K611=\"\",\"\",董監事持股狀況!K611)","v":""},null,{"$f":"IF(董監事持股狀況!M611=\"\",\"\",董監事持股狀況!M611)","v":""},{"$f":"IFERROR(VLOOKUP(A617,股價!A:B,2,0),\"\")","v":""},"","",""]
[{"$f":"IF(董監事持股狀況!K612=\"\",\"\",董監事持股狀況!K612)","v":""},null,{"$f":"IF(董監事持股狀況!M612=\"\",\"\",董監事持股狀況!M612)","v":""},{"$f":"IFERROR(VLOOKUP(A618,股價!A:B,2,0),\"\")","v":""},"","",""]
[{"$f":"IF(董監事持股狀況!K613=\"\",\"\",董監事持股狀況!K613)","v":""},null,{"$f":"IF(董監事持股狀況!M613=\"\",\"\",董監事持股狀況!M613)","v":""},{"$f":"IFERROR(VLOOKUP(A619,股價!A:B,2,0),\"\")","v":""},"","",""]
[{"$f":"IF(董監事持股狀況!K614=\"\",\"\",董監事持股狀況!K614)","v":""},null,{"$f":"IF(董監事持股狀況!M614=\"\",\"\",董監事持股狀況!M614)","v":""},{"$f":"IFERROR(VLOOKUP(A620,股價!A:B,2,0),\"\")","v":""},"","",""]
[{"$f":"IF(董監事持股狀況!K615=\"\",\"\",董監事持股狀況!K615)","v":""},null,{"$f":"IF(董監事持股狀況!M615=\"\",\"\",董監事持股狀況!M615)","v":""},{"$f":"IFERROR(VLOOKUP(A621,股價!A:B,2,0),\"\")","v":""},"","",""]
[{"$f":"IF(董監事持股狀況!K616=\"\",\"\",董監事持股狀況!K616)","v":""},null,{"$f":"IF(董監事持股狀況!M616=\"\",\"\",董監事持股狀況!M616)","v":""},{"$f":"IFERROR(VLOOKUP(A622,股價!A:B,2,0),\"\")","v":""},"","",""]
[{"$f":"IF(董監事持股狀況!K617=\"\",\"\",董監事持股狀況!K617)","v":""},null,{"$f":"IF(董監事持股狀況!M617=\"\",\"\",董監事持股狀況!M617)","v":""},{"$f":"IFERROR(VLOOKUP(A623,股價!A:B,2,0),\"\")","v":""},"","",""]
[{"$f":"IF(董監事持股狀況!K618=\"\",\"\",董監事持股狀況!K618)","v":""},null,{"$f":"IF(董監事持股狀況!M618=\"\",\"\",董監事持股狀況!M618)","v":""},{"$f":"IFERROR(VLOOKUP(A624,股價!A:B,2,0),\"\")","v":""},"","",""]
[{"$f":"IF(董監事持股狀況!K619=\"\",\"\",董監事持股狀況!K619)","v":""},null,{"$f":"IF(董監事持股狀況!M619=\"\",\"\",董監事持股狀況!M619)","v":""},{"$f":"IFERROR(VLOOKUP(A625,股價!A:B,2,0),\"\")","v":""},"","",""]
[{"$f":"IF(董監事持股狀況!K620=\"\",\"\",董監事持股狀況!K620)","v":""},null,{"$f":"IF(董監事持股狀況!M620=\"\",\"\",董監事持股狀況!M620)","v":""},{"$f":"IFERROR(VLOOKUP(A626,股價!A:B,2,0),\"\")","v":""},"","",""]
[{"$f":"IF(董監事持股狀況!K621=\"\",\"\",董監事持股狀況!K621)","v":""},null,{"$f":"IF(董監事持股狀況!M621=\"\",\"\",董監事持股狀況!M621)","v":""},{"$f":"IFERROR(VLOOKUP(A627,股價!A:B,2,0),\"\")","v":""},"","",""]
[{"$f":"IF(董監事持股狀況!K622=\"\",\"\",董監事持股狀況!K622)","v":""},null,{"$f":"IF(董監事持股狀況!M622=\"\",\"\",董監事持股狀況!M622)","v":""},{"$f":"IFERROR(VLOOKUP(A628,股價!A:B,2,0),\"\")","v":""},"","",""]
[{"$f":"IF(董監事持股狀況!K623=\"\",\"\",董監事持股狀況!K623)","v":""},null,{"$f":"IF(董監事持股狀況!M623=\"\",\"\",董監事持股狀況!M623)","v":""},{"$f":"IFERROR(VLOOKUP(A629,股價!A:B,2,0),\"\")","v":""},"","",""]
[{"$f":"IF(董監事持股狀況!K624=\"\",\"\",董監事持股狀況!K624)","v":""},null,{"$f":"IF(董監事持股狀況!M624=\"\",\"\",董監事持股狀況!M624)","v":""},{"$f":"IFERROR(VLOOKUP(A630,股價!A:B,2,0),\"\")","v":""},"","",""]
[{"$f":"IF(董監事持股狀況!K625=\"\",\"\",董監事持股狀況!K625)","v":""},null,{"$f":"IF(董監事持股狀況!M625=\"\",\"\",董監事持股狀況!M625)","v":""},{"$f":"IFERROR(VLOOKUP(A631,股價!A:B,2,0),\"\")","v":""},"","",""]
[{"$f":"IF(董監事持股狀況!K626=\"\",\"\",董監事持股狀況!K626)","v":""},null,{"$f":"IF(董監事持股狀況!M626=\"\",\"\",董監事持股狀況!M626)","v":""},{"$f":"IFERROR(VLOOKUP(A632,股價!A:B,2,0),\"\")","v":""},"","",""]
[{"$f":"IF(董監事持股狀況!K627=\"\",\"\",董監事持股狀況!K627)","v":""},null,{"$f":"IF(董監事持股狀況!M627=\"\",\"\",董監事持股狀況!M627)","v":""},{"$f":"IFERROR(VLOOKUP(A633,股價!A:B,2,0),\"\")","v":""},"","",""]
[{"$f":"IF(董監事持股狀況!K628=\"\",\"\",董監事持股狀況!K628)","v":""},null,{"$f":"IF(董監事持股狀況!M628=\"\",\"\",董監事持股狀況!M628)","v":""},{"$f":"IFERROR(VLOOKUP(A634,股價!A:B,2,0),\"\")","v":""},"","",""]
[{"$f":"IF(董監事持股狀況!K629=\"\",\"\",董監事持股狀況!K629)","v":""},null,{"$f":"IF(董監事持股狀況!M629=\"\",\"\",董監事持股狀況!M629)","v":""},{"$f":"IFERROR(VLOOKUP(A635,股價!A:B,2,0),\"\")","v":""},"","",""]
[{"$f":"IF(董監事持股狀況!K630=\"\",\"\",董監事持股狀況!K630)","v":""},null,{"$f":"IF(董監事持股狀況!M630=\"\",\"\",董監事持股狀況!M630)","v":""},{"$f":"IFERROR(VLOOKUP(A636,股價!A:B,2,0),\"\")","v":""},"","",""]
[{"$f":"IF(董監事持股狀況!K631=\"\",\"\",董監事持股狀況!K631)","v":""},null,{"$f":"IF(董監事持股狀況!M631=\"\",\"\",董監事持股狀況!M631)","v":""},{"$f":"IFERROR(VLOOKUP(A637,股價!A:B,2,0),\"\")","v":""},"","",""]
[{"$f":"IF(董監事持股狀況!K632=\"\",\"\",董監事持股狀況!K632)","v":""},null,{"$f":"IF(董監事持股狀況!M632=\"\",\"\",董監事持股狀況!M632)","v":""},{"$f":"IFERROR(VLOOKUP(A638,股價!A:B,2,0),\"\")","v":""},"","",""]
[{"$f":"IF(董監事持股狀況!K633=\"\",\"\",董監事持股狀況!K633)","v":""},null,{"$f":"IF(董監事持股狀況!M633=\"\",\"\",董監事持股狀況!M633)","v":""},{"$f":"IFERROR(VLOOKUP(A639,股價!A:B,2,0),\"\")","v":""},"","",""]
[{"$f":"IF(董監事持股狀況!K634=\"\",\"\",董監事持股狀況!K634)","v":""},null,{"$f":"IF(董監事持股狀況!M634=\"\",\"\",董監事持股狀況!M634)","v":""},{"$f":"IFERROR(VLOOKUP(A640,股價!A:B,2,0),\"\")","v":""},"","",""]
[{"$f":"IF(董監事持股狀況!K635=\"\",\"\",董監事持股狀況!K635)","v":""},null,{"$f":"IF(董監事持股狀況!M635=\"\",\"\",董監事持股狀況!M635)","v":""},{"$f":"IFERROR(VLOOKUP(A641,股價!A:B,2,0),\"\")","v":""},"","",""]
[{"$f":"IF(董監事持股狀況!K636=\"\",\"\",董監事持股狀況!K636)","v":""},null,{"$f":"IF(董監事持股狀況!M636=\"\",\"\",董監事持股狀況!M636)","v":""},{"$f":"IFERROR(VLOOKUP(A642,股價!A:B,2,0),\"\")","v":""},"","",""]
[{"$f":"IF(董監事持股狀況!K637=\"\",\"\",董監事持股狀況!K637)","v":""},null,{"$f":"IF(董監事持股狀況!M637=\"\",\"\",董監事持股狀況!M637)","v":""},{"$f":"IFERROR(VLOOKUP(A643,股價!A:B,2,0),\"\")","v":""},"","",""]
[{"$f":"IF(董監事持股狀況!K638=\"\",\"\",董監事持股狀況!K638)","v":""},null,{"$f":"IF(董監事持股狀況!M638=\"\",\"\",董監事持股狀況!M638)","v":""},{"$f":"IFERROR(VLOOKUP(A644,股價!A:B,2,0),\"\")","v":""},"","",""]
[{"$f":"IF(董監事持股狀況!K639=\"\",\"\",董監事持股狀況!K639)","v":""},null,{"$f":"IF(董監事持股狀況!M639=\"\",\"\",董監事持股狀況!M639)","v":""},{"$f":"IFERROR(VLOOKUP(A645,股價!A:B,2,0),\"\")","v":""},"","",""]
[{"$f":"IF(董監事持股狀況!K640=\"\",\"\",董監事持股狀況!K640)","v":""},null,{"$f":"IF(董監事持股狀況!M640=\"\",\"\",董監事持股狀況!M640)","v":""},{"$f":"IFERROR(VLOOKUP(A646,股價!A:B,2,0),\"\")","v":""},"","",""]
[{"$f":"IF(董監事持股狀況!K641=\"\",\"\",董監事持股狀況!K641)","v":""},null,{"$f":"IF(董監事持股狀況!M641=\"\",\"\",董監事持股狀況!M641)","v":""},{"$f":"IFERROR(VLOOKUP(A647,股價!A:B,2,0),\"\")","v":""},"","",""]
[{"$f":"IF(董監事持股狀況!K642=\"\",\"\",董監事持股狀況!K642)","v":""},null,{"$f":"IF(董監事持股狀況!M642=\"\",\"\",董監事持股狀況!M642)","v":""},{"$f":"IFERROR(VLOOKUP(A648,股價!A:B,2,0),\"\")","v":""},"",{"$f":"IFERROR(E648/$E$5*100,\"\")","v":""},{"$f":"IF(F648=\"\",\"\",RANK(F648,$F$8:$F$999))","v":""}]
[{"$f":"IF(董監事持股狀況!K643=\"\",\"\",董監事持股狀況!K643)","v":""},null,{"$f":"IF(董監事持股狀況!M643=\"\",\"\",董監事持股狀況!M643)","v":""},{"$f":"IFERROR(VLOOKUP(A649,股價!A:B,2,0),\"\")","v":""},{"$f":"IFERROR(C649*D649,\"\")","v":""},"",""]
[{"$f":"IF(董監事持股狀況!K644=\"\",\"\",董監事持股狀況!K644)","v":""},null,{"$f":"IF(董監事持股狀況!M644=\"\",\"\",董監事持股狀況!M644)","v":""},{"$f":"IFERROR(VLOOKUP(A650,股價!A:B,2,0),\"\")","v":""},"","",""]
[{"$f":"IF(董監事持股狀況!K645=\"\",\"\",董監事持股狀況!K645)","v":""},null,{"$f":"IF(董監事持股狀況!M645=\"\",\"\",董監事持股狀況!M645)","v":""},{"$f":"IFERROR(VLOOKUP(A651,股價!A:B,2,0),\"\")","v":""},"","",""]
[{"$f":"IF(董監事持股狀況!K646=\"\",\"\",董監事持股狀況!K646)","v":""},null,{"$f":"IF(董監事持股狀況!M646=\"\",\"\",董監事持股狀況!M646)","v":""},{"$f":"IFERROR(VLOOKUP(A652,股價!A:B,2,0),\"\")","v":""},"","",""]
[{"$f":"IF(董監事持股狀況!K647=\"\",\"\",董監事持股狀況!K647)","v":""},null,{"$f":"IF(董監事持股狀況!M647=\"\",\"\",董監事持股狀況!M647)","v":""},{"$f":"IFERROR(VLOOKUP(A653,股價!A:B,2,0),\"\")","v":""},"","",""]
[{"$f":"IF(董監事持股狀況!K648=\"\",\"\",董監事持股狀況!K648)","v":""},null,{"$f":"IF(董監事持股狀況!M648=\"\",\"\",董監事持股狀況!M648)","v":""},{"$f":"IFERROR(VLOOKUP(A654,股價!A:B,2,0),\"\")","v":""},"","",""]
[{"$f":"IF(董監事持股狀況!K649=\"\",\"\",董監事持股狀況!K649)","v":""},null,{"$f":"IF(董監事持股狀況!M649=\"\",\"\",董監事持股狀況!M649)","v":""},{"$f":"IFERROR(VLOOKUP(A655,股價!A:B,2,0),\"\")","v":""},"","",""]
[{"$f":"IF(董監事持股狀況!K650=\"\",\"\",董監事持股狀況!K650)","v":""},null,{"$f":"IF(董監事持股狀況!M650=\"\",\"\",董監事持股狀況!M650)","v":""},{"$f":"IFERROR(VLOOKUP(A656,股價!A:B,2,0),\"\")","v":""},"","",""]
[{"$f":"IF(董監事持股狀況!K651=\"\",\"\",董監事持股狀況!K651)","v":""},null,{"$f":"IF(董監事持股狀況!M651=\"\",\"\",董監事持股狀況!M651)","v":""},{"$f":"IFERROR(VLOOKUP(A657,股價!A:B,2,0),\"\")","v":""},"","",""]
[{"$f":"IF(董監事持股狀況!K652=\"\",\"\",董監事持股狀況!K652)","v":""},null,{"$f":"IF(董監事持股狀況!M652=\"\",\"\",董監事持股狀況!M652)","v":""},{"$f":"IFERROR(VLOOKUP(A658,股價!A:B,2,0),\"\")","v":""},"","",""]
[{"$f":"IF(董監事持股狀況!K653=\"\",\"\",董監事持股狀況!K653)","v":""},null,{"$f":"IF(董監事持股狀況!M653=\"\",\"\",董監事持股狀況!M653)","v":""},{"$f":"IFERROR(VLOOKUP(A659,股價!A:B,2,0),\"\")","v":""},"","",""]
[{"$f":"IF(董監事持股狀況!K654=\"\",\"\",董監事持股狀況!K654)","v":""},null,{"$f":"IF(董監事持股狀況!M654=\"\",\"\",董監事持股狀況!M654)","v":""},{"$f":"IFERROR(VLOOKUP(A660,股價!A:B,2,0),\"\")","v":""},"","",""]
[{"$f":"IF(董監事持股狀況!K655=\"\",\"\",董監事持股狀況!K655)","v":""},null,{"$f":"IF(董監事持股狀況!M655=\"\",\"\",董監事持股狀況!M655)","v":""},{"$f":"IFERROR(VLOOKUP(A661,股價!A:B,2,0),\"\")","v":""},"","",""]
[{"$f":"IF(董監事持股狀況!K656=\"\",\"\",董監事持股狀況!K656)","v":""},null,{"$f":"IF(董監事持股狀況!M656=\"\",\"\",董監事持股狀況!M656)","v":""},{"$f":"IFERROR(VLOOKUP(A662,股價!A:B,2,0),\"\")","v":""},"","",""]
[{"$f":"IF(董監事持股狀況!K657=\"\",\"\",董監事持股狀況!K657)","v":""},null,{"$f":"IF(董監事持股狀況!M657=\"\",\"\",董監事持股狀況!M657)","v":""},{"$f":"IFERROR(VLOOKUP(A663,股價!A:B,2,0),\"\")","v":""},"","",""]
[{"$f":"IF(董監事持股狀況!K658=\"\",\"\",董監事持股狀況!K658)","v":""},null,{"$f":"IF(董監事持股狀況!M658=\"\",\"\",董監事持股狀況!M658)","v":""},{"$f":"IFERROR(VLOOKUP(A664,股價!A:B,2,0),\"\")","v":""},"","",""]
[{"$f":"IF(董監事持股狀況!K659=\"\",\"\",董監事持股狀況!K659)","v":""},null,{"$f":"IF(董監事持股狀況!M659=\"\",\"\",董監事持股狀況!M659)","v":""},{"$f":"IFERROR(VLOOKUP(A665,股價!A:B,2,0),\"\")","v":""},"","",""]
[{"$f":"IF(董監事持股狀況!K660=\"\",\"\",董監事持股狀況!K660)","v":""},null,{"$f":"IF(董監事持股狀況!M660=\"\",\"\",董監事持股狀況!M660)","v":""},{"$f":"IFERROR(VLOOKUP(A666,股價!A:B,2,0),\"\")","v":""},"","",""]
[{"$f":"IF(董監事持股狀況!K661=\"\",\"\",董監事持股狀況!K661)","v":""},null,{"$f":"IF(董監事持股狀況!M661=\"\",\"\",董監事持股狀況!M661)","v":""},{"$f":"IFERROR(VLOOKUP(A667,股價!A:B,2,0),\"\")","v":""},"","",""]
[{"$f":"IF(董監事持股狀況!K662=\"\",\"\",董監事持股狀況!K662)","v":""},null,{"$f":"IF(董監事持股狀況!M662=\"\",\"\",董監事持股狀況!M662)","v":""},{"$f":"IFERROR(VLOOKUP(A668,股價!A:B,2,0),\"\")","v":""},"","",""]
[{"$f":"IF(董監事持股狀況!K663=\"\",\"\",董監事持股狀況!K663)","v":""},null,{"$f":"IF(董監事持股狀況!M663=\"\",\"\",董監事持股狀況!M663)","v":""},{"$f":"IFERROR(VLOOKUP(A669,股價!A:B,2,0),\"\")","v":""},"","",""]
[{"$f":"IF(董監事持股狀況!K664=\"\",\"\",董監事持股狀況!K664)","v":""},null,{"$f":"IF(董監事持股狀況!M664=\"\",\"\",董監事持股狀況!M664)","v":""},{"$f":"IFERROR(VLOOKUP(A670,股價!A:B,2,0),\"\")","v":""},"","",""]
[{"$f":"IF(董監事持股狀況!K665=\"\",\"\",董監事持股狀況!K665)","v":""},null,{"$f":"IF(董監事持股狀況!M665=\"\",\"\",董監事持股狀況!M665)","v":""},{"$f":"IFERROR(VLOOKUP(A671,股價!A:B,2,0),\"\")","v":""},"","",""]
[{"$f":"IF(董監事持股狀況!K666=\"\",\"\",董監事持股狀況!K666)","v":""},null,{"$f":"IF(董監事持股狀況!M666=\"\",\"\",董監事持股狀況!M666)","v":""},{"$f":"IFERROR(VLOOKUP(A672,股價!A:B,2,0),\"\")","v":""},"","",""]
[{"$f":"IF(董監事持股狀況!K667=\"\",\"\",董監事持股狀況!K667)","v":""},null,{"$f":"IF(董監事持股狀況!M667=\"\",\"\",董監事持股狀況!M667)","v":""},{"$f":"IFERROR(VLOOKUP(A673,股價!A:B,2,0),\"\")","v":""},"","",""]
[{"$f":"IF(董監事持股狀況!K668=\"\",\"\",董監事持股狀況!K668)","v":""},null,{"$f":"IF(董監事持股狀況!M668=\"\",\"\",董監事持股狀況!M668)","v":""},{"$f":"IFERROR(VLOOKUP(A674,股價!A:B,2,0),\"\")","v":""},"","",""]
[{"$f":"IF(董監事持股狀況!K669=\"\",\"\",董監事持股狀況!K669)","v":""},null,{"$f":"IF(董監事持股狀況!M669=\"\",\"\",董監事持股狀況!M669)","v":""},{"$f":"IFERROR(VLOOKUP(A675,股價!A:B,2,0),\"\")","v":""},"","",""]
[{"$f":"IF(董監事持股狀況!K670=\"\",\"\",董監事持股狀況!K670)","v":""},null,{"$f":"IF(董監事持股狀況!M670=\"\",\"\",董監事持股狀況!M670)","v":""},{"$f":"IFERROR(VLOOKUP(A676,股價!A:B,2,0),\"\")","v":""},"","",""]
[{"$f":"IF(董監事持股狀況!K671=\"\",\"\",董監事持股狀況!K671)","v":""},null,{"$f":"IF(董監事持股狀況!M671=\"\",\"\",董監事持股狀況!M671)","v":""},{"$f":"IFERROR(VLOOKUP(A677,股價!A:B,2,0),\"\")","v":""},"","",""]
[{"$f":"IF(董監事持股狀況!K672=\"\",\"\",董監事持股狀況!K672)","v":""},null,{"$f":"IF(董監事持股狀況!M672=\"\",\"\",董監事持股狀況!M672)","v":""},{"$f":"IFERROR(VLOOKUP(A678,股價!A:B,2,0),\"\")","v":""},"","",""]
[{"$f":"IF(董監事持股狀況!K673=\"\",\"\",董監事持股狀況!K673)","v":""},null,{"$f":"IF(董監事持股狀況!M673=\"\",\"\",董監事持股狀況!M673)","v":""},{"$f":"IFERROR(VLOOKUP(A679,股價!A:B,2,0),\"\")","v":""},"","",""]
[{"$f":"IF(董監事持股狀況!K674=\"\",\"\",董監事持股狀況!K674)","v":""},null,{"$f":"IF(董監事持股狀況!M674=\"\",\"\",董監事持股狀況!M674)","v":""},{"$f":"IFERROR(VLOOKUP(A680,股價!A:B,2,0),\"\")","v":""},"","",""]
[{"$f":"IF(董監事持股狀況!K675=\"\",\"\",董監事持股狀況!K675)","v":""},null,{"$f":"IF(董監事持股狀況!M675=\"\",\"\",董監事持股狀況!M675)","v":""},{"$f":"IFERROR(VLOOKUP(A681,股價!A:B,2,0),\"\")","v":""},"","",""]
[{"$f":"IF(董監事持股狀況!K676=\"\",\"\",董監事持股狀況!K676)","v":""},null,{"$f":"IF(董監事持股狀況!M676=\"\",\"\",董監事持股狀況!M676)","v":""},{"$f":"IFERROR(VLOOKUP(A682,股價!A:B,2,0),\"\")","v":""},"","",""]
[{"$f":"IF(董監事持股狀況!K677=\"\",\"\",董監事持股狀況!K677)","v":""},null,{"$f":"IF(董監事持股狀況!M677=\"\",\"\",董監事持股狀況!M677)","v":""},{"$f":"IFERROR(VLOOKUP(A683,股價!A:B,2,0),\"\")","v":""},"","",""]
[{"$f":"IF(董監事持股狀況!K678=\"\",\"\",董監事持股狀況!K678)","v":""},null,{"$f":"IF(董監事持股狀況!M678=\"\",\"\",董監事持股狀況!M678)","v":""},{"$f":"IFERROR(VLOOKUP(A684,股價!A:B,2,0),\"\")","v":""},"","",""]
[{"$f":"IF(董監事持股狀況!K679=\"\",\"\",董監事持股狀況!K679)","v":""},null,{"$f":"IF(董監事持股狀況!M679=\"\",\"\",董監事持股狀況!M679)","v":""},{"$f":"IFERROR(VLOOKUP(A685,股價!A:B,2,0),\"\")","v":""},"","",""]
[{"$f":"IF(董監事持股狀況!K680=\"\",\"\",董監事持股狀況!K680)","v":""},null,{"$f":"IF(董監事持股狀況!M680=\"\",\"\",董監事持股狀況!M680)","v":""},{"$f":"IFERROR(VLOOKUP(A686,股價!A:B,2,0),\"\")","v":""},"","",""]
[{"$f":"IF(董監事持股狀況!K681=\"\",\"\",董監事持股狀況!K681)","v":""},null,{"$f":"IF(董監事持股狀況!M681=\"\",\"\",董監事持股狀況!M681)","v":""},{"$f":"IFERROR(VLOOKUP(A687,股價!A:B,2,0),\"\")","v":""},"","",""]
[{"$f":"IF(董監事持股狀況!K682=\"\",\"\",董監事持股狀況!K682)","v":""},null,{"$f":"IF(董監事持股狀況!M682=\"\",\"\",董監事持股狀況!M682)","v":""},{"$f":"IFERROR(VLOOKUP(A688,股價!A:B,2,0),\"\")","v":""},"","",""]
[{"$f":"IF(董監事持股狀況!K683=\"\",\"\",董監事持股狀況!K683)","v":""},null,{"$f":"IF(董監事持股狀況!M683=\"\",\"\",董監事持股狀況!M683)","v":""},{"$f":"IFERROR(VLOOKUP(A689,股價!A:B,2,0),\"\")","v":""},"","",""]
[{"$f":"IF(董監事持股狀況!K684=\"\",\"\",董監事持股狀況!K684)","v":""},null,{"$f":"IF(董監事持股狀況!M684=\"\",\"\",董監事持股狀況!M684)","v":""},{"$f":"IFERROR(VLOOKUP(A690,股價!A:B,2,0),\"\")","v":""},"","",""]
[{"$f":"IF(董監事持股狀況!K685=\"\",\"\",董監事持股狀況!K685)","v":""},null,{"$f":"IF(董監事持股狀況!M685=\"\",\"\",董監事持股狀況!M685)","v":""},{"$f":"IFERROR(VLOOKUP(A691,股價!A:B,2,0),\"\")","v":""},"","",""]
[{"$f":"IF(董監事持股狀況!K686=\"\",\"\",董監事持股狀況!K686)","v":""},null,{"$f":"IF(董監事持股狀況!M686=\"\",\"\",董監事持股狀況!M686)","v":""},{"$f":"IFERROR(VLOOKUP(A692,股價!A:B,2,0),\"\")","v":""},"","",""]
[{"$f":"IF(董監事持股狀況!K687=\"\",\"\",董監事持股狀況!K687)","v":""},null,{"$f":"IF(董監事持股狀況!M687=\"\",\"\",董監事持股狀況!M687)","v":""},{"$f":"IFERROR(VLOOKUP(A693,股價!A:B,2,0),\"\")","v":""},"","",""]
[{"$f":"IF(董監事持股狀況!K688=\"\",\"\",董監事持股狀況!K688)","v":""},null,{"$f":"IF(董監事持股狀況!M688=\"\",\"\",董監事持股狀況!M688)","v":""},{"$f":"IFERROR(VLOOKUP(A694,股價!A:B,2,0),\"\")","v":""},"","",""]
[{"$f":"IF(董監事持股狀況!K689=\"\",\"\",董監事持股狀況!K689)","v":""},null,{"$f":"IF(董監事持股狀況!M689=\"\",\"\",董監事持股狀況!M689)","v":""},{"$f":"IFERROR(VLOOKUP(A695,股價!A:B,2,0),\"\")","v":""},"","",""]
[{"$f":"IF(董監事持股狀況!K690=\"\",\"\",董監事持股狀況!K690)","v":""},null,{"$f":"IF(董監事持股狀況!M690=\"\",\"\",董監事持股狀況!M690)","v":""},{"$f":"IFERROR(VLOOKUP(A696,股價!A:B,2,0),\"\")","v":""},"","",""]
[{"$f":"IF(董監事持股狀況!K691=\"\",\"\",董監事持股狀況!K691)","v":""},null,{"$f":"IF(董監事持股狀況!M691=\"\",\"\",董監事持股狀況!M691)","v":""},{"$f":"IFERROR(VLOOKUP(A697,股價!A:B,2,0),\"\")","v":""},"","",""]
[{"$f":"IF(董監事持股狀況!K692=\"\",\"\",董監事持股狀況!K692)","v":""},null,{"$f":"IF(董監事持股狀況!M692=\"\",\"\",董監事持股狀況!M692)","v":""},{"$f":"IFERROR(VLOOKUP(A698,股價!A:B,2,0),\"\")","v":""},"","",""]
[{"$f":"IF(董監事持股狀況!K693=\"\",\"\",董監事持股狀況!K693)","v":""},null,{"$f":"IF(董監事持股狀況!M693=\"\",\"\",董監事持股狀況!M693)","v":""},{"$f":"IFERROR(VLOOKUP(A699,股價!A:B,2,0),\"\")","v":""},"","",""]
[{"$f":"IF(董監事持股狀況!K694=\"\",\"\",董監事持股狀況!K694)","v":""},null,{"$f":"IF(董監事持股狀況!M694=\"\",\"\",董監事持股狀況!M694)","v":""},{"$f":"IFERROR(VLOOKUP(A700,股價!A:B,2,0),\"\")","v":""},"","",""]
[{"$f":"IF(董監事持股狀況!K695=\"\",\"\",董監事持股狀況!K695)","v":""},null,{"$f":"IF(董監事持股狀況!M695=\"\",\"\",董監事持股狀況!M695)","v":""},{"$f":"IFERROR(VLOOKUP(A701,股價!A:B,2,0),\"\")","v":""},"","",""]
[{"$f":"IF(董監事持股狀況!K696=\"\",\"\",董監事持股狀況!K696)","v":""},null,{"$f":"IF(董監事持股狀況!M696=\"\",\"\",董監事持股狀況!M696)","v":""},{"$f":"IFERROR(VLOOKUP(A702,股價!A:B,2,0),\"\")","v":""},"","",""]
[{"$f":"IF(董監事持股狀況!K697=\"\",\"\",董監事持股狀況!K697)","v":""},null,{"$f":"IF(董監事持股狀況!M697=\"\",\"\",董監事持股狀況!M697)","v":""},{"$f":"IFERROR(VLOOKUP(A703,股價!A:B,2,0),\"\")","v":""},"","",""]
[{"$f":"IF(董監事持股狀況!K698=\"\",\"\",董監事持股狀況!K698)","v":""},null,{"$f":"IF(董監事持股狀況!M698=\"\",\"\",董監事持股狀況!M698)","v":""},{"$f":"IFERROR(VLOOKUP(A704,股價!A:B,2,0),\"\")","v":""},"","",""]
[{"$f":"IF(董監事持股狀況!K699=\"\",\"\",董監事持股狀況!K699)","v":""},null,{"$f":"IF(董監事持股狀況!M699=\"\",\"\",董監事持股狀況!M699)","v":""},{"$f":"IFERROR(VLOOKUP(A705,股價!A:B,2,0),\"\")","v":""},"","",""]
[{"$f":"IF(董監事持股狀況!K700=\"\",\"\",董監事持股狀況!K700)","v":""},null,{"$f":"IF(董監事持股狀況!M700=\"\",\"\",董監事持股狀況!M700)","v":""},{"$f":"IFERROR(VLOOKUP(A706,股價!A:B,2,0),\"\")","v":""},"","",""]
[{"$f":"IF(董監事持股狀況!K701=\"\",\"\",董監事持股狀況!K701)","v":""},null,{"$f":"IF(董監事持股狀況!M701=\"\",\"\",董監事持股狀況!M701)","v":""},{"$f":"IFERROR(VLOOKUP(A707,股價!A:B,2,0),\"\")","v":""},"","",""]
[{"$f":"IF(董監事持股狀況!K702=\"\",\"\",董監事持股狀況!K702)","v":""},null,{"$f":"IF(董監事持股狀況!M702=\"\",\"\",董監事持股狀況!M702)","v":""},{"$f":"IFERROR(VLOOKUP(A708,股價!A:B,2,0),\"\")","v":""},"","",""]
[{"$f":"IF(董監事持股狀況!K703=\"\",\"\",董監事持股狀況!K703)","v":""},null,{"$f":"IF(董監事持股狀況!M703=\"\",\"\",董監事持股狀況!M703)","v":""},{"$f":"IFERROR(VLOOKUP(A709,股價!A:B,2,0),\"\")","v":""},"","",""]
[{"$f":"IF(董監事持股狀況!K704=\"\",\"\",董監事持股狀況!K704)","v":""},null,{"$f":"IF(董監事持股狀況!M704=\"\",\"\",董監事持股狀況!M704)","v":""},{"$f":"IFERROR(VLOOKUP(A710,股價!A:B,2,0),\"\")","v":""},"","",""]
[{"$f":"IF(董監事持股狀況!K705=\"\",\"\",董監事持股狀況!K705)","v":""},null,{"$f":"IF(董監事持股狀況!M705=\"\",\"\",董監事持股狀況!M705)","v":""},{"$f":"IFERROR(VLOOKUP(A711,股價!A:B,2,0),\"\")","v":""},"","",""]
[{"$f":"IF(董監事持股狀況!K706=\"\",\"\",董監事持股狀況!K706)","v":""},null,{"$f":"IF(董監事持股狀況!M706=\"\",\"\",董監事持股狀況!M706)","v":""},{"$f":"IFERROR(VLOOKUP(A712,股價!A:B,2,0),\"\")","v":""},"",{"$f":"IFERROR(E712/$E$5*100,\"\")","v":""},{"$f":"IF(F712=\"\",\"\",RANK(F712,$F$8:$F$999))","v":""}]
[{"$f":"IF(董監事持股狀況!K707=\"\",\"\",董監事持股狀況!K707)","v":""},null,{"$f":"IF(董監事持股狀況!M707=\"\",\"\",董監事持股狀況!M707)","v":""},{"$f":"IFERROR(VLOOKUP(A713,股價!A:B,2,0),\"\")","v":""},{"$f":"IFERROR(C713*D713,\"\")","v":""},"",""]
[{"$f":"IF(董監事持股狀況!K708=\"\",\"\",董監事持股狀況!K708)","v":""},null,{"$f":"IF(董監事持股狀況!M708=\"\",\"\",董監事持股狀況!M708)","v":""},{"$f":"IFERROR(VLOOKUP(A714,股價!A:B,2,0),\"\")","v":""},"","",""]
[{"$f":"IF(董監事持股狀況!K709=\"\",\"\",董監事持股狀況!K709)","v":""},null,{"$f":"IF(董監事持股狀況!M709=\"\",\"\",董監事持股狀況!M709)","v":""},{"$f":"IFERROR(VLOOKUP(A715,股價!A:B,2,0),\"\")","v":""},"","",""]
[{"$f":"IF(董監事持股狀況!K710=\"\",\"\",董監事持股狀況!K710)","v":""},null,{"$f":"IF(董監事持股狀況!M710=\"\",\"\",董監事持股狀況!M710)","v":""},{"$f":"IFERROR(VLOOKUP(A716,股價!A:B,2,0),\"\")","v":""},"","",""]
[{"$f":"IF(董監事持股狀況!K711=\"\",\"\",董監事持股狀況!K711)","v":""},null,{"$f":"IF(董監事持股狀況!M711=\"\",\"\",董監事持股狀況!M711)","v":""},{"$f":"IFERROR(VLOOKUP(A717,股價!A:B,2,0),\"\")","v":""},"","",""]
[{"$f":"IF(董監事持股狀況!K712=\"\",\"\",董監事持股狀況!K712)","v":""},null,{"$f":"IF(董監事持股狀況!M712=\"\",\"\",董監事持股狀況!M712)","v":""},{"$f":"IFERROR(VLOOKUP(A718,股價!A:B,2,0),\"\")","v":""},"","",""]
[{"$f":"IF(董監事持股狀況!K713=\"\",\"\",董監事持股狀況!K713)","v":""},null,{"$f":"IF(董監事持股狀況!M713=\"\",\"\",董監事持股狀況!M713)","v":""},{"$f":"IFERROR(VLOOKUP(A719,股價!A:B,2,0),\"\")","v":""},"","",""]
[{"$f":"IF(董監事持股狀況!K714=\"\",\"\",董監事持股狀況!K714)","v":""},null,{"$f":"IF(董監事持股狀況!M714=\"\",\"\",董監事持股狀況!M714)","v":""},{"$f":"IFERROR(VLOOKUP(A720,股價!A:B,2,0),\"\")","v":""},"","",""]
[{"$f":"IF(董監事持股狀況!K715=\"\",\"\",董監事持股狀況!K715)","v":""},null,{"$f":"IF(董監事持股狀況!M715=\"\",\"\",董監事持股狀況!M715)","v":""},{"$f":"IFERROR(VLOOKUP(A721,股價!A:B,2,0),\"\")","v":""},"","",""]
[{"$f":"IF(董監事持股狀況!K716=\"\",\"\",董監事持股狀況!K716)","v":""},null,{"$f":"IF(董監事持股狀況!M716=\"\",\"\",董監事持股狀況!M716)","v":""},{"$f":"IFERROR(VLOOKUP(A722,股價!A:B,2,0),\"\")","v":""},"","",""]
[{"$f":"IF(董監事持股狀況!K717=\"\",\"\",董監事持股狀況!K717)","v":""},null,{"$f":"IF(董監事持股狀況!M717=\"\",\"\",董監事持股狀況!M717)","v":""},{"$f":"IFERROR(VLOOKUP(A723,股價!A:B,2,0),\"\")","v":""},"","",""]
[{"$f":"IF(董監事持股狀況!K718=\"\",\"\",董監事持股狀況!K718)","v":""},null,{"$f":"IF(董監事持股狀況!M718=\"\",\"\",董監事持股狀況!M718)","v":""},{"$f":"IFERROR(VLOOKUP(A724,股價!A:B,2,0),\"\")","v":""},"","",""]
[{"$f":"IF(董監事持股狀況!K719=\"\",\"\",董監事持股狀況!K719)","v":""},null,{"$f":"IF(董監事持股狀況!M719=\"\",\"\",董監事持股狀況!M719)","v":""},{"$f":"IFERROR(VLOOKUP(A725,股價!A:B,2,0),\"\")","v":""},"","",""]
[{"$f":"IF(董監事持股狀況!K720=\"\",\"\",董監事持股狀況!K720)","v":""},null,{"$f":"IF(董監事持股狀況!M720=\"\",\"\",董監事持股狀況!M720)","v":""},{"$f":"IFERROR(VLOOKUP(A726,股價!A:B,2,0),\"\")","v":""},"","",""]
[{"$f":"IF(董監事持股狀況!K721=\"\",\"\",董監事持股狀況!K721)","v":""},null,{"$f":"IF(董監事持股狀況!M721=\"\",\"\",董監事持股狀況!M721)","v":""},{"$f":"IFERROR(VLOOKUP(A727,股價!A:B,2,0),\"\")","v":""},"","",""]
[{"$f":"IF(董監事持股狀況!K722=\"\",\"\",董監事持股狀況!K722)","v":""},null,{"$f":"IF(董監事持股狀況!M722=\"\",\"\",董監事持股狀況!M722)","v":""},{"$f":"IFERROR(VLOOKUP(A728,股價!A:B,2,0),\"\")","v":""},"","",""]
[{"$f":"IF(董監事持股狀況!K723=\"\",\"\",董監事持股狀況!K723)","v":""},null,{"$f":"IF(董監事持股狀況!M723=\"\",\"\",董監事持股狀況!M723)","v":""},{"$f":"IFERROR(VLOOKUP(A729,股價!A:B,2,0),\"\")","v":""},"","",""]
[{"$f":"IF(董監事持股狀況!K724=\"\",\"\",董監事持股狀況!K724)","v":""},null,{"$f":"IF(董監事持股狀況!M724=\"\",\"\",董監事持股狀況!M724)","v":""},{"$f":"IFERROR(VLOOKUP(A730,股價!A:B,2,0),\"\")","v":""},"","",""]
[{"$f":"IF(董監事持股狀況!K725=\"\",\"\",董監事持股狀況!K725)","v":""},null,{"$f":"IF(董監事持股狀況!M725=\"\",\"\",董監事持股狀況!M725)","v":""},{"$f":"IFERROR(VLOOKUP(A731,股價!A:B,2,0),\"\")","v":""},"","",""]
[{"$f":"IF(董監事持股狀況!K726=\"\",\"\",董監事持股狀況!K726)","v":""},null,{"$f":"IF(董監事持股狀況!M726=\"\",\"\",董監事持股狀況!M726)","v":""},{"$f":"IFERROR(VLOOKUP(A732,股價!A:B,2,0),\"\")","v":""},"","",""]
[{"$f":"IF(董監事持股狀況!K727=\"\",\"\",董監事持股狀況!K727)","v":""},null,{"$f":"IF(董監事持股狀況!M727=\"\",\"\",董監事持股狀況!M727)","v":""},{"$f":"IFERROR(VLOOKUP(A733,股價!A:B,2,0),\"\")","v":""},"","",""]
[{"$f":"IF(董監事持股狀況!K728=\"\",\"\",董監事持股狀況!K728)","v":""},null,{"$f":"IF(董監事持股狀況!M728=\"\",\"\",董監事持股狀況!M728)","v":""},{"$f":"IFERROR(VLOOKUP(A734,股價!A:B,2,0),\"\")","v":""},"","",""]
[{"$f":"IF(董監事持股狀況!K729=\"\",\"\",董監事持股狀況!K729)","v":""},null,{"$f":"IF(董監事持股狀況!M729=\"\",\"\",董監事持股狀況!M729)","v":""},{"$f":"IFERROR(VLOOKUP(A735,股價!A:B,2,0),\"\")","v":""},"","",""]
[{"$f":"IF(董監事持股狀況!K730=\"\",\"\",董監事持股狀況!K730)","v":""},null,{"$f":"IF(董監事持股狀況!M730=\"\",\"\",董監事持股狀況!M730)","v":""},{"$f":"IFERROR(VLOOKUP(A736,股價!A:B,2,0),\"\")","v":""},"","",""]
[{"$f":"IF(董監事持股狀況!K731=\"\",\"\",董監事持股狀況!K731)","v":""},null,{"$f":"IF(董監事持股狀況!M731=\"\",\"\",董監事持股狀況!M731)","v":""},{"$f":"IFERROR(VLOOKUP(A737,股價!A:B,2,0),\"\")","v":""},"","",""]
[{"$f":"IF(董監事持股狀況!K732=\"\",\"\",董監事持股狀況!K732)","v":""},null,{"$f":"IF(董監事持股狀況!M732=\"\",\"\",董監事持股狀況!M732)","v":""},{"$f":"IFERROR(VLOOKUP(A738,股價!A:B,2,0),\"\")","v":""},"","",""]
[{"$f":"IF(董監事持股狀況!K733=\"\",\"\",董監事持股狀況!K733)","v":""},null,{"$f":"IF(董監事持股狀況!M733=\"\",\"\",董監事持股狀況!M733)","v":""},{"$f":"IFERROR(VLOOKUP(A739,股價!A:B,2,0),\"\")","v":""},"","",""]
[{"$f":"IF(董監事持股狀況!K734=\"\",\"\",董監事持股狀況!K734)","v":""},null,{"$f":"IF(董監事持股狀況!M734=\"\",\"\",董監事持股狀況!M734)","v":""},{"$f":"IFERROR(VLOOKUP(A740,股價!A:B,2,0),\"\")","v":""},"","",""]
[{"$f":"IF(董監事持股狀況!K735=\"\",\"\",董監事持股狀況!K735)","v":""},null,{"$f":"IF(董監事持股狀況!M735=\"\",\"\",董監事持股狀況!M735)","v":""},{"$f":"IFERROR(VLOOKUP(A741,股價!A:B,2,0),\"\")","v":""},"","",""]
[{"$f":"IF(董監事持股狀況!K736=\"\",\"\",董監事持股狀況!K736)","v":""},null,{"$f":"IF(董監事持股狀況!M736=\"\",\"\",董監事持股狀況!M736)","v":""},{"$f":"IFERROR(VLOOKUP(A742,股價!A:B,2,0),\"\")","v":""},"","",""]
[{"$f":"IF(董監事持股狀況!K737=\"\",\"\",董監事持股狀況!K737)","v":""},null,{"$f":"IF(董監事持股狀況!M737=\"\",\"\",董監事持股狀況!M737)","v":""},{"$f":"IFERROR(VLOOKUP(A743,股價!A:B,2,0),\"\")","v":""},"","",""]
[{"$f":"IF(董監事持股狀況!K738=\"\",\"\",董監事持股狀況!K738)","v":""},null,{"$f":"IF(董監事持股狀況!M738=\"\",\"\",董監事持股狀況!M738)","v":""},{"$f":"IFERROR(VLOOKUP(A744,股價!A:B,2,0),\"\")","v":""},"","",""]
[{"$f":"IF(董監事持股狀況!K739=\"\",\"\",董監事持股狀況!K739)","v":""},null,{"$f":"IF(董監事持股狀況!M739=\"\",\"\",董監事持股狀況!M739)","v":""},{"$f":"IFERROR(VLOOKUP(A745,股價!A:B,2,0),\"\")","v":""},"","",""]
[{"$f":"IF(董監事持股狀況!K740=\"\",\"\",董監事持股狀況!K740)","v":""},null,{"$f":"IF(董監事持股狀況!M740=\"\",\"\",董監事持股狀況!M740)","v":""},{"$f":"IFERROR(VLOOKUP(A746,股價!A:B,2,0),\"\")","v":""},"","",""]
[{"$f":"IF(董監事持股狀況!K741=\"\",\"\",董監事持股狀況!K741)","v":""},null,{"$f":"IF(董監事持股狀況!M741=\"\",\"\",董監事持股狀況!M741)","v":""},{"$f":"IFERROR(VLOOKUP(A747,股價!A:B,2,0),\"\")","v":""},"","",""]
[{"$f":"IF(董監事持股狀況!K742=\"\",\"\",董監事持股狀況!K742)","v":""},null,{"$f":"IF(董監事持股狀況!M742=\"\",\"\",董監事持股狀況!M742)","v":""},{"$f":"IFERROR(VLOOKUP(A748,股價!A:B,2,0),\"\")","v":""},"","",""]
[{"$f":"IF(董監事持股狀況!K743=\"\",\"\",董監事持股狀況!K743)","v":""},null,{"$f":"IF(董監事持股狀況!M743=\"\",\"\",董監事持股狀況!M743)","v":""},{"$f":"IFERROR(VLOOKUP(A749,股價!A:B,2,0),\"\")","v":""},"","",""]
[{"$f":"IF(董監事持股狀況!K744=\"\",\"\",董監事持股狀況!K744)","v":""},null,{"$f":"IF(董監事持股狀況!M744=\"\",\"\",董監事持股狀況!M744)","v":""},{"$f":"IFERROR(VLOOKUP(A750,股價!A:B,2,0),\"\")","v":""},"","",""]
[{"$f":"IF(董監事持股狀況!K745=\"\",\"\",董監事持股狀況!K745)","v":""},null,{"$f":"IF(董監事持股狀況!M745=\"\",\"\",董監事持股狀況!M745)","v":""},{"$f":"IFERROR(VLOOKUP(A751,股價!A:B,2,0),\"\")","v":""},"","",""]
[{"$f":"IF(董監事持股狀況!K746=\"\",\"\",董監事持股狀況!K746)","v":""},null,{"$f":"IF(董監事持股狀況!M746=\"\",\"\",董監事持股狀況!M746)","v":""},{"$f":"IFERROR(VLOOKUP(A752,股價!A:B,2,0),\"\")","v":""},"","",""]
[{"$f":"IF(董監事持股狀況!K747=\"\",\"\",董監事持股狀況!K747)","v":""},null,{"$f":"IF(董監事持股狀況!M747=\"\",\"\",董監事持股狀況!M747)","v":""},{"$f":"IFERROR(VLOOKUP(A753,股價!A:B,2,0),\"\")","v":""},"","",""]
[{"$f":"IF(董監事持股狀況!K748=\"\",\"\",董監事持股狀況!K748)","v":""},null,{"$f":"IF(董監事持股狀況!M748=\"\",\"\",董監事持股狀況!M748)","v":""},{"$f":"IFERROR(VLOOKUP(A754,股價!A:B,2,0),\"\")","v":""},"","",""]
[{"$f":"IF(董監事持股狀況!K749=\"\",\"\",董監事持股狀況!K749)","v":""},null,{"$f":"IF(董監事持股狀況!M749=\"\",\"\",董監事持股狀況!M749)","v":""},{"$f":"IFERROR(VLOOKUP(A755,股價!A:B,2,0),\"\")","v":""},"","",""]
[{"$f":"IF(董監事持股狀況!K750=\"\",\"\",董監事持股狀況!K750)","v":""},null,{"$f":"IF(董監事持股狀況!M750=\"\",\"\",董監事持股狀況!M750)","v":""},{"$f":"IFERROR(VLOOKUP(A756,股價!A:B,2,0),\"\")","v":""},"","",""]
[{"$f":"IF(董監事持股狀況!K751=\"\",\"\",董監事持股狀況!K751)","v":""},null,{"$f":"IF(董監事持股狀況!M751=\"\",\"\",董監事持股狀況!M751)","v":""},{"$f":"IFERROR(VLOOKUP(A757,股價!A:B,2,0),\"\")","v":""},"","",""]
[{"$f":"IF(董監事持股狀況!K752=\"\",\"\",董監事持股狀況!K752)","v":""},null,{"$f":"IF(董監事持股狀況!M752=\"\",\"\",董監事持股狀況!M752)","v":""},{"$f":"IFERROR(VLOOKUP(A758,股價!A:B,2,0),\"\")","v":""},"","",""]
[{"$f":"IF(董監事持股狀況!K753=\"\",\"\",董監事持股狀況!K753)","v":""},null,{"$f":"IF(董監事持股狀況!M753=\"\",\"\",董監事持股狀況!M753)","v":""},{"$f":"IFERROR(VLOOKUP(A759,股價!A:B,2,0),\"\")","v":""},"","",""]
[{"$f":"IF(董監事持股狀況!K754=\"\",\"\",董監事持股狀況!K754)","v":""},null,{"$f":"IF(董監事持股狀況!M754=\"\",\"\",董監事持股狀況!M754)","v":""},{"$f":"IFERROR(VLOOKUP(A760,股價!A:B,2,0),\"\")","v":""},"","",""]
[{"$f":"IF(董監事持股狀況!K755=\"\",\"\",董監事持股狀況!K755)","v":""},null,{"$f":"IF(董監事持股狀況!M755=\"\",\"\",董監事持股狀況!M755)","v":""},{"$f":"IFERROR(VLOOKUP(A761,股價!A:B,2,0),\"\")","v":""},"","",""]
[{"$f":"IF(董監事持股狀況!K756=\"\",\"\",董監事持股狀況!K756)","v":""},null,{"$f":"IF(董監事持股狀況!M756=\"\",\"\",董監事持股狀況!M756)","v":""},{"$f":"IFERROR(VLOOKUP(A762,股價!A:B,2,0),\"\")","v":""},"","",""]
[{"$f":"IF(董監事持股狀況!K757=\"\",\"\",董監事持股狀況!K757)","v":""},null,{"$f":"IF(董監事持股狀況!M757=\"\",\"\",董監事持股狀況!M757)","v":""},{"$f":"IFERROR(VLOOKUP(A763,股價!A:B,2,0),\"\")","v":""},"","",""]
[{"$f":"IF(董監事持股狀況!K758=\"\",\"\",董監事持股狀況!K758)","v":""},null,{"$f":"IF(董監事持股狀況!M758=\"\",\"\",董監事持股狀況!M758)","v":""},{"$f":"IFERROR(VLOOKUP(A764,股價!A:B,2,0),\"\")","v":""},"","",""]
[{"$f":"IF(董監事持股狀況!K759=\"\",\"\",董監事持股狀況!K759)","v":""},null,{"$f":"IF(董監事持股狀況!M759=\"\",\"\",董監事持股狀況!M759)","v":""},{"$f":"IFERROR(VLOOKUP(A765,股價!A:B,2,0),\"\")","v":""},"","",""]
[{"$f":"IF(董監事持股狀況!K760=\"\",\"\",董監事持股狀況!K760)","v":""},null,{"$f":"IF(董監事持股狀況!M760=\"\",\"\",董監事持股狀況!M760)","v":""},{"$f":"IFERROR(VLOOKUP(A766,股價!A:B,2,0),\"\")","v":""},"","",""]
[{"$f":"IF(董監事持股狀況!K761=\"\",\"\",董監事持股狀況!K761)","v":""},null,{"$f":"IF(董監事持股狀況!M761=\"\",\"\",董監事持股狀況!M761)","v":""},{"$f":"IFERROR(VLOOKUP(A767,股價!A:B,2,0),\"\")","v":""},"","",""]
[{"$f":"IF(董監事持股狀況!K762=\"\",\"\",董監事持股狀況!K762)","v":""},null,{"$f":"IF(董監事持股狀況!M762=\"\",\"\",董監事持股狀況!M762)","v":""},{"$f":"IFERROR(VLOOKUP(A768,股價!A:B,2,0),\"\")","v":""},"","",""]
[{"$f":"IF(董監事持股狀況!K763=\"\",\"\",董監事持股狀況!K763)","v":""},null,{"$f":"IF(董監事持股狀況!M763=\"\",\"\",董監事持股狀況!M763)","v":""},{"$f":"IFERROR(VLOOKUP(A769,股價!A:B,2,0),\"\")","v":""},"","",""]
[{"$f":"IF(董監事持股狀況!K764=\"\",\"\",董監事持股狀況!K764)","v":""},null,{"$f":"IF(董監事持股狀況!M764=\"\",\"\",董監事持股狀況!M764)","v":""},{"$f":"IFERROR(VLOOKUP(A770,股價!A:B,2,0),\"\")","v":""},"","",""]
[{"$f":"IF(董監事持股狀況!K765=\"\",\"\",董監事持股狀況!K765)","v":""},null,{"$f":"IF(董監事持股狀況!M765=\"\",\"\",董監事持股狀況!M765)","v":""},{"$f":"IFERROR(VLOOKUP(A771,股價!A:B,2,0),\"\")","v":""},"","",""]
[{"$f":"IF(董監事持股狀況!K766=\"\",\"\",董監事持股狀況!K766)","v":""},null,{"$f":"IF(董監事持股狀況!M766=\"\",\"\",董監事持股狀況!M766)","v":""},{"$f":"IFERROR(VLOOKUP(A772,股價!A:B,2,0),\"\")","v":""},"","",""]
[{"$f":"IF(董監事持股狀況!K767=\"\",\"\",董監事持股狀況!K767)","v":""},null,{"$f":"IF(董監事持股狀況!M767=\"\",\"\",董監事持股狀況!M767)","v":""},{"$f":"IFERROR(VLOOKUP(A773,股價!A:B,2,0),\"\")","v":""},"","",""]
[{"$f":"IF(董監事持股狀況!K768=\"\",\"\",董監事持股狀況!K768)","v":""},null,{"$f":"IF(董監事持股狀況!M768=\"\",\"\",董監事持股狀況!M768)","v":""},{"$f":"IFERROR(VLOOKUP(A774,股價!A:B,2,0),\"\")","v":""},"","",""]
[{"$f":"IF(董監事持股狀況!K769=\"\",\"\",董監事持股狀況!K769)","v":""},null,{"$f":"IF(董監事持股狀況!M769=\"\",\"\",董監事持股狀況!M769)","v":""},{"$f":"IFERROR(VLOOKUP(A775,股價!A:B,2,0),\"\")","v":""},"","",""]
[{"$f":"IF(董監事持股狀況!K770=\"\",\"\",董監事持股狀況!K770)","v":""},null,{"$f":"IF(董監事持股狀況!M770=\"\",\"\",董監事持股狀況!M770)","v":""},{"$f":"IFERROR(VLOOKUP(A776,股價!A:B,2,0),\"\")","v":""},"",{"$f":"IFERROR(E776/$E$5*100,\"\")","v":""},{"$f":"IF(F776=\"\",\"\",RANK(F776,$F$8:$F$999))","v":""}]
[{"$f":"IF(董監事持股狀況!K771=\"\",\"\",董監事持股狀況!K771)","v":""},null,{"$f":"IF(董監事持股狀況!M771=\"\",\"\",董監事持股狀況!M771)","v":""},{"$f":"IFERROR(VLOOKUP(A777,股價!A:B,2,0),\"\")","v":""},{"$f":"IFERROR(C777*D777,\"\")","v":""},"",""]
[{"$f":"IF(董監事持股狀況!K772=\"\",\"\",董監事持股狀況!K772)","v":""},null,{"$f":"IF(董監事持股狀況!M772=\"\",\"\",董監事持股狀況!M772)","v":""},{"$f":"IFERROR(VLOOKUP(A778,股價!A:B,2,0),\"\")","v":""},"","",""]
[{"$f":"IF(董監事持股狀況!K773=\"\",\"\",董監事持股狀況!K773)","v":""},null,{"$f":"IF(董監事持股狀況!M773=\"\",\"\",董監事持股狀況!M773)","v":""},{"$f":"IFERROR(VLOOKUP(A779,股價!A:B,2,0),\"\")","v":""},"","",""]
[{"$f":"IF(董監事持股狀況!K774=\"\",\"\",董監事持股狀況!K774)","v":""},null,{"$f":"IF(董監事持股狀況!M774=\"\",\"\",董監事持股狀況!M774)","v":""},{"$f":"IFERROR(VLOOKUP(A780,股價!A:B,2,0),\"\")","v":""},"","",""]
[{"$f":"IF(董監事持股狀況!K775=\"\",\"\",董監事持股狀況!K775)","v":""},null,{"$f":"IF(董監事持股狀況!M775=\"\",\"\",董監事持股狀況!M775)","v":""},{"$f":"IFERROR(VLOOKUP(A781,股價!A:B,2,0),\"\")","v":""},"","",""]
[{"$f":"IF(董監事持股狀況!K776=\"\",\"\",董監事持股狀況!K776)","v":""},null,{"$f":"IF(董監事持股狀況!M776=\"\",\"\",董監事持股狀況!M776)","v":""},{"$f":"IFERROR(VLOOKUP(A782,股價!A:B,2,0),\"\")","v":""},"","",""]
[{"$f":"IF(董監事持股狀況!K777=\"\",\"\",董監事持股狀況!K777)","v":""},null,{"$f":"IF(董監事持股狀況!M777=\"\",\"\",董監事持股狀況!M777)","v":""},{"$f":"IFERROR(VLOOKUP(A783,股價!A:B,2,0),\"\")","v":""},"","",""]
[{"$f":"IF(董監事持股狀況!K778=\"\",\"\",董監事持股狀況!K778)","v":""},null,{"$f":"IF(董監事持股狀況!M778=\"\",\"\",董監事持股狀況!M778)","v":""},{"$f":"IFERROR(VLOOKUP(A784,股價!A:B,2,0),\"\")","v":""},"","",""]
[{"$f":"IF(董監事持股狀況!K779=\"\",\"\",董監事持股狀況!K779)","v":""},null,{"$f":"IF(董監事持股狀況!M779=\"\",\"\",董監事持股狀況!M779)","v":""},{"$f":"IFERROR(VLOOKUP(A785,股價!A:B,2,0),\"\")","v":""},"","",""]
[{"$f":"IF(董監事持股狀況!K780=\"\",\"\",董監事持股狀況!K780)","v":""},null,{"$f":"IF(董監事持股狀況!M780=\"\",\"\",董監事持股狀況!M780)","v":""},{"$f":"IFERROR(VLOOKUP(A786,股價!A:B,2,0),\"\")","v":""},"","",""]
[{"$f":"IF(董監事持股狀況!K781=\"\",\"\",董監事持股狀況!K781)","v":""},null,{"$f":"IF(董監事持股狀況!M781=\"\",\"\",董監事持股狀況!M781)","v":""},{"$f":"IFERROR(VLOOKUP(A787,股價!A:B,2,0),\"\")","v":""},"","",""]
[{"$f":"IF(董監事持股狀況!K782=\"\",\"\",董監事持股狀況!K782)","v":""},null,{"$f":"IF(董監事持股狀況!M782=\"\",\"\",董監事持股狀況!M782)","v":""},{"$f":"IFERROR(VLOOKUP(A788,股價!A:B,2,0),\"\")","v":""},"","",""]
[{"$f":"IF(董監事持股狀況!K783=\"\",\"\",董監事持股狀況!K783)","v":""},null,{"$f":"IF(董監事持股狀況!M783=\"\",\"\",董監事持股狀況!M783)","v":""},{"$f":"IFERROR(VLOOKUP(A789,股價!A:B,2,0),\"\")","v":""},"","",""]
[{"$f":"IF(董監事持股狀況!K784=\"\",\"\",董監事持股狀況!K784)","v":""},null,{"$f":"IF(董監事持股狀況!M784=\"\",\"\",董監事持股狀況!M784)","v":""},{"$f":"IFERROR(VLOOKUP(A790,股價!A:B,2,0),\"\")","v":""},"","",""]
[{"$f":"IF(董監事持股狀況!K785=\"\",\"\",董監事持股狀況!K785)","v":""},null,{"$f":"IF(董監事持股狀況!M785=\"\",\"\",董監事持股狀況!M785)","v":""},{"$f":"IFERROR(VLOOKUP(A791,股價!A:B,2,0),\"\")","v":""},"","",""]
[{"$f":"IF(董監事持股狀況!K786=\"\",\"\",董監事持股狀況!K786)","v":""},null,{"$f":"IF(董監事持股狀況!M786=\"\",\"\",董監事持股狀況!M786)","v":""},{"$f":"IFERROR(VLOOKUP(A792,股價!A:B,2,0),\"\")","v":""},"","",""]
[{"$f":"IF(董監事持股狀況!K787=\"\",\"\",董監事持股狀況!K787)","v":""},null,{"$f":"IF(董監事持股狀況!M787=\"\",\"\",董監事持股狀況!M787)","v":""},{"$f":"IFERROR(VLOOKUP(A793,股價!A:B,2,0),\"\")","v":""},"","",""]
[{"$f":"IF(董監事持股狀況!K788=\"\",\"\",董監事持股狀況!K788)","v":""},null,{"$f":"IF(董監事持股狀況!M788=\"\",\"\",董監事持股狀況!M788)","v":""},{"$f":"IFERROR(VLOOKUP(A794,股價!A:B,2,0),\"\")","v":""},"","",""]
[{"$f":"IF(董監事持股狀況!K789=\"\",\"\",董監事持股狀況!K789)","v":""},null,{"$f":"IF(董監事持股狀況!M789=\"\",\"\",董監事持股狀況!M789)","v":""},{"$f":"IFERROR(VLOOKUP(A795,股價!A:B,2,0),\"\")","v":""},"","",""]
[{"$f":"IF(董監事持股狀況!K790=\"\",\"\",董監事持股狀況!K790)","v":""},null,{"$f":"IF(董監事持股狀況!M790=\"\",\"\",董監事持股狀況!M790)","v":""},{"$f":"IFERROR(VLOOKUP(A796,股價!A:B,2,0),\"\")","v":""},"","",""]
[{"$f":"IF(董監事持股狀況!K791=\"\",\"\",董監事持股狀況!K791)","v":""},null,{"$f":"IF(董監事持股狀況!M791=\"\",\"\",董監事持股狀況!M791)","v":""},{"$f":"IFERROR(VLOOKUP(A797,股價!A:B,2,0),\"\")","v":""},"","",""]
[{"$f":"IF(董監事持股狀況!K792=\"\",\"\",董監事持股狀況!K792)","v":""},null,{"$f":"IF(董監事持股狀況!M792=\"\",\"\",董監事持股狀況!M792)","v":""},{"$f":"IFERROR(VLOOKUP(A798,股價!A:B,2,0),\"\")","v":""},"","",""]
[{"$f":"IF(董監事持股狀況!K793=\"\",\"\",董監事持股狀況!K793)","v":""},null,{"$f":"IF(董監事持股狀況!M793=\"\",\"\",董監事持股狀況!M793)","v":""},{"$f":"IFERROR(VLOOKUP(A799,股價!A:B,2,0),\"\")","v":""},"","",""]
[{"$f":"IF(董監事持股狀況!K794=\"\",\"\",董監事持股狀況!K794)","v":""},null,{"$f":"IF(董監事持股狀況!M794=\"\",\"\",董監事持股狀況!M794)","v":""},{"$f":"IFERROR(VLOOKUP(A800,股價!A:B,2,0),\"\")","v":""},"","",""]
[{"$f":"IF(董監事持股狀況!K795=\"\",\"\",董監事持股狀況!K795)","v":""},null,{"$f":"IF(董監事持股狀況!M795=\"\",\"\",董監事持股狀況!M795)","v":""},{"$f":"IFERROR(VLOOKUP(A801,股價!A:B,2,0),\"\")","v":""},"","",""]
[{"$f":"IF(董監事持股狀況!K796=\"\",\"\",董監事持股狀況!K796)","v":""},null,{"$f":"IF(董監事持股狀況!M796=\"\",\"\",董監事持股狀況!M796)","v":""},{"$f":"IFERROR(VLOOKUP(A802,股價!A:B,2,0),\"\")","v":""},"","",""]
[{"$f":"IF(董監事持股狀況!K797=\"\",\"\",董監事持股狀況!K797)","v":""},null,{"$f":"IF(董監事持股狀況!M797=\"\",\"\",董監事持股狀況!M797)","v":""},{"$f":"IFERROR(VLOOKUP(A803,股價!A:B,2,0),\"\")","v":""},"","",""]
[{"$f":"IF(董監事持股狀況!K798=\"\",\"\",董監事持股狀況!K798)","v":""},null,{"$f":"IF(董監事持股狀況!M798=\"\",\"\",董監事持股狀況!M798)","v":""},{"$f":"IFERROR(VLOOKUP(A804,股價!A:B,2,0),\"\")","v":""},"","",""]
[{"$f":"IF(董監事持股狀況!K799=\"\",\"\",董監事持股狀況!K799)","v":""},null,{"$f":"IF(董監事持股狀況!M799=\"\",\"\",董監事持股狀況!M799)","v":""},{"$f":"IFERROR(VLOOKUP(A805,股價!A:B,2,0),\"\")","v":""},"","",""]
[{"$f":"IF(董監事持股狀況!K800=\"\",\"\",董監事持股狀況!K800)","v":""},null,{"$f":"IF(董監事持股狀況!M800=\"\",\"\",董監事持股狀況!M800)","v":""},{"$f":"IFERROR(VLOOKUP(A806,股價!A:B,2,0),\"\")","v":""},"","",""]
[{"$f":"IF(董監事持股狀況!K801=\"\",\"\",董監事持股狀況!K801)","v":""},null,{"$f":"IF(董監事持股狀況!M801=\"\",\"\",董監事持股狀況!M801)","v":""},{"$f":"IFERROR(VLOOKUP(A807,股價!A:B,2,0),\"\")","v":""},"","",""]
[{"$f":"IF(董監事持股狀況!K802=\"\",\"\",董監事持股狀況!K802)","v":""},null,{"$f":"IF(董監事持股狀況!M802=\"\",\"\",董監事持股狀況!M802)","v":""},{"$f":"IFERROR(VLOOKUP(A808,股價!A:B,2,0),\"\")","v":""},"","",""]
[{"$f":"IF(董監事持股狀況!K803=\"\",\"\",董監事持股狀況!K803)","v":""},null,{"$f":"IF(董監事持股狀況!M803=\"\",\"\",董監事持股狀況!M803)","v":""},{"$f":"IFERROR(VLOOKUP(A809,股價!A:B,2,0),\"\")","v":""},"","",""]
[{"$f":"IF(董監事持股狀況!K804=\"\",\"\",董監事持股狀況!K804)","v":""},null,{"$f":"IF(董監事持股狀況!M804=\"\",\"\",董監事持股狀況!M804)","v":""},{"$f":"IFERROR(VLOOKUP(A810,股價!A:B,2,0),\"\")","v":""},"","",""]
[{"$f":"IF(董監事持股狀況!K805=\"\",\"\",董監事持股狀況!K805)","v":""},null,{"$f":"IF(董監事持股狀況!M805=\"\",\"\",董監事持股狀況!M805)","v":""},{"$f":"IFERROR(VLOOKUP(A811,股價!A:B,2,0),\"\")","v":""},"","",""]
[{"$f":"IF(董監事持股狀況!K806=\"\",\"\",董監事持股狀況!K806)","v":""},null,{"$f":"IF(董監事持股狀況!M806=\"\",\"\",董監事持股狀況!M806)","v":""},{"$f":"IFERROR(VLOOKUP(A812,股價!A:B,2,0),\"\")","v":""},"","",""]
[{"$f":"IF(董監事持股狀況!K807=\"\",\"\",董監事持股狀況!K807)","v":""},null,{"$f":"IF(董監事持股狀況!M807=\"\",\"\",董監事持股狀況!M807)","v":""},{"$f":"IFERROR(VLOOKUP(A813,股價!A:B,2,0),\"\")","v":""},"","",""]
[{"$f":"IF(董監事持股狀況!K808=\"\",\"\",董監事持股狀況!K808)","v":""},null,{"$f":"IF(董監事持股狀況!M808=\"\",\"\",董監事持股狀況!M808)","v":""},{"$f":"IFERROR(VLOOKUP(A814,股價!A:B,2,0),\"\")","v":""},"","",""]
[{"$f":"IF(董監事持股狀況!K809=\"\",\"\",董監事持股狀況!K809)","v":""},null,{"$f":"IF(董監事持股狀況!M809=\"\",\"\",董監事持股狀況!M809)","v":""},{"$f":"IFERROR(VLOOKUP(A815,股價!A:B,2,0),\"\")","v":""},"","",""]
[{"$f":"IF(董監事持股狀況!K810=\"\",\"\",董監事持股狀況!K810)","v":""},null,{"$f":"IF(董監事持股狀況!M810=\"\",\"\",董監事持股狀況!M810)","v":""},{"$f":"IFERROR(VLOOKUP(A816,股價!A:B,2,0),\"\")","v":""},"","",""]
[{"$f":"IF(董監事持股狀況!K811=\"\",\"\",董監事持股狀況!K811)","v":""},null,{"$f":"IF(董監事持股狀況!M811=\"\",\"\",董監事持股狀況!M811)","v":""},{"$f":"IFERROR(VLOOKUP(A817,股價!A:B,2,0),\"\")","v":""},"","",""]
[{"$f":"IF(董監事持股狀況!K812=\"\",\"\",董監事持股狀況!K812)","v":""},null,{"$f":"IF(董監事持股狀況!M812=\"\",\"\",董監事持股狀況!M812)","v":""},{"$f":"IFERROR(VLOOKUP(A818,股價!A:B,2,0),\"\")","v":""},"","",""]
[{"$f":"IF(董監事持股狀況!K813=\"\",\"\",董監事持股狀況!K813)","v":""},null,{"$f":"IF(董監事持股狀況!M813=\"\",\"\",董監事持股狀況!M813)","v":""},{"$f":"IFERROR(VLOOKUP(A819,股價!A:B,2,0),\"\")","v":""},"","",""]
[{"$f":"IF(董監事持股狀況!K814=\"\",\"\",董監事持股狀況!K814)","v":""},null,{"$f":"IF(董監事持股狀況!M814=\"\",\"\",董監事持股狀況!M814)","v":""},{"$f":"IFERROR(VLOOKUP(A820,股價!A:B,2,0),\"\")","v":""},"","",""]
[{"$f":"IF(董監事持股狀況!K815=\"\",\"\",董監事持股狀況!K815)","v":""},null,{"$f":"IF(董監事持股狀況!M815=\"\",\"\",董監事持股狀況!M815)","v":""},{"$f":"IFERROR(VLOOKUP(A821,股價!A:B,2,0),\"\")","v":""},"","",""]
[{"$f":"IF(董監事持股狀況!K816=\"\",\"\",董監事持股狀況!K816)","v":""},null,{"$f":"IF(董監事持股狀況!M816=\"\",\"\",董監事持股狀況!M816)","v":""},{"$f":"IFERROR(VLOOKUP(A822,股價!A:B,2,0),\"\")","v":""},"","",""]
[{"$f":"IF(董監事持股狀況!K817=\"\",\"\",董監事持股狀況!K817)","v":""},null,{"$f":"IF(董監事持股狀況!M817=\"\",\"\",董監事持股狀況!M817)","v":""},{"$f":"IFERROR(VLOOKUP(A823,股價!A:B,2,0),\"\")","v":""},"","",""]
[{"$f":"IF(董監事持股狀況!K818=\"\",\"\",董監事持股狀況!K818)","v":""},null,{"$f":"IF(董監事持股狀況!M818=\"\",\"\",董監事持股狀況!M818)","v":""},{"$f":"IFERROR(VLOOKUP(A824,股價!A:B,2,0),\"\")","v":""},"","",""]
[{"$f":"IF(董監事持股狀況!K819=\"\",\"\",董監事持股狀況!K819)","v":""},null,{"$f":"IF(董監事持股狀況!M819=\"\",\"\",董監事持股狀況!M819)","v":""},{"$f":"IFERROR(VLOOKUP(A825,股價!A:B,2,0),\"\")","v":""},"","",""]
[{"$f":"IF(董監事持股狀況!K820=\"\",\"\",董監事持股狀況!K820)","v":""},null,{"$f":"IF(董監事持股狀況!M820=\"\",\"\",董監事持股狀況!M820)","v":""},{"$f":"IFERROR(VLOOKUP(A826,股價!A:B,2,0),\"\")","v":""},"","",""]
[{"$f":"IF(董監事持股狀況!K821=\"\",\"\",董監事持股狀況!K821)","v":""},null,{"$f":"IF(董監事持股狀況!M821=\"\",\"\",董監事持股狀況!M821)","v":""},{"$f":"IFERROR(VLOOKUP(A827,股價!A:B,2,0),\"\")","v":""},"","",""]
[{"$f":"IF(董監事持股狀況!K822=\"\",\"\",董監事持股狀況!K822)","v":""},null,{"$f":"IF(董監事持股狀況!M822=\"\",\"\",董監事持股狀況!M822)","v":""},{"$f":"IFERROR(VLOOKUP(A828,股價!A:B,2,0),\"\")","v":""},"","",""]
[{"$f":"IF(董監事持股狀況!K823=\"\",\"\",董監事持股狀況!K823)","v":""},null,{"$f":"IF(董監事持股狀況!M823=\"\",\"\",董監事持股狀況!M823)","v":""},{"$f":"IFERROR(VLOOKUP(A829,股價!A:B,2,0),\"\")","v":""},"","",""]
[{"$f":"IF(董監事持股狀況!K824=\"\",\"\",董監事持股狀況!K824)","v":""},null,{"$f":"IF(董監事持股狀況!M824=\"\",\"\",董監事持股狀況!M824)","v":""},{"$f":"IFERROR(VLOOKUP(A830,股價!A:B,2,0),\"\")","v":""},"","",""]
[{"$f":"IF(董監事持股狀況!K825=\"\",\"\",董監事持股狀況!K825)","v":""},null,{"$f":"IF(董監事持股狀況!M825=\"\",\"\",董監事持股狀況!M825)","v":""},{"$f":"IFERROR(VLOOKUP(A831,股價!A:B,2,0),\"\")","v":""},"","",""]
[{"$f":"IF(董監事持股狀況!K826=\"\",\"\",董監事持股狀況!K826)","v":""},null,{"$f":"IF(董監事持股狀況!M826=\"\",\"\",董監事持股狀況!M826)","v":""},{"$f":"IFERROR(VLOOKUP(A832,股價!A:B,2,0),\"\")","v":""},"","",""]
[{"$f":"IF(董監事持股狀況!K827=\"\",\"\",董監事持股狀況!K827)","v":""},null,{"$f":"IF(董監事持股狀況!M827=\"\",\"\",董監事持股狀況!M827)","v":""},{"$f":"IFERROR(VLOOKUP(A833,股價!A:B,2,0),\"\")","v":""},"","",""]
[{"$f":"IF(董監事持股狀況!K828=\"\",\"\",董監事持股狀況!K828)","v":""},null,{"$f":"IF(董監事持股狀況!M828=\"\",\"\",董監事持股狀況!M828)","v":""},{"$f":"IFERROR(VLOOKUP(A834,股價!A:B,2,0),\"\")","v":""},"","",""]
[{"$f":"IF(董監事持股狀況!K829=\"\",\"\",董監事持股狀況!K829)","v":""},null,{"$f":"IF(董監事持股狀況!M829=\"\",\"\",董監事持股狀況!M829)","v":""},{"$f":"IFERROR(VLOOKUP(A835,股價!A:B,2,0),\"\")","v":""},"","",""]
[{"$f":"IF(董監事持股狀況!K830=\"\",\"\",董監事持股狀況!K830)","v":""},null,{"$f":"IF(董監事持股狀況!M830=\"\",\"\",董監事持股狀況!M830)","v":""},{"$f":"IFERROR(VLOOKUP(A836,股價!A:B,2,0),\"\")","v":""},"","",""]
[{"$f":"IF(董監事持股狀況!K831=\"\",\"\",董監事持股狀況!K831)","v":""},null,{"$f":"IF(董監事持股狀況!M831=\"\",\"\",董監事持股狀況!M831)","v":""},{"$f":"IFERROR(VLOOKUP(A837,股價!A:B,2,0),\"\")","v":""},"","",""]
[{"$f":"IF(董監事持股狀況!K832=\"\",\"\",董監事持股狀況!K832)","v":""},null,{"$f":"IF(董監事持股狀況!M832=\"\",\"\",董監事持股狀況!M832)","v":""},{"$f":"IFERROR(VLOOKUP(A838,股價!A:B,2,0),\"\")","v":""},"","",""]
[{"$f":"IF(董監事持股狀況!K833=\"\",\"\",董監事持股狀況!K833)","v":""},null,{"$f":"IF(董監事持股狀況!M833=\"\",\"\",董監事持股狀況!M833)","v":""},{"$f":"IFERROR(VLOOKUP(A839,股價!A:B,2,0),\"\")","v":""},"","",""]
[{"$f":"IF(董監事持股狀況!K834=\"\",\"\",董監事持股狀況!K834)","v":""},null,{"$f":"IF(董監事持股狀況!M834=\"\",\"\",董監事持股狀況!M834)","v":""},{"$f":"IFERROR(VLOOKUP(A840,股價!A:B,2,0),\"\")","v":""},"",{"$f":"IFERROR(E840/$E$5*100,\"\")","v":""},{"$f":"IF(F840=\"\",\"\",RANK(F840,$F$8:$F$999))","v":""}]
[{"$f":"IF(董監事持股狀況!K835=\"\",\"\",董監事持股狀況!K835)","v":""},null,{"$f":"IF(董監事持股狀況!M835=\"\",\"\",董監事持股狀況!M835)","v":""},{"$f":"IFERROR(VLOOKUP(A841,股價!A:B,2,0),\"\")","v":""},{"$f":"IFERROR(C841*D841,\"\")","v":""},"",""]
[{"$f":"IF(董監事持股狀況!K836=\"\",\"\",董監事持股狀況!K836)","v":""},null,{"$f":"IF(董監事持股狀況!M836=\"\",\"\",董監事持股狀況!M836)","v":""},{"$f":"IFERROR(VLOOKUP(A842,股價!A:B,2,0),\"\")","v":""},"","",""]
[{"$f":"IF(董監事持股狀況!K837=\"\",\"\",董監事持股狀況!K837)","v":""},null,{"$f":"IF(董監事持股狀況!M837=\"\",\"\",董監事持股狀況!M837)","v":""},{"$f":"IFERROR(VLOOKUP(A843,股價!A:B,2,0),\"\")","v":""},"","",""]
[{"$f":"IF(董監事持股狀況!K838=\"\",\"\",董監事持股狀況!K838)","v":""},null,{"$f":"IF(董監事持股狀況!M838=\"\",\"\",董監事持股狀況!M838)","v":""},{"$f":"IFERROR(VLOOKUP(A844,股價!A:B,2,0),\"\")","v":""},"","",""]
[{"$f":"IF(董監事持股狀況!K839=\"\",\"\",董監事持股狀況!K839)","v":""},null,{"$f":"IF(董監事持股狀況!M839=\"\",\"\",董監事持股狀況!M839)","v":""},{"$f":"IFERROR(VLOOKUP(A845,股價!A:B,2,0),\"\")","v":""},"","",""]
[{"$f":"IF(董監事持股狀況!K840=\"\",\"\",董監事持股狀況!K840)","v":""},null,{"$f":"IF(董監事持股狀況!M840=\"\",\"\",董監事持股狀況!M840)","v":""},{"$f":"IFERROR(VLOOKUP(A846,股價!A:B,2,0),\"\")","v":""},"","",""]
[{"$f":"IF(董監事持股狀況!K841=\"\",\"\",董監事持股狀況!K841)","v":""},null,{"$f":"IF(董監事持股狀況!M841=\"\",\"\",董監事持股狀況!M841)","v":""},{"$f":"IFERROR(VLOOKUP(A847,股價!A:B,2,0),\"\")","v":""},"","",""]
[{"$f":"IF(董監事持股狀況!K842=\"\",\"\",董監事持股狀況!K842)","v":""},null,{"$f":"IF(董監事持股狀況!M842=\"\",\"\",董監事持股狀況!M842)","v":""},{"$f":"IFERROR(VLOOKUP(A848,股價!A:B,2,0),\"\")","v":""},"","",""]
[{"$f":"IF(董監事持股狀況!K843=\"\",\"\",董監事持股狀況!K843)","v":""},null,{"$f":"IF(董監事持股狀況!M843=\"\",\"\",董監事持股狀況!M843)","v":""},{"$f":"IFERROR(VLOOKUP(A849,股價!A:B,2,0),\"\")","v":""},"","",""]
[{"$f":"IF(董監事持股狀況!K844=\"\",\"\",董監事持股狀況!K844)","v":""},null,{"$f":"IF(董監事持股狀況!M844=\"\",\"\",董監事持股狀況!M844)","v":""},{"$f":"IFERROR(VLOOKUP(A850,股價!A:B,2,0),\"\")","v":""},"","",""]
[{"$f":"IF(董監事持股狀況!K845=\"\",\"\",董監事持股狀況!K845)","v":""},null,{"$f":"IF(董監事持股狀況!M845=\"\",\"\",董監事持股狀況!M845)","v":""},{"$f":"IFERROR(VLOOKUP(A851,股價!A:B,2,0),\"\")","v":""},"","",""]
[{"$f":"IF(董監事持股狀況!K846=\"\",\"\",董監事持股狀況!K846)","v":""},null,{"$f":"IF(董監事持股狀況!M846=\"\",\"\",董監事持股狀況!M846)","v":""},{"$f":"IFERROR(VLOOKUP(A852,股價!A:B,2,0),\"\")","v":""},"","",""]
[{"$f":"IF(董監事持股狀況!K847=\"\",\"\",董監事持股狀況!K847)","v":""},null,{"$f":"IF(董監事持股狀況!M847=\"\",\"\",董監事持股狀況!M847)","v":""},{"$f":"IFERROR(VLOOKUP(A853,股價!A:B,2,0),\"\")","v":""},"","",""]
[{"$f":"IF(董監事持股狀況!K848=\"\",\"\",董監事持股狀況!K848)","v":""},null,{"$f":"IF(董監事持股狀況!M848=\"\",\"\",董監事持股狀況!M848)","v":""},{"$f":"IFERROR(VLOOKUP(A854,股價!A:B,2,0),\"\")","v":""},"","",""]
[{"$f":"IF(董監事持股狀況!K849=\"\",\"\",董監事持股狀況!K849)","v":""},null,{"$f":"IF(董監事持股狀況!M849=\"\",\"\",董監事持股狀況!M849)","v":""},{"$f":"IFERROR(VLOOKUP(A855,股價!A:B,2,0),\"\")","v":""},"","",""]
[{"$f":"IF(董監事持股狀況!K850=\"\",\"\",董監事持股狀況!K850)","v":""},null,{"$f":"IF(董監事持股狀況!M850=\"\",\"\",董監事持股狀況!M850)","v":""},{"$f":"IFERROR(VLOOKUP(A856,股價!A:B,2,0),\"\")","v":""},"","",""]
[{"$f":"IF(董監事持股狀況!K851=\"\",\"\",董監事持股狀況!K851)","v":""},null,{"$f":"IF(董監事持股狀況!M851=\"\",\"\",董監事持股狀況!M851)","v":""},{"$f":"IFERROR(VLOOKUP(A857,股價!A:B,2,0),\"\")","v":""},"","",""]
[{"$f":"IF(董監事持股狀況!K852=\"\",\"\",董監事持股狀況!K852)","v":""},null,{"$f":"IF(董監事持股狀況!M852=\"\",\"\",董監事持股狀況!M852)","v":""},{"$f":"IFERROR(VLOOKUP(A858,股價!A:B,2,0),\"\")","v":""},"","",""]
[{"$f":"IF(董監事持股狀況!K853=\"\",\"\",董監事持股狀況!K853)","v":""},null,{"$f":"IF(董監事持股狀況!M853=\"\",\"\",董監事持股狀況!M853)","v":""},{"$f":"IFERROR(VLOOKUP(A859,股價!A:B,2,0),\"\")","v":""},"","",""]
[{"$f":"IF(董監事持股狀況!K854=\"\",\"\",董監事持股狀況!K854)","v":""},null,{"$f":"IF(董監事持股狀況!M854=\"\",\"\",董監事持股狀況!M854)","v":""},{"$f":"IFERROR(VLOOKUP(A860,股價!A:B,2,0),\"\")","v":""},"","",""]
[{"$f":"IF(董監事持股狀況!K855=\"\",\"\",董監事持股狀況!K855)","v":""},null,{"$f":"IF(董監事持股狀況!M855=\"\",\"\",董監事持股狀況!M855)","v":""},{"$f":"IFERROR(VLOOKUP(A861,股價!A:B,2,0),\"\")","v":""},"","",""]
[{"$f":"IF(董監事持股狀況!K856=\"\",\"\",董監事持股狀況!K856)","v":""},null,{"$f":"IF(董監事持股狀況!M856=\"\",\"\",董監事持股狀況!M856)","v":""},{"$f":"IFERROR(VLOOKUP(A862,股價!A:B,2,0),\"\")","v":""},"","",""]
[{"$f":"IF(董監事持股狀況!K857=\"\",\"\",董監事持股狀況!K857)","v":""},null,{"$f":"IF(董監事持股狀況!M857=\"\",\"\",董監事持股狀況!M857)","v":""},{"$f":"IFERROR(VLOOKUP(A863,股價!A:B,2,0),\"\")","v":""},"","",""]
[{"$f":"IF(董監事持股狀況!K858=\"\",\"\",董監事持股狀況!K858)","v":""},null,{"$f":"IF(董監事持股狀況!M858=\"\",\"\",董監事持股狀況!M858)","v":""},{"$f":"IFERROR(VLOOKUP(A864,股價!A:B,2,0),\"\")","v":""},"","",""]
[{"$f":"IF(董監事持股狀況!K859=\"\",\"\",董監事持股狀況!K859)","v":""},null,{"$f":"IF(董監事持股狀況!M859=\"\",\"\",董監事持股狀況!M859)","v":""},{"$f":"IFERROR(VLOOKUP(A865,股價!A:B,2,0),\"\")","v":""},"","",""]
[{"$f":"IF(董監事持股狀況!K860=\"\",\"\",董監事持股狀況!K860)","v":""},null,{"$f":"IF(董監事持股狀況!M860=\"\",\"\",董監事持股狀況!M860)","v":""},{"$f":"IFERROR(VLOOKUP(A866,股價!A:B,2,0),\"\")","v":""},"","",""]
[{"$f":"IF(董監事持股狀況!K861=\"\",\"\",董監事持股狀況!K861)","v":""},null,{"$f":"IF(董監事持股狀況!M861=\"\",\"\",董監事持股狀況!M861)","v":""},{"$f":"IFERROR(VLOOKUP(A867,股價!A:B,2,0),\"\")","v":""},"","",""]
[{"$f":"IF(董監事持股狀況!K862=\"\",\"\",董監事持股狀況!K862)","v":""},null,{"$f":"IF(董監事持股狀況!M862=\"\",\"\",董監事持股狀況!M862)","v":""},{"$f":"IFERROR(VLOOKUP(A868,股價!A:B,2,0),\"\")","v":""},"","",""]
[{"$f":"IF(董監事持股狀況!K863=\"\",\"\",董監事持股狀況!K863)","v":""},null,{"$f":"IF(董監事持股狀況!M863=\"\",\"\",董監事持股狀況!M863)","v":""},{"$f":"IFERROR(VLOOKUP(A869,股價!A:B,2,0),\"\")","v":""},"","",""]
[{"$f":"IF(董監事持股狀況!K864=\"\",\"\",董監事持股狀況!K864)","v":""},null,{"$f":"IF(董監事持股狀況!M864=\"\",\"\",董監事持股狀況!M864)","v":""},{"$f":"IFERROR(VLOOKUP(A870,股價!A:B,2,0),\"\")","v":""},"","",""]
[{"$f":"IF(董監事持股狀況!K865=\"\",\"\",董監事持股狀況!K865)","v":""},null,{"$f":"IF(董監事持股狀況!M865=\"\",\"\",董監事持股狀況!M865)","v":""},{"$f":"IFERROR(VLOOKUP(A871,股價!A:B,2,0),\"\")","v":""},"","",""]
[{"$f":"IF(董監事持股狀況!K866=\"\",\"\",董監事持股狀況!K866)","v":""},null,{"$f":"IF(董監事持股狀況!M866=\"\",\"\",董監事持股狀況!M866)","v":""},{"$f":"IFERROR(VLOOKUP(A872,股價!A:B,2,0),\"\")","v":""},"","",""]
[{"$f":"IF(董監事持股狀況!K867=\"\",\"\",董監事持股狀況!K867)","v":""},null,{"$f":"IF(董監事持股狀況!M867=\"\",\"\",董監事持股狀況!M867)","v":""},{"$f":"IFERROR(VLOOKUP(A873,股價!A:B,2,0),\"\")","v":""},"","",""]
[{"$f":"IF(董監事持股狀況!K868=\"\",\"\",董監事持股狀況!K868)","v":""},null,{"$f":"IF(董監事持股狀況!M868=\"\",\"\",董監事持股狀況!M868)","v":""},{"$f":"IFERROR(VLOOKUP(A874,股價!A:B,2,0),\"\")","v":""},"","",""]
[{"$f":"IF(董監事持股狀況!K869=\"\",\"\",董監事持股狀況!K869)","v":""},null,{"$f":"IF(董監事持股狀況!M869=\"\",\"\",董監事持股狀況!M869)","v":""},{"$f":"IFERROR(VLOOKUP(A875,股價!A:B,2,0),\"\")","v":""},"","",""]
[{"$f":"IF(董監事持股狀況!K870=\"\",\"\",董監事持股狀況!K870)","v":""},null,{"$f":"IF(董監事持股狀況!M870=\"\",\"\",董監事持股狀況!M870)","v":""},{"$f":"IFERROR(VLOOKUP(A876,股價!A:B,2,0),\"\")","v":""},"","",""]
[{"$f":"IF(董監事持股狀況!K871=\"\",\"\",董監事持股狀況!K871)","v":""},null,{"$f":"IF(董監事持股狀況!M871=\"\",\"\",董監事持股狀況!M871)","v":""},{"$f":"IFERROR(VLOOKUP(A877,股價!A:B,2,0),\"\")","v":""},"","",""]
[{"$f":"IF(董監事持股狀況!K872=\"\",\"\",董監事持股狀況!K872)","v":""},null,{"$f":"IF(董監事持股狀況!M872=\"\",\"\",董監事持股狀況!M872)","v":""},{"$f":"IFERROR(VLOOKUP(A878,股價!A:B,2,0),\"\")","v":""},"","",""]
[{"$f":"IF(董監事持股狀況!K873=\"\",\"\",董監事持股狀況!K873)","v":""},null,{"$f":"IF(董監事持股狀況!M873=\"\",\"\",董監事持股狀況!M873)","v":""},{"$f":"IFERROR(VLOOKUP(A879,股價!A:B,2,0),\"\")","v":""},"","",""]
[{"$f":"IF(董監事持股狀況!K874=\"\",\"\",董監事持股狀況!K874)","v":""},null,{"$f":"IF(董監事持股狀況!M874=\"\",\"\",董監事持股狀況!M874)","v":""},{"$f":"IFERROR(VLOOKUP(A880,股價!A:B,2,0),\"\")","v":""},"","",""]
[{"$f":"IF(董監事持股狀況!K875=\"\",\"\",董監事持股狀況!K875)","v":""},null,{"$f":"IF(董監事持股狀況!M875=\"\",\"\",董監事持股狀況!M875)","v":""},{"$f":"IFERROR(VLOOKUP(A881,股價!A:B,2,0),\"\")","v":""},"","",""]
[{"$f":"IF(董監事持股狀況!K876=\"\",\"\",董監事持股狀況!K876)","v":""},null,{"$f":"IF(董監事持股狀況!M876=\"\",\"\",董監事持股狀況!M876)","v":""},{"$f":"IFERROR(VLOOKUP(A882,股價!A:B,2,0),\"\")","v":""},"","",""]
[{"$f":"IF(董監事持股狀況!K877=\"\",\"\",董監事持股狀況!K877)","v":""},null,{"$f":"IF(董監事持股狀況!M877=\"\",\"\",董監事持股狀況!M877)","v":""},{"$f":"IFERROR(VLOOKUP(A883,股價!A:B,2,0),\"\")","v":""},"","",""]
[{"$f":"IF(董監事持股狀況!K878=\"\",\"\",董監事持股狀況!K878)","v":""},null,{"$f":"IF(董監事持股狀況!M878=\"\",\"\",董監事持股狀況!M878)","v":""},{"$f":"IFERROR(VLOOKUP(A884,股價!A:B,2,0),\"\")","v":""},"","",""]
[{"$f":"IF(董監事持股狀況!K879=\"\",\"\",董監事持股狀況!K879)","v":""},null,{"$f":"IF(董監事持股狀況!M879=\"\",\"\",董監事持股狀況!M879)","v":""},{"$f":"IFERROR(VLOOKUP(A885,股價!A:B,2,0),\"\")","v":""},"","",""]
[{"$f":"IF(董監事持股狀況!K880=\"\",\"\",董監事持股狀況!K880)","v":""},null,{"$f":"IF(董監事持股狀況!M880=\"\",\"\",董監事持股狀況!M880)","v":""},{"$f":"IFERROR(VLOOKUP(A886,股價!A:B,2,0),\"\")","v":""},"","",""]
[{"$f":"IF(董監事持股狀況!K881=\"\",\"\",董監事持股狀況!K881)","v":""},null,{"$f":"IF(董監事持股狀況!M881=\"\",\"\",董監事持股狀況!M881)","v":""},{"$f":"IFERROR(VLOOKUP(A887,股價!A:B,2,0),\"\")","v":""},"","",""]
[{"$f":"IF(董監事持股狀況!K882=\"\",\"\",董監事持股狀況!K882)","v":""},null,{"$f":"IF(董監事持股狀況!M882=\"\",\"\",董監事持股狀況!M882)","v":""},{"$f":"IFERROR(VLOOKUP(A888,股價!A:B,2,0),\"\")","v":""},"","",""]
[{"$f":"IF(董監事持股狀況!K883=\"\",\"\",董監事持股狀況!K883)","v":""},null,{"$f":"IF(董監事持股狀況!M883=\"\",\"\",董監事持股狀況!M883)","v":""},{"$f":"IFERROR(VLOOKUP(A889,股價!A:B,2,0),\"\")","v":""},"","",""]
[{"$f":"IF(董監事持股狀況!K884=\"\",\"\",董監事持股狀況!K884)","v":""},null,{"$f":"IF(董監事持股狀況!M884=\"\",\"\",董監事持股狀況!M884)","v":""},{"$f":"IFERROR(VLOOKUP(A890,股價!A:B,2,0),\"\")","v":""},"","",""]
[{"$f":"IF(董監事持股狀況!K885=\"\",\"\",董監事持股狀況!K885)","v":""},null,{"$f":"IF(董監事持股狀況!M885=\"\",\"\",董監事持股狀況!M885)","v":""},{"$f":"IFERROR(VLOOKUP(A891,股價!A:B,2,0),\"\")","v":""},"","",""]
[{"$f":"IF(董監事持股狀況!K886=\"\",\"\",董監事持股狀況!K886)","v":""},null,{"$f":"IF(董監事持股狀況!M886=\"\",\"\",董監事持股狀況!M886)","v":""},{"$f":"IFERROR(VLOOKUP(A892,股價!A:B,2,0),\"\")","v":""},"","",""]
[{"$f":"IF(董監事持股狀況!K887=\"\",\"\",董監事持股狀況!K887)","v":""},null,{"$f":"IF(董監事持股狀況!M887=\"\",\"\",董監事持股狀況!M887)","v":""},{"$f":"IFERROR(VLOOKUP(A893,股價!A:B,2,0),\"\")","v":""},"","",""]
[{"$f":"IF(董監事持股狀況!K888=\"\",\"\",董監事持股狀況!K888)","v":""},null,{"$f":"IF(董監事持股狀況!M888=\"\",\"\",董監事持股狀況!M888)","v":""},{"$f":"IFERROR(VLOOKUP(A894,股價!A:B,2,0),\"\")","v":""},"","",""]
[{"$f":"IF(董監事持股狀況!K889=\"\",\"\",董監事持股狀況!K889)","v":""},null,{"$f":"IF(董監事持股狀況!M889=\"\",\"\",董監事持股狀況!M889)","v":""},{"$f":"IFERROR(VLOOKUP(A895,股價!A:B,2,0),\"\")","v":""},"","",""]
[{"$f":"IF(董監事持股狀況!K890=\"\",\"\",董監事持股狀況!K890)","v":""},null,{"$f":"IF(董監事持股狀況!M890=\"\",\"\",董監事持股狀況!M890)","v":""},{"$f":"IFERROR(VLOOKUP(A896,股價!A:B,2,0),\"\")","v":""},"","",""]
[{"$f":"IF(董監事持股狀況!K891=\"\",\"\",董監事持股狀況!K891)","v":""},null,{"$f":"IF(董監事持股狀況!M891=\"\",\"\",董監事持股狀況!M891)","v":""},{"$f":"IFERROR(VLOOKUP(A897,股價!A:B,2,0),\"\")","v":""},"","",""]
[{"$f":"IF(董監事持股狀況!K892=\"\",\"\",董監事持股狀況!K892)","v":""},null,{"$f":"IF(董監事持股狀況!M892=\"\",\"\",董監事持股狀況!M892)","v":""},{"$f":"IFERROR(VLOOKUP(A898,股價!A:B,2,0),\"\")","v":""},"","",""]
[{"$f":"IF(董監事持股狀況!K893=\"\",\"\",董監事持股狀況!K893)","v":""},null,{"$f":"IF(董監事持股狀況!M893=\"\",\"\",董監事持股狀況!M893)","v":""},{"$f":"IFERROR(VLOOKUP(A899,股價!A:B,2,0),\"\")","v":""},"","",""]
[{"$f":"IF(董監事持股狀況!K894=\"\",\"\",董監事持股狀況!K894)","v":""},null,{"$f":"IF(董監事持股狀況!M894=\"\",\"\",董監事持股狀況!M894)","v":""},{"$f":"IFERROR(VLOOKUP(A900,股價!A:B,2,0),\"\")","v":""},"","",""]
[{"$f":"IF(董監事持股狀況!K895=\"\",\"\",董監事持股狀況!K895)","v":""},null,{"$f":"IF(董監事持股狀況!M895=\"\",\"\",董監事持股狀況!M895)","v":""},{"$f":"IFERROR(VLOOKUP(A901,股價!A:B,2,0),\"\")","v":""},"","",""]
[{"$f":"IF(董監事持股狀況!K896=\"\",\"\",董監事持股狀況!K896)","v":""},null,{"$f":"IF(董監事持股狀況!M896=\"\",\"\",董監事持股狀況!M896)","v":""},{"$f":"IFERROR(VLOOKUP(A902,股價!A:B,2,0),\"\")","v":""},"","",""]
[{"$f":"IF(董監事持股狀況!K897=\"\",\"\",董監事持股狀況!K897)","v":""},null,{"$f":"IF(董監事持股狀況!M897=\"\",\"\",董監事持股狀況!M897)","v":""},{"$f":"IFERROR(VLOOKUP(A903,股價!A:B,2,0),\"\")","v":""},"","",""]
[{"$f":"IF(董監事持股狀況!K898=\"\",\"\",董監事持股狀況!K898)","v":""},null,{"$f":"IF(董監事持股狀況!M898=\"\",\"\",董監事持股狀況!M898)","v":""},{"$f":"IFERROR(VLOOKUP(A904,股價!A:B,2,0),\"\")","v":""},"",{"$f":"IFERROR(E904/$E$5*100,\"\")","v":""},{"$f":"IF(F904=\"\",\"\",RANK(F904,$F$8:$F$999))","v":""}]
[{"$f":"IF(董監事持股狀況!K899=\"\",\"\",董監事持股狀況!K899)","v":""},null,{"$f":"IF(董監事持股狀況!M899=\"\",\"\",董監事持股狀況!M899)","v":""},{"$f":"IFERROR(VLOOKUP(A905,股價!A:B,2,0),\"\")","v":""},{"$f":"IFERROR(C905*D905,\"\")","v":""},"",""]
[{"$f":"IF(董監事持股狀況!K900=\"\",\"\",董監事持股狀況!K900)","v":""},null,{"$f":"IF(董監事持股狀況!M900=\"\",\"\",董監事持股狀況!M900)","v":""},{"$f":"IFERROR(VLOOKUP(A906,股價!A:B,2,0),\"\")","v":""},"","",""]
[{"$f":"IF(董監事持股狀況!K901=\"\",\"\",董監事持股狀況!K901)","v":""},null,{"$f":"IF(董監事持股狀況!M901=\"\",\"\",董監事持股狀況!M901)","v":""},{"$f":"IFERROR(VLOOKUP(A907,股價!A:B,2,0),\"\")","v":""},"","",""]
[{"$f":"IF(董監事持股狀況!K902=\"\",\"\",董監事持股狀況!K902)","v":""},null,{"$f":"IF(董監事持股狀況!M902=\"\",\"\",董監事持股狀況!M902)","v":""},{"$f":"IFERROR(VLOOKUP(A908,股價!A:B,2,0),\"\")","v":""},"","",""]
[{"$f":"IF(董監事持股狀況!K903=\"\",\"\",董監事持股狀況!K903)","v":""},null,{"$f":"IF(董監事持股狀況!M903=\"\",\"\",董監事持股狀況!M903)","v":""},{"$f":"IFERROR(VLOOKUP(A909,股價!A:B,2,0),\"\")","v":""},"","",""]
[{"$f":"IF(董監事持股狀況!K904=\"\",\"\",董監事持股狀況!K904)","v":""},null,{"$f":"IF(董監事持股狀況!M904=\"\",\"\",董監事持股狀況!M904)","v":""},{"$f":"IFERROR(VLOOKUP(A910,股價!A:B,2,0),\"\")","v":""},"","",""]
[{"$f":"IF(董監事持股狀況!K905=\"\",\"\",董監事持股狀況!K905)","v":""},null,{"$f":"IF(董監事持股狀況!M905=\"\",\"\",董監事持股狀況!M905)","v":""},{"$f":"IFERROR(VLOOKUP(A911,股價!A:B,2,0),\"\")","v":""},"","",""]
[{"$f":"IF(董監事持股狀況!K906=\"\",\"\",董監事持股狀況!K906)","v":""},null,{"$f":"IF(董監事持股狀況!M906=\"\",\"\",董監事持股狀況!M906)","v":""},{"$f":"IFERROR(VLOOKUP(A912,股價!A:B,2,0),\"\")","v":""},"","",""]
[{"$f":"IF(董監事持股狀況!K907=\"\",\"\",董監事持股狀況!K907)","v":""},null,{"$f":"IF(董監事持股狀況!M907=\"\",\"\",董監事持股狀況!M907)","v":""},{"$f":"IFERROR(VLOOKUP(A913,股價!A:B,2,0),\"\")","v":""},"","",""]
[{"$f":"IF(董監事持股狀況!K908=\"\",\"\",董監事持股狀況!K908)","v":""},null,{"$f":"IF(董監事持股狀況!M908=\"\",\"\",董監事持股狀況!M908)","v":""},{"$f":"IFERROR(VLOOKUP(A914,股價!A:B,2,0),\"\")","v":""},"","",""]
[{"$f":"IF(董監事持股狀況!K909=\"\",\"\",董監事持股狀況!K909)","v":""},null,{"$f":"IF(董監事持股狀況!M909=\"\",\"\",董監事持股狀況!M909)","v":""},{"$f":"IFERROR(VLOOKUP(A915,股價!A:B,2,0),\"\")","v":""},"","",""]
[{"$f":"IF(董監事持股狀況!K910=\"\",\"\",董監事持股狀況!K910)","v":""},null,{"$f":"IF(董監事持股狀況!M910=\"\",\"\",董監事持股狀況!M910)","v":""},{"$f":"IFERROR(VLOOKUP(A916,股價!A:B,2,0),\"\")","v":""},"","",""]
[{"$f":"IF(董監事持股狀況!K911=\"\",\"\",董監事持股狀況!K911)","v":""},null,{"$f":"IF(董監事持股狀況!M911=\"\",\"\",董監事持股狀況!M911)","v":""},{"$f":"IFERROR(VLOOKUP(A917,股價!A:B,2,0),\"\")","v":""},"","",""]
[{"$f":"IF(董監事持股狀況!K912=\"\",\"\",董監事持股狀況!K912)","v":""},null,{"$f":"IF(董監事持股狀況!M912=\"\",\"\",董監事持股狀況!M912)","v":""},{"$f":"IFERROR(VLOOKUP(A918,股價!A:B,2,0),\"\")","v":""},"","",""]
[{"$f":"IF(董監事持股狀況!K913=\"\",\"\",董監事持股狀況!K913)","v":""},null,{"$f":"IF(董監事持股狀況!M913=\"\",\"\",董監事持股狀況!M913)","v":""},{"$f":"IFERROR(VLOOKUP(A919,股價!A:B,2,0),\"\")","v":""},"","",""]
[{"$f":"IF(董監事持股狀況!K914=\"\",\"\",董監事持股狀況!K914)","v":""},null,{"$f":"IF(董監事持股狀況!M914=\"\",\"\",董監事持股狀況!M914)","v":""},{"$f":"IFERROR(VLOOKUP(A920,股價!A:B,2,0),\"\")","v":""},"","",""]
[{"$f":"IF(董監事持股狀況!K915=\"\",\"\",董監事持股狀況!K915)","v":""},null,{"$f":"IF(董監事持股狀況!M915=\"\",\"\",董監事持股狀況!M915)","v":""},{"$f":"IFERROR(VLOOKUP(A921,股價!A:B,2,0),\"\")","v":""},"","",""]
[{"$f":"IF(董監事持股狀況!K916=\"\",\"\",董監事持股狀況!K916)","v":""},null,{"$f":"IF(董監事持股狀況!M916=\"\",\"\",董監事持股狀況!M916)","v":""},{"$f":"IFERROR(VLOOKUP(A922,股價!A:B,2,0),\"\")","v":""},"","",""]
[{"$f":"IF(董監事持股狀況!K917=\"\",\"\",董監事持股狀況!K917)","v":""},null,{"$f":"IF(董監事持股狀況!M917=\"\",\"\",董監事持股狀況!M917)","v":""},{"$f":"IFERROR(VLOOKUP(A923,股價!A:B,2,0),\"\")","v":""},"","",""]
[{"$f":"IF(董監事持股狀況!K918=\"\",\"\",董監事持股狀況!K918)","v":""},null,{"$f":"IF(董監事持股狀況!M918=\"\",\"\",董監事持股狀況!M918)","v":""},{"$f":"IFERROR(VLOOKUP(A924,股價!A:B,2,0),\"\")","v":""},"","",""]
[{"$f":"IF(董監事持股狀況!K919=\"\",\"\",董監事持股狀況!K919)","v":""},null,{"$f":"IF(董監事持股狀況!M919=\"\",\"\",董監事持股狀況!M919)","v":""},{"$f":"IFERROR(VLOOKUP(A925,股價!A:B,2,0),\"\")","v":""},"","",""]
[{"$f":"IF(董監事持股狀況!K920=\"\",\"\",董監事持股狀況!K920)","v":""},null,{"$f":"IF(董監事持股狀況!M920=\"\",\"\",董監事持股狀況!M920)","v":""},{"$f":"IFERROR(VLOOKUP(A926,股價!A:B,2,0),\"\")","v":""},"","",""]
[{"$f":"IF(董監事持股狀況!K921=\"\",\"\",董監事持股狀況!K921)","v":""},null,{"$f":"IF(董監事持股狀況!M921=\"\",\"\",董監事持股狀況!M921)","v":""},{"$f":"IFERROR(VLOOKUP(A927,股價!A:B,2,0),\"\")","v":""},"","",""]
[{"$f":"IF(董監事持股狀況!K922=\"\",\"\",董監事持股狀況!K922)","v":""},null,{"$f":"IF(董監事持股狀況!M922=\"\",\"\",董監事持股狀況!M922)","v":""},{"$f":"IFERROR(VLOOKUP(A928,股價!A:B,2,0),\"\")","v":""},"","",""]
[{"$f":"IF(董監事持股狀況!K923=\"\",\"\",董監事持股狀況!K923)","v":""},null,{"$f":"IF(董監事持股狀況!M923=\"\",\"\",董監事持股狀況!M923)","v":""},{"$f":"IFERROR(VLOOKUP(A929,股價!A:B,2,0),\"\")","v":""},"","",""]
[{"$f":"IF(董監事持股狀況!K924=\"\",\"\",董監事持股狀況!K924)","v":""},null,{"$f":"IF(董監事持股狀況!M924=\"\",\"\",董監事持股狀況!M924)","v":""},{"$f":"IFERROR(VLOOKUP(A930,股價!A:B,2,0),\"\")","v":""},"","",""]
[{"$f":"IF(董監事持股狀況!K925=\"\",\"\",董監事持股狀況!K925)","v":""},null,{"$f":"IF(董監事持股狀況!M925=\"\",\"\",董監事持股狀況!M925)","v":""},{"$f":"IFERROR(VLOOKUP(A931,股價!A:B,2,0),\"\")","v":""},"","",""]
[{"$f":"IF(董監事持股狀況!K926=\"\",\"\",董監事持股狀況!K926)","v":""},null,{"$f":"IF(董監事持股狀況!M926=\"\",\"\",董監事持股狀況!M926)","v":""},{"$f":"IFERROR(VLOOKUP(A932,股價!A:B,2,0),\"\")","v":""},"","",""]
[{"$f":"IF(董監事持股狀況!K927=\"\",\"\",董監事持股狀況!K927)","v":""},null,{"$f":"IF(董監事持股狀況!M927=\"\",\"\",董監事持股狀況!M927)","v":""},{"$f":"IFERROR(VLOOKUP(A933,股價!A:B,2,0),\"\")","v":""},"","",""]
[{"$f":"IF(董監事持股狀況!K928=\"\",\"\",董監事持股狀況!K928)","v":""},null,{"$f":"IF(董監事持股狀況!M928=\"\",\"\",董監事持股狀況!M928)","v":""},{"$f":"IFERROR(VLOOKUP(A934,股價!A:B,2,0),\"\")","v":""},"","",""]
[{"$f":"IF(董監事持股狀況!K929=\"\",\"\",董監事持股狀況!K929)","v":""},null,{"$f":"IF(董監事持股狀況!M929=\"\",\"\",董監事持股狀況!M929)","v":""},{"$f":"IFERROR(VLOOKUP(A935,股價!A:B,2,0),\"\")","v":""},"","",""]
[{"$f":"IF(董監事持股狀況!K930=\"\",\"\",董監事持股狀況!K930)","v":""},null,{"$f":"IF(董監事持股狀況!M930=\"\",\"\",董監事持股狀況!M930)","v":""},{"$f":"IFERROR(VLOOKUP(A936,股價!A:B,2,0),\"\")","v":""},"","",""]
[{"$f":"IF(董監事持股狀況!K931=\"\",\"\",董監事持股狀況!K931)","v":""},null,{"$f":"IF(董監事持股狀況!M931=\"\",\"\",董監事持股狀況!M931)","v":""},{"$f":"IFERROR(VLOOKUP(A937,股價!A:B,2,0),\"\")","v":""},"","",""]
[{"$f":"IF(董監事持股狀況!K932=\"\",\"\",董監事持股狀況!K932)","v":""},null,{"$f":"IF(董監事持股狀況!M932=\"\",\"\",董監事持股狀況!M932)","v":""},{"$f":"IFERROR(VLOOKUP(A938,股價!A:B,2,0),\"\")","v":""},"","",""]
[{"$f":"IF(董監事持股狀況!K933=\"\",\"\",董監事持股狀況!K933)","v":""},null,{"$f":"IF(董監事持股狀況!M933=\"\",\"\",董監事持股狀況!M933)","v":""},{"$f":"IFERROR(VLOOKUP(A939,股價!A:B,2,0),\"\")","v":""},"","",""]
[{"$f":"IF(董監事持股狀況!K934=\"\",\"\",董監事持股狀況!K934)","v":""},null,{"$f":"IF(董監事持股狀況!M934=\"\",\"\",董監事持股狀況!M934)","v":""},{"$f":"IFERROR(VLOOKUP(A940,股價!A:B,2,0),\"\")","v":""},"","",""]
[{"$f":"IF(董監事持股狀況!K935=\"\",\"\",董監事持股狀況!K935)","v":""},null,{"$f":"IF(董監事持股狀況!M935=\"\",\"\",董監事持股狀況!M935)","v":""},{"$f":"IFERROR(VLOOKUP(A941,股價!A:B,2,0),\"\")","v":""},"","",""]
[{"$f":"IF(董監事持股狀況!K936=\"\",\"\",董監事持股狀況!K936)","v":""},null,{"$f":"IF(董監事持股狀況!M936=\"\",\"\",董監事持股狀況!M936)","v":""},{"$f":"IFERROR(VLOOKUP(A942,股價!A:B,2,0),\"\")","v":""},"","",""]
[{"$f":"IF(董監事持股狀況!K937=\"\",\"\",董監事持股狀況!K937)","v":""},null,{"$f":"IF(董監事持股狀況!M937=\"\",\"\",董監事持股狀況!M937)","v":""},{"$f":"IFERROR(VLOOKUP(A943,股價!A:B,2,0),\"\")","v":""},"","",""]
[{"$f":"IF(董監事持股狀況!K938=\"\",\"\",董監事持股狀況!K938)","v":""},null,{"$f":"IF(董監事持股狀況!M938=\"\",\"\",董監事持股狀況!M938)","v":""},{"$f":"IFERROR(VLOOKUP(A944,股價!A:B,2,0),\"\")","v":""},"","",""]
[{"$f":"IF(董監事持股狀況!K939=\"\",\"\",董監事持股狀況!K939)","v":""},null,{"$f":"IF(董監事持股狀況!M939=\"\",\"\",董監事持股狀況!M939)","v":""},{"$f":"IFERROR(VLOOKUP(A945,股價!A:B,2,0),\"\")","v":""},"","",""]
[{"$f":"IF(董監事持股狀況!K940=\"\",\"\",董監事持股狀況!K940)","v":""},null,{"$f":"IF(董監事持股狀況!M940=\"\",\"\",董監事持股狀況!M940)","v":""},{"$f":"IFERROR(VLOOKUP(A946,股價!A:B,2,0),\"\")","v":""},"","",""]
[{"$f":"IF(董監事持股狀況!K941=\"\",\"\",董監事持股狀況!K941)","v":""},null,{"$f":"IF(董監事持股狀況!M941=\"\",\"\",董監事持股狀況!M941)","v":""},{"$f":"IFERROR(VLOOKUP(A947,股價!A:B,2,0),\"\")","v":""},"","",""]
[{"$f":"IF(董監事持股狀況!K942=\"\",\"\",董監事持股狀況!K942)","v":""},null,{"$f":"IF(董監事持股狀況!M942=\"\",\"\",董監事持股狀況!M942)","v":""},{"$f":"IFERROR(VLOOKUP(A948,股價!A:B,2,0),\"\")","v":""},"","",""]
[{"$f":"IF(董監事持股狀況!K943=\"\",\"\",董監事持股狀況!K943)","v":""},null,{"$f":"IF(董監事持股狀況!M943=\"\",\"\",董監事持股狀況!M943)","v":""},{"$f":"IFERROR(VLOOKUP(A949,股價!A:B,2,0),\"\")","v":""},"","",""]
[{"$f":"IF(董監事持股狀況!K944=\"\",\"\",董監事持股狀況!K944)","v":""},null,{"$f":"IF(董監事持股狀況!M944=\"\",\"\",董監事持股狀況!M944)","v":""},{"$f":"IFERROR(VLOOKUP(A950,股價!A:B,2,0),\"\")","v":""},"","",""]
[{"$f":"IF(董監事持股狀況!K945=\"\",\"\",董監事持股狀況!K945)","v":""},null,{"$f":"IF(董監事持股狀況!M945=\"\",\"\",董監事持股狀況!M945)","v":""},{"$f":"IFERROR(VLOOKUP(A951,股價!A:B,2,0),\"\")","v":""},"","",""]
[{"$f":"IF(董監事持股狀況!K946=\"\",\"\",董監事持股狀況!K946)","v":""},null,{"$f":"IF(董監事持股狀況!M946=\"\",\"\",董監事持股狀況!M946)","v":""},{"$f":"IFERROR(VLOOKUP(A952,股價!A:B,2,0),\"\")","v":""},"","",""]
[{"$f":"IF(董監事持股狀況!K947=\"\",\"\",董監事持股狀況!K947)","v":""},null,{"$f":"IF(董監事持股狀況!M947=\"\",\"\",董監事持股狀況!M947)","v":""},{"$f":"IFERROR(VLOOKUP(A953,股價!A:B,2,0),\"\")","v":""},"","",""]
[{"$f":"IF(董監事持股狀況!K948=\"\",\"\",董監事持股狀況!K948)","v":""},null,{"$f":"IF(董監事持股狀況!M948=\"\",\"\",董監事持股狀況!M948)","v":""},{"$f":"IFERROR(VLOOKUP(A954,股價!A:B,2,0),\"\")","v":""},"","",""]
[{"$f":"IF(董監事持股狀況!K949=\"\",\"\",董監事持股狀況!K949)","v":""},null,{"$f":"IF(董監事持股狀況!M949=\"\",\"\",董監事持股狀況!M949)","v":""},{"$f":"IFERROR(VLOOKUP(A955,股價!A:B,2,0),\"\")","v":""},"","",""]
[{"$f":"IF(董監事持股狀況!K950=\"\",\"\",董監事持股狀況!K950)","v":""},null,{"$f":"IF(董監事持股狀況!M950=\"\",\"\",董監事持股狀況!M950)","v":""},{"$f":"IFERROR(VLOOKUP(A956,股價!A:B,2,0),\"\")","v":""},"","",""]
[{"$f":"IF(董監事持股狀況!K951=\"\",\"\",董監事持股狀況!K951)","v":""},null,{"$f":"IF(董監事持股狀況!M951=\"\",\"\",董監事持股狀況!M951)","v":""},{"$f":"IFERROR(VLOOKUP(A957,股價!A:B,2,0),\"\")","v":""},"","",""]
[{"$f":"IF(董監事持股狀況!K952=\"\",\"\",董監事持股狀況!K952)","v":""},null,{"$f":"IF(董監事持股狀況!M952=\"\",\"\",董監事持股狀況!M952)","v":""},{"$f":"IFERROR(VLOOKUP(A958,股價!A:B,2,0),\"\")","v":""},"","",""]
[{"$f":"IF(董監事持股狀況!K953=\"\",\"\",董監事持股狀況!K953)","v":""},null,{"$f":"IF(董監事持股狀況!M953=\"\",\"\",董監事持股狀況!M953)","v":""},{"$f":"IFERROR(VLOOKUP(A959,股價!A:B,2,0),\"\")","v":""},"","",""]
[{"$f":"IF(董監事持股狀況!K954=\"\",\"\",董監事持股狀況!K954)","v":""},null,{"$f":"IF(董監事持股狀況!M954=\"\",\"\",董監事持股狀況!M954)","v":""},{"$f":"IFERROR(VLOOKUP(A960,股價!A:B,2,0),\"\")","v":""},"","",""]
[{"$f":"IF(董監事持股狀況!K955=\"\",\"\",董監事持股狀況!K955)","v":""},null,{"$f":"IF(董監事持股狀況!M955=\"\",\"\",董監事持股狀況!M955)","v":""},{"$f":"IFERROR(VLOOKUP(A961,股價!A:B,2,0),\"\")","v":""},"","",""]
[{"$f":"IF(董監事持股狀況!K956=\"\",\"\",董監事持股狀況!K956)","v":""},null,{"$f":"IF(董監事持股狀況!M956=\"\",\"\",董監事持股狀況!M956)","v":""},{"$f":"IFERROR(VLOOKUP(A962,股價!A:B,2,0),\"\")","v":""},"","",""]
[{"$f":"IF(董監事持股狀況!K957=\"\",\"\",董監事持股狀況!K957)","v":""},null,{"$f":"IF(董監事持股狀況!M957=\"\",\"\",董監事持股狀況!M957)","v":""},{"$f":"IFERROR(VLOOKUP(A963,股價!A:B,2,0),\"\")","v":""},"","",""]
[{"$f":"IF(董監事持股狀況!K958=\"\",\"\",董監事持股狀況!K958)","v":""},null,{"$f":"IF(董監事持股狀況!M958=\"\",\"\",董監事持股狀況!M958)","v":""},{"$f":"IFERROR(VLOOKUP(A964,股價!A:B,2,0),\"\")","v":""},"","",""]
[{"$f":"IF(董監事持股狀況!K959=\"\",\"\",董監事持股狀況!K959)","v":""},null,{"$f":"IF(董監事持股狀況!M959=\"\",\"\",董監事持股狀況!M959)","v":""},{"$f":"IFERROR(VLOOKUP(A965,股價!A:B,2,0),\"\")","v":""},"","",""]
[{"$f":"IF(董監事持股狀況!K960=\"\",\"\",董監事持股狀況!K960)","v":""},null,{"$f":"IF(董監事持股狀況!M960=\"\",\"\",董監事持股狀況!M960)","v":""},{"$f":"IFERROR(VLOOKUP(A966,股價!A:B,2,0),\"\")","v":""},"","",""]
[{"$f":"IF(董監事持股狀況!K961=\"\",\"\",董監事持股狀況!K961)","v":""},null,{"$f":"IF(董監事持股狀況!M961=\"\",\"\",董監事持股狀況!M961)","v":""},{"$f":"IFERROR(VLOOKUP(A967,股價!A:B,2,0),\"\")","v":""},"","",""]
[{"$f":"IF(董監事持股狀況!K962=\"\",\"\",董監事持股狀況!K962)","v":""},null,{"$f":"IF(董監事持股狀況!M962=\"\",\"\",董監事持股狀況!M962)","v":""},{"$f":"IFERROR(VLOOKUP(A968,股價!A:B,2,0),\"\")","v":""},"",{"$f":"IFERROR(E968/$E$5*100,\"\")","v":""},{"$f":"IF(F968=\"\",\"\",RANK(F968,$F$8:$F$999))","v":""}]
[{"$f":"IF(董監事持股狀況!K963=\"\",\"\",董監事持股狀況!K963)","v":""},null,{"$f":"IF(董監事持股狀況!M963=\"\",\"\",董監事持股狀況!M963)","v":""},{"$f":"IFERROR(VLOOKUP(A969,股價!A:B,2,0),\"\")","v":""},{"$f":"IFERROR(C969*D969,\"\")","v":""},"",""]
[{"$f":"IF(董監事持股狀況!K964=\"\",\"\",董監事持股狀況!K964)","v":""},null,{"$f":"IF(董監事持股狀況!M964=\"\",\"\",董監事持股狀況!M964)","v":""},{"$f":"IFERROR(VLOOKUP(A970,股價!A:B,2,0),\"\")","v":""},"","",""]
[{"$f":"IF(董監事持股狀況!K965=\"\",\"\",董監事持股狀況!K965)","v":""},null,{"$f":"IF(董監事持股狀況!M965=\"\",\"\",董監事持股狀況!M965)","v":""},{"$f":"IFERROR(VLOOKUP(A971,股價!A:B,2,0),\"\")","v":""},"","",""]
[{"$f":"IF(董監事持股狀況!K966=\"\",\"\",董監事持股狀況!K966)","v":""},null,{"$f":"IF(董監事持股狀況!M966=\"\",\"\",董監事持股狀況!M966)","v":""},{"$f":"IFERROR(VLOOKUP(A972,股價!A:B,2,0),\"\")","v":""},"","",""]
[{"$f":"IF(董監事持股狀況!K967=\"\",\"\",董監事持股狀況!K967)","v":""},null,{"$f":"IF(董監事持股狀況!M967=\"\",\"\",董監事持股狀況!M967)","v":""},{"$f":"IFERROR(VLOOKUP(A973,股價!A:B,2,0),\"\")","v":""},"","",""]
[{"$f":"IF(董監事持股狀況!K968=\"\",\"\",董監事持股狀況!K968)","v":""},null,{"$f":"IF(董監事持股狀況!M968=\"\",\"\",董監事持股狀況!M968)","v":""},{"$f":"IFERROR(VLOOKUP(A974,股價!A:B,2,0),\"\")","v":""},"","",""]
[{"$f":"IF(董監事持股狀況!K969=\"\",\"\",董監事持股狀況!K969)","v":""},null,{"$f":"IF(董監事持股狀況!M969=\"\",\"\",董監事持股狀況!M969)","v":""},{"$f":"IFERROR(VLOOKUP(A975,股價!A:B,2,0),\"\")","v":""},"","",""]
[{"$f":"IF(董監事持股狀況!K970=\"\",\"\",董監事持股狀況!K970)","v":""},null,{"$f":"IF(董監事持股狀況!M970=\"\",\"\",董監事持股狀況!M970)","v":""},{"$f":"IFERROR(VLOOKUP(A976,股價!A:B,2,0),\"\")","v":""},"","",""]
[{"$f":"IF(董監事持股狀況!K971=\"\",\"\",董監事持股狀況!K971)","v":""},null,{"$f":"IF(董監事持股狀況!M971=\"\",\"\",董監事持股狀況!M971)","v":""},{"$f":"IFERROR(VLOOKUP(A977,股價!A:B,2,0),\"\")","v":""},"","",""]
[{"$f":"IF(董監事持股狀況!K972=\"\",\"\",董監事持股狀況!K972)","v":""},null,{"$f":"IF(董監事持股狀況!M972=\"\",\"\",董監事持股狀況!M972)","v":""},{"$f":"IFERROR(VLOOKUP(A978,股價!A:B,2,0),\"\")","v":""},"","",""]
[{"$f":"IF(董監事持股狀況!K973=\"\",\"\",董監事持股狀況!K973)","v":""},null,{"$f":"IF(董監事持股狀況!M973=\"\",\"\",董監事持股狀況!M973)","v":""},{"$f":"IFERROR(VLOOKUP(A979,股價!A:B,2,0),\"\")","v":""},"","",""]
[{"$f":"IF(董監事持股狀況!K974=\"\",\"\",董監事持股狀況!K974)","v":""},null,{"$f":"IF(董監事持股狀況!M974=\"\",\"\",董監事持股狀況!M974)","v":""},{"$f":"IFERROR(VLOOKUP(A980,股價!A:B,2,0),\"\")","v":""},"","",""]
[{"$f":"IF(董監事持股狀況!K975=\"\",\"\",董監事持股狀況!K975)","v":""},null,{"$f":"IF(董監事持股狀況!M975=\"\",\"\",董監事持股狀況!M975)","v":""},{"$f":"IFERROR(VLOOKUP(A981,股價!A:B,2,0),\"\")","v":""},"","",""]
[{"$f":"IF(董監事持股狀況!K976=\"\",\"\",董監事持股狀況!K976)","v":""},null,{"$f":"IF(董監事持股狀況!M976=\"\",\"\",董監事持股狀況!M976)","v":""},{"$f":"IFERROR(VLOOKUP(A982,股價!A:B,2,0),\"\")","v":""},"","",""]
[{"$f":"IF(董監事持股狀況!K977=\"\",\"\",董監事持股狀況!K977)","v":""},null,{"$f":"IF(董監事持股狀況!M977=\"\",\"\",董監事持股狀況!M977)","v":""},{"$f":"IFERROR(VLOOKUP(A983,股價!A:B,2,0),\"\")","v":""},"","",""]
[{"$f":"IF(董監事持股狀況!K978=\"\",\"\",董監事持股狀況!K978)","v":""},null,{"$f":"IF(董監事持股狀況!M978=\"\",\"\",董監事持股狀況!M978)","v":""},{"$f":"IFERROR(VLOOKUP(A984,股價!A:B,2,0),\"\")","v":""},"","",""]
[{"$f":"IF(董監事持股狀況!K979=\"\",\"\",董監事持股狀況!K979)","v":""},null,{"$f":"IF(董監事持股狀況!M979=\"\",\"\",董監事持股狀況!M979)","v":""},{"$f":"IFERROR(VLOOKUP(A985,股價!A:B,2,0),\"\")","v":""},"","",""]
[{"$f":"IF(董監事持股狀況!K980=\"\",\"\",董監事持股狀況!K980)","v":""},null,{"$f":"IF(董監事持股狀況!M980=\"\",\"\",董監事持股狀況!M980)","v":""},{"$f":"IFERROR(VLOOKUP(A986,股價!A:B,2,0),\"\")","v":""},"","",""]
[{"$f":"IF(董監事持股狀況!K981=\"\",\"\",董監事持股狀況!K981)","v":""},null,{"$f":"IF(董監事持股狀況!M981=\"\",\"\",董監事持股狀況!M981)","v":""},{"$f":"IFERROR(VLOOKUP(A987,股價!A:B,2,0),\"\")","v":""},"","",""]
[{"$f":"IF(董監事持股狀況!K982=\"\",\"\",董監事持股狀況!K982)","v":""},null,{"$f":"IF(董監事持股狀況!M982=\"\",\"\",董監事持股狀況!M982)","v":""},{"$f":"IFERROR(VLOOKUP(A988,股價!A:B,2,0),\"\")","v":""},"","",""]
[{"$f":"IF(董監事持股狀況!K983=\"\",\"\",董監事持股狀況!K983)","v":""},null,{"$f":"IF(董監事持股狀況!M983=\"\",\"\",董監事持股狀況!M983)","v":""},{"$f":"IFERROR(VLOOKUP(A989,股價!A:B,2,0),\"\")","v":""},"","",""]
[{"$f":"IF(董監事持股狀況!K984=\"\",\"\",董監事持股狀況!K984)","v":""},null,{"$f":"IF(董監事持股狀況!M984=\"\",\"\",董監事持股狀況!M984)","v":""},{"$f":"IFERROR(VLOOKUP(A990,股價!A:B,2,0),\"\")","v":""},"","",""]
[{"$f":"IF(董監事持股狀況!K985=\"\",\"\",董監事持股狀況!K985)","v":""},null,{"$f":"IF(董監事持股狀況!M985=\"\",\"\",董監事持股狀況!M985)","v":""},{"$f":"IFERROR(VLOOKUP(A991,股價!A:B,2,0),\"\")","v":""},"","",""]
[{"$f":"IF(董監事持股狀況!K986=\"\",\"\",董監事持股狀況!K986)","v":""},null,{"$f":"IF(董監事持股狀況!M986=\"\",\"\",董監事持股狀況!M986)","v":""},{"$f":"IFERROR(VLOOKUP(A992,股價!A:B,2,0),\"\")","v":""},"","",""]
[{"$f":"IF(董監事持股狀況!K987=\"\",\"\",董監事持股狀況!K987)","v":""},null,{"$f":"IF(董監事持股狀況!M987=\"\",\"\",董監事持股狀況!M987)","v":""},{"$f":"IFERROR(VLOOKUP(A993,股價!A:B,2,0),\"\")","v":""},"","",""]
[{"$f":"IF(董監事持股狀況!K988=\"\",\"\",董監事持股狀況!K988)","v":""},null,{"$f":"IF(董監事持股狀況!M988=\"\",\"\",董監事持股狀況!M988)","v":""},{"$f":"IFERROR(VLOOKUP(A994,股價!A:B,2,0),\"\")","v":""},"","",""]
[{"$f":"IF(董監事持股狀況!K989=\"\",\"\",董監事持股狀況!K989)","v":""},null,{"$f":"IF(董監事持股狀況!M989=\"\",\"\",董監事持股狀況!M989)","v":""},{"$f":"IFERROR(VLOOKUP(A995,股價!A:B,2,0),\"\")","v":""},"","",""]
[{"$f":"IF(董監事持股狀況!K990=\"\",\"\",董監事持股狀況!K990)","v":""},null,{"$f":"IF(董監事持股狀況!M990=\"\",\"\",董監事持股狀況!M990)","v":""},{"$f":"IFERROR(VLOOKUP(A996,股價!A:B,2,0),\"\")","v":""},"","",""]
[{"$f":"IF(董監事持股狀況!K991=\"\",\"\",董監事持股狀況!K991)","v":""},null,{"$f":"IF(董監事持股狀況!M991=\"\",\"\",董監事持股狀況!M991)","v":""},{"$f":"IFERROR(VLOOKUP(A997,股價!A:B,2,0),\"\")","v":""},"","",""]
[{"$f":"IF(董監事持股狀況!K992=\"\",\"\",董監事持股狀況!K992)","v":""},null,{"$f":"IF(董監事持股狀況!M992=\"\",\"\",董監事持股狀況!M992)","v":""},{"$f":"IFERROR(VLOOKUP(A998,股價!A:B,2,0),\"\")","v":""},"","",""]
[{"$f":"IF(董監事持股狀況!K993=\"\",\"\",董監事持股狀況!K993)","v":""},null,{"$f":"IF(董監事持股狀況!M993=\"\",\"\",董監事持股狀況!M993)","v":""},{"$f":"IFERROR(VLOOKUP(A999,股價!A:B,2,0),\"\")","v":""},"","",""]

{"sheet":"董監事持股狀況","index":2,"n_rows":55708,"n_cols":16,"rows_kept":4500,"cut":true,"hidden":false,"merged":[],"bounds":{"rows_first":2000,"rows_last":500,"rows_between":2000,"halvings":0}}
["2023/04/28",null,null,null,null,"持有人全名",null,"ID","公司清單",null,"公司代碼","持股人姓名","持股數","持有人全名","金額","排名"]
["公司代碼","持股人姓名","持股數","持有人全名",13,"富邦人壽保險",{"$f":"IFERROR(VLOOKUP(E2,H:J,2,0),\"\")","v":"遠壽"},2,"南山人壽","南山人壽保險","2891 中信金","富邦人壽保險(股)富邦人壽保險",814000,"富邦人壽保險",{"$f":"IFERROR(VLOOKUP(K2,股價!A:B,2,0)*M2,\"\")","v":19169700},{"$f":"IF(O2=\"\",\"\",RANK(O2,$O$2:$O$1000))","v":1}]
["1101 台泥","_大股東合計1",0,null,null,null,null,3,"國壽","國泰人壽保險","2454 聯發科","富邦人壽保險(股)蔡明興",24748,"富邦人壽保險",{"$f":"IFERROR(VLOOKUP(K3,股價!A:B,2,0)*M3,\"\")","v":16828640},{"$f":"IF(O3=\"\",\"\",RANK(O3,$O$2:$O$1000))","v":2}]
["1101 台泥","_大股東合計2    含沿用資料",986653,null,null,null,null,4,"富邦人壽","富邦人壽保險","3045 台灣大","富邦人壽保險(股)蔡明興",150880,"富邦人壽保險",{"$f":"IFERROR(VLOOKUP(K4,股價!A:B,2,0)*M4,\"\")","v":15616080},{"$f":"IF(O4=\"\",\"\",RANK(O4,$O$2:$O$1000))","v":3}]
["1101 台泥","_經理人合計",7711,null,null,null,null,5,"新壽","新光人壽保險","2002 中鋼","富邦人壽保險(股)蔡明興",393777,"富邦人壽保險",{"$f":"IFERROR(VLOOKUP(K5,股價!A:B,2,0)*M5,\"\")","v":11498288.4},{"$f":"IF(O5=\"\",\"\",RANK(O5,$O$2:$O$1000))","v":4}]
["1101 台泥","_董  事合計",564677,null,null,null,null,6,"台壽","台灣人壽保險","2886 兆豐金","富邦人壽保險(股)蔡明興",270088,"富邦人壽保險",{"$f":"IFERROR(VLOOKUP(K6,股價!A:B,2,0)*M6,\"\")","v":9493593.1999999993},{"$f":"IF(O6=\"\",\"\",RANK(O6,$O$2:$O$1000))","v":5}]
["1101 台泥","_董監事合計",564677,null,null,null,null,7,"全球人壽","全球人壽保險","3034 聯詠","富邦人壽保險(股)蔡明興",22447,"富邦人壽保險",{"$f":"IFERROR(VLOOKUP(K7,股價!A:B,2,0)*M7,\"\")","v":9113482},{"$f":"IF(O7=\"\",\"\",RANK(O7,$O$2:$O$1000))","v":6}]
["1101 台泥","_監察人合計",0,null,null,null,null,8,"中壽","中國人壽保險","1326 台化","富邦人壽保險(股)蔡明興",130301,"富邦人壽保險",{"$f":"IFERROR(VLOOKUP(K8,股價!A:B,2,0)*M8,\"\")","v":9003799.0999999996},{"$f":"IF(O8=\"\",\"\",RANK(O8,$O$2:$O$1000))","v":7}]
["1101 台泥","于明仁          于明仁",110,"于明仁",null,null,null,9,"宏泰人壽","宏泰人壽保險","2303 聯電","富邦人壽保險(股)富邦人壽保險",172449,"富邦人壽保險",{"$f":"IFERROR(VLOOKUP(K9,股價!A:B,2,0)*M9,\"\")","v":8415511.1999999993},{"$f":"IF(O9=\"\",\"\",RANK(O9,$O$2:$O$1000))","v":8}]
["1101 台泥","中信投資(股)    侯天儀",266234,"中信投資",null,null,null,10,"中信人壽","中國信託人壽保險","8454 富邦媒","富邦人壽保險(股)蔡明興",10374,"富邦人壽保險",{"$f":"IFERROR(VLOOKUP(K10,股價!A:B,2,0)*M10,\"\")","v":7427784},{"$f":"IF(O10=\"\",\"\",RANK(O10,$O$2:$O$1000))","v":9}]
["1101 台泥","元大台高股息    元大台高股息",101209,"元大臺灣高股息基金專戶",null,null,null,11,"臺銀人壽","臺銀人壽保險","2412 中華電","富邦人壽保險(股)蔡明興",54639,"富邦人壽保險",{"$f":"IFERROR(VLOOKUP(K11,股價!A:B,2,0)*M11,\"\")","v":6884514},{"$f":"IF(O11=\"\",\"\",RANK(O11,$O$2:$O$1000))","v":10}]
["1101 台泥","王伯元          王伯元",0,"王伯元",null,null,null,12,"三商壽","三商美邦人壽保險","2379 瑞昱","富邦人壽保險(股)蔡明興",17661,"富邦人壽保險",{"$f":"IFERROR(VLOOKUP(K12,股價!A:B,2,0)*M12,\"\")","v":6605214},{"$f":"IF(O12=\"\",\"\",RANK(O12,$O$2:$O$1000))","v":11}]
["1101 台泥","王金山          王金山",0,"王金山",null,null,null,13,"遠壽","遠雄人壽保險事業","2885 元大金","富邦人壽保險(股)蔡明興",286278,"富邦人壽保險",{"$f":"IFERROR(VLOOKUP(K13,股價!A:B,2,0)*M13,\"\")","v":6570080.0999999996},{"$f":"IF(O13=\"\",\"\",RANK(O13,$O$2:$O$1000))","v":12}]
["1101 台泥","王建全          王建全",219,"王建全",null,null,null,14,"元大人壽","元大人壽保險","2890 永豐金","富邦人壽保險(股)富邦人壽保險",311526,"富邦人壽保險",{"$f":"IFERROR(VLOOKUP(K14,股價!A:B,2,0)*M14,\"\")","v":5327094.6000000006},{"$f":"IF(O14=\"\",\"\",RANK(O14,$O$2:$O$1000))","v":13}]
["1101 台泥","丘惠生          丘惠生",0,"丘惠生",null,null,null,null,null,null,"5876 上海商銀","富邦人壽保險(股)蔡明興",112697,"富邦人壽保險",{"$f":"IFERROR(VLOOKUP(K15,股價!A:B,2,0)*M15,\"\")","v":5246045.3499999996},{"$f":"IF(O15=\"\",\"\",RANK(O15,$O$2:$O$1000))","v":14}]
["1101 台泥","台灣人壽保險(股)黃思國",110528,"台灣人壽保險",null,null,null,null,null,null,"2912 統一超","富邦人壽保險(股)富邦人壽保險",17361,"富邦人壽保險",{"$f":"IFERROR(VLOOKUP(K16,股價!A:B,2,0)*M16,\"\")","v":5026009.5},{"$f":"IF(O16=\"\",\"\",RANK(O16,$O$2:$O$1000))","v":15}]
["1101 台泥","合作金庫商業銀行雷仲達",115789,"合作金庫商業銀行",null,null,null,null,null,null,"2892 第一金","富邦人壽保險(股)蔡明興",177684,"富邦人壽保險",{"$f":"IFERROR(VLOOKUP(K17,股價!A:B,2,0)*M17,\"\")","v":4895194.2},{"$f":"IF(O17=\"\",\"\",RANK(O17,$O$2:$O$1000))","v":16}]
["1101 台泥","余金龍          余金龍",267,"余金龍",null,null,null,null,null,null,"8464 億豐","富邦人壽託野村投富邦人壽託野",13950,"富邦人壽保險(股)公司全權委託野村投信",{"$f":"IFERROR(VLOOKUP(K18,股價!A:B,2,0)*M18,\"\")","v":4715100},{"$f":"IF(O18=\"\",\"\",RANK(O18,$O$2:$O$1000))","v":17}]
["1101 台泥","吳子揚          吳子揚",3,"吳子揚",null,null,null,null,null,null,"3702 大聯大","富邦人壽保險(股)富邦人壽保險",93413,"富邦人壽保險",{"$f":"IFERROR(VLOOKUP(K19,股價!A:B,2,0)*M19,\"\")","v":4698673.8999999994},{"$f":"IF(O19=\"\",\"\",RANK(O19,$O$2:$O$1000))","v":18}]
["1101 台泥","吳雲德          吳雲德",51,"吳雲德",null,null,null,null,null,null,"3293 鈊象","富邦人壽保險(股)富邦人壽保險",7120,"富邦人壽保險",{"$f":"IFERROR(VLOOKUP(K20,股價!A:B,2,0)*M20,\"\")","v":3887520},{"$f":"IF(O20=\"\",\"\",RANK(O20,$O$2:$O$1000))","v":19}]
["1101 台泥","呂克甫          呂克甫",185,"呂克甫",null,null,null,null,null,null,"4938 和碩","富邦人壽保險(股)富邦人壽保險",54051,"富邦人壽保險",{"$f":"IFERROR(VLOOKUP(K21,股價!A:B,2,0)*M21,\"\")","v":3853836.3},{"$f":"IF(O21=\"\",\"\",RANK(O21,$O$2:$O$1000))","v":20}]
["1101 台泥","李國源          李國源",78,"李國源",null,null,null,null,null,null,"1590 亞德客-KY","富邦人壽保險(股)蔡明興",3401,"富邦人壽保險",{"$f":"IFERROR(VLOOKUP(K22,股價!A:B,2,0)*M22,\"\")","v":3605060},{"$f":"IF(O22=\"\",\"\",RANK(O22,$O$2:$O$1000))","v":21}]
["1101 台泥","周玲臺          周玲臺",0,"周玲臺",null,null,null,null,null,null,"4966 譜瑞-KY","富邦人壽保險(股)蔡明興",3875,"富邦人壽保險",{"$f":"IFERROR(VLOOKUP(K23,股價!A:B,2,0)*M23,\"\")","v":3588250},{"$f":"IF(O23=\"\",\"\",RANK(O23,$O$2:$O$1000))","v":22}]
["1101 台泥","林秀玲          林秀玲",0,"林秀玲",null,null,null,null,null,null,"4743 合一","富邦人壽保險(股)蔡明興",15392,"富邦人壽保險",{"$f":"IFERROR(VLOOKUP(K24,股價!A:B,2,0)*M24,\"\")","v":3478592},{"$f":"IF(O24=\"\",\"\",RANK(O24,$O$2:$O$1000))","v":23}]
["1101 台泥","林美花          林美花",0,"林美花",null,null,null,null,null,null,"6488 環球晶","富邦人壽保險(股)富邦人壽保險",6534,"富邦人壽保險",{"$f":"IFERROR(VLOOKUP(K25,股價!A:B,2,0)*M25,\"\")","v":3106917},{"$f":"IF(O25=\"\",\"\",RANK(O25,$O$2:$O$1000))","v":24}]
["1101 台泥","花旗台新加坡    花旗台新加坡",166102,"花旗(台灣)商業銀行受託保管新加坡政府投資專戶",null,null,null,null,null,null,"2357 華碩","富邦人壽保險(股)富邦人壽保險",10027,"富邦人壽保險",{"$f":"IFERROR(VLOOKUP(K26,股價!A:B,2,0)*M26,\"\")","v":3043194.5},{"$f":"IF(O26=\"\",\"\",RANK(O26,$O$2:$O$1000))","v":25}]
["1101 台泥","邱鈺文          邱鈺文",19,"邱鈺文",null,null,null,null,null,null,"2377 微星","富邦人壽保險(股)蔡明興",19681,"富邦人壽保險",{"$f":"IFERROR(VLOOKUP(K27,股價!A:B,2,0)*M27,\"\")","v":3040714.5},{"$f":"IF(O27=\"\",\"\",RANK(O27,$O$2:$O$1000))","v":26}]
["1101 台泥","泰和興業(股)    辜公怡",6647,"泰和興業",null,null,null,null,null,null,"1476 儒鴻","富邦人壽保險(股)蔡明興",6196,"富邦人壽保險",{"$f":"IFERROR(VLOOKUP(K28,股價!A:B,2,0)*M28,\"\")","v":2967884},{"$f":"IF(O28=\"\",\"\",RANK(O28,$O$2:$O$1000))","v":27}]
["1101 台泥","國際中橡投資控股駱錦明",113896,"國際中橡投資控股",null,null,null,null,null,null,"6592 和潤企業","富邦人壽保險(股)蔡明興",22780,"富邦人壽保險",{"$f":"IFERROR(VLOOKUP(K29,股價!A:B,2,0)*M29,\"\")","v":2870280},{"$f":"IF(O29=\"\",\"\",RANK(O29,$O$2:$O$1000))","v":28}]
["1101 台泥","張安平          張安平",2408,"張安平",null,null,null,null,null,null,"6121 新普","富邦人壽保險(股)富邦人壽保險",9246,"富邦人壽保險",{"$f":"IFERROR(VLOOKUP(K30,股價!A:B,2,0)*M30,\"\")","v":2843145},{"$f":"IF(O30=\"\",\"\",RANK(O30,$O$2:$O$1000))","v":29}]
["1101 台泥","張年旺          張年旺",79,"張年旺",null,null,null,null,null,null,"1477 聚陽","富邦人壽保險(股)富邦人壽保險",12576,"富邦人壽保險",{"$f":"IFERROR(VLOOKUP(K31,股價!A:B,2,0)*M31,\"\")","v":2835888},{"$f":"IF(O31=\"\",\"\",RANK(O31,$O$2:$O$1000))","v":30}]
["1101 台泥","張剛綸          張剛綸",0,"張剛綸",null,null,null,null,null,null,"3533 嘉澤","富邦人壽保險(股)富邦人壽保險",3149,"富邦人壽保險",{"$f":"IFERROR(VLOOKUP(K32,股價!A:B,2,0)*M32,\"\")","v":2808908},{"$f":"IF(O32=\"\",\"\",RANK(O32,$O$2:$O$1000))","v":31}]
["1101 台泥","張毓揚          張毓揚",8,"張毓揚",null,null,null,null,null,null,"3023 信邦","富邦人壽保險(股)蔡明興",7750,"富邦人壽保險",{"$f":"IFERROR(VLOOKUP(K33,股價!A:B,2,0)*M33,\"\")","v":2766750},{"$f":"IF(O33=\"\",\"\",RANK(O33,$O$2:$O$1000))","v":32}]
["1101 台泥","曹家華          曹家華",6,"曹家華",null,null,null,null,null,null,"9933 中鼎","富邦人壽保險(股)蔡明興",60129,"富邦人壽保險",{"$f":"IFERROR(VLOOKUP(K34,股價!A:B,2,0)*M34,\"\")","v":2453263.1999999997},{"$f":"IF(O34=\"\",\"\",RANK(O34,$O$2:$O$1000))","v":33}]
["1101 台泥","梁詩聖          梁詩聖",38,"梁詩聖",null,null,null,null,null,null,"2059 川湖","富邦人壽保險(股)富邦人壽保險",5716,"富邦人壽保險",{"$f":"IFERROR(VLOOKUP(K35,股價!A:B,2,0)*M35,\"\")","v":2409294},{"$f":"IF(O35=\"\",\"\",RANK(O35,$O$2:$O$1000))","v":34}]
["1101 台泥","陳光熙          陳光熙",100,"陳光熙",null,null,null,null,null,null,"2634 漢翔","富邦人壽保險(股)蔡明興",43570,"富邦人壽保險",{"$f":"IFERROR(VLOOKUP(K36,股價!A:B,2,0)*M36,\"\")","v":2339709},{"$f":"IF(O36=\"\",\"\",RANK(O36,$O$2:$O$1000))","v":35}]
["1101 台泥","陳技竫          陳技竫",22,"陳技竫",null,null,null,null,null,null,"9904 寶成","富邦人壽保險(股)蔡明興",73000,"富邦人壽保險",{"$f":"IFERROR(VLOOKUP(K37,股價!A:B,2,0)*M37,\"\")","v":2281250},{"$f":"IF(O37=\"\",\"\",RANK(O37,$O$2:$O$1000))","v":36}]
["1101 台泥","陳怡中          陳怡中",27,"陳怡中",null,null,null,null,null,null,"9941 裕融","富邦人壽保險(股)蔡明興",11995,"富邦人壽保險",{"$f":"IFERROR(VLOOKUP(K38,股價!A:B,2,0)*M38,\"\")","v":2279050},{"$f":"IF(O38=\"\",\"\",RANK(O38,$O$2:$O$1000))","v":37}]
["1101 台泥","陳啟德          陳啟德",75,"陳啟德",null,null,null,null,null,null,"3665 貿聯-KY","富邦人壽保險(股)富邦人壽保險",8715,"富邦人壽保險",{"$f":"IFERROR(VLOOKUP(K39,股價!A:B,2,0)*M39,\"\")","v":2261542.5},{"$f":"IF(O39=\"\",\"\",RANK(O39,$O$2:$O$1000))","v":38}]
["1101 台泥","陳進益          陳進益",119,"陳進益",null,null,null,null,null,null,"2449 京元電子","富邦人壽保險(股)蔡明興",48092,"富邦人壽保險",{"$f":"IFERROR(VLOOKUP(K40,股價!A:B,2,0)*M40,\"\")","v":2200209},{"$f":"IF(O40=\"\",\"\",RANK(O40,$O$2:$O$1000))","v":39}]
["1101 台泥","陳聖德          陳聖德",231,"陳聖德",null,null,null,null,null,null,"8299 群聯","富邦人壽保險(股)蔡明興",5709,"富邦人壽保險",{"$f":"IFERROR(VLOOKUP(K41,股價!A:B,2,0)*M41,\"\")","v":2132311.5},{"$f":"IF(O41=\"\",\"\",RANK(O41,$O$2:$O$1000))","v":40}]
["1101 台泥","陳銀華          陳銀華",71,"陳銀華",null,null,null,null,null,null,"2376 技嘉","富邦人壽保險(股)蔡明興",14545,"富邦人壽保險",{"$f":"IFERROR(VLOOKUP(K42,股價!A:B,2,0)*M42,\"\")","v":2101752.5},{"$f":"IF(O42=\"\",\"\",RANK(O42,$O$2:$O$1000))","v":41}]
["1101 台泥","富品投資(股)    王伯元",85225,"富品投資股份有限公司",null,null,null,null,null,null,"4128 中天","富邦人壽保險(股)蔡明興",32043,"富邦人壽保險",{"$f":"IFERROR(VLOOKUP(K43,股價!A:B,2,0)*M43,\"\")","v":1948214.4},{"$f":"IF(O43=\"\",\"\",RANK(O43,$O$2:$O$1000))","v":42}]
["1101 台泥","富品投資(股)    謝其嘉",85225,"富品投資股份有限公司",null,null,null,null,null,null,"1707 葡萄王","富邦人壽保險(股)富邦人壽保險",10757,"富邦人壽保險",{"$f":"IFERROR(VLOOKUP(K44,股價!A:B,2,0)*M44,\"\")","v":1882475},{"$f":"IF(O44=\"\",\"\",RANK(O44,$O$2:$O$1000))","v":43}]
["1101 台泥","焦佑鈞          焦佑鈞",0,"焦佑鈞",null,null,null,null,null,null,"3231 緯創","富邦人壽保險(股)蔡明興",38000,"富邦人壽保險",{"$f":"IFERROR(VLOOKUP(K45,股價!A:B,2,0)*M45,\"\")","v":1841100},{"$f":"IF(O45=\"\",\"\",RANK(O45,$O$2:$O$1000))","v":44}]
["1101 台泥","程耀輝          程耀輝",150,"程耀輝",null,null,null,null,null,null,"9802 鈺齊-KY","富邦人壽保險(股)富邦人壽保險",14893,"富邦人壽保險",{"$f":"IFERROR(VLOOKUP(K46,股價!A:B,2,0)*M46,\"\")","v":1749927.5},{"$f":"IF(O46=\"\",\"\",RANK(O46,$O$2:$O$1000))","v":45}]
["1101 台泥","辜公怡          辜公怡",667,"辜公怡",null,null,null,null,null,null,"2609 陽明","富邦人壽保險(股)蔡明興",27546,"富邦人壽保險",{"$f":"IFERROR(VLOOKUP(K47,股價!A:B,2,0)*M47,\"\")","v":1677551.4},{"$f":"IF(O47=\"\",\"\",RANK(O47,$O$2:$O$1000))","v":46}]
["1101 台泥","辜公亮文教基    陳聖德",3485,"辜公亮文教基金會",null,null,null,null,null,null,"6176 瑞儀","富邦人壽保險(股)富邦人壽保險",14600,"富邦人壽保險",{"$f":"IFERROR(VLOOKUP(K48,股價!A:B,2,0)*M48,\"\")","v":1664400},{"$f":"IF(O48=\"\",\"\",RANK(O48,$O$2:$O$1000))","v":47}]
["1101 台泥","黃健強          黃健強",879,"黃健強",null,null,null,null,null,null,"6472 保瑞","富邦人壽保險(股)富邦人壽保險",2018,"富邦人壽保險",{"$f":"IFERROR(VLOOKUP(K49,股價!A:B,2,0)*M49,\"\")","v":1588166},{"$f":"IF(O49=\"\",\"\",RANK(O49,$O$2:$O$1000))","v":48}]
["1101 台泥","溫堅            溫堅",0,"溫堅",null,null,null,null,null,null,"3406 玉晶光","富邦人壽保險(股)蔡明興",4000,"富邦人壽保險",{"$f":"IFERROR(VLOOKUP(K50,股價!A:B,2,0)*M50,\"\")","v":1576000},{"$f":"IF(O50=\"\",\"\",RANK(O50,$O$2:$O$1000))","v":49}]
["1101 台泥","葉國宏          葉國宏",160,"葉國宏",null,null,null,null,null,null,"8070 長華*","富邦人壽保險(股)蔡明興",45080,"富邦人壽保險",{"$f":"IFERROR(VLOOKUP(K51,股價!A:B,2,0)*M51,\"\")","v":1543990},{"$f":"IF(O51=\"\",\"\",RANK(O51,$O$2:$O$1000))","v":50}]
["1101 台泥","葉毓君          葉毓君",205,"葉毓君",null,null,null,null,null,null,"3189 景碩","富邦人壽保險(股)蔡明興",14223,"富邦人壽保險",{"$f":"IFERROR(VLOOKUP(K52,股價!A:B,2,0)*M52,\"\")","v":1536084},{"$f":"IF(O52=\"\",\"\",RANK(O52,$O$2:$O$1000))","v":51}]
["1101 台泥","葛保羅          葛保羅",388,"葛保羅",null,null,null,null,null,null,"5347 世界","富邦人壽保險(股)富邦人壽保險",16575,"富邦人壽保險",{"$f":"IFERROR(VLOOKUP(K53,股價!A:B,2,0)*M53,\"\")","v":1496722.5},{"$f":"IF(O53=\"\",\"\",RANK(O53,$O$2:$O$1000))","v":52}]
["1101 台泥","嘉利實業(股)    張安平",3336,"嘉利實業",null,null,null,null,null,null,"2408 南亞科","富邦人壽保險(股)蔡明興",22755,"富邦人壽保險",{"$f":"IFERROR(VLOOKUP(K54,股價!A:B,2,0)*M54,\"\")","v":1469972.9999999998},{"$f":"IF(O54=\"\",\"\",RANK(O54,$O$2:$O$1000))","v":53}]
["1101 台泥","嘉新水泥(股)    張剛綸",239630,"嘉新水泥",null,null,null,null,null,null,"9917 中保科","富邦人壽保險(股)蔡明興",13161,"富邦人壽保險",{"$f":"IFERROR(VLOOKUP(K55,股價!A:B,2,0)*M55,\"\")","v":1460871},{"$f":"IF(O55=\"\",\"\",RANK(O55,$O$2:$O$1000))","v":54}]
["1101 台泥","嘉新水泥(股)    陳啟德",239630,"嘉新水泥",null,null,null,null,null,null,"4763 材料-KY","富邦人壽保險(股)徐正材",2791,"富邦人壽保險",{"$f":"IFERROR(VLOOKUP(K56,股價!A:B,2,0)*M56,\"\")","v":1451320},{"$f":"IF(O56=\"\",\"\",RANK(O56,$O$2:$O$1000))","v":55}]
["1101 台泥","嘉新國際(股)    張剛綸",116909,"嘉新國際",null,null,null,null,null,null,"2501 國建","富邦人壽保險(股)蔡明興",87000,"富邦人壽保險",{"$f":"IFERROR(VLOOKUP(K57,股價!A:B,2,0)*M57,\"\")","v":1418100},{"$f":"IF(O57=\"\",\"\",RANK(O57,$O$2:$O$1000))","v":56}]
["1101 台泥","劉純穎          劉純穎",0,"劉純穎",null,null,null,null,null,null,"1723 中碳","富邦人壽保險(股)蔡明興",12578,"富邦人壽保險",{"$f":"IFERROR(VLOOKUP(K58,股價!A:B,2,0)*M58,\"\")","v":1408736},{"$f":"IF(O58=\"\",\"\",RANK(O58,$O$2:$O$1000))","v":57}]
["1101 台泥","劉鳳萍          劉鳳萍",175,"劉鳳萍",null,null,null,null,null,null,"9914 美利達","富邦人壽保險(股)富邦人壽保險",7930,"富邦人壽保險",{"$f":"IFERROR(VLOOKUP(K59,股價!A:B,2,0)*M59,\"\")","v":1371890},{"$f":"IF(O59=\"\",\"\",RANK(O59,$O$2:$O$1000))","v":58}]
["1101 台泥","蔣政道          蔣政道",119,"蔣政道",null,null,null,null,null,null,"3592 瑞鼎","富邦人壽保險(股)富邦人壽保險",4045,"富邦人壽保險",{"$f":"IFERROR(VLOOKUP(K60,股價!A:B,2,0)*M60,\"\")","v":1361142.5},{"$f":"IF(O60=\"\",\"\",RANK(O60,$O$2:$O$1000))","v":59}]
["1101 台泥","蔡國嶼          蔡國嶼",638,"蔡國嶼",null,null,null,null,null,null,"6670 復盛應用","富邦人壽保險(股)富邦人壽保險",6299,"富邦人壽保險",{"$f":"IFERROR(VLOOKUP(K61,股價!A:B,2,0)*M61,\"\")","v":1332238.5},{"$f":"IF(O61=\"\",\"\",RANK(O61,$O$2:$O$1000))","v":60}]
["1101 台泥","賴家柔          賴家柔",89,"賴家柔",null,null,null,null,null,null,"1904 正隆","富邦人壽保險(股)蔡明興",41865,"富邦人壽保險",{"$f":"IFERROR(VLOOKUP(K62,股價!A:B,2,0)*M62,\"\")","v":1327120.5},{"$f":"IF(O62=\"\",\"\",RANK(O62,$O$2:$O$1000))","v":61}]
["1101 台泥","駱錦明          駱錦明",0,"駱錦明",null,null,null,null,null,null,"9938 百和","富邦人壽保險(股)蔡明興",23363,"富邦人壽保險",{"$f":"IFERROR(VLOOKUP(K63,股價!A:B,2,0)*M63,\"\")","v":1282628.7},{"$f":"IF(O63=\"\",\"\",RANK(O63,$O$2:$O$1000))","v":62}]
["1101 台泥","謝其嘉          謝其嘉",544,"謝其嘉",null,null,null,null,null,null,"3703 欣陸","富邦人壽保險(股)富邦人壽保險",41078,"富邦人壽保險",{"$f":"IFERROR(VLOOKUP(K64,股價!A:B,2,0)*M64,\"\")","v":1261094.5999999999},{"$f":"IF(O64=\"\",\"\",RANK(O64,$O$2:$O$1000))","v":63}]
["1101 台泥","舊制勞工退休基金舊制勞工退休",109882,"舊制勞工退休基金",null,null,null,null,null,null,"9921 巨大","富邦人壽保險(股)富邦人壽保險",6208,"富邦人壽保險",{"$f":"IFERROR(VLOOKUP(K65,股價!A:B,2,0)*M65,\"\")","v":1247808},{"$f":"IF(O65=\"\",\"\",RANK(O65,$O$2:$O$1000))","v":64}]
["1101 台泥","藍岑蔚          藍岑蔚",184,"藍岑蔚",null,null,null,null,null,null,"6781 AES-KY","富邦人壽保險(股)蔡明興",1905,"富邦人壽保險",{"$f":"IFERROR(VLOOKUP(K66,股價!A:B,2,0)*M66,\"\")","v":1242060},{"$f":"IF(O66=\"\",\"\",RANK(O66,$O$2:$O$1000))","v":65}]
["1101 台泥","魏家珮          魏家珮",247,"魏家珮",null,null,null,null,null,null,"6414 樺漢","富邦人壽保險(股)蔡明興",4457,"富邦人壽保險",{"$f":"IFERROR(VLOOKUP(K67,股價!A:B,2,0)*M67,\"\")","v":1234589},{"$f":"IF(O67=\"\",\"\",RANK(O67,$O$2:$O$1000))","v":66}]
["1101 台泥","恒強投資(股)    溫堅",112458,"恒強投資",null,null,null,null,null,null,"2504 國產","富邦人壽保險(股)蔡明興",41015,"富邦人壽保險",{"$f":"IFERROR(VLOOKUP(K68,股價!A:B,2,0)*M68,\"\")","v":1173029},{"$f":"IF(O68=\"\",\"\",RANK(O68,$O$2:$O$1000))","v":67}]
["1101 台泥","恒強投資(股)    劉純穎",112458,"恒強投資",null,null,null,null,null,null,"5534 長虹","富邦人壽保險(股)蔡明興",14445,"富邦人壽保險",{"$f":"IFERROR(VLOOKUP(K69,股價!A:B,2,0)*M69,\"\")","v":1132488},{"$f":"IF(O69=\"\",\"\",RANK(O69,$O$2:$O$1000))","v":68}]
["1102 亞泥","_大股東合計1",0,null,null,null,null,null,null,null,"6548 長科*","富邦人壽保險(股)蔡明興",27415,"富邦人壽保險",{"$f":"IFERROR(VLOOKUP(K70,股價!A:B,2,0)*M70,\"\")","v":1122644.25},{"$f":"IF(O70=\"\",\"\",RANK(O70,$O$2:$O$1000))","v":69}]
["1102 亞泥","_大股東合計2    含沿用資料",530762,null,null,null,null,null,null,null,"1304 台聚","富邦人壽保險(股)蔡明興",47506,"富邦人壽保險",{"$f":"IFERROR(VLOOKUP(K71,股價!A:B,2,0)*M71,\"\")","v":1102139.2},{"$f":"IF(O71=\"\",\"\",RANK(O71,$O$2:$O$1000))","v":70}]
["1102 亞泥","_經理人合計",3867,null,null,null,null,null,null,null,"8422 可寧衛","富邦人壽保險(股)蔡明興",5425,"富邦人壽保險",{"$f":"IFERROR(VLOOKUP(K72,股價!A:B,2,0)*M72,\"\")","v":1095850},{"$f":"IF(O72=\"\",\"\",RANK(O72,$O$2:$O$1000))","v":71}]
["1102 亞泥","_董  事合計",970385,null,null,null,null,null,null,null,"2645 長榮航太","富邦人壽保險(股)蔡明興",10580,"富邦人壽保險",{"$f":"IFERROR(VLOOKUP(K73,股價!A:B,2,0)*M73,\"\")","v":1084450},{"$f":"IF(O73=\"\",\"\",RANK(O73,$O$2:$O$1000))","v":72}]
["1102 亞泥","_董監事合計",970385,null,null,null,null,null,null,null,"9911 櫻花","富邦人壽保險(股)蔡明興",16613,"富邦人壽保險",{"$f":"IFERROR(VLOOKUP(K74,股價!A:B,2,0)*M74,\"\")","v":1066554.6000000001},{"$f":"IF(O74=\"\",\"\",RANK(O74,$O$2:$O$1000))","v":73}]
["1102 亞泥","_監察人合計",0,null,null,null,null,null,null,null,"2106 建大","富邦人壽保險(股)蔡明興",34914,"富邦人壽保險",{"$f":"IFERROR(VLOOKUP(K75,股價!A:B,2,0)*M75,\"\")","v":1061385.5999999999},{"$f":"IF(O75=\"\",\"\",RANK(O75,$O$2:$O$1000))","v":74}]
["1102 亞泥","大聚化學纖維(股)陳瑞隆",1560,"大聚化學纖維",null,null,null,null,null,null,"2548 華固","富邦人壽保險(股)蔡明興",11000,"富邦人壽保險",{"$f":"IFERROR(VLOOKUP(K76,股價!A:B,2,0)*M76,\"\")","v":1059300},{"$f":"IF(O76=\"\",\"\",RANK(O76,$O$2:$O$1000))","v":75}]
["1102 亞泥","中國人壽保險(股)譚碩倫",84520,"中國人壽保險",null,null,null,null,null,null,"4919 新唐","富邦人壽保險(股)富邦人壽保險",8322,"富邦人壽保險",{"$f":"IFERROR(VLOOKUP(K77,股價!A:B,2,0)*M77,\"\")","v":1011123},{"$f":"IF(O77=\"\",\"\",RANK(O77,$O$2:$O$1000))","v":76}]
["1102 亞泥","王照宇          王照宇",0,"王照宇",null,null,null,null,null,null,"5288 豐祥-KY","富邦人壽保險(股)富邦人壽保險",5217,"富邦人壽保險",{"$f":"IFERROR(VLOOKUP(K78,股價!A:B,2,0)*M78,\"\")","v":980796},{"$f":"IF(O78=\"\",\"\",RANK(O78,$O$2:$O$1000))","v":77}]
["1102 亞泥","兆豐銀財務處    張兆順",59500,"兆豐國際商業銀行總管理處財務處",null,null,null,null,null,null,"4766 南寶","富邦人壽保險(股)蔡明興",6023,"富邦人壽保險",{"$f":"IFERROR(VLOOKUP(K79,股價!A:B,2,0)*M79,\"\")","v":978737.5},{"$f":"IF(O79=\"\",\"\",RANK(O79,$O$2:$O$1000))","v":78}]
["1102 亞泥","朱雲鵬          朱雲鵬",0,"朱雲鵬",null,null,null,null,null,null,"1532 勤美","富邦人壽保險(股)蔡明興",27944,"富邦人壽保險",{"$f":"IFERROR(VLOOKUP(K80,股價!A:B,2,0)*M80,\"\")","v":945904.4},{"$f":"IF(O80=\"\",\"\",RANK(O80,$O$2:$O$1000))","v":79}]
["1102 亞泥","百揚投資(股)    歐晉德",3849,"百揚投資",null,null,null,null,null,null,"2006 東和鋼鐵","富邦人壽保險(股)蔡明興",16186,"富邦人壽保險",{"$f":"IFERROR(VLOOKUP(K81,股價!A:B,2,0)*M81,\"\")","v":932313.59999999998},{"$f":"IF(O81=\"\",\"\",RANK(O81,$O$2:$O$1000))","v":80}]
["1102 亞泥","余東霖          余東霖",122,"余東霖",null,null,null,null,null,null,"3707 漢磊","富邦人壽保險(股)富邦人壽保險",11940,"富邦人壽保險",{"$f":"IFERROR(VLOOKUP(K82,股價!A:B,2,0)*M82,\"\")","v":914603.99999999988},{"$f":"IF(O82=\"\",\"\",RANK(O82,$O$2:$O$1000))","v":81}]
["1102 亞泥","吳玲綾          吳玲綾",180,"吳玲綾",null,null,null,null,null,null,"1537 廣隆","富邦人壽保險(股)蔡明興",6500,"富邦人壽保險",{"$f":"IFERROR(VLOOKUP(K83,股價!A:B,2,0)*M83,\"\")","v":903500},{"$f":"IF(O83=\"\",\"\",RANK(O83,$O$2:$O$1000))","v":82}]
["1102 亞泥","李光燾          李光燾",643,"李光燾",null,null,null,null,null,null,"2103 台橡","富邦人壽保險(股)蔡明興",33435,"富邦人壽保險",{"$f":"IFERROR(VLOOKUP(K84,股價!A:B,2,0)*M84,\"\")","v":891042.75},{"$f":"IF(O84=\"\",\"\",RANK(O84,$O$2:$O$1000))","v":83}]
["1102 亞泥","李坤炎          李坤炎",3334,"李坤炎",null,null,null,null,null,null,"3376 新日興","富邦人壽保險(股)蔡明興",9619,"富邦人壽保險",{"$f":"IFERROR(VLOOKUP(K85,股價!A:B,2,0)*M85,\"\")","v":890719.39999999991},{"$f":"IF(O85=\"\",\"\",RANK(O85,$O$2:$O$1000))","v":84}]
["1102 亞泥","李冠軍          李冠軍",0,"李冠軍",null,null,null,null,null,null,"1909 榮成","富邦人壽保險(股)富邦人壽保險",54133,"富邦人壽保險",{"$f":"IFERROR(VLOOKUP(K86,股價!A:B,2,0)*M86,\"\")","v":885074.55},{"$f":"IF(O86=\"\",\"\",RANK(O86,$O$2:$O$1000))","v":85}]
["1102 亞泥","李洪慧          李洪慧",9,"李洪慧",null,null,null,null,null,null,"6510 精測","富邦人壽保險(股)蔡明興",1846,"富邦人壽保險",{"$f":"IFERROR(VLOOKUP(K87,股價!A:B,2,0)*M87,\"\")","v":869466},{"$f":"IF(O87=\"\",\"\",RANK(O87,$O$2:$O$1000))","v":86}]
["1102 亞泥","李雅萍          李雅萍",0,"李雅萍",null,null,null,null,null,null,"3022 威強電","富邦人壽保險(股)富邦人壽保險",8911,"富邦人壽保險",{"$f":"IFERROR(VLOOKUP(K88,股價!A:B,2,0)*M88,\"\")","v":828723},{"$f":"IF(O88=\"\",\"\",RANK(O88,$O$2:$O$1000))","v":87}]
["1102 亞泥","私立元智大學    徐旭東",47500,"私立元智大學",null,null,null,null,null,null,"8046 南電","富邦人壽保險(股)蔡明興",2861,"富邦人壽保險",{"$f":"IFERROR(VLOOKUP(K89,股價!A:B,2,0)*M89,\"\")","v":825398.5},{"$f":"IF(O89=\"\",\"\",RANK(O89,$O$2:$O$1000))","v":88}]
["1102 亞泥","席家宜          席家宜",454,"席家宜",null,null,null,null,null,null,"6456 GIS-KY","富邦人壽保險(股)蔡明興",11100,"富邦人壽保險",{"$f":"IFERROR(VLOOKUP(K90,股價!A:B,2,0)*M90,\"\")","v":822509.99999999988},{"$f":"IF(O90=\"\",\"\",RANK(O90,$O$2:$O$1000))","v":89}]
["1102 亞泥","徐元智醫藥      李冠軍",181567,"財團法人徐元智先生醫藥基金會",null,null,null,null,null,null,"2409 友達","富邦人壽保險(股)蔡明興",48000,"富邦人壽保險",{"$f":"IFERROR(VLOOKUP(K91,股價!A:B,2,0)*M91,\"\")","v":818400},{"$f":"IF(O91=\"\",\"\",RANK(O91,$O$2:$O$1000))","v":90}]
["1102 亞泥","徐旭平          徐旭平",13455,"徐旭平",null,null,null,null,null,null,"3026 禾伸堂","富邦人壽保險(股)蔡明興",7820,"富邦人壽保險",{"$f":"IFERROR(VLOOKUP(K92,股價!A:B,2,0)*M92,\"\")","v":801550},{"$f":"IF(O92=\"\",\"\",RANK(O92,$O$2:$O$1000))","v":91}]
["1102 亞泥","徐旭東          徐旭東",23278,"徐旭東",null,null,null,null,null,null,"2355 敬鵬","富邦人壽保險(股)富邦人壽保險",26499,"富邦人壽保險",{"$f":"IFERROR(VLOOKUP(K93,股價!A:B,2,0)*M93,\"\")","v":800269.79999999993},{"$f":"IF(O93=\"\",\"\",RANK(O93,$O$2:$O$1000))","v":92}]
["1102 亞泥","徐有庠先生紀念基徐旭平",6219,"徐有庠先生紀念基金會",null,null,null,null,null,null,"5903 全家","富邦人壽保險(股)富邦人壽保險",3745,"富邦人壽保險",{"$f":"IFERROR(VLOOKUP(K94,股價!A:B,2,0)*M94,\"\")","v":792067.5},{"$f":"IF(O94=\"\",\"\",RANK(O94,$O$2:$O$1000))","v":93}]
["1102 亞泥","徐有庠先生紀念基張振崑",6219,"徐有庠先生紀念基金會",null,null,null,null,null,null,"5388 中磊","富邦人壽保險(股)蔡明興",9013,"富邦人壽保險",{"$f":"IFERROR(VLOOKUP(K95,股價!A:B,2,0)*M95,\"\")","v":781427.1},{"$f":"IF(O95=\"\",\"\",RANK(O95,$O$2:$O$1000))","v":94}]
["1102 亞泥","財團法人徐元智先李光燾",44115,"財團法人徐元智先生紀念基金會",null,null,null,null,null,null,"6491 晶碩","富邦人壽保險(股)富邦人壽保險",2183,"富邦人壽保險",{"$f":"IFERROR(VLOOKUP(K96,股價!A:B,2,0)*M96,\"\")","v":778239.5},{"$f":"IF(O96=\"\",\"\",RANK(O96,$O$2:$O$1000))","v":95}]
["1102 亞泥","高雪英          高雪英",1,"高雪英",null,null,null,null,null,null,"5306 桂盟","富邦人壽保險(股)蔡明興",5398,"富邦人壽保險",{"$f":"IFERROR(VLOOKUP(K97,股價!A:B,2,0)*M97,\"\")","v":771914},{"$f":"IF(O97=\"\",\"\",RANK(O97,$O$2:$O$1000))","v":96}]
["1102 亞泥","國泰元大高股    國泰元大高股",133034,"國泰世華商業銀行受託保管元大寶來台灣高股息證券投資信託基金專戶",null,null,null,null,null,null,"2723 美食-KY","富邦人壽保險(股)富邦人壽保險",4673,"富邦人壽保險",{"$f":"IFERROR(VLOOKUP(K98,股價!A:B,2,0)*M98,\"\")","v":745343.5},{"$f":"IF(O98=\"\",\"\",RANK(O98,$O$2:$O$1000))","v":97}]
["1102 亞泥","張才雄          張才雄",1165,"張才雄",null,null,null,null,null,null,"3131 弘塑","富邦人壽保險(股)富邦人壽保險",1948,"富邦人壽保險",{"$f":"IFERROR(VLOOKUP(K99,股價!A:B,2,0)*M99,\"\")","v":716864},{"$f":"IF(O99=\"\",\"\",RANK(O99,$O$2:$O$1000))","v":98}]
["1102 亞泥","張志鵬          張志鵬",34,"張志鵬",null,null,null,null,null,null,"2313 華通","富邦人壽保險(股)富邦人壽保險",17000,"富邦人壽保險",{"$f":"IFERROR(VLOOKUP(K100,股價!A:B,2,0)*M100,\"\")","v":710600},{"$f":"IF(O100=\"\",\"\",RANK(O100,$O$2:$O$1000))","v":99}]
["1102 亞泥","張振崑          張振崑",30,"張振崑",null,null,null,null,null,null,"4551 智伸科","富邦人壽保險(股)蔡明興",5347,"富邦人壽保險",{"$f":"IFERROR(VLOOKUP(K101,股價!A:B,2,0)*M101,\"\")","v":700457},{"$f":"IF(O101=\"\",\"\",RANK(O101,$O$2:$O$1000))","v":100}]
["1102 亞泥","陳長文          陳長文",338,"陳長文",null,null,null,null,null,null,"4105 東洋","富邦人壽保險(股)蔡明興",9310,"富邦人壽保險",{"$f":"IFERROR(VLOOKUP(K102,股價!A:B,2,0)*M102,\"\")","v":699181},{"$f":"IF(O102=\"\",\"\",RANK(O102,$O$2:$O$1000))","v":101}]
["1102 亞泥","陳春明          陳春明",40,"陳春明",null,null,null,null,null,null,"3264 欣銓","富邦人壽保險(股)蔡明興",12244,"富邦人壽保險",{"$f":"IFERROR(VLOOKUP(K103,股價!A:B,2,0)*M103,\"\")","v":648932},{"$f":"IF(O103=\"\",\"\",RANK(O103,$O$2:$O$1000))","v":102}]
["1102 亞泥","陳瑞隆          陳瑞隆",0,"陳瑞隆",null,null,null,null,null,null,"4536 拓凱","富邦人壽保險(股)蔡明興",3172,"富邦人壽保險",{"$f":"IFERROR(VLOOKUP(K104,股價!A:B,2,0)*M104,\"\")","v":621712},{"$f":"IF(O104=\"\",\"\",RANK(O104,$O$2:$O$1000))","v":103}]
["1102 亞泥","陳樹            陳樹",0,"陳樹",null,null,null,null,null,null,"9925 新保","富邦人壽保險(股)蔡明興",14737,"富邦人壽保險",{"$f":"IFERROR(VLOOKUP(K105,股價!A:B,2,0)*M105,\"\")","v":614532.9},{"$f":"IF(O105=\"\",\"\",RANK(O105,$O$2:$O$1000))","v":104}]
["1102 亞泥","陳聰明          陳聰明",147,"陳聰明",null,null,null,null,null,null,"3042 晶技","富邦人壽保險(股)蔡明興",7087,"富邦人壽保險",{"$f":"IFERROR(VLOOKUP(K106,股價!A:B,2,0)*M106,\"\")","v":610899.4},{"$f":"IF(O106=\"\",\"\",RANK(O106,$O$2:$O$1000))","v":105}]
["1102 亞泥","楊淯玲          楊淯玲",0,"楊淯玲",null,null,null,null,null,null,"6206 飛捷","富邦人壽保險(股)富邦人壽保險",8540,"富邦人壽保險",{"$f":"IFERROR(VLOOKUP(K107,股價!A:B,2,0)*M107,\"\")","v":597800},{"$f":"IF(O107=\"\",\"\",RANK(O107,$O$2:$O$1000))","v":106}]
["1102 亞泥","葉文華          葉文華",0,"葉文華",null,null,null,null,null,null,"3035 智原","富邦人壽保險(股)蔡明興",3620,"富邦人壽保險",{"$f":"IFERROR(VLOOKUP(K108,股價!A:B,2,0)*M108,\"\")","v":586440},{"$f":"IF(O108=\"\",\"\",RANK(O108,$O$2:$O$1000))","v":107}]
["1102 亞泥","裕民A(股)       李光燾",1506,"裕民A",null,null,null,null,null,null,"6271 同欣電","富邦人壽保險(股)富邦人壽保險",3318,"富邦人壽保險",{"$f":"IFERROR(VLOOKUP(K109,股價!A:B,2,0)*M109,\"\")","v":565719},{"$f":"IF(O109=\"\",\"\",RANK(O109,$O$2:$O$1000))","v":108}]
["1102 亞泥","裕鼎實業(股)    李坤炎",1895,"裕鼎實業",null,null,null,null,null,null,"5234 達興材料","富邦人壽保險(股)蔡明興",5850,"富邦人壽保險",{"$f":"IFERROR(VLOOKUP(K110,股價!A:B,2,0)*M110,\"\")","v":556335},{"$f":"IF(O110=\"\",\"\",RANK(O110,$O$2:$O$1000))","v":109}]
["1102 亞泥","遠東百貨(股)    徐旭東",50000,"遠東百貨",null,null,null,null,null,null,"4438 廣越","富邦人壽保險(股)蔡明興",4667,"富邦人壽保險",{"$f":"IFERROR(VLOOKUP(K111,股價!A:B,2,0)*M111,\"\")","v":546039},{"$f":"IF(O111=\"\",\"\",RANK(O111,$O$2:$O$1000))","v":110}]
["1102 亞泥","遠東新世紀(股)  席家宜",750511,"遠東新世紀",null,null,null,null,null,null,"6561 是方","富邦人壽保險(股)蔡明興",1449,"富邦人壽保險",{"$f":"IFERROR(VLOOKUP(K112,股價!A:B,2,0)*M112,\"\")","v":535405.5},{"$f":"IF(O112=\"\",\"\",RANK(O112,$O$2:$O$1000))","v":111}]
["1102 亞泥","遠東新世紀(股)  張才雄",750511,"遠東新世紀",null,null,null,null,null,null,"2729 瓦城","富邦人壽保險(股)富邦人壽保險",1905,"富邦人壽保險",{"$f":"IFERROR(VLOOKUP(K113,股價!A:B,2,0)*M113,\"\")","v":523875},{"$f":"IF(O113=\"\",\"\",RANK(O113,$O$2:$O$1000))","v":112}]
["1102 亞泥","遠東新世紀(股)  陳長文",750511,"遠東新世紀",null,null,null,null,null,null,"4770 上品","富邦人壽保險(股)富邦人壽保險",1802,"富邦人壽保險",{"$f":"IFERROR(VLOOKUP(K114,股價!A:B,2,0)*M114,\"\")","v":513570},{"$f":"IF(O114=\"\",\"\",RANK(O114,$O$2:$O$1000))","v":113}]
["1102 亞泥","遠東新世紀股    遠東新世紀股",57891,"遠東新世紀股份有限公司職工退休基金管理委員會",null,null,null,null,null,null,"6278 台表科","富邦人壽保險(股)蔡明興",5300,"富邦人壽保險",{"$f":"IFERROR(VLOOKUP(K115,股價!A:B,2,0)*M115,\"\")","v":504560},{"$f":"IF(O115=\"\",\"\",RANK(O115,$O$2:$O$1000))","v":114}]
["1102 亞泥","遠鼎投資(股)    徐旭東",54202,"遠鼎投資",null,null,null,null,null,null,"1305 華夏","富邦人壽保險(股)蔡明興",20770,"富邦人壽保險",{"$f":"IFERROR(VLOOKUP(K116,股價!A:B,2,0)*M116,\"\")","v":491210.49999999994},{"$f":"IF(O116=\"\",\"\",RANK(O116,$O$2:$O$1000))","v":115}]
["1102 亞泥","歐晉德          歐晉德",0,"歐晉德",null,null,null,null,null,null,"4137 麗豐-KY","富邦人壽保險股份富邦人壽保險",2070,"富邦人壽保險股份有限公司全權委託復華投信投資專帳戶",{"$f":"IFERROR(VLOOKUP(K117,股價!A:B,2,0)*M117,\"\")","v":480240},{"$f":"IF(O117=\"\",\"\",RANK(O117,$O$2:$O$1000))","v":116}]
["1102 亞泥","薛琦            薛琦",0,"薛琦",null,null,null,null,null,null,"8462 柏文","富邦人壽保險(股)蔡明興",3339,"富邦人壽保險",{"$f":"IFERROR(VLOOKUP(K118,股價!A:B,2,0)*M118,\"\")","v":479146.5},{"$f":"IF(O118=\"\",\"\",RANK(O118,$O$2:$O$1000))","v":117}]
["1103 嘉泥","Howard Pan      Howard Pan",0,"Howard Pan",null,null,null,null,null,null,"9924 福興","富邦人壽保險(股)富邦人壽保險",10886,"富邦人壽保險",{"$f":"IFERROR(VLOOKUP(K119,股價!A:B,2,0)*M119,\"\")","v":476806.8},{"$f":"IF(O119=\"\",\"\",RANK(O119,$O$2:$O$1000))","v":118}]
["1103 嘉泥","_大股東合計1",0,null,null,null,null,null,null,null,"8436 大江","富邦人壽保險(股)富邦人壽保險",2619,"富邦人壽保險",{"$f":"IFERROR(VLOOKUP(K120,股價!A:B,2,0)*M120,\"\")","v":463563},{"$f":"IF(O120=\"\",\"\",RANK(O120,$O$2:$O$1000))","v":119}]
["1103 嘉泥","_大股東合計2    含沿用資料",237100,null,null,null,null,null,null,null,"6192 巨路","富邦人壽保險(股)鄭本源",6221,"富邦人壽保險",{"$f":"IFERROR(VLOOKUP(K121,股價!A:B,2,0)*M121,\"\")","v":459109.8},{"$f":"IF(O121=\"\",\"\",RANK(O121,$O$2:$O$1000))","v":120}]
["1103 嘉泥","_經理人合計",791,null,null,null,null,null,null,null,"9958 世紀鋼","富邦人壽保險(股)富邦人壽保險",4559,"富邦人壽保險",{"$f":"IFERROR(VLOOKUP(K122,股價!A:B,2,0)*M122,\"\")","v":450885.10000000003},{"$f":"IF(O122=\"\",\"\",RANK(O122,$O$2:$O$1000))","v":121}]
["1103 嘉泥","_董  事合計",132871,null,null,null,null,null,null,null,"8039 台虹","富邦人壽保險(股)蔡明興",10453,"富邦人壽保險",{"$f":"IFERROR(VLOOKUP(K123,股價!A:B,2,0)*M123,\"\")","v":435890.10000000003},{"$f":"IF(O123=\"\",\"\",RANK(O123,$O$2:$O$1000))","v":122}]
["1103 嘉泥","_董監事合計",132871,null,null,null,null,null,null,null,"1227 佳格","富邦人壽保險(股)蔡明興",10661,"富邦人壽保險",{"$f":"IFERROR(VLOOKUP(K124,股價!A:B,2,0)*M124,\"\")","v":434968.8},{"$f":"IF(O124=\"\",\"\",RANK(O124,$O$2:$O$1000))","v":123}]
["1103 嘉泥","_監察人合計",0,null,null,null,null,null,null,null,"1702 南僑","富邦人壽託野村投富邦人壽託野",8359,"富邦人壽保險(股)公司全權委託野村投信",{"$f":"IFERROR(VLOOKUP(K125,股價!A:B,2,0)*M125,\"\")","v":427980.80000000005},{"$f":"IF(O125=\"\",\"\",RANK(O125,$O$2:$O$1000))","v":124}]
["1103 嘉泥","王立心          王立心",311,"王立心",null,null,null,null,null,null,"3708 上緯投控","富邦人壽保險(股)富邦人壽保險",4205,"富邦人壽保險",{"$f":"IFERROR(VLOOKUP(K126,股價!A:B,2,0)*M126,\"\")","v":401157},{"$f":"IF(O126=\"\",\"\",RANK(O126,$O$2:$O$1000))","v":125}]
["1103 嘉泥","台灣水泥(股)    張安平",27419,"台灣水泥",null,null,null,null,null,null,"8916 光隆","富邦人壽保險(股)蔡明興",7441,"富邦人壽保險",{"$f":"IFERROR(VLOOKUP(K127,股價!A:B,2,0)*M127,\"\")","v":387676.10000000003},{"$f":"IF(O127=\"\",\"\",RANK(O127,$O$2:$O$1000))","v":126}]
["1103 嘉泥","佐佑投資(股)    陳曉凌",14640,"佐佑投資",null,null,null,null,null,null,"3413 京鼎","富邦人壽保險(股)富邦人壽保險",2056,"富邦人壽保險",{"$f":"IFERROR(VLOOKUP(K128,股價!A:B,2,0)*M128,\"\")","v":379332},{"$f":"IF(O128=\"\",\"\",RANK(O128,$O$2:$O$1000))","v":127}]
["1103 嘉泥","余曉芸          余曉芸",84,"余曉芸",null,null,null,null,null,null,"6281 全國電","富邦人壽保險(股)蔡明興",4491,"富邦人壽保險",{"$f":"IFERROR(VLOOKUP(K129,股價!A:B,2,0)*M129,\"\")","v":378142.2},{"$f":"IF(O129=\"\",\"\",RANK(O129,$O$2:$O$1000))","v":128}]
["1103 嘉泥","周月珍          周月珍",118,"周月珍",null,null,null,null,null,null,"5457 宣德","富邦人壽保險(股)蔡明興",7415,"富邦人壽保險",{"$f":"IFERROR(VLOOKUP(K130,股價!A:B,2,0)*M130,\"\")","v":373716},{"$f":"IF(O130=\"\",\"\",RANK(O130,$O$2:$O$1000))","v":129}]
["1103 嘉泥","林伯謙          林伯謙",77,"林伯謙",null,null,null,null,null,null,"4532 瑞智","富邦人壽保險(股)蔡明興",20400,"富邦人壽保險",{"$f":"IFERROR(VLOOKUP(K131,股價!A:B,2,0)*M131,\"\")","v":369240},{"$f":"IF(O131=\"\",\"\",RANK(O131,$O$2:$O$1000))","v":130}]
["1103 嘉泥","林寶珠          林寶珠",0,"林寶珠",null,null,null,null,null,null,"3217 優群","富邦人壽保險(股)蔡明興",3600,"富邦人壽保險",{"$f":"IFERROR(VLOOKUP(K132,股價!A:B,2,0)*M132,\"\")","v":367200},{"$f":"IF(O132=\"\",\"\",RANK(O132,$O$2:$O$1000))","v":131}]
["1103 嘉泥","松佐投資(股)    張永平",68780,"松佐投資",null,null,null,null,null,null,"3526 凡甲","富邦人壽保險(股)蔡明興",2707,"富邦人壽保險",{"$f":"IFERROR(VLOOKUP(K133,股價!A:B,2,0)*M133,\"\")","v":364091.5},{"$f":"IF(O133=\"\",\"\",RANK(O133,$O$2:$O$1000))","v":132}]
["1103 嘉泥","康浩實業(股)    張仙平",17267,"康浩實業",null,null,null,null,null,null,"6732 昇佳電子","富邦人壽保險(股)富邦人壽保險",1109,"富邦人壽保險",{"$f":"IFERROR(VLOOKUP(K134,股價!A:B,2,0)*M134,\"\")","v":363752},{"$f":"IF(O134=\"\",\"\",RANK(O134,$O$2:$O$1000))","v":133}]
["1103 嘉泥","張永平          張永平",41748,"張永平",null,null,null,null,null,null,"2536 宏普","富邦人壽保險(股)蔡明興",14215,"富邦人壽保險",{"$f":"IFERROR(VLOOKUP(K135,股價!A:B,2,0)*M135,\"\")","v":362482.5},{"$f":"IF(O135=\"\",\"\",RANK(O135,$O$2:$O$1000))","v":134}]
["1103 嘉泥","張武田          張武田",57,"張武田",null,null,null,null,null,null,"4164 承業醫","富邦人壽保險(股)蔡明興",5390,"富邦人壽保險",{"$f":"IFERROR(VLOOKUP(K136,股價!A:B,2,0)*M136,\"\")","v":360591.00000000006},{"$f":"IF(O136=\"\",\"\",RANK(O136,$O$2:$O$1000))","v":135}]
["1103 嘉泥","張剛綸          張剛綸",4808,"張剛綸",null,null,null,null,null,null,"3714 富采","富邦人壽保險(股)蔡明興",7500,"富邦人壽保險",{"$f":"IFERROR(VLOOKUP(K137,股價!A:B,2,0)*M137,\"\")","v":357000},{"$f":"IF(O137=\"\",\"\",RANK(O137,$O$2:$O$1000))","v":136}]
["1103 嘉泥","陳文婉          陳文婉",0,"陳文婉",null,null,null,null,null,null,"6789 采鈺","富邦人壽保險(股)富邦人壽保險",1700,"富邦人壽保險",{"$f":"IFERROR(VLOOKUP(K138,股價!A:B,2,0)*M138,\"\")","v":353600},{"$f":"IF(O138=\"\",\"\",RANK(O138,$O$2:$O$1000))","v":137}]
["1103 嘉泥","陳國儀          陳國儀",0,"陳國儀",null,null,null,null,null,null,"6284 佳邦","富邦人壽保險(股)蔡明興",6515,"富邦人壽保險",{"$f":"IFERROR(VLOOKUP(K139,股價!A:B,2,0)*M139,\"\")","v":351158.5},{"$f":"IF(O139=\"\",\"\",RANK(O139,$O$2:$O$1000))","v":138}]
["1103 嘉泥","陳啟德          陳啟德",693,"陳啟德",null,null,null,null,null,null,"1701 中化","富邦人壽保險(股)蔡明興",12766,"富邦人壽保險",{"$f":"IFERROR(VLOOKUP(K140,股價!A:B,2,0)*M140,\"\")","v":329362.8},{"$f":"IF(O140=\"\",\"\",RANK(O140,$O$2:$O$1000))","v":139}]
["1103 嘉泥","詞閎(股)        詞閎(股)",170,"詞閎股份有限公司",null,null,null,null,null,null,"6416 瑞祺電通","富邦人壽保險(股)富邦人壽保險",3400,"富邦人壽保險",{"$f":"IFERROR(VLOOKUP(K141,股價!A:B,2,0)*M141,\"\")","v":328780},{"$f":"IF(O141=\"\",\"\",RANK(O141,$O$2:$O$1000))","v":140}]
["1103 嘉泥","馮文裕          馮文裕",44,"馮文裕",null,null,null,null,null,null,"6166 凌華","富邦人壽保險(股)富邦人壽保險",4941,"富邦人壽保險",{"$f":"IFERROR(VLOOKUP(K142,股價!A:B,2,0)*M142,\"\")","v":297448.2},{"$f":"IF(O142=\"\",\"\",RANK(O142,$O$2:$O$1000))","v":141}]
["1103 嘉泥","黃華宙          黃華宙",100,"黃華宙",null,null,null,null,null,null,"9905 大華","富邦人壽保險(股)蔡明興",11632,"富邦人壽保險",{"$f":"IFERROR(VLOOKUP(K143,股價!A:B,2,0)*M143,\"\")","v":297197.60000000003},{"$f":"IF(O143=\"\",\"\",RANK(O143,$O$2:$O$1000))","v":142}]
["1103 嘉泥","達和航運(股)    蔡立文",25761,"達和航運",null,null,null,null,null,null,"1583 程泰","富邦人壽保險(股)富邦人壽保險",4264,"富邦人壽保險",{"$f":"IFERROR(VLOOKUP(K144,股價!A:B,2,0)*M144,\"\")","v":283982.39999999997},{"$f":"IF(O144=\"\",\"\",RANK(O144,$O$2:$O$1000))","v":143}]
["1103 嘉泥","嘉(王民)(股)    嘉(王民)(股)",865,"嘉(王民)股份有限公司",null,null,null,null,null,null,"1597 直得","富邦人壽保險(股)蔡明興",3473,"富邦人壽保險",{"$f":"IFERROR(VLOOKUP(K145,股價!A:B,2,0)*M145,\"\")","v":256654.7},{"$f":"IF(O145=\"\",\"\",RANK(O145,$O$2:$O$1000))","v":144}]
["1103 嘉泥","嘉利實業(股)    辜懷如",13151,"嘉利實業",null,null,null,null,null,null,"4540 全球傳動","富邦人壽保險(股)蔡明興",6255,"富邦人壽保險",{"$f":"IFERROR(VLOOKUP(K146,股價!A:B,2,0)*M146,\"\")","v":253640.24999999997},{"$f":"IF(O146=\"\",\"\",RANK(O146,$O$2:$O$1000))","v":145}]
["1103 嘉泥","嘉泥基金        張剛綸",14843,"嘉新兆福文化基金會",null,null,null,null,null,null,"4163 鐿鈦","富邦人壽保險(股)蔡明興",1825,"富邦人壽保險",{"$f":"IFERROR(VLOOKUP(K147,股價!A:B,2,0)*M147,\"\")","v":249112.5},{"$f":"IF(O147=\"\",\"\",RANK(O147,$O$2:$O$1000))","v":146}]
["1103 嘉泥","嘉新國際(股)    Howard Pan",127370,"嘉新國際",null,null,null,null,null,null,"5285 界霖","富邦人壽保險(股)富邦人壽保險",3366,"富邦人壽保險",{"$f":"IFERROR(VLOOKUP(K148,股價!A:B,2,0)*M148,\"\")","v":241005.59999999998},{"$f":"IF(O148=\"\",\"\",RANK(O148,$O$2:$O$1000))","v":147}]
["1103 嘉泥","嘉新國際(股)    劉奕成",127370,"嘉新國際",null,null,null,null,null,null,"4535 至興","富邦人壽保險(股)蔡明興",5695,"富邦人壽保險",{"$f":"IFERROR(VLOOKUP(K149,股價!A:B,2,0)*M149,\"\")","v":224383},{"$f":"IF(O149=\"\",\"\",RANK(O149,$O$2:$O$1000))","v":148}]
["1103 嘉泥","劉奕成          劉奕成",0,"劉奕成",null,null,null,null,null,null,"8437 大地-KY","富邦人壽保險(股)蔡明興",1966,"富邦人壽保險",{"$f":"IFERROR(VLOOKUP(K150,股價!A:B,2,0)*M150,\"\")","v":208396},{"$f":"IF(O150=\"\",\"\",RANK(O150,$O$2:$O$1000))","v":149}]
["1103 嘉泥","蘇瓜藤          蘇瓜藤",0,"蘇瓜藤",null,null,null,null,null,null,"3611 鼎翰","富邦人壽保險(股)蔡明興",828,"富邦人壽保險",{"$f":"IFERROR(VLOOKUP(K151,股價!A:B,2,0)*M151,\"\")","v":195408},{"$f":"IF(O151=\"\",\"\",RANK(O151,$O$2:$O$1000))","v":150}]
["1103 嘉泥","顧國輝          顧國輝",13491,"顧國輝",null,null,null,null,null,null,"8227 巨有科技","富邦人壽保險(股)富邦人壽保險",1083,"富邦人壽保險",{"$f":"IFERROR(VLOOKUP(K152,股價!A:B,2,0)*M152,\"\")","v":188442},{"$f":"IF(O152=\"\",\"\",RANK(O152,$O$2:$O$1000))","v":151}]
["1104 環泥","_大股東合計1",50888,null,null,null,null,null,null,null,"6120 達運","富邦人壽保險(股)蔡明興",18300,"富邦人壽保險",{"$f":"IFERROR(VLOOKUP(K153,股價!A:B,2,0)*M153,\"\")","v":186660},{"$f":"IF(O153=\"\",\"\",RANK(O153,$O$2:$O$1000))","v":152}]
["1104 環泥","_大股東合計2    含沿用資料",178967,null,null,null,null,null,null,null,"6104 創惟","富邦人壽保險(股)富邦人壽保險",1727,"富邦人壽保險",{"$f":"IFERROR(VLOOKUP(K154,股價!A:B,2,0)*M154,\"\")","v":182198.5},{"$f":"IF(O154=\"\",\"\",RANK(O154,$O$2:$O$1000))","v":153}]
["1104 環泥","_經理人合計",152,null,null,null,null,null,null,null,"1530 亞崴","富邦人壽保險(股)富邦人壽保險",5457,"富邦人壽保險",{"$f":"IFERROR(VLOOKUP(K155,股價!A:B,2,0)*M155,\"\")","v":177898.2},{"$f":"IF(O155=\"\",\"\",RANK(O155,$O$2:$O$1000))","v":154}]
["1104 環泥","_董  事合計",157901,null,null,null,null,null,null,null,"6541 泰福-KY","富邦人壽保險(股)蔡明興",2232,"富邦人壽保險",{"$f":"IFERROR(VLOOKUP(K156,股價!A:B,2,0)*M156,\"\")","v":176328},{"$f":"IF(O156=\"\",\"\",RANK(O156,$O$2:$O$1000))","v":155}]
["1104 環泥","_董監事合計",157901,null,null,null,null,null,null,null,"2062 橋椿","富邦人壽保險(股)蔡明興",8150,"富邦人壽保險",{"$f":"IFERROR(VLOOKUP(K157,股價!A:B,2,0)*M157,\"\")","v":173595},{"$f":"IF(O157=\"\",\"\",RANK(O157,$O$2:$O$1000))","v":156}]
["1104 環泥","_監察人合計",0,null,null,null,null,null,null,null,"4401 東隆興","富邦人壽保險(股)蔡明興",5402,"富邦人壽保險",{"$f":"IFERROR(VLOOKUP(K158,股價!A:B,2,0)*M158,\"\")","v":145854},{"$f":"IF(O158=\"\",\"\",RANK(O158,$O$2:$O$1000))","v":157}]
["1104 環泥","升元投資(股)    侯智升",65256,"升元投資",null,null,null,null,null,null,"4572 駐龍","富邦人壽保險(股)富邦人壽保險",915,"富邦人壽保險",{"$f":"IFERROR(VLOOKUP(K159,股價!A:B,2,0)*M159,\"\")","v":142740},{"$f":"IF(O159=\"\",\"\",RANK(O159,$O$2:$O$1000))","v":158}]
["1104 環泥","王永春          王永春",0,"王永春",null,null,null,null,null,null,"1558 伸興","富邦人壽保險(股)蔡明興",1239,"富邦人壽保險",{"$f":"IFERROR(VLOOKUP(K160,股價!A:B,2,0)*M160,\"\")","v":134431.5},{"$f":"IF(O160=\"\",\"\",RANK(O160,$O$2:$O$1000))","v":159}]
["1104 環泥","宇聲投資(股)    侯智元",64532,"宇聲投資",null,null,null,null,null,null,"6581 鋼聯","富邦人壽保險(股)蔡明興",1413,"富邦人壽保險",{"$f":"IFERROR(VLOOKUP(K161,股價!A:B,2,0)*M161,\"\")","v":127452.6},{"$f":"IF(O161=\"\",\"\",RANK(O161,$O$2:$O$1000))","v":160}]
["1104 環泥","何奕達          何奕達",0,"何奕達",null,null,null,null,null,null,"9951 皇田","富邦人壽保險(股)蔡明興",1797,"富邦人壽保險",{"$f":"IFERROR(VLOOKUP(K162,股價!A:B,2,0)*M162,\"\")","v":126868.19999999998},{"$f":"IF(O162=\"\",\"\",RANK(O162,$O$2:$O$1000))","v":161}]
["1104 環泥","吳尊賢文教公    吳尊賢文教公",11670,"吳尊賢文教公益基金會",null,null,null,null,null,null,"1527 鑽全","富邦人壽保險(股)富邦人壽保險",2820,"富邦人壽保險",{"$f":"IFERROR(VLOOKUP(K163,股價!A:B,2,0)*M163,\"\")","v":118017},{"$f":"IF(O163=\"\",\"\",RANK(O163,$O$2:$O$1000))","v":162}]
["1104 環泥","周士貴          周士貴",0,"周士貴",null,null,null,null,null,null,"6195 詩肯","富邦人壽保險(股)蔡明興",2000,"富邦人壽保險",{"$f":"IFERROR(VLOOKUP(K164,股價!A:B,2,0)*M164,\"\")","v":92300},{"$f":"IF(O164=\"\",\"\",RANK(O164,$O$2:$O$1000))","v":163}]
["1104 環泥","侯博義          侯博義",50888,"侯博義",null,null,null,null,null,null,"6683 雍智科技","富邦人壽保險(股)富邦人壽保險",472,"富邦人壽保險",{"$f":"IFERROR(VLOOKUP(K165,股價!A:B,2,0)*M165,\"\")","v":91332},{"$f":"IF(O165=\"\",\"\",RANK(O165,$O$2:$O$1000))","v":164}]
["1104 環泥","侯博裕          侯博裕",17113,"侯博裕",null,null,null,null,null,null,"2419 仲琦","富邦人壽保險(股)蔡明興",3265,"富邦人壽保險",{"$f":"IFERROR(VLOOKUP(K166,股價!A:B,2,0)*M166,\"\")","v":85216.5},{"$f":"IF(O166=\"\",\"\",RANK(O166,$O$2:$O$1000))","v":165}]
["1104 環泥","侯智元          侯智元",35,"侯智元",null,null,null,null,null,null,"1338 廣華-KY","富邦人壽保險(股)富邦人壽保險",1725,"富邦人壽保險",{"$f":"IFERROR(VLOOKUP(K167,股價!A:B,2,0)*M167,\"\")","v":73485},{"$f":"IF(O167=\"\",\"\",RANK(O167,$O$2:$O$1000))","v":166}]
["1104 環泥","侯智升          侯智升",117,"侯智升",null,null,null,null,null,null,"4198 欣大健康","富邦人壽保險(股)蔡明興",489,"富邦人壽保險",{"$f":"IFERROR(VLOOKUP(K168,股價!A:B,2,0)*M168,\"\")","v":12225},{"$f":"IF(O168=\"\",\"\",RANK(O168,$O$2:$O$1000))","v":167}]
["1104 環泥","侯蘇錦倩        侯蘇錦倩",22394,"侯蘇錦倩",null,null,null,null,null,null,null,null,null,null,{"$f":"IFERROR(VLOOKUP(K169,股價!A:B,2,0)*M169,\"\")","v":""},{"$f":"IF(O169=\"\",\"\",RANK(O169,$O$2:$O$1000))","v":""}]
["1104 環泥","高琮堯          高琮堯",0,"高琮堯",null,null,null,null,null,null,null,null,null,null,{"$f":"IFERROR(VLOOKUP(K170,股價!A:B,2,0)*M170,\"\")","v":""},{"$f":"IF(O170=\"\",\"\",RANK(O170,$O$2:$O$1000))","v":""}]
["1104 環泥","張培德          張培德",0,"張培德",null,null,null,null,null,null,null,null,null,null,{"$f":"IFERROR(VLOOKUP(K171,股價!A:B,2,0)*M171,\"\")","v":""},{"$f":"IF(O171=\"\",\"\",RANK(O171,$O$2:$O$1000))","v":""}]
["1104 環泥","陳景星          陳景星",1121,"陳景星",null,null,null,null,null,null,null,null,null,null,{"$f":"IFERROR(VLOOKUP(K172,股價!A:B,2,0)*M172,\"\")","v":""},{"$f":"IF(O172=\"\",\"\",RANK(O172,$O$2:$O$1000))","v":""}]
["1104 環泥","凱笙投資(股)    凱笙投資(股)",185,"凱笙投資股份有限公司",null,null,null,null,null,null,null,null,null,null,{"$f":"IFERROR(VLOOKUP(K173,股價!A:B,2,0)*M173,\"\")","v":""},{"$f":"IF(O173=\"\",\"\",RANK(O173,$O$2:$O$1000))","v":""}]
["1104 環泥","博智投資(股)    侯博義",27893,"博智投資",null,null,null,null,null,null,null,null,null,null,{"$f":"IFERROR(VLOOKUP(K174,股價!A:B,2,0)*M174,\"\")","v":""},{"$f":"IF(O174=\"\",\"\",RANK(O174,$O$2:$O$1000))","v":""}]
["1104 環泥","曾佩欣          曾佩欣",0,"曾佩欣",null,null,null,null,null,null,null,null,null,null,{"$f":"IFERROR(VLOOKUP(K175,股價!A:B,2,0)*M175,\"\")","v":""},{"$f":"IF(O175=\"\",\"\",RANK(O175,$O$2:$O$1000))","v":""}]
["1104 環泥","渣打0600049662  渣打06000496",20221,"渣打託管星展銀行－0600049662",null,null,null,null,null,null,null,null,null,null,{"$f":"IFERROR(VLOOKUP(K176,股價!A:B,2,0)*M176,\"\")","v":""},{"$f":"IF(O176=\"\",\"\",RANK(O176,$O$2:$O$1000))","v":""}]
["1104 環泥","匯豐託百達銀    匯豐託百達銀",38867,"匯豐託管百達銀行投資專戶",null,null,null,null,null,null,null,null,null,null,{"$f":"IFERROR(VLOOKUP(K177,股價!A:B,2,0)*M177,\"\")","v":""},{"$f":"IF(O177=\"\",\"\",RANK(O177,$O$2:$O$1000))","v":""}]
["1104 環泥","新澤投資(有)    新澤投資(有)",445,"新澤投資",null,null,null,null,null,null,null,null,null,null,{"$f":"IFERROR(VLOOKUP(K178,股價!A:B,2,0)*M178,\"\")","v":""},{"$f":"IF(O178=\"\",\"\",RANK(O178,$O$2:$O$1000))","v":""}]
["1104 環泥","新翰投資(股)    陳景星",220,"新翰投資",null,null,null,null,null,null,null,null,null,null,{"$f":"IFERROR(VLOOKUP(K179,股價!A:B,2,0)*M179,\"\")","v":""},{"$f":"IF(O179=\"\",\"\",RANK(O179,$O$2:$O$1000))","v":""}]
["1104 環泥","楊宗仁          楊宗仁",0,"楊宗仁",null,null,null,null,null,null,null,null,null,null,{"$f":"IFERROR(VLOOKUP(K180,股價!A:B,2,0)*M180,\"\")","v":""},{"$f":"IF(O180=\"\",\"\",RANK(O180,$O$2:$O$1000))","v":""}]
["1104 環泥","詹志鴻          詹志鴻",0,"詹志鴻",null,null,null,null,null,null,null,null,null,null,{"$f":"IFERROR(VLOOKUP(K181,股價!A:B,2,0)*M181,\"\")","v":""},{"$f":"IF(O181=\"\",\"\",RANK(O181,$O$2:$O$1000))","v":""}]
["1104 環泥","詹益仁          詹益仁",0,"詹益仁",null,null,null,null,null,null,null,null,null,null,{"$f":"IFERROR(VLOOKUP(K182,股價!A:B,2,0)*M182,\"\")","v":""},{"$f":"IF(O182=\"\",\"\",RANK(O182,$O$2:$O$1000))","v":""}]
["1104 環泥","蔡玟昌          蔡玟昌",0,"蔡玟昌",null,null,null,null,null,null,null,null,null,null,{"$f":"IFERROR(VLOOKUP(K183,股價!A:B,2,0)*M183,\"\")","v":""},{"$f":"IF(O183=\"\",\"\",RANK(O183,$O$2:$O$1000))","v":""}]
["1104 環泥","龍億昌砂石(股)  楊進松",17814,"龍億昌砂石",null,null,null,null,null,null,null,null,null,null,{"$f":"IFERROR(VLOOKUP(K184,股價!A:B,2,0)*M184,\"\")","v":""},{"$f":"IF(O184=\"\",\"\",RANK(O184,$O$2:$O$1000))","v":""}]
["1108 幸福","_大股東合計1",52631,null,null,null,null,null,null,null,null,null,null,null,{"$f":"IFERROR(VLOOKUP(K185,股價!A:B,2,0)*M185,\"\")","v":""},{"$f":"IF(O185=\"\",\"\",RANK(O185,$O$2:$O$1000))","v":""}]
["1108 幸福","_大股東合計2    含沿用資料",196009,null,null,null,null,null,null,null,null,null,null,null,{"$f":"IFERROR(VLOOKUP(K186,股價!A:B,2,0)*M186,\"\")","v":""},{"$f":"IF(O186=\"\",\"\",RANK(O186,$O$2:$O$1000))","v":""}]
["1108 幸福","_經理人合計",14151,null,null,null,null,null,null,null,null,null,null,null,{"$f":"IFERROR(VLOOKUP(K187,股價!A:B,2,0)*M187,\"\")","v":""},{"$f":"IF(O187=\"\",\"\",RANK(O187,$O$2:$O$1000))","v":""}]
["1108 幸福","_董  事合計",16006,null,null,null,null,null,null,null,null,null,null,null,{"$f":"IFERROR(VLOOKUP(K188,股價!A:B,2,0)*M188,\"\")","v":""},{"$f":"IF(O188=\"\",\"\",RANK(O188,$O$2:$O$1000))","v":""}]
["1108 幸福","_董監事合計",16006,null,null,null,null,null,null,null,null,null,null,null,{"$f":"IFERROR(VLOOKUP(K189,股價!A:B,2,0)*M189,\"\")","v":""},{"$f":"IF(O189=\"\",\"\",RANK(O189,$O$2:$O$1000))","v":""}]
["1108 幸福","_監察人合計",0,null,null,null,null,null,null,null,null,null,null,null,{"$f":"IFERROR(VLOOKUP(K190,股價!A:B,2,0)*M190,\"\")","v":""},{"$f":"IF(O190=\"\",\"\",RANK(O190,$O$2:$O$1000))","v":""}]
["1108 幸福","大眾投資(股)    程海濱",8712,"大眾投資",null,null,null,null,null,null,null,null,null,null,{"$f":"IFERROR(VLOOKUP(K191,股價!A:B,2,0)*M191,\"\")","v":""},{"$f":"IF(O191=\"\",\"\",RANK(O191,$O$2:$O$1000))","v":""}]
["1108 幸福","王志誠          王志誠",0,"王志誠",null,null,null,null,null,null,null,null,null,null,{"$f":"IFERROR(VLOOKUP(K192,股價!A:B,2,0)*M192,\"\")","v":""},{"$f":"IF(O192=\"\",\"\",RANK(O192,$O$2:$O$1000))","v":""}]
["1108 幸福","王維仁          王維仁",0,"王維仁",null,null,null,null,null,null,null,null,null,null,{"$f":"IFERROR(VLOOKUP(K193,股價!A:B,2,0)*M193,\"\")","v":""},{"$f":"IF(O193=\"\",\"\",RANK(O193,$O$2:$O$1000))","v":""}]
["1108 幸福","世易水泥(股)    陳兩傳",6633,"世易水泥",null,null,null,null,null,null,null,null,null,null,{"$f":"IFERROR(VLOOKUP(K194,股價!A:B,2,0)*M194,\"\")","v":""},{"$f":"IF(O194=\"\",\"\",RANK(O194,$O$2:$O$1000))","v":""}]
["1108 幸福","世易水泥(股)    陳韻如",6633,"世易水泥",null,null,null,null,null,null,null,null,null,null,{"$f":"IFERROR(VLOOKUP(K195,股價!A:B,2,0)*M195,\"\")","v":""},{"$f":"IF(O195=\"\",\"\",RANK(O195,$O$2:$O$1000))","v":""}]
["1108 幸福","永盛開發實業(股)陳兩傳",22515,"永盛開發實業",null,null,null,null,null,null,null,null,null,null,{"$f":"IFERROR(VLOOKUP(K196,股價!A:B,2,0)*M196,\"\")","v":""},{"$f":"IF(O196=\"\",\"\",RANK(O196,$O$2:$O$1000))","v":""}]
["1108 幸福","立光建設(股)    立光建設(股)",22658,"立光建設",null,null,null,null,null,null,null,null,null,null,{"$f":"IFERROR(VLOOKUP(K197,股價!A:B,2,0)*M197,\"\")","v":""},{"$f":"IF(O197=\"\",\"\",RANK(O197,$O$2:$O$1000))","v":""}]
["1108 幸福","幸福建設(股)    幸福建設(股)",22091,"幸福建設",null,null,null,null,null,null,null,null,null,null,{"$f":"IFERROR(VLOOKUP(K198,股價!A:B,2,0)*M198,\"\")","v":""},{"$f":"IF(O198=\"\",\"\",RANK(O198,$O$2:$O$1000))","v":""}]
["1108 幸福","昌潤水資源(股)  劉俊麟",30378,"昌潤水資源生技",null,null,null,null,null,null,null,null,null,null,{"$f":"IFERROR(VLOOKUP(K199,股價!A:B,2,0)*M199,\"\")","v":""},{"$f":"IF(O199=\"\",\"\",RANK(O199,$O$2:$O$1000))","v":""}]
["1108 幸福","邵揚威          邵揚威",0,"邵揚威",null,null,null,null,null,null,null,null,null,null,{"$f":"IFERROR(VLOOKUP(K200,股價!A:B,2,0)*M200,\"\")","v":""},{"$f":"IF(O200=\"\",\"\",RANK(O200,$O$2:$O$1000))","v":""}]
["1108 幸福","金利投資(股)    林正良",25230,"金利投資",null,null,null,null,null,null,null,null,null,null,{"$f":"IFERROR(VLOOKUP(K201,股價!A:B,2,0)*M201,\"\")","v":""},{"$f":"IF(O201=\"\",\"\",RANK(O201,$O$2:$O$1000))","v":""}]
["1108 幸福","長亨投資(股)    長亨投資(股)",52631,"長亨投資",null,null,null,null,null,null,null,null,null,null,{"$f":"IFERROR(VLOOKUP(K202,股價!A:B,2,0)*M202,\"\")","v":""},{"$f":"IF(O202=\"\",\"\",RANK(O202,$O$2:$O$1000))","v":""}]
["1108 幸福","張祥麟          張祥麟",7540,"張祥麟",null,null,null,null,null,null,null,null,null,null,{"$f":"IFERROR(VLOOKUP(K203,股價!A:B,2,0)*M203,\"\")","v":""},{"$f":"IF(O203=\"\",\"\",RANK(O203,$O$2:$O$1000))","v":""}]
["1108 幸福","張擎天          張擎天",21,"張擎天",null,null,null,null,null,null,null,null,null,null,{"$f":"IFERROR(VLOOKUP(K204,股價!A:B,2,0)*M204,\"\")","v":""},{"$f":"IF(O204=\"\",\"\",RANK(O204,$O$2:$O$1000))","v":""}]
["1108 幸福","陳兩傳          陳兩傳",6158,"陳兩傳",null,null,null,null,null,null,null,null,null,null,{"$f":"IFERROR(VLOOKUP(K205,股價!A:B,2,0)*M205,\"\")","v":""},{"$f":"IF(O205=\"\",\"\",RANK(O205,$O$2:$O$1000))","v":""}]
["1108 幸福","陳韻如          陳韻如",7951,"陳韻如",null,null,null,null,null,null,null,null,null,null,{"$f":"IFERROR(VLOOKUP(K206,股價!A:B,2,0)*M206,\"\")","v":""},{"$f":"IF(O206=\"\",\"\",RANK(O206,$O$2:$O$1000))","v":""}]
["1108 幸福","陳琰            陳琰",0,"陳琰",null,null,null,null,null,null,null,null,null,null,{"$f":"IFERROR(VLOOKUP(K207,股價!A:B,2,0)*M207,\"\")","v":""},{"$f":"IF(O207=\"\",\"\",RANK(O207,$O$2:$O$1000))","v":""}]
["1108 幸福","傅耀胤          傅耀胤",0,"傅耀胤",null,null,null,null,null,null,null,null,null,null,{"$f":"IFERROR(VLOOKUP(K208,股價!A:B,2,0)*M208,\"\")","v":""},{"$f":"IF(O208=\"\",\"\",RANK(O208,$O$2:$O$1000))","v":""}]
["1108 幸福","程尚楷          程尚楷",1833,"程尚楷",null,null,null,null,null,null,null,null,null,null,{"$f":"IFERROR(VLOOKUP(K209,股價!A:B,2,0)*M209,\"\")","v":""},{"$f":"IF(O209=\"\",\"\",RANK(O209,$O$2:$O$1000))","v":""}]
["1108 幸福","黃振庫          黃振庫",7,"黃振庫",null,null,null,null,null,null,null,null,null,null,{"$f":"IFERROR(VLOOKUP(K210,股價!A:B,2,0)*M210,\"\")","v":""},{"$f":"IF(O210=\"\",\"\",RANK(O210,$O$2:$O$1000))","v":""}]
["1108 幸福","溫秀菊          溫秀菊",14,"溫秀菊",null,null,null,null,null,null,null,null,null,null,{"$f":"IFERROR(VLOOKUP(K211,股價!A:B,2,0)*M211,\"\")","v":""},{"$f":"IF(O211=\"\",\"\",RANK(O211,$O$2:$O$1000))","v":""}]
["1108 幸福","德明財經科大    陳兩傳",11794,"德明財經科技大學",null,null,null,null,null,null,null,null,null,null,{"$f":"IFERROR(VLOOKUP(K212,股價!A:B,2,0)*M212,\"\")","v":""},{"$f":"IF(O212=\"\",\"\",RANK(O212,$O$2:$O$1000))","v":""}]
["1109 信大","_大股東合計1",0,null,null,null,null,null,null,null,null,null,null,null,{"$f":"IFERROR(VLOOKUP(K213,股價!A:B,2,0)*M213,\"\")","v":""},{"$f":"IF(O213=\"\",\"\",RANK(O213,$O$2:$O$1000))","v":""}]
["1109 信大","_大股東合計2    含沿用資料",64773,null,null,null,null,null,null,null,null,null,null,null,{"$f":"IFERROR(VLOOKUP(K214,股價!A:B,2,0)*M214,\"\")","v":""},{"$f":"IF(O214=\"\",\"\",RANK(O214,$O$2:$O$1000))","v":""}]
["1109 信大","_經理人合計",8923,null,null,null,null,null,null,null,null,null,null,null,{"$f":"IFERROR(VLOOKUP(K215,股價!A:B,2,0)*M215,\"\")","v":""},{"$f":"IF(O215=\"\",\"\",RANK(O215,$O$2:$O$1000))","v":""}]
["1109 信大","_董  事合計",124089,null,null,null,null,null,null,null,null,null,null,null,{"$f":"IFERROR(VLOOKUP(K216,股價!A:B,2,0)*M216,\"\")","v":""},{"$f":"IF(O216=\"\",\"\",RANK(O216,$O$2:$O$1000))","v":""}]
["1109 信大","_董監事合計",124089,null,null,null,null,null,null,null,null,null,null,null,{"$f":"IFERROR(VLOOKUP(K217,股價!A:B,2,0)*M217,\"\")","v":""},{"$f":"IF(O217=\"\",\"\",RANK(O217,$O$2:$O$1000))","v":""}]
["1109 信大","_監察人合計",0,null,null,null,null,null,null,null,null,null,null,null,{"$f":"IFERROR(VLOOKUP(K218,股價!A:B,2,0)*M218,\"\")","v":""},{"$f":"IF(O218=\"\",\"\",RANK(O218,$O$2:$O$1000))","v":""}]
["1109 信大","石正同          石正同",0,"石正同",null,null,null,null,null,null,null,null,null,null,{"$f":"IFERROR(VLOOKUP(K219,股價!A:B,2,0)*M219,\"\")","v":""},{"$f":"IF(O219=\"\",\"\",RANK(O219,$O$2:$O$1000))","v":""}]
["1109 信大","吳瑞台          吳瑞台",0,"吳瑞臺",null,null,null,null,null,null,null,null,null,null,{"$f":"IFERROR(VLOOKUP(K220,股價!A:B,2,0)*M220,\"\")","v":""},{"$f":"IF(O220=\"\",\"\",RANK(O220,$O$2:$O$1000))","v":""}]
["1109 信大","林連火          林連火",0,"林連火",null,null,null,null,null,null,null,null,null,null,{"$f":"IFERROR(VLOOKUP(K221,股價!A:B,2,0)*M221,\"\")","v":""},{"$f":"IF(O221=\"\",\"\",RANK(O221,$O$2:$O$1000))","v":""}]
["1109 信大","林雪華          林雪華",9521,"林雪華",null,null,null,null,null,null,null,null,null,null,{"$f":"IFERROR(VLOOKUP(K222,股價!A:B,2,0)*M222,\"\")","v":""},{"$f":"IF(O222=\"\",\"\",RANK(O222,$O$2:$O$1000))","v":""}]
["1109 信大","林華鈴          林華鈴",3351,"林華鈴",null,null,null,null,null,null,null,null,null,null,{"$f":"IFERROR(VLOOKUP(K223,股價!A:B,2,0)*M223,\"\")","v":""},{"$f":"IF(O223=\"\",\"\",RANK(O223,$O$2:$O$1000))","v":""}]
["1109 信大","胡美紅          胡美紅",20668,"胡美紅",null,null,null,null,null,null,null,null,null,null,{"$f":"IFERROR(VLOOKUP(K224,股價!A:B,2,0)*M224,\"\")","v":""},{"$f":"IF(O224=\"\",\"\",RANK(O224,$O$2:$O$1000))","v":""}]
["1109 信大","海德博資本(股)  海德博資本(",15387,"海德博資本",null,null,null,null,null,null,null,null,null,null,{"$f":"IFERROR(VLOOKUP(K225,股價!A:B,2,0)*M225,\"\")","v":""},{"$f":"IF(O225=\"\",\"\",RANK(O225,$O$2:$O$1000))","v":""}]
["1109 信大","張益勝          張益勝",0,"張益勝",null,null,null,null,null,null,null,null,null,null,{"$f":"IFERROR(VLOOKUP(K226,股價!A:B,2,0)*M226,\"\")","v":""},{"$f":"IF(O226=\"\",\"\",RANK(O226,$O$2:$O$1000))","v":""}]
["1109 信大","張清壽          張清壽",5,"張清壽",null,null,null,null,null,null,null,null,null,null,{"$f":"IFERROR(VLOOKUP(K227,股價!A:B,2,0)*M227,\"\")","v":""},{"$f":"IF(O227=\"\",\"\",RANK(O227,$O$2:$O$1000))","v":""}]
["1109 信大","張寶林          張寶林",3,"張寶林",null,null,null,null,null,null,null,null,null,null,{"$f":"IFERROR(VLOOKUP(K228,股價!A:B,2,0)*M228,\"\")","v":""},{"$f":"IF(O228=\"\",\"\",RANK(O228,$O$2:$O$1000))","v":""}]
["1109 信大","陳政廷          陳政廷",0,"陳政廷",null,null,null,null,null,null,null,null,null,null,{"$f":"IFERROR(VLOOKUP(K229,股價!A:B,2,0)*M229,\"\")","v":""},{"$f":"IF(O229=\"\",\"\",RANK(O229,$O$2:$O$1000))","v":""}]
["1109 信大","楊大寬          楊大寬",8915,"楊大寬",null,null,null,null,null,null,null,null,null,null,{"$f":"IFERROR(VLOOKUP(K230,股價!A:B,2,0)*M230,\"\")","v":""},{"$f":"IF(O230=\"\",\"\",RANK(O230,$O$2:$O$1000))","v":""}]
["1109 信大","楊大嶔          楊大嶔",8146,"楊大嶔",null,null,null,null,null,null,null,null,null,null,{"$f":"IFERROR(VLOOKUP(K231,股價!A:B,2,0)*M231,\"\")","v":""},{"$f":"IF(O231=\"\",\"\",RANK(O231,$O$2:$O$1000))","v":""}]
["1109 信大","楊大慶          楊大慶",8169,"楊大慶",null,null,null,null,null,null,null,null,null,null,{"$f":"IFERROR(VLOOKUP(K232,股價!A:B,2,0)*M232,\"\")","v":""},{"$f":"IF(O232=\"\",\"\",RANK(O232,$O$2:$O$1000))","v":""}]
["1109 信大","楊仁雄          楊仁雄",36109,"楊仁雄",null,null,null,null,null,null,null,null,null,null,{"$f":"IFERROR(VLOOKUP(K233,股價!A:B,2,0)*M233,\"\")","v":""},{"$f":"IF(O233=\"\",\"\",RANK(O233,$O$2:$O$1000))","v":""}]
["1109 信大","楊忠雄          楊忠雄",41528,"楊忠雄",null,null,null,null,null,null,null,null,null,null,{"$f":"IFERROR(VLOOKUP(K234,股價!A:B,2,0)*M234,\"\")","v":""},{"$f":"IF(O234=\"\",\"\",RANK(O234,$O$2:$O$1000))","v":""}]
["1109 信大","楊陳淑娥        楊陳淑娥",11028,"楊陳淑娥",null,null,null,null,null,null,null,null,null,null,{"$f":"IFERROR(VLOOKUP(K235,股價!A:B,2,0)*M235,\"\")","v":""},{"$f":"IF(O235=\"\",\"\",RANK(O235,$O$2:$O$1000))","v":""}]
["1109 信大","楊博偉          楊博偉",3033,"楊博偉",null,null,null,null,null,null,null,null,null,null,{"$f":"IFERROR(VLOOKUP(K236,股價!A:B,2,0)*M236,\"\")","v":""},{"$f":"IF(O236=\"\",\"\",RANK(O236,$O$2:$O$1000))","v":""}]
["1109 信大","楊智雄          楊智雄",34905,"楊智雄",null,null,null,null,null,null,null,null,null,null,{"$f":"IFERROR(VLOOKUP(K237,股價!A:B,2,0)*M237,\"\")","v":""},{"$f":"IF(O237=\"\",\"\",RANK(O237,$O$2:$O$1000))","v":""}]
["1109 信大","德博投資(股)    楊博偉",50,"德博投資股份有限公司",null,null,null,null,null,null,null,null,null,null,{"$f":"IFERROR(VLOOKUP(K238,股價!A:B,2,0)*M238,\"\")","v":""},{"$f":"IF(O238=\"\",\"\",RANK(O238,$O$2:$O$1000))","v":""}]
["1109 信大","蔡素秋          蔡素秋",0,"蔡素秋",null,null,null,null,null,null,null,null,null,null,{"$f":"IFERROR(VLOOKUP(K239,股價!A:B,2,0)*M239,\"\")","v":""},{"$f":"IF(O239=\"\",\"\",RANK(O239,$O$2:$O$1000))","v":""}]
["1110 東泥","_大股東合計1",0,null,null,null,null,null,null,null,null,null,null,null,{"$f":"IFERROR(VLOOKUP(K240,股價!A:B,2,0)*M240,\"\")","v":""},{"$f":"IF(O240=\"\",\"\",RANK(O240,$O$2:$O$1000))","v":""}]
["1110 東泥","_大股東合計2    含沿用資料",203153,null,null,null,null,null,null,null,null,null,null,null,{"$f":"IFERROR(VLOOKUP(K241,股價!A:B,2,0)*M241,\"\")","v":""},{"$f":"IF(O241=\"\",\"\",RANK(O241,$O$2:$O$1000))","v":""}]
["1110 東泥","_經理人合計",2,null,null,null,null,null,null,null,null,null,null,null,{"$f":"IFERROR(VLOOKUP(K242,股價!A:B,2,0)*M242,\"\")","v":""},{"$f":"IF(O242=\"\",\"\",RANK(O242,$O$2:$O$1000))","v":""}]
["1110 東泥","_董  事合計",198309,null,null,null,null,null,null,null,null,null,null,null,{"$f":"IFERROR(VLOOKUP(K243,股價!A:B,2,0)*M243,\"\")","v":""},{"$f":"IF(O243=\"\",\"\",RANK(O243,$O$2:$O$1000))","v":""}]
["1110 東泥","_董監事合計",198309,null,null,null,null,null,null,null,null,null,null,null,{"$f":"IFERROR(VLOOKUP(K244,股價!A:B,2,0)*M244,\"\")","v":""},{"$f":"IF(O244=\"\",\"\",RANK(O244,$O$2:$O$1000))","v":""}]
["1110 東泥","_監察人合計",0,null,null,null,null,null,null,null,null,null,null,null,{"$f":"IFERROR(VLOOKUP(K245,股價!A:B,2,0)*M245,\"\")","v":""},{"$f":"IF(O245=\"\",\"\",RANK(O245,$O$2:$O$1000))","v":""}]
["1110 東泥","台機船舶廠(股)  陳敏斷",49293,"台機船舶廠",null,null,null,null,null,null,null,null,null,null,{"$f":"IFERROR(VLOOKUP(K246,股價!A:B,2,0)*M246,\"\")","v":""},{"$f":"IF(O246=\"\",\"\",RANK(O246,$O$2:$O$1000))","v":""}]
["1110 東泥","正泰水泥廠(股)  陳敏斷",24006,"正泰水泥廠",null,null,null,null,null,null,null,null,null,null,{"$f":"IFERROR(VLOOKUP(K247,股價!A:B,2,0)*M247,\"\")","v":""},{"$f":"IF(O247=\"\",\"\",RANK(O247,$O$2:$O$1000))","v":""}]
["1110 東泥","立凱投資(股)    鄭力翔",19435,"立凱投資",null,null,null,null,null,null,null,null,null,null,{"$f":"IFERROR(VLOOKUP(K248,股價!A:B,2,0)*M248,\"\")","v":""},{"$f":"IF(O248=\"\",\"\",RANK(O248,$O$2:$O$1000))","v":""}]
["1110 東泥","百福投資(股)    陳敏斷",36008,"百福投資",null,null,null,null,null,null,null,null,null,null,{"$f":"IFERROR(VLOOKUP(K249,股價!A:B,2,0)*M249,\"\")","v":""},{"$f":"IF(O249=\"\",\"\",RANK(O249,$O$2:$O$1000))","v":""}]
["1110 東泥","吳炎輝          吳炎輝",2,"吳炎輝",null,null,null,null,null,null,null,null,null,null,{"$f":"IFERROR(VLOOKUP(K250,股價!A:B,2,0)*M250,\"\")","v":""},{"$f":"IF(O250=\"\",\"\",RANK(O250,$O$2:$O$1000))","v":""}]
["1110 東泥","吳長直          吳長直",42,"吳長直",null,null,null,null,null,null,null,null,null,null,{"$f":"IFERROR(VLOOKUP(K251,股價!A:B,2,0)*M251,\"\")","v":""},{"$f":"IF(O251=\"\",\"\",RANK(O251,$O$2:$O$1000))","v":""}]
["1110 東泥","東南文化基金    陳建豪",33422,"東南文化基金會",null,null,null,null,null,null,null,null,null,null,{"$f":"IFERROR(VLOOKUP(K252,股價!A:B,2,0)*M252,\"\")","v":""},{"$f":"IF(O252=\"\",\"\",RANK(O252,$O$2:$O$1000))","v":""}]
["1110 東泥","東樹投資(股)    陳天笞",80497,"東樹投資",null,null,null,null,null,null,null,null,null,null,{"$f":"IFERROR(VLOOKUP(K253,股價!A:B,2,0)*M253,\"\")","v":""},{"$f":"IF(O253=\"\",\"\",RANK(O253,$O$2:$O$1000))","v":""}]
["1110 東泥","東樹投資(股)    陳敏斷",80497,"東樹投資",null,null,null,null,null,null,null,null,null,null,{"$f":"IFERROR(VLOOKUP(K254,股價!A:B,2,0)*M254,\"\")","v":""},{"$f":"IF(O254=\"\",\"\",RANK(O254,$O$2:$O$1000))","v":""}]
["1110 東泥","長青(股)        楊昭雄",40070,"長青",null,null,null,null,null,null,null,null,null,null,{"$f":"IFERROR(VLOOKUP(K255,股價!A:B,2,0)*M255,\"\")","v":""},{"$f":"IF(O255=\"\",\"\",RANK(O255,$O$2:$O$1000))","v":""}]
["1110 東泥","唐榮宗          唐榮宗",0,"唐榮宗",null,null,null,null,null,null,null,null,null,null,{"$f":"IFERROR(VLOOKUP(K256,股價!A:B,2,0)*M256,\"\")","v":""},{"$f":"IF(O256=\"\",\"\",RANK(O256,$O$2:$O$1000))","v":""}]
["1110 東泥","財團法人福康    陳建豪",38829,"財團法人福康文教基金會",null,null,null,null,null,null,null,null,null,null,{"$f":"IFERROR(VLOOKUP(K257,股價!A:B,2,0)*M257,\"\")","v":""},{"$f":"IF(O257=\"\",\"\",RANK(O257,$O$2:$O$1000))","v":""}]
["1110 東泥","莊玉昕          莊玉昕",0,"莊玉昕",null,null,null,null,null,null,null,null,null,null,{"$f":"IFERROR(VLOOKUP(K258,股價!A:B,2,0)*M258,\"\")","v":""},{"$f":"IF(O258=\"\",\"\",RANK(O258,$O$2:$O$1000))","v":""}]
["1110 東泥","陳天笞          陳天笞",1086,"陳天笞",null,null,null,null,null,null,null,null,null,null,{"$f":"IFERROR(VLOOKUP(K259,股價!A:B,2,0)*M259,\"\")","v":""},{"$f":"IF(O259=\"\",\"\",RANK(O259,$O$2:$O$1000))","v":""}]
["1110 東泥","陳冠華          陳冠華",6485,"陳冠華",null,null,null,null,null,null,null,null,null,null,{"$f":"IFERROR(VLOOKUP(K260,股價!A:B,2,0)*M260,\"\")","v":""},{"$f":"IF(O260=\"\",\"\",RANK(O260,$O$2:$O$1000))","v":""}]
["1110 東泥","陳建豪          陳建豪",59,"陳建豪",null,null,null,null,null,null,null,null,null,null,{"$f":"IFERROR(VLOOKUP(K261,股價!A:B,2,0)*M261,\"\")","v":""},{"$f":"IF(O261=\"\",\"\",RANK(O261,$O$2:$O$1000))","v":""}]
["1110 東泥","陳悅玲          陳悅玲",28616,"陳悅玲",null,null,null,null,null,null,null,null,null,null,{"$f":"IFERROR(VLOOKUP(K262,股價!A:B,2,0)*M262,\"\")","v":""},{"$f":"IF(O262=\"\",\"\",RANK(O262,$O$2:$O$1000))","v":""}]
["1110 東泥","陳敏斷          陳敏斷",2985,"陳敏斷",null,null,null,null,null,null,null,null,null,null,{"$f":"IFERROR(VLOOKUP(K263,股價!A:B,2,0)*M263,\"\")","v":""},{"$f":"IF(O263=\"\",\"\",RANK(O263,$O$2:$O$1000))","v":""}]
["1110 東泥","陳趙樹公益慈    吳長直",24885,"陳趙樹公益慈善基金會",null,null,null,null,null,null,null,null,null,null,{"$f":"IFERROR(VLOOKUP(K264,股價!A:B,2,0)*M264,\"\")","v":""},{"$f":"IF(O264=\"\",\"\",RANK(O264,$O$2:$O$1000))","v":""}]
["1110 東泥","陳趙樹公益慈    陳冠華",24885,"陳趙樹公益慈善基金會",null,null,null,null,null,null,null,null,null,null,{"$f":"IFERROR(VLOOKUP(K265,股價!A:B,2,0)*M265,\"\")","v":""},{"$f":"IF(O265=\"\",\"\",RANK(O265,$O$2:$O$1000))","v":""}]
["1110 東泥","黃薪翰          黃薪翰",0,"黃薪翰",null,null,null,null,null,null,null,null,null,null,{"$f":"IFERROR(VLOOKUP(K266,股價!A:B,2,0)*M266,\"\")","v":""},{"$f":"IF(O266=\"\",\"\",RANK(O266,$O$2:$O$1000))","v":""}]
["1110 東泥","楊文哉          楊文哉",0,"楊文哉",null,null,null,null,null,null,null,null,null,null,{"$f":"IFERROR(VLOOKUP(K267,股價!A:B,2,0)*M267,\"\")","v":""},{"$f":"IF(O267=\"\",\"\",RANK(O267,$O$2:$O$1000))","v":""}]
["1110 東泥","楊昭雄          楊昭雄",0,"楊昭雄",null,null,null,null,null,null,null,null,null,null,{"$f":"IFERROR(VLOOKUP(K268,股價!A:B,2,0)*M268,\"\")","v":""},{"$f":"IF(O268=\"\",\"\",RANK(O268,$O$2:$O$1000))","v":""}]
["1110 東泥","葉金寶          葉金寶",0,"葉金寶",null,null,null,null,null,null,null,null,null,null,{"$f":"IFERROR(VLOOKUP(K269,股價!A:B,2,0)*M269,\"\")","v":""},{"$f":"IF(O269=\"\",\"\",RANK(O269,$O$2:$O$1000))","v":""}]
["1110 東泥","鄭力翔          鄭力翔",1800,"鄭力翔",null,null,null,null,null,null,null,null,null,null,{"$f":"IFERROR(VLOOKUP(K270,股價!A:B,2,0)*M270,\"\")","v":""},{"$f":"IF(O270=\"\",\"\",RANK(O270,$O$2:$O$1000))","v":""}]
["1110 東泥","穎辰(股)        楊昭雄",26401,"穎辰",null,null,null,null,null,null,null,null,null,null,{"$f":"IFERROR(VLOOKUP(K271,股價!A:B,2,0)*M271,\"\")","v":""},{"$f":"IF(O271=\"\",\"\",RANK(O271,$O$2:$O$1000))","v":""}]
["1201 味全","_大股東合計1",0,null,null,null,null,null,null,null,null,null,null,null,{"$f":"IFERROR(VLOOKUP(K272,股價!A:B,2,0)*M272,\"\")","v":""},{"$f":"IF(O272=\"\",\"\",RANK(O272,$O$2:$O$1000))","v":""}]
["1201 味全","_大股東合計2    含沿用資料",172736,null,null,null,null,null,null,null,null,null,null,null,{"$f":"IFERROR(VLOOKUP(K273,股價!A:B,2,0)*M273,\"\")","v":""},{"$f":"IF(O273=\"\",\"\",RANK(O273,$O$2:$O$1000))","v":""}]
["1201 味全","_經理人合計",31,null,null,null,null,null,null,null,null,null,null,null,{"$f":"IFERROR(VLOOKUP(K274,股價!A:B,2,0)*M274,\"\")","v":""},{"$f":"IF(O274=\"\",\"\",RANK(O274,$O$2:$O$1000))","v":""}]
["1201 味全","_董  事合計",73648,null,null,null,null,null,null,null,null,null,null,null,{"$f":"IFERROR(VLOOKUP(K275,股價!A:B,2,0)*M275,\"\")","v":""},{"$f":"IF(O275=\"\",\"\",RANK(O275,$O$2:$O$1000))","v":""}]
["1201 味全","_董監事合計",73648,null,null,null,null,null,null,null,null,null,null,null,{"$f":"IFERROR(VLOOKUP(K276,股價!A:B,2,0)*M276,\"\")","v":""},{"$f":"IF(O276=\"\",\"\",RANK(O276,$O$2:$O$1000))","v":""}]
["1201 味全","_監察人合計",0,null,null,null,null,null,null,null,null,null,null,null,{"$f":"IFERROR(VLOOKUP(K277,股價!A:B,2,0)*M277,\"\")","v":""},{"$f":"IF(O277=\"\",\"\",RANK(O277,$O$2:$O$1000))","v":""}]
["1201 味全","余美玲          余美玲",13200,"余美玲",null,null,null,null,null,null,null,null,null,null,{"$f":"IFERROR(VLOOKUP(K278,股價!A:B,2,0)*M278,\"\")","v":""},{"$f":"IF(O278=\"\",\"\",RANK(O278,$O$2:$O$1000))","v":""}]
["1201 味全","宋俊明          宋俊明",0,"宋俊明",null,null,null,null,null,null,null,null,null,null,{"$f":"IFERROR(VLOOKUP(K279,股價!A:B,2,0)*M279,\"\")","v":""},{"$f":"IF(O279=\"\",\"\",RANK(O279,$O$2:$O$1000))","v":""}]
["1201 味全","李治平          李治平",0,"李治平",null,null,null,null,null,null,null,null,null,null,{"$f":"IFERROR(VLOOKUP(K280,股價!A:B,2,0)*M280,\"\")","v":""},{"$f":"IF(O280=\"\",\"\",RANK(O280,$O$2:$O$1000))","v":""}]
["1201 味全","李俊明          李俊明",0,"李俊明",null,null,null,null,null,null,null,null,null,null,{"$f":"IFERROR(VLOOKUP(K281,股價!A:B,2,0)*M281,\"\")","v":""},{"$f":"IF(O281=\"\",\"\",RANK(O281,$O$2:$O$1000))","v":""}]
["1201 味全","李鵬飛          李鵬飛",0,"李鵬飛",null,null,null,null,null,null,null,null,null,null,{"$f":"IFERROR(VLOOKUP(K282,股價!A:B,2,0)*M282,\"\")","v":""},{"$f":"IF(O282=\"\",\"\",RANK(O282,$O$2:$O$1000))","v":""}]
["1201 味全","林文正          林文正",0,"林文正",null,null,null,null,null,null,null,null,null,null,{"$f":"IFERROR(VLOOKUP(K283,股價!A:B,2,0)*M283,\"\")","v":""},{"$f":"IF(O283=\"\",\"\",RANK(O283,$O$2:$O$1000))","v":""}]
["1201 味全","林欣助          林欣助",0,"林欣助",null,null,null,null,null,null,null,null,null,null,{"$f":"IFERROR(VLOOKUP(K284,股價!A:B,2,0)*M284,\"\")","v":""},{"$f":"IF(O284=\"\",\"\",RANK(O284,$O$2:$O$1000))","v":""}]
["1201 味全","林建宏          林建宏",0,"林建宏",null,null,null,null,null,null,null,null,null,null,{"$f":"IFERROR(VLOOKUP(K285,股價!A:B,2,0)*M285,\"\")","v":""},{"$f":"IF(O285=\"\",\"\",RANK(O285,$O$2:$O$1000))","v":""}]
["1201 味全","林清棠          林清棠",0,"林清棠",null,null,null,null,null,null,null,null,null,null,{"$f":"IFERROR(VLOOKUP(K286,股價!A:B,2,0)*M286,\"\")","v":""},{"$f":"IF(O286=\"\",\"\",RANK(O286,$O$2:$O$1000))","v":""}]
["1201 味全","花旗託管挪威    花旗託管挪威",5718,"花旗託管挪威中央銀行投資專戶",null,null,null,null,null,null,null,null,null,null,{"$f":"IFERROR(VLOOKUP(K287,股價!A:B,2,0)*M287,\"\")","v":""},{"$f":"IF(O287=\"\",\"\",RANK(O287,$O$2:$O$1000))","v":""}]
["1201 味全","邱子權          邱子權",0,"邱子權",null,null,null,null,null,null,null,null,null,null,{"$f":"IFERROR(VLOOKUP(K288,股價!A:B,2,0)*M288,\"\")","v":""},{"$f":"IF(O288=\"\",\"\",RANK(O288,$O$2:$O$1000))","v":""}]
["1201 味全","施介人          施介人",0,"施介人",null,null,null,null,null,null,null,null,null,null,{"$f":"IFERROR(VLOOKUP(K289,股價!A:B,2,0)*M289,\"\")","v":""},{"$f":"IF(O289=\"\",\"\",RANK(O289,$O$2:$O$1000))","v":""}]
["1201 味全","柯吉峰          柯吉峰",0,"柯吉峰",null,null,null,null,null,null,null,null,null,null,{"$f":"IFERROR(VLOOKUP(K290,股價!A:B,2,0)*M290,\"\")","v":""},{"$f":"IF(O290=\"\",\"\",RANK(O290,$O$2:$O$1000))","v":""}]
["1201 味全","孫友強          孫友強",0,"孫友強",null,null,null,null,null,null,null,null,null,null,{"$f":"IFERROR(VLOOKUP(K291,股價!A:B,2,0)*M291,\"\")","v":""},{"$f":"IF(O291=\"\",\"\",RANK(O291,$O$2:$O$1000))","v":""}]
["1201 味全","康正(股)        林清棠",50523,"康正",null,null,null,null,null,null,null,null,null,null,{"$f":"IFERROR(VLOOKUP(K292,股價!A:B,2,0)*M292,\"\")","v":""},{"$f":"IF(O292=\"\",\"\",RANK(O292,$O$2:$O$1000))","v":""}]
["1201 味全","康清(股)        陳宏裕",35880,"康清",null,null,null,null,null,null,null,null,null,null,{"$f":"IFERROR(VLOOKUP(K293,股價!A:B,2,0)*M293,\"\")","v":""},{"$f":"IF(O293=\"\",\"\",RANK(O293,$O$2:$O$1000))","v":""}]
["1201 味全","康清(股)        簡倍祥",35880,"康清",null,null,null,null,null,null,null,null,null,null,{"$f":"IFERROR(VLOOKUP(K294,股價!A:B,2,0)*M294,\"\")","v":""},{"$f":"IF(O294=\"\",\"\",RANK(O294,$O$2:$O$1000))","v":""}]
["1201 味全","康勝投資(有)    林建宏",36688,"康勝投資",null,null,null,null,null,null,null,null,null,null,{"$f":"IFERROR(VLOOKUP(K295,股價!A:B,2,0)*M295,\"\")","v":""},{"$f":"IF(O295=\"\",\"\",RANK(O295,$O$2:$O$1000))","v":""}]
["1201 味全","康勝投資(有)    林清棠",36688,"康勝投資",null,null,null,null,null,null,null,null,null,null,{"$f":"IFERROR(VLOOKUP(K296,股價!A:B,2,0)*M296,\"\")","v":""},{"$f":"IF(O296=\"\",\"\",RANK(O296,$O$2:$O$1000))","v":""}]
["1201 味全","康發投資(有)    林清棠",29828,"康發投資",null,null,null,null,null,null,null,null,null,null,{"$f":"IFERROR(VLOOKUP(K297,股價!A:B,2,0)*M297,\"\")","v":""},{"$f":"IF(O297=\"\",\"\",RANK(O297,$O$2:$O$1000))","v":""}]
["1201 味全","康超(股)        林清棠",50407,"康超",null,null,null,null,null,null,null,null,null,null,{"$f":"IFERROR(VLOOKUP(K298,股價!A:B,2,0)*M298,\"\")","v":""},{"$f":"IF(O298=\"\",\"\",RANK(O298,$O$2:$O$1000))","v":""}]
["1201 味全","張振昌          張振昌",0,"張振昌",null,null,null,null,null,null,null,null,null,null,{"$f":"IFERROR(VLOOKUP(K299,股價!A:B,2,0)*M299,\"\")","v":""},{"$f":"IF(O299=\"\",\"\",RANK(O299,$O$2:$O$1000))","v":""}]
["1201 味全","張教華          張教華",0,"張教華",null,null,null,null,null,null,null,null,null,null,{"$f":"IFERROR(VLOOKUP(K300,股價!A:B,2,0)*M300,\"\")","v":""},{"$f":"IF(O300=\"\",\"\",RANK(O300,$O$2:$O$1000))","v":""}]
["1201 味全","張淑妙          張淑妙",0,"張淑妙",null,null,null,null,null,null,null,null,null,null,{"$f":"IFERROR(VLOOKUP(K301,股價!A:B,2,0)*M301,\"\")","v":""},{"$f":"IF(O301=\"\",\"\",RANK(O301,$O$2:$O$1000))","v":""}]
["1201 味全","許譽鐘          許譽鐘",0,"許譽鐘",null,null,null,null,null,null,null,null,null,null,{"$f":"IFERROR(VLOOKUP(K302,股價!A:B,2,0)*M302,\"\")","v":""},{"$f":"IF(O302=\"\",\"\",RANK(O302,$O$2:$O$1000))","v":""}]
["1201 味全","郭旭全          郭旭全",0,"郭旭全",null,null,null,null,null,null,null,null,null,null,{"$f":"IFERROR(VLOOKUP(K303,股價!A:B,2,0)*M303,\"\")","v":""},{"$f":"IF(O303=\"\",\"\",RANK(O303,$O$2:$O$1000))","v":""}]
["1201 味全","陳仁暉          陳仁暉",0,"陳仁暉",null,null,null,null,null,null,null,null,null,null,{"$f":"IFERROR(VLOOKUP(K304,股價!A:B,2,0)*M304,\"\")","v":""},{"$f":"IF(O304=\"\",\"\",RANK(O304,$O$2:$O$1000))","v":""}]
["1201 味全","陳世泉          陳世泉",0,"陳世泉",null,null,null,null,null,null,null,null,null,null,{"$f":"IFERROR(VLOOKUP(K305,股價!A:B,2,0)*M305,\"\")","v":""},{"$f":"IF(O305=\"\",\"\",RANK(O305,$O$2:$O$1000))","v":""}]
["1201 味全","陳宏裕          陳宏裕",0,"陳宏裕",null,null,null,null,null,null,null,null,null,null,{"$f":"IFERROR(VLOOKUP(K306,股價!A:B,2,0)*M306,\"\")","v":""},{"$f":"IF(O306=\"\",\"\",RANK(O306,$O$2:$O$1000))","v":""}]
["1201 味全","陳舜平          陳舜平",0,"陳舜平",null,null,null,null,null,null,null,null,null,null,{"$f":"IFERROR(VLOOKUP(K307,股價!A:B,2,0)*M307,\"\")","v":""},{"$f":"IF(O307=\"\",\"\",RANK(O307,$O$2:$O$1000))","v":""}]
["1201 味全","陳盟元          陳盟元",0,"陳盟元",null,null,null,null,null,null,null,null,null,null,{"$f":"IFERROR(VLOOKUP(K308,股價!A:B,2,0)*M308,\"\")","v":""},{"$f":"IF(O308=\"\",\"\",RANK(O308,$O$2:$O$1000))","v":""}]
["1201 味全","游陳皮          游陳皮",0,"游陳皮",null,null,null,null,null,null,null,null,null,null,{"$f":"IFERROR(VLOOKUP(K309,股價!A:B,2,0)*M309,\"\")","v":""},{"$f":"IF(O309=\"\",\"\",RANK(O309,$O$2:$O$1000))","v":""}]
["1201 味全","黃之育          黃之育",0,"黃之育",null,null,null,null,null,null,null,null,null,null,{"$f":"IFERROR(VLOOKUP(K310,股價!A:B,2,0)*M310,\"\")","v":""},{"$f":"IF(O310=\"\",\"\",RANK(O310,$O$2:$O$1000))","v":""}]
["1201 味全","黃文傑          黃文傑",0,"黃文傑",null,null,null,null,null,null,null,null,null,null,{"$f":"IFERROR(VLOOKUP(K311,股價!A:B,2,0)*M311,\"\")","v":""},{"$f":"IF(O311=\"\",\"\",RANK(O311,$O$2:$O$1000))","v":""}]
["1201 味全","黃國禎          黃國禎",0,"黃國禎",null,null,null,null,null,null,null,null,null,null,{"$f":"IFERROR(VLOOKUP(K312,股價!A:B,2,0)*M312,\"\")","v":""},{"$f":"IF(O312=\"\",\"\",RANK(O312,$O$2:$O$1000))","v":""}]
["1201 味全","匯豐HHLR基金    匯豐HHLR基金",9988,"匯豐(臺灣)商業銀行股份有限公司受託保管HHLR基金有限合夥投資專戶",null,null,null,null,null,null,null,null,null,null,{"$f":"IFERROR(VLOOKUP(K313,股價!A:B,2,0)*M313,\"\")","v":""},{"$f":"IF(O313=\"\",\"\",RANK(O313,$O$2:$O$1000))","v":""}]
["1201 味全","聚慶投資(股)    謝孟璋",1050,"聚慶投資",null,null,null,null,null,null,null,null,null,null,{"$f":"IFERROR(VLOOKUP(K314,股價!A:B,2,0)*M314,\"\")","v":""},{"$f":"IF(O314=\"\",\"\",RANK(O314,$O$2:$O$1000))","v":""}]
["1201 味全","摩根梵市場股    摩根梵市場股",5922,"美商摩根大通銀行台北分行受託保管梵加德集團公司經理之梵加德新興市場股票指數基金投資專戶",null,null,null,null,null,null,null,null,null,null,{"$f":"IFERROR(VLOOKUP(K315,股價!A:B,2,0)*M315,\"\")","v":""},{"$f":"IF(O315=\"\",\"\",RANK(O315,$O$2:$O$1000))","v":""}]
["1201 味全","蔡文齡          蔡文齡",31,"蔡文齡",null,null,null,null,null,null,null,null,null,null,{"$f":"IFERROR(VLOOKUP(K316,股價!A:B,2,0)*M316,\"\")","v":""},{"$f":"IF(O316=\"\",\"\",RANK(O316,$O$2:$O$1000))","v":""}]
["1201 味全","戴誠志          戴誠志",7150,"戴誠志",null,null,null,null,null,null,null,null,null,null,{"$f":"IFERROR(VLOOKUP(K317,股價!A:B,2,0)*M317,\"\")","v":""},{"$f":"IF(O317=\"\",\"\",RANK(O317,$O$2:$O$1000))","v":""}]
["1201 味全","薛光奇          薛光奇",30,"薛光奇",null,null,null,null,null,null,null,null,null,null,{"$f":"IFERROR(VLOOKUP(K318,股價!A:B,2,0)*M318,\"\")","v":""},{"$f":"IF(O318=\"\",\"\",RANK(O318,$O$2:$O$1000))","v":""}]
["1201 味全","謝孟璋          謝孟璋",0,"謝孟璋",null,null,null,null,null,null,null,null,null,null,{"$f":"IFERROR(VLOOKUP(K319,股價!A:B,2,0)*M319,\"\")","v":""},{"$f":"IF(O319=\"\",\"\",RANK(O319,$O$2:$O$1000))","v":""}]
["1201 味全","簡倍祥          簡倍祥",0,"簡倍祥",null,null,null,null,null,null,null,null,null,null,{"$f":"IFERROR(VLOOKUP(K320,股價!A:B,2,0)*M320,\"\")","v":""},{"$f":"IF(O320=\"\",\"\",RANK(O320,$O$2:$O$1000))","v":""}]
["1201 味全","魏嘉德          魏嘉德",0,"魏嘉德",null,null,null,null,null,null,null,null,null,null,{"$f":"IFERROR(VLOOKUP(K321,股價!A:B,2,0)*M321,\"\")","v":""},{"$f":"IF(O321=\"\",\"\",RANK(O321,$O$2:$O$1000))","v":""}]
["1201 味全","羅德成          羅德成",0,"羅德成",null,null,null,null,null,null,null,null,null,null,{"$f":"IFERROR(VLOOKUP(K322,股價!A:B,2,0)*M322,\"\")","v":""},{"$f":"IF(O322=\"\",\"\",RANK(O322,$O$2:$O$1000))","v":""}]
["1203 味王","_大股東合計1",0,null,null,null,null,null,null,null,null,null,null,null,{"$f":"IFERROR(VLOOKUP(K323,股價!A:B,2,0)*M323,\"\")","v":""},{"$f":"IF(O323=\"\",\"\",RANK(O323,$O$2:$O$1000))","v":""}]
["1203 味王","_大股東合計2    含沿用資料",94719,null,null,null,null,null,null,null,null,null,null,null,{"$f":"IFERROR(VLOOKUP(K324,股價!A:B,2,0)*M324,\"\")","v":""},{"$f":"IF(O324=\"\",\"\",RANK(O324,$O$2:$O$1000))","v":""}]
["1203 味王","_經理人合計",0,null,null,null,null,null,null,null,null,null,null,null,{"$f":"IFERROR(VLOOKUP(K325,股價!A:B,2,0)*M325,\"\")","v":""},{"$f":"IF(O325=\"\",\"\",RANK(O325,$O$2:$O$1000))","v":""}]
["1203 味王","_董  事合計",69226,null,null,null,null,null,null,null,null,null,null,null,{"$f":"IFERROR(VLOOKUP(K326,股價!A:B,2,0)*M326,\"\")","v":""},{"$f":"IF(O326=\"\",\"\",RANK(O326,$O$2:$O$1000))","v":""}]
["1203 味王","_董監事合計",69226,null,null,null,null,null,null,null,null,null,null,null,{"$f":"IFERROR(VLOOKUP(K327,股價!A:B,2,0)*M327,\"\")","v":""},{"$f":"IF(O327=\"\",\"\",RANK(O327,$O$2:$O$1000))","v":""}]
["1203 味王","_監察人合計",0,null,null,null,null,null,null,null,null,null,null,null,{"$f":"IFERROR(VLOOKUP(K328,股價!A:B,2,0)*M328,\"\")","v":""},{"$f":"IF(O328=\"\",\"\",RANK(O328,$O$2:$O$1000))","v":""}]
["1203 味王","三樂投資開發(股)楊頭雄",10385,"三樂投資開發",null,null,null,null,null,null,null,null,null,null,{"$f":"IFERROR(VLOOKUP(K329,股價!A:B,2,0)*M329,\"\")","v":""},{"$f":"IF(O329=\"\",\"\",RANK(O329,$O$2:$O$1000))","v":""}]
["1203 味王","大洋僑果(股)    陳清福",8356,"大洋僑果",null,null,null,null,null,null,null,null,null,null,{"$f":"IFERROR(VLOOKUP(K330,股價!A:B,2,0)*M330,\"\")","v":""},{"$f":"IF(O330=\"\",\"\",RANK(O330,$O$2:$O$1000))","v":""}]
["1203 味王","甘錦裕          甘錦裕",6111,"甘錦裕",null,null,null,null,null,null,null,null,null,null,{"$f":"IFERROR(VLOOKUP(K331,股價!A:B,2,0)*M331,\"\")","v":""},{"$f":"IF(O331=\"\",\"\",RANK(O331,$O$2:$O$1000))","v":""}]
["1203 味王","全青(股)        穎川万和",3065,"全青",null,null,null,null,null,null,null,null,null,null,{"$f":"IFERROR(VLOOKUP(K332,股價!A:B,2,0)*M332,\"\")","v":""},{"$f":"IF(O332=\"\",\"\",RANK(O332,$O$2:$O$1000))","v":""}]
["1203 味王","全威投資(股)    陳月鳳",23424,"全威投資",null,null,null,null,null,null,null,null,null,null,{"$f":"IFERROR(VLOOKUP(K333,股價!A:B,2,0)*M333,\"\")","v":""},{"$f":"IF(O333=\"\",\"\",RANK(O333,$O$2:$O$1000))","v":""}]
["1203 味王","有善投資(股)    陳鴻謨",12559,"有善投資股份有限公司",null,null,null,null,null,null,null,null,null,null,{"$f":"IFERROR(VLOOKUP(K334,股價!A:B,2,0)*M334,\"\")","v":""},{"$f":"IF(O334=\"\",\"\",RANK(O334,$O$2:$O$1000))","v":""}]
["1203 味王","江文章          江文章",0,"江文章",null,null,null,null,null,null,null,null,null,null,{"$f":"IFERROR(VLOOKUP(K335,股價!A:B,2,0)*M335,\"\")","v":""},{"$f":"IF(O335=\"\",\"\",RANK(O335,$O$2:$O$1000))","v":""}]
["1203 味王","呂文傑          呂文傑",0,"呂文傑",null,null,null,null,null,null,null,null,null,null,{"$f":"IFERROR(VLOOKUP(K336,股價!A:B,2,0)*M336,\"\")","v":""},{"$f":"IF(O336=\"\",\"\",RANK(O336,$O$2:$O$1000))","v":""}]
["1203 味王","李啟隆          李啟隆",0,"李啟隆",null,null,null,null,null,null,null,null,null,null,{"$f":"IFERROR(VLOOKUP(K337,股價!A:B,2,0)*M337,\"\")","v":""},{"$f":"IF(O337=\"\",\"\",RANK(O337,$O$2:$O$1000))","v":""}]
["1203 味王","杜恒誼          杜恒誼",231,"杜恒誼",null,null,null,null,null,null,null,null,null,null,{"$f":"IFERROR(VLOOKUP(K338,股價!A:B,2,0)*M338,\"\")","v":""},{"$f":"IF(O338=\"\",\"\",RANK(O338,$O$2:$O$1000))","v":""}]
["1203 味王","協美實業(股)    葉啟昭",1823,"協美實業",null,null,null,null,null,null,null,null,null,null,{"$f":"IFERROR(VLOOKUP(K339,股價!A:B,2,0)*M339,\"\")","v":""},{"$f":"IF(O339=\"\",\"\",RANK(O339,$O$2:$O$1000))","v":""}]
["1203 味王","味丹企業(股)    楊頭雄",14538,"味丹企業",null,null,null,null,null,null,null,null,null,null,{"$f":"IFERROR(VLOOKUP(K340,股價!A:B,2,0)*M340,\"\")","v":""},{"$f":"IF(O340=\"\",\"\",RANK(O340,$O$2:$O$1000))","v":""}]
["1203 味王","周海國          周海國",0,"周海國",null,null,null,null,null,null,null,null,null,null,{"$f":"IFERROR(VLOOKUP(K341,股價!A:B,2,0)*M341,\"\")","v":""},{"$f":"IF(O341=\"\",\"\",RANK(O341,$O$2:$O$1000))","v":""}]
["1203 味王","宣原實業(股)    張榮竣",3700,"宣原實業股份有限公司",null,null,null,null,null,null,null,null,null,null,{"$f":"IFERROR(VLOOKUP(K342,股價!A:B,2,0)*M342,\"\")","v":""},{"$f":"IF(O342=\"\",\"\",RANK(O342,$O$2:$O$1000))","v":""}]
["1203 味王","胡東晃          胡東晃",110,"胡東晃",null,null,null,null,null,null,null,null,null,null,{"$f":"IFERROR(VLOOKUP(K343,股價!A:B,2,0)*M343,\"\")","v":""},{"$f":"IF(O343=\"\",\"\",RANK(O343,$O$2:$O$1000))","v":""}]
["1203 味王","浩祥貿易(股)    穎川浩和",23609,"浩祥貿易",null,null,null,null,null,null,null,null,null,null,{"$f":"IFERROR(VLOOKUP(K344,股價!A:B,2,0)*M344,\"\")","v":""},{"$f":"IF(O344=\"\",\"\",RANK(O344,$O$2:$O$1000))","v":""}]
["1203 味王","張榮竣          張榮竣",0,"張榮竣",null,null,null,null,null,null,null,null,null,null,{"$f":"IFERROR(VLOOKUP(K345,股價!A:B,2,0)*M345,\"\")","v":""},{"$f":"IF(O345=\"\",\"\",RANK(O345,$O$2:$O$1000))","v":""}]
["1203 味王","陳月鳳          陳月鳳",487,"陳月鳳",null,null,null,null,null,null,null,null,null,null,{"$f":"IFERROR(VLOOKUP(K346,股價!A:B,2,0)*M346,\"\")","v":""},{"$f":"IF(O346=\"\",\"\",RANK(O346,$O$2:$O$1000))","v":""}]
["1203 味王","陳恭平          陳恭平",4000,"陳恭平",null,null,null,null,null,null,null,null,null,null,{"$f":"IFERROR(VLOOKUP(K347,股價!A:B,2,0)*M347,\"\")","v":""},{"$f":"IF(O347=\"\",\"\",RANK(O347,$O$2:$O$1000))","v":""}]
["1203 味王","陳清福          陳清福",1082,"陳清福",null,null,null,null,null,null,null,null,null,null,{"$f":"IFERROR(VLOOKUP(K348,股價!A:B,2,0)*M348,\"\")","v":""},{"$f":"IF(O348=\"\",\"\",RANK(O348,$O$2:$O$1000))","v":""}]
["1203 味王","傳倫投資(股)    賴其里",1129,"傳倫投資",null,null,null,null,null,null,null,null,null,null,{"$f":"IFERROR(VLOOKUP(K349,股價!A:B,2,0)*M349,\"\")","v":""},{"$f":"IF(O349=\"\",\"\",RANK(O349,$O$2:$O$1000))","v":""}]
["1203 味王","葉啟昭          葉啟昭",35,"葉啟昭",null,null,null,null,null,null,null,null,null,null,{"$f":"IFERROR(VLOOKUP(K350,股價!A:B,2,0)*M350,\"\")","v":""},{"$f":"IF(O350=\"\",\"\",RANK(O350,$O$2:$O$1000))","v":""}]
["1203 味王","僑協企業(股)    李啟隆",275,"僑協企業",null,null,null,null,null,null,null,null,null,null,{"$f":"IFERROR(VLOOKUP(K351,股價!A:B,2,0)*M351,\"\")","v":""},{"$f":"IF(O351=\"\",\"\",RANK(O351,$O$2:$O$1000))","v":""}]
["1203 味王","僑果企業(股)    穎川浩和",7215,"僑果企業",null,null,null,null,null,null,null,null,null,null,{"$f":"IFERROR(VLOOKUP(K352,股價!A:B,2,0)*M352,\"\")","v":""},{"$f":"IF(O352=\"\",\"\",RANK(O352,$O$2:$O$1000))","v":""}]
["1203 味王","僑果實業(股)    陳月鳳",22785,"僑果實業",null,null,null,null,null,null,null,null,null,null,{"$f":"IFERROR(VLOOKUP(K353,股價!A:B,2,0)*M353,\"\")","v":""},{"$f":"IF(O353=\"\",\"\",RANK(O353,$O$2:$O$1000))","v":""}]
["1203 味王","廖季方          廖季方",0,"廖季方",null,null,null,null,null,null,null,null,null,null,{"$f":"IFERROR(VLOOKUP(K354,股價!A:B,2,0)*M354,\"\")","v":""},{"$f":"IF(O354=\"\",\"\",RANK(O354,$O$2:$O$1000))","v":""}]
["1203 味王","福太投資開發(股)周海國",1897,"福太投資開發",null,null,null,null,null,null,null,null,null,null,{"$f":"IFERROR(VLOOKUP(K355,股價!A:B,2,0)*M355,\"\")","v":""},{"$f":"IF(O355=\"\",\"\",RANK(O355,$O$2:$O$1000))","v":""}]
["1203 味王","鄭絢彰          鄭絢彰",0,"鄭絢彰",null,null,null,null,null,null,null,null,null,null,{"$f":"IFERROR(VLOOKUP(K356,股價!A:B,2,0)*M356,\"\")","v":""},{"$f":"IF(O356=\"\",\"\",RANK(O356,$O$2:$O$1000))","v":""}]
["1203 味王","穎川浩和        穎川浩和",0,"穎川浩和",null,null,null,null,null,null,null,null,null,null,{"$f":"IFERROR(VLOOKUP(K357,股價!A:B,2,0)*M357,\"\")","v":""},{"$f":"IF(O357=\"\",\"\",RANK(O357,$O$2:$O$1000))","v":""}]
["1203 味王","穎川万和        穎川万和",0,"穎川万和",null,null,null,null,null,null,null,null,null,null,{"$f":"IFERROR(VLOOKUP(K358,股價!A:B,2,0)*M358,\"\")","v":""},{"$f":"IF(O358=\"\",\"\",RANK(O358,$O$2:$O$1000))","v":""}]
["1203 味王","賴其里          賴其里",979,"賴其里",null,null,null,null,null,null,null,null,null,null,{"$f":"IFERROR(VLOOKUP(K359,股價!A:B,2,0)*M359,\"\")","v":""},{"$f":"IF(O359=\"\",\"\",RANK(O359,$O$2:$O$1000))","v":""}]
["1203 味王","謙順行(股)      杜恒誼",8760,"謙順行",null,null,null,null,null,null,null,null,null,null,{"$f":"IFERROR(VLOOKUP(K360,股價!A:B,2,0)*M360,\"\")","v":""},{"$f":"IF(O360=\"\",\"\",RANK(O360,$O$2:$O$1000))","v":""}]
["1203 味王","魏璟雄          魏璟雄",0,"魏璟雄",null,null,null,null,null,null,null,null,null,null,{"$f":"IFERROR(VLOOKUP(K361,股價!A:B,2,0)*M361,\"\")","v":""},{"$f":"IF(O361=\"\",\"\",RANK(O361,$O$2:$O$1000))","v":""}]
["1203 味王","羅威信投資(有)  謝昀潔",10204,"羅威信投資",null,null,null,null,null,null,null,null,null,null,{"$f":"IFERROR(VLOOKUP(K362,股價!A:B,2,0)*M362,\"\")","v":""},{"$f":"IF(O362=\"\",\"\",RANK(O362,$O$2:$O$1000))","v":""}]
["1210 大成","_大股東合計1",0,null,null,null,null,null,null,null,null,null,null,null,{"$f":"IFERROR(VLOOKUP(K363,股價!A:B,2,0)*M363,\"\")","v":""},{"$f":"IF(O363=\"\",\"\",RANK(O363,$O$2:$O$1000))","v":""}]
["1210 大成","_大股東合計2    含沿用資料",196178,null,null,null,null,null,null,null,null,null,null,null,{"$f":"IFERROR(VLOOKUP(K364,股價!A:B,2,0)*M364,\"\")","v":""},{"$f":"IF(O364=\"\",\"\",RANK(O364,$O$2:$O$1000))","v":""}]
["1210 大成","_經理人合計",11,null,null,null,null,null,null,null,null,null,null,null,{"$f":"IFERROR(VLOOKUP(K365,股價!A:B,2,0)*M365,\"\")","v":""},{"$f":"IF(O365=\"\",\"\",RANK(O365,$O$2:$O$1000))","v":""}]
["1210 大成","_董  事合計",116151,null,null,null,null,null,null,null,null,null,null,null,{"$f":"IFERROR(VLOOKUP(K366,股價!A:B,2,0)*M366,\"\")","v":""},{"$f":"IF(O366=\"\",\"\",RANK(O366,$O$2:$O$1000))","v":""}]
["1210 大成","_董監事合計",116151,null,null,null,null,null,null,null,null,null,null,null,{"$f":"IFERROR(VLOOKUP(K367,股價!A:B,2,0)*M367,\"\")","v":""},{"$f":"IF(O367=\"\",\"\",RANK(O367,$O$2:$O$1000))","v":""}]
["1210 大成","_監察人合計",0,null,null,null,null,null,null,null,null,null,null,null,{"$f":"IFERROR(VLOOKUP(K368,股價!A:B,2,0)*M368,\"\")","v":""},{"$f":"IF(O368=\"\",\"\",RANK(O368,$O$2:$O$1000))","v":""}]
["1210 大成","丁玉山          丁玉山",0,"丁玉山",null,null,null,null,null,null,null,null,null,null,{"$f":"IFERROR(VLOOKUP(K369,股價!A:B,2,0)*M369,\"\")","v":""},{"$f":"IF(O369=\"\",\"\",RANK(O369,$O$2:$O$1000))","v":""}]
["1210 大成","三敏投資(股)    三敏投資(股)",13285,"三敏投資股份有限公司",null,null,null,null,null,null,null,null,null,null,{"$f":"IFERROR(VLOOKUP(K370,股價!A:B,2,0)*M370,\"\")","v":""},{"$f":"IF(O370=\"\",\"\",RANK(O370,$O$2:$O$1000))","v":""}]
["1210 大成","王滋林          王滋林",3552,"王滋林",null,null,null,null,null,null,null,null,null,null,{"$f":"IFERROR(VLOOKUP(K371,股價!A:B,2,0)*M371,\"\")","v":""},{"$f":"IF(O371=\"\",\"\",RANK(O371,$O$2:$O$1000))","v":""}]
["1210 大成","汪淑台          汪淑台",11,"汪淑臺",null,null,null,null,null,null,null,null,null,null,{"$f":"IFERROR(VLOOKUP(K372,股價!A:B,2,0)*M372,\"\")","v":""},{"$f":"IF(O372=\"\",\"\",RANK(O372,$O$2:$O$1000))","v":""}]
["1210 大成","南山人壽保險(股)南山人壽保險",17304,"南山人壽保險",null,null,null,null,null,null,null,null,null,null,{"$f":"IFERROR(VLOOKUP(K373,股價!A:B,2,0)*M373,\"\")","v":""},{"$f":"IF(O373=\"\",\"\",RANK(O373,$O$2:$O$1000))","v":""}]
["1210 大成","苗豐盛          苗豐盛",0,"苗豐盛",null,null,null,null,null,null,null,null,null,null,{"$f":"IFERROR(VLOOKUP(K374,股價!A:B,2,0)*M374,\"\")","v":""},{"$f":"IF(O374=\"\",\"\",RANK(O374,$O$2:$O$1000))","v":""}]
["1210 大成","韋建名          韋建名",0,"韋建名",null,null,null,null,null,null,null,null,null,null,{"$f":"IFERROR(VLOOKUP(K375,股價!A:B,2,0)*M375,\"\")","v":""},{"$f":"IF(O375=\"\",\"\",RANK(O375,$O$2:$O$1000))","v":""}]
["1210 大成","夏銜譽          夏銜譽",0,"夏銜譽",null,null,null,null,null,null,null,null,null,null,{"$f":"IFERROR(VLOOKUP(K376,股價!A:B,2,0)*M376,\"\")","v":""},{"$f":"IF(O376=\"\",\"\",RANK(O376,$O$2:$O$1000))","v":""}]
["1210 大成","都城實業(股)    韓家宇",27782,"都城實業",null,null,null,null,null,null,null,null,null,null,{"$f":"IFERROR(VLOOKUP(K377,股價!A:B,2,0)*M377,\"\")","v":""},{"$f":"IF(O377=\"\",\"\",RANK(O377,$O$2:$O$1000))","v":""}]
["1210 大成","陶傳正          陶傳正",0,"陶傳正",null,null,null,null,null,null,null,null,null,null,{"$f":"IFERROR(VLOOKUP(K378,股價!A:B,2,0)*M378,\"\")","v":""},{"$f":"IF(O378=\"\",\"\",RANK(O378,$O$2:$O$1000))","v":""}]
["1210 大成","曾炳榮          曾炳榮",4260,"曾炳榮",null,null,null,null,null,null,null,null,null,null,{"$f":"IFERROR(VLOOKUP(K379,股價!A:B,2,0)*M379,\"\")","v":""},{"$f":"IF(O379=\"\",\"\",RANK(O379,$O$2:$O$1000))","v":""}]
["1210 大成","黃河投資(股)    韓家宇",21277,"黃河投資",null,null,null,null,null,null,null,null,null,null,{"$f":"IFERROR(VLOOKUP(K380,股價!A:B,2,0)*M380,\"\")","v":""},{"$f":"IF(O380=\"\",\"\",RANK(O380,$O$2:$O$1000))","v":""}]
["1210 大成","黃進鏗          黃進鏗",0,"黃進鏗",null,null,null,null,null,null,null,null,null,null,{"$f":"IFERROR(VLOOKUP(K381,股價!A:B,2,0)*M381,\"\")","v":""},{"$f":"IF(O381=\"\",\"\",RANK(O381,$O$2:$O$1000))","v":""}]
["1210 大成","瑞成管理顧問(股)韓家寰",27894,"瑞成管理顧問",null,null,null,null,null,null,null,null,null,null,{"$f":"IFERROR(VLOOKUP(K382,股價!A:B,2,0)*M382,\"\")","v":""},{"$f":"IF(O382=\"\",\"\",RANK(O382,$O$2:$O$1000))","v":""}]
["1210 大成","萬海航運(股)    萬海航運(股)",13759,"萬海航運",null,null,null,null,null,null,null,null,null,null,{"$f":"IFERROR(VLOOKUP(K383,股價!A:B,2,0)*M383,\"\")","v":""},{"$f":"IF(O383=\"\",\"\",RANK(O383,$O$2:$O$1000))","v":""}]
["1210 大成","詹金和          詹金和",0,"詹金和",null,null,null,null,null,null,null,null,null,null,{"$f":"IFERROR(VLOOKUP(K384,股價!A:B,2,0)*M384,\"\")","v":""},{"$f":"IF(O384=\"\",\"\",RANK(O384,$O$2:$O$1000))","v":""}]
["1210 大成","僑泰興投資(股)  趙天星",12445,"僑泰興投資股份有限公司",null,null,null,null,null,null,null,null,null,null,{"$f":"IFERROR(VLOOKUP(K385,股價!A:B,2,0)*M385,\"\")","v":""},{"$f":"IF(O385=\"\",\"\",RANK(O385,$O$2:$O$1000))","v":""}]
["1210 大成","福瑞投資(股)    韓家宸",39516,"福瑞投資",null,null,null,null,null,null,null,null,null,null,{"$f":"IFERROR(VLOOKUP(K386,股價!A:B,2,0)*M386,\"\")","v":""},{"$f":"IF(O386=\"\",\"\",RANK(O386,$O$2:$O$1000))","v":""}]
["1210 大成","福聚投資(股)    韓家宇",76881,"福聚投資",null,null,null,null,null,null,null,null,null,null,{"$f":"IFERROR(VLOOKUP(K387,股價!A:B,2,0)*M387,\"\")","v":""},{"$f":"IF(O387=\"\",\"\",RANK(O387,$O$2:$O$1000))","v":""}]
["1210 大成","福聚投資(股)    韓家宸",76881,"福聚投資",null,null,null,null,null,null,null,null,null,null,{"$f":"IFERROR(VLOOKUP(K388,股價!A:B,2,0)*M388,\"\")","v":""},{"$f":"IF(O388=\"\",\"\",RANK(O388,$O$2:$O$1000))","v":""}]
["1210 大成","福聚投資(股)    韓家寅",76881,"福聚投資",null,null,null,null,null,null,null,null,null,null,{"$f":"IFERROR(VLOOKUP(K389,股價!A:B,2,0)*M389,\"\")","v":""},{"$f":"IF(O389=\"\",\"\",RANK(O389,$O$2:$O$1000))","v":""}]
["1210 大成","福聚投資(股)    韓家寰",76881,"福聚投資",null,null,null,null,null,null,null,null,null,null,{"$f":"IFERROR(VLOOKUP(K390,股價!A:B,2,0)*M390,\"\")","v":""},{"$f":"IF(O390=\"\",\"\",RANK(O390,$O$2:$O$1000))","v":""}]
["1210 大成","趙天星          趙天星",0,"趙天星",null,null,null,null,null,null,null,null,null,null,{"$f":"IFERROR(VLOOKUP(K391,股價!A:B,2,0)*M391,\"\")","v":""},{"$f":"IF(O391=\"\",\"\",RANK(O391,$O$2:$O$1000))","v":""}]
["1210 大成","劉建忠          劉建忠",0,"劉建忠",null,null,null,null,null,null,null,null,null,null,{"$f":"IFERROR(VLOOKUP(K392,股價!A:B,2,0)*M392,\"\")","v":""},{"$f":"IF(O392=\"\",\"\",RANK(O392,$O$2:$O$1000))","v":""}]
["1210 大成","德家投資(股)    韓家寅",35361,"德家投資",null,null,null,null,null,null,null,null,null,null,{"$f":"IFERROR(VLOOKUP(K393,股價!A:B,2,0)*M393,\"\")","v":""},{"$f":"IF(O393=\"\",\"\",RANK(O393,$O$2:$O$1000))","v":""}]
["1210 大成","賴東春          賴東春",0,"賴東春",null,null,null,null,null,null,null,null,null,null,{"$f":"IFERROR(VLOOKUP(K394,股價!A:B,2,0)*M394,\"\")","v":""},{"$f":"IF(O394=\"\",\"\",RANK(O394,$O$2:$O$1000))","v":""}]
["1210 大成","聯華實業投資控股苗豐盛",19013,"聯華實業投資控股",null,null,null,null,null,null,null,null,null,null,{"$f":"IFERROR(VLOOKUP(K395,股價!A:B,2,0)*M395,\"\")","v":""},{"$f":"IF(O395=\"\",\"\",RANK(O395,$O$2:$O$1000))","v":""}]
["1210 大成","韓芳豪          韓芳豪",0,"韓芳豪",null,null,null,null,null,null,null,null,null,null,{"$f":"IFERROR(VLOOKUP(K396,股價!A:B,2,0)*M396,\"\")","v":""},{"$f":"IF(O396=\"\",\"\",RANK(O396,$O$2:$O$1000))","v":""}]
["1210 大成","韓家宇          韓家宇",67,"韓家宇",null,null,null,null,null,null,null,null,null,null,{"$f":"IFERROR(VLOOKUP(K397,股價!A:B,2,0)*M397,\"\")","v":""},{"$f":"IF(O397=\"\",\"\",RANK(O397,$O$2:$O$1000))","v":""}]
["1210 大成","韓家宸          韓家宸",0,"韓家宸",null,null,null,null,null,null,null,null,null,null,{"$f":"IFERROR(VLOOKUP(K398,股價!A:B,2,0)*M398,\"\")","v":""},{"$f":"IF(O398=\"\",\"\",RANK(O398,$O$2:$O$1000))","v":""}]
["1210 大成","韓家寅          韓家寅",0,"韓家寅",null,null,null,null,null,null,null,null,null,null,{"$f":"IFERROR(VLOOKUP(K399,股價!A:B,2,0)*M399,\"\")","v":""},{"$f":"IF(O399=\"\",\"\",RANK(O399,$O$2:$O$1000))","v":""}]
["1210 大成","韓家寰          韓家寰",0,"韓家寰",null,null,null,null,null,null,null,null,null,null,{"$f":"IFERROR(VLOOKUP(K400,股價!A:B,2,0)*M400,\"\")","v":""},{"$f":"IF(O400=\"\",\"\",RANK(O400,$O$2:$O$1000))","v":""}]
["1213 大飲","_大股東合計1",21808,null,null,null,null,null,null,null,null,null,null,null,{"$f":"IFERROR(VLOOKUP(K401,股價!A:B,2,0)*M401,\"\")","v":""},{"$f":"IF(O401=\"\",\"\",RANK(O401,$O$2:$O$1000))","v":""}]
["1213 大飲","_大股東合計2    含沿用資料",35211,null,null,null,null,null,null,null,null,null,null,null,{"$f":"IFERROR(VLOOKUP(K402,股價!A:B,2,0)*M402,\"\")","v":""},{"$f":"IF(O402=\"\",\"\",RANK(O402,$O$2:$O$1000))","v":""}]
["1213 大飲","_經理人合計",0,null,null,null,null,null,null,null,null,null,null,null,{"$f":"IFERROR(VLOOKUP(K403,股價!A:B,2,0)*M403,\"\")","v":""},{"$f":"IF(O403=\"\",\"\",RANK(O403,$O$2:$O$1000))","v":""}]
["1213 大飲","_董  事合計",7308,null,null,null,null,null,null,null,null,null,null,null,{"$f":"IFERROR(VLOOKUP(K404,股價!A:B,2,0)*M404,\"\")","v":""},{"$f":"IF(O404=\"\",\"\",RANK(O404,$O$2:$O$1000))","v":""}]
["1213 大飲","_董監事合計",7308,null,null,null,null,null,null,null,null,null,null,null,{"$f":"IFERROR(VLOOKUP(K405,股價!A:B,2,0)*M405,\"\")","v":""},{"$f":"IF(O405=\"\",\"\",RANK(O405,$O$2:$O$1000))","v":""}]
["1213 大飲","_監察人合計",0,null,null,null,null,null,null,null,null,null,null,null,{"$f":"IFERROR(VLOOKUP(K406,股價!A:B,2,0)*M406,\"\")","v":""},{"$f":"IF(O406=\"\",\"\",RANK(O406,$O$2:$O$1000))","v":""}]
["1213 大飲","于忠敏          于忠敏",0,"于忠敏",null,null,null,null,null,null,null,null,null,null,{"$f":"IFERROR(VLOOKUP(K407,股價!A:B,2,0)*M407,\"\")","v":""},{"$f":"IF(O407=\"\",\"\",RANK(O407,$O$2:$O$1000))","v":""}]
["1213 大飲","王惠民          王惠民",0,"王惠民",null,null,null,null,null,null,null,null,null,null,{"$f":"IFERROR(VLOOKUP(K408,股價!A:B,2,0)*M408,\"\")","v":""},{"$f":"IF(O408=\"\",\"\",RANK(O408,$O$2:$O$1000))","v":""}]
["1213 大飲","王賢明          王賢明",1178,"王賢明",null,null,null,null,null,null,null,null,null,null,{"$f":"IFERROR(VLOOKUP(K409,股價!A:B,2,0)*M409,\"\")","v":""},{"$f":"IF(O409=\"\",\"\",RANK(O409,$O$2:$O$1000))","v":""}]
["1213 大飲","旭順食品(股)    旭順食品(股)",8627,"旭順食品",null,null,null,null,null,null,null,null,null,null,{"$f":"IFERROR(VLOOKUP(K410,股價!A:B,2,0)*M410,\"\")","v":""},{"$f":"IF(O410=\"\",\"\",RANK(O410,$O$2:$O$1000))","v":""}]
["1213 大飲","吳成志          吳成志",0,"吳成志",null,null,null,null,null,null,null,null,null,null,{"$f":"IFERROR(VLOOKUP(K411,股價!A:B,2,0)*M411,\"\")","v":""},{"$f":"IF(O411=\"\",\"\",RANK(O411,$O$2:$O$1000))","v":""}]
["1213 大飲","孫幼英          孫幼英",627,"孫幼英",null,null,null,null,null,null,null,null,null,null,{"$f":"IFERROR(VLOOKUP(K412,股價!A:B,2,0)*M412,\"\")","v":""},{"$f":"IF(O412=\"\",\"\",RANK(O412,$O$2:$O$1000))","v":""}]
["1213 大飲","健健美生技(有)  于蕊菱",5513,"健健美生技",null,null,null,null,null,null,null,null,null,null,{"$f":"IFERROR(VLOOKUP(K413,股價!A:B,2,0)*M413,\"\")","v":""},{"$f":"IF(O413=\"\",\"\",RANK(O413,$O$2:$O$1000))","v":""}]
["1213 大飲","張芳春          張芳春",0,"張芳春",null,null,null,null,null,null,null,null,null,null,{"$f":"IFERROR(VLOOKUP(K414,股價!A:B,2,0)*M414,\"\")","v":""},{"$f":"IF(O414=\"\",\"\",RANK(O414,$O$2:$O$1000))","v":""}]
["1213 大飲","陳麒文          陳麒文",0,"陳麒文",null,null,null,null,null,null,null,null,null,null,{"$f":"IFERROR(VLOOKUP(K415,股價!A:B,2,0)*M415,\"\")","v":""},{"$f":"IF(O415=\"\",\"\",RANK(O415,$O$2:$O$1000))","v":""}]
["1213 大飲","游順凱          游順凱",0,"游順凱",null,null,null,null,null,null,null,null,null,null,{"$f":"IFERROR(VLOOKUP(K416,股價!A:B,2,0)*M416,\"\")","v":""},{"$f":"IF(O416=\"\",\"\",RANK(O416,$O$2:$O$1000))","v":""}]
["1213 大飲","陽翼(有)        謝政成",900,"陽翼",null,null,null,null,null,null,null,null,null,null,{"$f":"IFERROR(VLOOKUP(K417,股價!A:B,2,0)*M417,\"\")","v":""},{"$f":"IF(O417=\"\",\"\",RANK(O417,$O$2:$O$1000))","v":""}]
["1213 大飲","陽翼(有)        蘇芸樂",900,"陽翼",null,null,null,null,null,null,null,null,null,null,{"$f":"IFERROR(VLOOKUP(K418,股價!A:B,2,0)*M418,\"\")","v":""},{"$f":"IF(O418=\"\",\"\",RANK(O418,$O$2:$O$1000))","v":""}]
["1213 大飲","葉明信          葉明信",743,"葉明信",null,null,null,null,null,null,null,null,null,null,{"$f":"IFERROR(VLOOKUP(K419,股價!A:B,2,0)*M419,\"\")","v":""},{"$f":"IF(O419=\"\",\"\",RANK(O419,$O$2:$O$1000))","v":""}]
["1213 大飲","嘉隆國際實業(有)吳成志",4204,"嘉隆國際實業有限公司",null,null,null,null,null,null,null,null,null,null,{"$f":"IFERROR(VLOOKUP(K420,股價!A:B,2,0)*M420,\"\")","v":""},{"$f":"IF(O420=\"\",\"\",RANK(O420,$O$2:$O$1000))","v":""}]
["1213 大飲","嘉隆國際實業(有)張芳春",4204,"嘉隆國際實業有限公司",null,null,null,null,null,null,null,null,null,null,{"$f":"IFERROR(VLOOKUP(K421,股價!A:B,2,0)*M421,\"\")","v":""},{"$f":"IF(O421=\"\",\"\",RANK(O421,$O$2:$O$1000))","v":""}]
["1213 大飲","廖虹羚          廖虹羚",0,"廖虹羚",null,null,null,null,null,null,null,null,null,null,{"$f":"IFERROR(VLOOKUP(K422,股價!A:B,2,0)*M422,\"\")","v":""},{"$f":"IF(O422=\"\",\"\",RANK(O422,$O$2:$O$1000))","v":""}]
["1213 大飲","儂特利食品2(有) 蔡辰雄",5342,"儂特利食品2",null,null,null,null,null,null,null,null,null,null,{"$f":"IFERROR(VLOOKUP(K423,股價!A:B,2,0)*M423,\"\")","v":""},{"$f":"IF(O423=\"\",\"\",RANK(O423,$O$2:$O$1000))","v":""}]
["1213 大飲","錫標(有)        于忠敏",2204,"錫標",null,null,null,null,null,null,null,null,null,null,{"$f":"IFERROR(VLOOKUP(K424,股價!A:B,2,0)*M424,\"\")","v":""},{"$f":"IF(O424=\"\",\"\",RANK(O424,$O$2:$O$1000))","v":""}]
["1213 大飲","錫標(有)        王惠民",2204,"錫標",null,null,null,null,null,null,null,null,null,null,{"$f":"IFERROR(VLOOKUP(K425,股價!A:B,2,0)*M425,\"\")","v":""},{"$f":"IF(O425=\"\",\"\",RANK(O425,$O$2:$O$1000))","v":""}]
["1213 大飲","謝政成          謝政成",0,"謝政成",null,null,null,null,null,null,null,null,null,null,{"$f":"IFERROR(VLOOKUP(K426,股價!A:B,2,0)*M426,\"\")","v":""},{"$f":"IF(O426=\"\",\"\",RANK(O426,$O$2:$O$1000))","v":""}]
["1213 大飲","寶亞(有)        寶亞(有)",13181,"寶亞",null,null,null,null,null,null,null,null,null,null,{"$f":"IFERROR(VLOOKUP(K427,股價!A:B,2,0)*M427,\"\")","v":""},{"$f":"IF(O427=\"\",\"\",RANK(O427,$O$2:$O$1000))","v":""}]
["1213 大飲","蘇芸樂          蘇芸樂",0,"蘇芸樂",null,null,null,null,null,null,null,null,null,null,{"$f":"IFERROR(VLOOKUP(K428,股價!A:B,2,0)*M428,\"\")","v":""},{"$f":"IF(O428=\"\",\"\",RANK(O428,$O$2:$O$1000))","v":""}]
["1213 大飲","顧啟東          顧啟東",0,"顧啟東",null,null,null,null,null,null,null,null,null,null,{"$f":"IFERROR(VLOOKUP(K429,股價!A:B,2,0)*M429,\"\")","v":""},{"$f":"IF(O429=\"\",\"\",RANK(O429,$O$2:$O$1000))","v":""}]
["1215 卜蜂","Charoen Pokp    Charoen Pokp",54194,"Charoen Pokphand Foods Public",null,null,null,null,null,null,null,null,null,null,{"$f":"IFERROR(VLOOKUP(K430,股價!A:B,2,0)*M430,\"\")","v":""},{"$f":"IF(O430=\"\",\"\",RANK(O430,$O$2:$O$1000))","v":""}]
["1215 卜蜂","_大股東合計1",54194,null,null,null,null,null,null,null,null,null,null,null,{"$f":"IFERROR(VLOOKUP(K431,股價!A:B,2,0)*M431,\"\")","v":""},{"$f":"IF(O431=\"\",\"\",RANK(O431,$O$2:$O$1000))","v":""}]
["1215 卜蜂","_大股東合計2    含沿用資料",114865,null,null,null,null,null,null,null,null,null,null,null,{"$f":"IFERROR(VLOOKUP(K432,股價!A:B,2,0)*M432,\"\")","v":""},{"$f":"IF(O432=\"\",\"\",RANK(O432,$O$2:$O$1000))","v":""}]
["1215 卜蜂","_經理人合計",211,null,null,null,null,null,null,null,null,null,null,null,{"$f":"IFERROR(VLOOKUP(K433,股價!A:B,2,0)*M433,\"\")","v":""},{"$f":"IF(O433=\"\",\"\",RANK(O433,$O$2:$O$1000))","v":""}]
["1215 卜蜂","_董  事合計",29483,null,null,null,null,null,null,null,null,null,null,null,{"$f":"IFERROR(VLOOKUP(K434,股價!A:B,2,0)*M434,\"\")","v":""},{"$f":"IF(O434=\"\",\"\",RANK(O434,$O$2:$O$1000))","v":""}]
["1215 卜蜂","_董監事合計",29483,null,null,null,null,null,null,null,null,null,null,null,{"$f":"IFERROR(VLOOKUP(K435,股價!A:B,2,0)*M435,\"\")","v":""},{"$f":"IF(O435=\"\",\"\",RANK(O435,$O$2:$O$1000))","v":""}]
["1215 卜蜂","_監察人合計",0,null,null,null,null,null,null,null,null,null,null,null,{"$f":"IFERROR(VLOOKUP(K436,股價!A:B,2,0)*M436,\"\")","v":""},{"$f":"IF(O436=\"\",\"\",RANK(O436,$O$2:$O$1000))","v":""}]
["1215 卜蜂","大中投資(股)    大中投資(股)",14176,"大中投資",null,null,null,null,null,null,null,null,null,null,{"$f":"IFERROR(VLOOKUP(K437,股價!A:B,2,0)*M437,\"\")","v":""},{"$f":"IF(O437=\"\",\"\",RANK(O437,$O$2:$O$1000))","v":""}]
["1215 卜蜂","中信台灣(二)    中信台灣(二)",12652,"台灣人壽委託中國信託投信投資帳戶(二)",null,null,null,null,null,null,null,null,null,null,{"$f":"IFERROR(VLOOKUP(K438,股價!A:B,2,0)*M438,\"\")","v":""},{"$f":"IF(O438=\"\",\"\",RANK(O438,$O$2:$O$1000))","v":""}]
["1215 卜蜂","王寧            王寧",0,"王寧",null,null,null,null,null,null,null,null,null,null,{"$f":"IFERROR(VLOOKUP(K439,股價!A:B,2,0)*M439,\"\")","v":""},{"$f":"IF(O439=\"\",\"\",RANK(O439,$O$2:$O$1000))","v":""}]
["1215 卜蜂","百慕達卜蜂台(股)李顯財",29483,"百慕達商卜蜂投資 (台灣)",null,null,null,null,null,null,null,null,null,null,{"$f":"IFERROR(VLOOKUP(K440,股價!A:B,2,0)*M440,\"\")","v":""},{"$f":"IF(O440=\"\",\"\",RANK(O440,$O$2:$O$1000))","v":""}]
["1215 卜蜂","百慕達卜蜂台(股)林竹雄",29483,"百慕達商卜蜂投資 (台灣)",null,null,null,null,null,null,null,null,null,null,{"$f":"IFERROR(VLOOKUP(K441,股價!A:B,2,0)*M441,\"\")","v":""},{"$f":"IF(O441=\"\",\"\",RANK(O441,$O$2:$O$1000))","v":""}]
["1215 卜蜂","百慕達卜蜂台(股)許瑞通",29483,"百慕達商卜蜂投資 (台灣)",null,null,null,null,null,null,null,null,null,null,{"$f":"IFERROR(VLOOKUP(K442,股價!A:B,2,0)*M442,\"\")","v":""},{"$f":"IF(O442=\"\",\"\",RANK(O442,$O$2:$O$1000))","v":""}]
["1215 卜蜂","百慕達卜蜂台(股)鄭武樾",29483,"百慕達商卜蜂投資 (台灣)",null,null,null,null,null,null,null,null,null,null,{"$f":"IFERROR(VLOOKUP(K443,股價!A:B,2,0)*M443,\"\")","v":""},{"$f":"IF(O443=\"\",\"\",RANK(O443,$O$2:$O$1000))","v":""}]
["1215 卜蜂","百慕達卜蜂台(股)盧岳勝",29483,"百慕達商卜蜂投資 (台灣)",null,null,null,null,null,null,null,null,null,null,{"$f":"IFERROR(VLOOKUP(K444,股價!A:B,2,0)*M444,\"\")","v":""},{"$f":"IF(O444=\"\",\"\",RANK(O444,$O$2:$O$1000))","v":""}]
["1215 卜蜂","李素華          李素華",0,"李素華",null,null,null,null,null,null,null,null,null,null,{"$f":"IFERROR(VLOOKUP(K445,股價!A:B,2,0)*M445,\"\")","v":""},{"$f":"IF(O445=\"\",\"\",RANK(O445,$O$2:$O$1000))","v":""}]
["1215 卜蜂","李燕松          李燕松",0,"李燕松",null,null,null,null,null,null,null,null,null,null,{"$f":"IFERROR(VLOOKUP(K446,股價!A:B,2,0)*M446,\"\")","v":""},{"$f":"IF(O446=\"\",\"\",RANK(O446,$O$2:$O$1000))","v":""}]
["1215 卜蜂","李顯財          李顯財",0,"李顯財",null,null,null,null,null,null,null,null,null,null,{"$f":"IFERROR(VLOOKUP(K447,股價!A:B,2,0)*M447,\"\")","v":""},{"$f":"IF(O447=\"\",\"\",RANK(O447,$O$2:$O$1000))","v":""}]
["1215 卜蜂","林竹雄          林竹雄",1842,"林竹雄",null,null,null,null,null,null,null,null,null,null,{"$f":"IFERROR(VLOOKUP(K448,股價!A:B,2,0)*M448,\"\")","v":""},{"$f":"IF(O448=\"\",\"\",RANK(O448,$O$2:$O$1000))","v":""}]
["1215 卜蜂","花旗託管挪威    花旗託管挪威",4242,"花旗託管挪威中央銀行投資專戶",null,null,null,null,null,null,null,null,null,null,{"$f":"IFERROR(VLOOKUP(K449,股價!A:B,2,0)*M449,\"\")","v":""},{"$f":"IF(O449=\"\",\"\",RANK(O449,$O$2:$O$1000))","v":""}]
["1215 卜蜂","柳志誠          柳志誠",0,"柳志誠",null,null,null,null,null,null,null,null,null,null,{"$f":"IFERROR(VLOOKUP(K450,股價!A:B,2,0)*M450,\"\")","v":""},{"$f":"IF(O450=\"\",\"\",RANK(O450,$O$2:$O$1000))","v":""}]
["1215 卜蜂","翁祖模          翁祖模",0,"翁祖模",null,null,null,null,null,null,null,null,null,null,{"$f":"IFERROR(VLOOKUP(K451,股價!A:B,2,0)*M451,\"\")","v":""},{"$f":"IF(O451=\"\",\"\",RANK(O451,$O$2:$O$1000))","v":""}]
["1215 卜蜂","張維岳          張維岳",5,"張維岳",null,null,null,null,null,null,null,null,null,null,{"$f":"IFERROR(VLOOKUP(K452,股價!A:B,2,0)*M452,\"\")","v":""},{"$f":"IF(O452=\"\",\"\",RANK(O452,$O$2:$O$1000))","v":""}]
["1215 卜蜂","許瑞通          許瑞通",206,"許瑞通",null,null,null,null,null,null,null,null,null,null,{"$f":"IFERROR(VLOOKUP(K453,股價!A:B,2,0)*M453,\"\")","v":""},{"$f":"IF(O453=\"\",\"\",RANK(O453,$O$2:$O$1000))","v":""}]
["1215 卜蜂","陳昭仁          陳昭仁",0,"陳昭仁",null,null,null,null,null,null,null,null,null,null,{"$f":"IFERROR(VLOOKUP(K454,股價!A:B,2,0)*M454,\"\")","v":""},{"$f":"IF(O454=\"\",\"\",RANK(O454,$O$2:$O$1000))","v":""}]
["1215 卜蜂","陳鈺清          陳鈺清",0,"陳鈺清",null,null,null,null,null,null,null,null,null,null,{"$f":"IFERROR(VLOOKUP(K455,股價!A:B,2,0)*M455,\"\")","v":""},{"$f":"IF(O455=\"\",\"\",RANK(O455,$O$2:$O$1000))","v":""}]
["1215 卜蜂","鈞大投資(股)    鈞大投資(股)",17120,"鈞大投資",null,null,null,null,null,null,null,null,null,null,{"$f":"IFERROR(VLOOKUP(K456,股價!A:B,2,0)*M456,\"\")","v":""},{"$f":"IF(O456=\"\",\"\",RANK(O456,$O$2:$O$1000))","v":""}]
["1215 卜蜂","楊俊雄          楊俊雄",0,"楊俊雄",null,null,null,null,null,null,null,null,null,null,{"$f":"IFERROR(VLOOKUP(K457,股價!A:B,2,0)*M457,\"\")","v":""},{"$f":"IF(O457=\"\",\"\",RANK(O457,$O$2:$O$1000))","v":""}]
["1215 卜蜂","劉彥君          劉彥君",0,"劉彥君",null,null,null,null,null,null,null,null,null,null,{"$f":"IFERROR(VLOOKUP(K458,股價!A:B,2,0)*M458,\"\")","v":""},{"$f":"IF(O458=\"\",\"\",RANK(O458,$O$2:$O$1000))","v":""}]
["1215 卜蜂","摩根梵市場股    摩根梵市場股",3618,"美商摩根大通銀行台北分行受託保管梵加德集團公司經理之梵加德新興市場股票指數基金投資專戶",null,null,null,null,null,null,null,null,null,null,{"$f":"IFERROR(VLOOKUP(K459,股價!A:B,2,0)*M459,\"\")","v":""},{"$f":"IF(O459=\"\",\"\",RANK(O459,$O$2:$O$1000))","v":""}]
["1215 卜蜂","鄭武樾          鄭武樾",7021,"鄭武樾",null,null,null,null,null,null,null,null,null,null,{"$f":"IFERROR(VLOOKUP(K460,股價!A:B,2,0)*M460,\"\")","v":""},{"$f":"IF(O460=\"\",\"\",RANK(O460,$O$2:$O$1000))","v":""}]
["1215 卜蜂","盧岳勝          盧岳勝",0,"盧岳勝",null,null,null,null,null,null,null,null,null,null,{"$f":"IFERROR(VLOOKUP(K461,股價!A:B,2,0)*M461,\"\")","v":""},{"$f":"IF(O461=\"\",\"\",RANK(O461,$O$2:$O$1000))","v":""}]
["1215 卜蜂","蕭俊龍          蕭俊龍",0,"蕭俊龍",null,null,null,null,null,null,null,null,null,null,{"$f":"IFERROR(VLOOKUP(K462,股價!A:B,2,0)*M462,\"\")","v":""},{"$f":"IF(O462=\"\",\"\",RANK(O462,$O$2:$O$1000))","v":""}]
["1216 統一","_大股東合計1",0,null,null,null,null,null,null,null,null,null,null,null,{"$f":"IFERROR(VLOOKUP(K463,股價!A:B,2,0)*M463,\"\")","v":""},{"$f":"IF(O463=\"\",\"\",RANK(O463,$O$2:$O$1000))","v":""}]
["1216 統一","_大股東合計2    含沿用資料",933500,null,null,null,null,null,null,null,null,null,null,null,{"$f":"IFERROR(VLOOKUP(K464,股價!A:B,2,0)*M464,\"\")","v":""},{"$f":"IF(O464=\"\",\"\",RANK(O464,$O$2:$O$1000))","v":""}]
["1216 統一","_經理人合計",4064,null,null,null,null,null,null,null,null,null,null,null,{"$f":"IFERROR(VLOOKUP(K465,股價!A:B,2,0)*M465,\"\")","v":""},{"$f":"IF(O465=\"\",\"\",RANK(O465,$O$2:$O$1000))","v":""}]
["1216 統一","_董  事合計",571120,null,null,null,null,null,null,null,null,null,null,null,{"$f":"IFERROR(VLOOKUP(K466,股價!A:B,2,0)*M466,\"\")","v":""},{"$f":"IF(O466=\"\",\"\",RANK(O466,$O$2:$O$1000))","v":""}]
["1216 統一","_董監事合計",571120,null,null,null,null,null,null,null,null,null,null,null,{"$f":"IFERROR(VLOOKUP(K467,股價!A:B,2,0)*M467,\"\")","v":""},{"$f":"IF(O467=\"\",\"\",RANK(O467,$O$2:$O$1000))","v":""}]
["1216 統一","_監察人合計",0,null,null,null,null,null,null,null,null,null,null,null,{"$f":"IFERROR(VLOOKUP(K468,股價!A:B,2,0)*M468,\"\")","v":""},{"$f":"IF(O468=\"\",\"\",RANK(O468,$O$2:$O$1000))","v":""}]
["1216 統一","九福投資股份有限鄭碧英",24305,"九福投資股份有限公司",null,null,null,null,null,null,null,null,null,null,{"$f":"IFERROR(VLOOKUP(K469,股價!A:B,2,0)*M469,\"\")","v":""},{"$f":"IF(O469=\"\",\"\",RANK(O469,$O$2:$O$1000))","v":""}]
["1216 統一","大通託阿拉伯    大通託阿拉伯",83300,"大通託管沙烏地阿拉伯中央銀行投資專戶",null,null,null,null,null,null,null,null,null,null,{"$f":"IFERROR(VLOOKUP(K470,股價!A:B,2,0)*M470,\"\")","v":""},{"$f":"IF(O470=\"\",\"\",RANK(O470,$O$2:$O$1000))","v":""}]
["1216 統一","王瑞斌          王瑞斌",0,"王瑞斌",null,null,null,null,null,null,null,null,null,null,{"$f":"IFERROR(VLOOKUP(K471,股價!A:B,2,0)*M471,\"\")","v":""},{"$f":"IF(O471=\"\",\"\",RANK(O471,$O$2:$O$1000))","v":""}]
["1216 統一","永原投資(股)    吳中和",9163,"永原投資",null,null,null,null,null,null,null,null,null,null,{"$f":"IFERROR(VLOOKUP(K472,股價!A:B,2,0)*M472,\"\")","v":""},{"$f":"IF(O472=\"\",\"\",RANK(O472,$O$2:$O$1000))","v":""}]
["1216 統一","吳中和          吳中和",36672,"吳中和",null,null,null,null,null,null,null,null,null,null,{"$f":"IFERROR(VLOOKUP(K473,股價!A:B,2,0)*M473,\"\")","v":""},{"$f":"IF(O473=\"\",\"\",RANK(O473,$O$2:$O$1000))","v":""}]
["1216 統一","吳平治          吳平治",44208,"吳平治",null,null,null,null,null,null,null,null,null,null,{"$f":"IFERROR(VLOOKUP(K474,股價!A:B,2,0)*M474,\"\")","v":""},{"$f":"IF(O474=\"\",\"\",RANK(O474,$O$2:$O$1000))","v":""}]
["1216 統一","吳昆林          吳昆林",2,"吳昆林",null,null,null,null,null,null,null,null,null,null,{"$f":"IFERROR(VLOOKUP(K475,股價!A:B,2,0)*M475,\"\")","v":""},{"$f":"IF(O475=\"\",\"\",RANK(O475,$O$2:$O$1000))","v":""}]
["1216 統一","吳琮斌          吳琮斌",0,"吳琮斌",null,null,null,null,null,null,null,null,null,null,{"$f":"IFERROR(VLOOKUP(K476,股價!A:B,2,0)*M476,\"\")","v":""},{"$f":"IF(O476=\"\",\"\",RANK(O476,$O$2:$O$1000))","v":""}]
["1216 統一","李清田          李清田",0,"李清田",null,null,null,null,null,null,null,null,null,null,{"$f":"IFERROR(VLOOKUP(K477,股價!A:B,2,0)*M477,\"\")","v":""},{"$f":"IF(O477=\"\",\"\",RANK(O477,$O$2:$O$1000))","v":""}]
["1216 統一","育鵬投資(股)    侯博明",24,"育鵬投資",null,null,null,null,null,null,null,null,null,null,{"$f":"IFERROR(VLOOKUP(K478,股價!A:B,2,0)*M478,\"\")","v":""},{"$f":"IF(O478=\"\",\"\",RANK(O478,$O$2:$O$1000))","v":""}]
["1216 統一","林忠生          林忠生",0,"林忠生",null,null,null,null,null,null,null,null,null,null,{"$f":"IFERROR(VLOOKUP(K479,股價!A:B,2,0)*M479,\"\")","v":""},{"$f":"IF(O479=\"\",\"\",RANK(O479,$O$2:$O$1000))","v":""}]
["1216 統一","林蒼生          林蒼生",49916,"林蒼生",null,null,null,null,null,null,null,null,null,null,{"$f":"IFERROR(VLOOKUP(K480,股價!A:B,2,0)*M480,\"\")","v":""},{"$f":"IF(O480=\"\",\"\",RANK(O480,$O$2:$O$1000))","v":""}]
["1216 統一","花旗挪威內部    花旗挪威內部",72177,"花旗(臺灣)商業銀行受託保管挪威中央銀行-內部交易平臺-挪威央行內部股票退休基金投資專戶",null,null,null,null,null,null,null,null,null,null,{"$f":"IFERROR(VLOOKUP(K481,股價!A:B,2,0)*M481,\"\")","v":""},{"$f":"IF(O481=\"\",\"\",RANK(O481,$O$2:$O$1000))","v":""}]
["1216 統一","侯博明          侯博明",147751,"侯博明",null,null,null,null,null,null,null,null,null,null,{"$f":"IFERROR(VLOOKUP(K482,股價!A:B,2,0)*M482,\"\")","v":""},{"$f":"IF(O482=\"\",\"\",RANK(O482,$O$2:$O$1000))","v":""}]
["1216 統一","侯博裕          侯博裕",128917,"侯博裕",null,null,null,null,null,null,null,null,null,null,{"$f":"IFERROR(VLOOKUP(K483,股價!A:B,2,0)*M483,\"\")","v":""},{"$f":"IF(O483=\"\",\"\",RANK(O483,$O$2:$O$1000))","v":""}]
["1216 統一","品誌(股)        林忠生",43882,"品誌",null,null,null,null,null,null,null,null,null,null,{"$f":"IFERROR(VLOOKUP(K484,股價!A:B,2,0)*M484,\"\")","v":""},{"$f":"IF(O484=\"\",\"\",RANK(O484,$O$2:$O$1000))","v":""}]
["1216 統一","徐智明          徐智明",0,"徐智明",null,null,null,null,null,null,null,null,null,null,{"$f":"IFERROR(VLOOKUP(K485,股價!A:B,2,0)*M485,\"\")","v":""},{"$f":"IF(O485=\"\",\"\",RANK(O485,$O$2:$O$1000))","v":""}]
["1216 統一","柴佳明          柴佳明",0,"柴佳明",null,null,null,null,null,null,null,null,null,null,{"$f":"IFERROR(VLOOKUP(K486,股價!A:B,2,0)*M486,\"\")","v":""},{"$f":"IF(O486=\"\",\"\",RANK(O486,$O$2:$O$1000))","v":""}]
["1216 統一","泰伯投資(股)    吳平治",30582,"泰伯投資",null,null,null,null,null,null,null,null,null,null,{"$f":"IFERROR(VLOOKUP(K487,股價!A:B,2,0)*M487,\"\")","v":""},{"$f":"IF(O487=\"\",\"\",RANK(O487,$O$2:$O$1000))","v":""}]
["1216 統一","高秀玲          高秀玲",93402,"高秀玲",null,null,null,null,null,null,null,null,null,null,{"$f":"IFERROR(VLOOKUP(K488,股價!A:B,2,0)*M488,\"\")","v":""},{"$f":"IF(O488=\"\",\"\",RANK(O488,$O$2:$O$1000))","v":""}]
["1216 統一","高權投資(股)    高秀玲",284331,"高權投資",null,null,null,null,null,null,null,null,null,null,{"$f":"IFERROR(VLOOKUP(K489,股價!A:B,2,0)*M489,\"\")","v":""},{"$f":"IF(O489=\"\",\"\",RANK(O489,$O$2:$O$1000))","v":""}]
["1216 統一","高權投資(股)    黃瑞典",284331,"高權投資",null,null,null,null,null,null,null,null,null,null,{"$f":"IFERROR(VLOOKUP(K490,股價!A:B,2,0)*M490,\"\")","v":""},{"$f":"IF(O490=\"\",\"\",RANK(O490,$O$2:$O$1000))","v":""}]
["1216 統一","高權投資(股)    羅智先",284331,"高權投資",null,null,null,null,null,null,null,null,null,null,{"$f":"IFERROR(VLOOKUP(K491,股價!A:B,2,0)*M491,\"\")","v":""},{"$f":"IF(O491=\"\",\"\",RANK(O491,$O$2:$O$1000))","v":""}]
["1216 統一","國泰人壽保險(股)國泰人壽保險",193809,"國泰人壽保險",null,null,null,null,null,null,null,null,null,null,{"$f":"IFERROR(VLOOKUP(K492,股價!A:B,2,0)*M492,\"\")","v":""},{"$f":"IF(O492=\"\",\"\",RANK(O492,$O$2:$O$1000))","v":""}]
["1216 統一","張立勳          張立勳",3,"張立勳",null,null,null,null,null,null,null,null,null,null,{"$f":"IFERROR(VLOOKUP(K493,股價!A:B,2,0)*M493,\"\")","v":""},{"$f":"IF(O493=\"\",\"\",RANK(O493,$O$2:$O$1000))","v":""}]
["1216 統一","張明輝          張明輝",0,"張明輝",null,null,null,null,null,null,null,null,null,null,{"$f":"IFERROR(VLOOKUP(K494,股價!A:B,2,0)*M494,\"\")","v":""},{"$f":"IF(O494=\"\",\"\",RANK(O494,$O$2:$O$1000))","v":""}]
["1216 統一","陳俊仁          陳俊仁",0,"陳俊仁",null,null,null,null,null,null,null,null,null,null,{"$f":"IFERROR(VLOOKUP(K495,股價!A:B,2,0)*M495,\"\")","v":""},{"$f":"IF(O495=\"\",\"\",RANK(O495,$O$2:$O$1000))","v":""}]
["1216 統一","陳國煇          陳國煇",0,"陳國煇",null,null,null,null,null,null,null,null,null,null,{"$f":"IFERROR(VLOOKUP(K496,股價!A:B,2,0)*M496,\"\")","v":""},{"$f":"IF(O496=\"\",\"\",RANK(O496,$O$2:$O$1000))","v":""}]
["1216 統一","黃釗凱          黃釗凱",0,"黃釗凱",null,null,null,null,null,null,null,null,null,null,{"$f":"IFERROR(VLOOKUP(K497,股價!A:B,2,0)*M497,\"\")","v":""},{"$f":"IF(O497=\"\",\"\",RANK(O497,$O$2:$O$1000))","v":""}]
["1216 統一","黃瑞典          黃瑞典",274,"黃瑞典",null,null,null,null,null,null,null,null,null,null,{"$f":"IFERROR(VLOOKUP(K498,股價!A:B,2,0)*M498,\"\")","v":""},{"$f":"IF(O498=\"\",\"\",RANK(O498,$O$2:$O$1000))","v":""}]
["1216 統一","匯豐巴黎財香    匯豐巴黎財香",171606,"匯豐銀行受託保管法國巴黎財富管理銀行香港分行投資專戶",null,null,null,null,null,null,null,null,null,null,{"$f":"IFERROR(VLOOKUP(K499,股價!A:B,2,0)*M499,\"\")","v":""},{"$f":"IF(O499=\"\",\"\",RANK(O499,$O$2:$O$1000))","v":""}]
["1216 統一","匯豐託遠望合夥人匯豐託遠望合",96000,"匯豐銀行託管遠望合夥人基金有限合夥專戶",null,null,null,null,null,null,null,null,null,null,{"$f":"IFERROR(VLOOKUP(K500,股價!A:B,2,0)*M500,\"\")","v":""},{"$f":"IF(O500=\"\",\"\",RANK(O500,$O$2:$O$1000))","v":""}]
["1216 統一","新制勞退基金    新制勞退基金",75455,"新制勞工勞退基金",null,null,null,null,null,null,null,null,null,null,{"$f":"IFERROR(VLOOKUP(K501,股價!A:B,2,0)*M501,\"\")","v":""},{"$f":"IF(O501=\"\",\"\",RANK(O501,$O$2:$O$1000))","v":""}]
["1216 統一","劉宗宜          劉宗宜",0,"劉宗宜",null,null,null,null,null,null,null,null,null,null,{"$f":"IFERROR(VLOOKUP(K502,股價!A:B,2,0)*M502,\"\")","v":""},{"$f":"IF(O502=\"\",\"\",RANK(O502,$O$2:$O$1000))","v":""}]
["1216 統一","鄭明輝          鄭明輝",0,"鄭明輝",null,null,null,null,null,null,null,null,null,null,{"$f":"IFERROR(VLOOKUP(K503,股價!A:B,2,0)*M503,\"\")","v":""},{"$f":"IF(O503=\"\",\"\",RANK(O503,$O$2:$O$1000))","v":""}]
["1216 統一","鄭碧英          鄭碧英",4465,"鄭碧英",null,null,null,null,null,null,null,null,null,null,{"$f":"IFERROR(VLOOKUP(K504,股價!A:B,2,0)*M504,\"\")","v":""},{"$f":"IF(O504=\"\",\"\",RANK(O504,$O$2:$O$1000))","v":""}]
["1216 統一","賴富榮          賴富榮",0,"賴富榮",null,null,null,null,null,null,null,null,null,null,{"$f":"IFERROR(VLOOKUP(K505,股價!A:B,2,0)*M505,\"\")","v":""},{"$f":"IF(O505=\"\",\"\",RANK(O505,$O$2:$O$1000))","v":""}]
["1216 統一","鍾維永          鍾維永",0,"鍾維永",null,null,null,null,null,null,null,null,null,null,{"$f":"IFERROR(VLOOKUP(K506,股價!A:B,2,0)*M506,\"\")","v":""},{"$f":"IF(O506=\"\",\"\",RANK(O506,$O$2:$O$1000))","v":""}]
["1216 統一","羅智先          羅智先",4059,"羅智先",null,null,null,null,null,null,null,null,null,null,{"$f":"IFERROR(VLOOKUP(K507,股價!A:B,2,0)*M507,\"\")","v":""},{"$f":"IF(O507=\"\",\"\",RANK(O507,$O$2:$O$1000))","v":""}]
["1217 愛之味","_大股東合計1",0,null,null,null,null,null,null,null,null,null,null,null,{"$f":"IFERROR(VLOOKUP(K508,股價!A:B,2,0)*M508,\"\")","v":""},{"$f":"IF(O508=\"\",\"\",RANK(O508,$O$2:$O$1000))","v":""}]
["1217 愛之味","_大股東合計2    含沿用資料",69705,null,null,null,null,null,null,null,null,null,null,null,{"$f":"IFERROR(VLOOKUP(K509,股價!A:B,2,0)*M509,\"\")","v":""},{"$f":"IF(O509=\"\",\"\",RANK(O509,$O$2:$O$1000))","v":""}]
["1217 愛之味","_經理人合計",12080,null,null,null,null,null,null,null,null,null,null,null,{"$f":"IFERROR(VLOOKUP(K510,股價!A:B,2,0)*M510,\"\")","v":""},{"$f":"IF(O510=\"\",\"\",RANK(O510,$O$2:$O$1000))","v":""}]
["1217 愛之味","_董  事合計",52667,null,null,null,null,null,null,null,null,null,null,null,{"$f":"IFERROR(VLOOKUP(K511,股價!A:B,2,0)*M511,\"\")","v":""},{"$f":"IF(O511=\"\",\"\",RANK(O511,$O$2:$O$1000))","v":""}]
["1217 愛之味","_董監事合計",52667,null,null,null,null,null,null,null,null,null,null,null,{"$f":"IFERROR(VLOOKUP(K512,股價!A:B,2,0)*M512,\"\")","v":""},{"$f":"IF(O512=\"\",\"\",RANK(O512,$O$2:$O$1000))","v":""}]
["1217 愛之味","_監察人合計",0,null,null,null,null,null,null,null,null,null,null,null,{"$f":"IFERROR(VLOOKUP(K513,股價!A:B,2,0)*M513,\"\")","v":""},{"$f":"IF(O513=\"\",\"\",RANK(O513,$O$2:$O$1000))","v":""}]
["1217 愛之味","台灣第一生化科技陳冠翰",10075,"台灣第一生化科技",null,null,null,null,null,null,null,null,null,null,{"$f":"IFERROR(VLOOKUP(K514,股價!A:B,2,0)*M514,\"\")","v":""},{"$f":"IF(O514=\"\",\"\",RANK(O514,$O$2:$O$1000))","v":""}]
["1217 愛之味","何宗勳          何宗勳",0,"何宗勳",null,null,null,null,null,null,null,null,null,null,{"$f":"IFERROR(VLOOKUP(K515,股價!A:B,2,0)*M515,\"\")","v":""},{"$f":"IF(O515=\"\",\"\",RANK(O515,$O$2:$O$1000))","v":""}]
["1217 愛之味","吳永乾          吳永乾",0,"吳永乾",null,null,null,null,null,null,null,null,null,null,{"$f":"IFERROR(VLOOKUP(K516,股價!A:B,2,0)*M516,\"\")","v":""},{"$f":"IF(O516=\"\",\"\",RANK(O516,$O$2:$O$1000))","v":""}]
["1217 愛之味","吳瑋恩          吳瑋恩",0,"吳瑋恩",null,null,null,null,null,null,null,null,null,null,{"$f":"IFERROR(VLOOKUP(K517,股價!A:B,2,0)*M517,\"\")","v":""},{"$f":"IF(O517=\"\",\"\",RANK(O517,$O$2:$O$1000))","v":""}]
["1217 愛之味","村園和業(股)    陳志展",2982,"村園和業",null,null,null,null,null,null,null,null,null,null,{"$f":"IFERROR(VLOOKUP(K518,股價!A:B,2,0)*M518,\"\")","v":""},{"$f":"IF(O518=\"\",\"\",RANK(O518,$O$2:$O$1000))","v":""}]
["1217 愛之味","和園投資(股)    陳鏡亮",31168,"和園投資",null,null,null,null,null,null,null,null,null,null,{"$f":"IFERROR(VLOOKUP(K519,股價!A:B,2,0)*M519,\"\")","v":""},{"$f":"IF(O519=\"\",\"\",RANK(O519,$O$2:$O$1000))","v":""}]
["1217 愛之味","周俊良          周俊良",0,"周俊良",null,null,null,null,null,null,null,null,null,null,{"$f":"IFERROR(VLOOKUP(K520,股價!A:B,2,0)*M520,\"\")","v":""},{"$f":"IF(O520=\"\",\"\",RANK(O520,$O$2:$O$1000))","v":""}]
["1217 愛之味","林孝臻          林孝臻",0,"林孝臻",null,null,null,null,null,null,null,null,null,null,{"$f":"IFERROR(VLOOKUP(K521,股價!A:B,2,0)*M521,\"\")","v":""},{"$f":"IF(O521=\"\",\"\",RANK(O521,$O$2:$O$1000))","v":""}]
["1217 愛之味","林容瑜          林容瑜",8530,"林容瑜",null,null,null,null,null,null,null,null,null,null,{"$f":"IFERROR(VLOOKUP(K522,股價!A:B,2,0)*M522,\"\")","v":""},{"$f":"IF(O522=\"\",\"\",RANK(O522,$O$2:$O$1000))","v":""}]
["1217 愛之味","林迺賓          林迺賓",10,"林迺賓",null,null,null,null,null,null,null,null,null,null,{"$f":"IFERROR(VLOOKUP(K523,股價!A:B,2,0)*M523,\"\")","v":""},{"$f":"IF(O523=\"\",\"\",RANK(O523,$O$2:$O$1000))","v":""}]
["1217 愛之味","芳田實業(股)    梁懷信",4202,"芳田實業股份有限公司",null,null,null,null,null,null,null,null,null,null,{"$f":"IFERROR(VLOOKUP(K524,股價!A:B,2,0)*M524,\"\")","v":""},{"$f":"IF(O524=\"\",\"\",RANK(O524,$O$2:$O$1000))","v":""}]
["1217 愛之味","耐斯企業(股)    陳冠舟",20780,"耐斯企業",null,null,null,null,null,null,null,null,null,null,{"$f":"IFERROR(VLOOKUP(K525,股價!A:B,2,0)*M525,\"\")","v":""},{"$f":"IF(O525=\"\",\"\",RANK(O525,$O$2:$O$1000))","v":""}]
["1217 愛之味","英吉利諮詢(股)  謝顯爵",8611,"英吉利國際諮詢顧問",null,null,null,null,null,null,null,null,null,null,{"$f":"IFERROR(VLOOKUP(K526,股價!A:B,2,0)*M526,\"\")","v":""},{"$f":"IF(O526=\"\",\"\",RANK(O526,$O$2:$O$1000))","v":""}]
["1217 愛之味","國本投資開發(股)林聰証",7289,"國本投資開發",null,null,null,null,null,null,null,null,null,null,{"$f":"IFERROR(VLOOKUP(K527,股價!A:B,2,0)*M527,\"\")","v":""},{"$f":"IF(O527=\"\",\"\",RANK(O527,$O$2:$O$1000))","v":""}]
["1217 愛之味","國寶投資開發(股)林聰証",8081,"國寶投資開發",null,null,null,null,null,null,null,null,null,null,{"$f":"IFERROR(VLOOKUP(K528,股價!A:B,2,0)*M528,\"\")","v":""},{"$f":"IF(O528=\"\",\"\",RANK(O528,$O$2:$O$1000))","v":""}]
["1217 愛之味","張和順          張和順",0,"張和順",null,null,null,null,null,null,null,null,null,null,{"$f":"IFERROR(VLOOKUP(K529,股價!A:B,2,0)*M529,\"\")","v":""},{"$f":"IF(O529=\"\",\"\",RANK(O529,$O$2:$O$1000))","v":""}]
["1217 愛之味","張海豐          張海豐",10,"張海豐",null,null,null,null,null,null,null,null,null,null,{"$f":"IFERROR(VLOOKUP(K530,股價!A:B,2,0)*M530,\"\")","v":""},{"$f":"IF(O530=\"\",\"\",RANK(O530,$O$2:$O$1000))","v":""}]
["1217 愛之味","梁懷信          梁懷信",0,"梁懷信",null,null,null,null,null,null,null,null,null,null,{"$f":"IFERROR(VLOOKUP(K531,股價!A:B,2,0)*M531,\"\")","v":""},{"$f":"IF(O531=\"\",\"\",RANK(O531,$O$2:$O$1000))","v":""}]
["1217 愛之味","陳志展          陳志展",2556,"陳志展",null,null,null,null,null,null,null,null,null,null,{"$f":"IFERROR(VLOOKUP(K532,股價!A:B,2,0)*M532,\"\")","v":""},{"$f":"IF(O532=\"\",\"\",RANK(O532,$O$2:$O$1000))","v":""}]
["1217 愛之味","陳奇慕          陳奇慕",0,"陳奇慕",null,null,null,null,null,null,null,null,null,null,{"$f":"IFERROR(VLOOKUP(K533,股價!A:B,2,0)*M533,\"\")","v":""},{"$f":"IF(O533=\"\",\"\",RANK(O533,$O$2:$O$1000))","v":""}]
["1217 愛之味","陳冠如          陳冠如",6739,"陳冠如",null,null,null,null,null,null,null,null,null,null,{"$f":"IFERROR(VLOOKUP(K534,股價!A:B,2,0)*M534,\"\")","v":""},{"$f":"IF(O534=\"\",\"\",RANK(O534,$O$2:$O$1000))","v":""}]
["1217 愛之味","陳冠舟          陳冠舟",4465,"陳冠舟",null,null,null,null,null,null,null,null,null,null,{"$f":"IFERROR(VLOOKUP(K535,股價!A:B,2,0)*M535,\"\")","v":""},{"$f":"IF(O535=\"\",\"\",RANK(O535,$O$2:$O$1000))","v":""}]
["1217 愛之味","陳冠華          陳冠華",1834,"陳冠華",null,null,null,null,null,null,null,null,null,null,{"$f":"IFERROR(VLOOKUP(K536,股價!A:B,2,0)*M536,\"\")","v":""},{"$f":"IF(O536=\"\",\"\",RANK(O536,$O$2:$O$1000))","v":""}]
["1217 愛之味","陳冠翰          陳冠翰",5676,"陳冠翰",null,null,null,null,null,null,null,null,null,null,{"$f":"IFERROR(VLOOKUP(K537,股價!A:B,2,0)*M537,\"\")","v":""},{"$f":"IF(O537=\"\",\"\",RANK(O537,$O$2:$O$1000))","v":""}]
["1217 愛之味","陳宣慧          陳宣慧",1829,"陳宣慧",null,null,null,null,null,null,null,null,null,null,{"$f":"IFERROR(VLOOKUP(K538,股價!A:B,2,0)*M538,\"\")","v":""},{"$f":"IF(O538=\"\",\"\",RANK(O538,$O$2:$O$1000))","v":""}]
["1217 愛之味","陳建華          陳建華",58,"陳建華",null,null,null,null,null,null,null,null,null,null,{"$f":"IFERROR(VLOOKUP(K539,股價!A:B,2,0)*M539,\"\")","v":""},{"$f":"IF(O539=\"\",\"\",RANK(O539,$O$2:$O$1000))","v":""}]
["1217 愛之味","陳惟龍          陳惟龍",0,"陳惟龍",null,null,null,null,null,null,null,null,null,null,{"$f":"IFERROR(VLOOKUP(K540,股價!A:B,2,0)*M540,\"\")","v":""},{"$f":"IF(O540=\"\",\"\",RANK(O540,$O$2:$O$1000))","v":""}]
["1217 愛之味","陳鏡仁          陳鏡仁",1674,"陳鏡仁",null,null,null,null,null,null,null,null,null,null,{"$f":"IFERROR(VLOOKUP(K541,股價!A:B,2,0)*M541,\"\")","v":""},{"$f":"IF(O541=\"\",\"\",RANK(O541,$O$2:$O$1000))","v":""}]
["1217 愛之味","曾勇夫          曾勇夫",0,"曾勇夫",null,null,null,null,null,null,null,null,null,null,{"$f":"IFERROR(VLOOKUP(K542,股價!A:B,2,0)*M542,\"\")","v":""},{"$f":"IF(O542=\"\",\"\",RANK(O542,$O$2:$O$1000))","v":""}]
["1217 愛之味","渣打SPDR組合    渣打SPDR組合",7898,"渣打託管SPDR組合新興市場ETF",null,null,null,null,null,null,null,null,null,null,{"$f":"IFERROR(VLOOKUP(K543,股價!A:B,2,0)*M543,\"\")","v":""},{"$f":"IF(O543=\"\",\"\",RANK(O543,$O$2:$O$1000))","v":""}]
["1217 愛之味","黃弘智          黃弘智",0,"黃弘智",null,null,null,null,null,null,null,null,null,null,{"$f":"IFERROR(VLOOKUP(K544,股價!A:B,2,0)*M544,\"\")","v":""},{"$f":"IF(O544=\"\",\"\",RANK(O544,$O$2:$O$1000))","v":""}]
["1217 愛之味","黃麗雀          黃麗雀",55,"黃麗雀",null,null,null,null,null,null,null,null,null,null,{"$f":"IFERROR(VLOOKUP(K545,股價!A:B,2,0)*M545,\"\")","v":""},{"$f":"IF(O545=\"\",\"\",RANK(O545,$O$2:$O$1000))","v":""}]
["1217 愛之味","楊志成          楊志成",0,"楊志成",null,null,null,null,null,null,null,null,null,null,{"$f":"IFERROR(VLOOKUP(K546,股價!A:B,2,0)*M546,\"\")","v":""},{"$f":"IF(O546=\"\",\"\",RANK(O546,$O$2:$O$1000))","v":""}]
["1217 愛之味","溫富惠          溫富惠",10,"溫富惠",null,null,null,null,null,null,null,null,null,null,{"$f":"IFERROR(VLOOKUP(K547,股價!A:B,2,0)*M547,\"\")","v":""},{"$f":"IF(O547=\"\",\"\",RANK(O547,$O$2:$O$1000))","v":""}]
["1217 愛之味","廖怡禎          廖怡禎",0,"廖怡禎",null,null,null,null,null,null,null,null,null,null,{"$f":"IFERROR(VLOOKUP(K548,股價!A:B,2,0)*M548,\"\")","v":""},{"$f":"IF(O548=\"\",\"\",RANK(O548,$O$2:$O$1000))","v":""}]
["1217 愛之味","樊謙騰          樊謙騰",0,"樊謙騰",null,null,null,null,null,null,null,null,null,null,{"$f":"IFERROR(VLOOKUP(K549,股價!A:B,2,0)*M549,\"\")","v":""},{"$f":"IF(O549=\"\",\"\",RANK(O549,$O$2:$O$1000))","v":""}]
["1217 愛之味","樂山投資(股)    陳鏡仁",6017,"樂山投資",null,null,null,null,null,null,null,null,null,null,{"$f":"IFERROR(VLOOKUP(K550,股價!A:B,2,0)*M550,\"\")","v":""},{"$f":"IF(O550=\"\",\"\",RANK(O550,$O$2:$O$1000))","v":""}]
["1217 愛之味","蔡月足          蔡月足",39,"蔡月足",null,null,null,null,null,null,null,null,null,null,{"$f":"IFERROR(VLOOKUP(K551,股價!A:B,2,0)*M551,\"\")","v":""},{"$f":"IF(O551=\"\",\"\",RANK(O551,$O$2:$O$1000))","v":""}]
["1217 愛之味","蔡梅花          蔡梅花",1,"蔡梅花",null,null,null,null,null,null,null,null,null,null,{"$f":"IFERROR(VLOOKUP(K552,股價!A:B,2,0)*M552,\"\")","v":""},{"$f":"IF(O552=\"\",\"\",RANK(O552,$O$2:$O$1000))","v":""}]
["1217 愛之味","翰田實業(股)    翰田實業(股)",4281,"翰田實業",null,null,null,null,null,null,null,null,null,null,{"$f":"IFERROR(VLOOKUP(K553,股價!A:B,2,0)*M553,\"\")","v":""},{"$f":"IF(O553=\"\",\"\",RANK(O553,$O$2:$O$1000))","v":""}]
["1217 愛之味","蕭宏基          蕭宏基",0,"蕭宏基",null,null,null,null,null,null,null,null,null,null,{"$f":"IFERROR(VLOOKUP(K554,股價!A:B,2,0)*M554,\"\")","v":""},{"$f":"IF(O554=\"\",\"\",RANK(O554,$O$2:$O$1000))","v":""}]
["1217 愛之味","謝顯爵          謝顯爵",2,"謝顯爵",null,null,null,null,null,null,null,null,null,null,{"$f":"IFERROR(VLOOKUP(K555,股價!A:B,2,0)*M555,\"\")","v":""},{"$f":"IF(O555=\"\",\"\",RANK(O555,$O$2:$O$1000))","v":""}]
["1218 泰山","_大股東合計1",0,null,null,null,null,null,null,null,null,null,null,null,{"$f":"IFERROR(VLOOKUP(K556,股價!A:B,2,0)*M556,\"\")","v":""},{"$f":"IF(O556=\"\",\"\",RANK(O556,$O$2:$O$1000))","v":""}]
["1218 泰山","_大股東合計2    含沿用資料",181900,null,null,null,null,null,null,null,null,null,null,null,{"$f":"IFERROR(VLOOKUP(K557,股價!A:B,2,0)*M557,\"\")","v":""},{"$f":"IF(O557=\"\",\"\",RANK(O557,$O$2:$O$1000))","v":""}]
["1218 泰山","_經理人合計",68,null,null,null,null,null,null,null,null,null,null,null,{"$f":"IFERROR(VLOOKUP(K558,股價!A:B,2,0)*M558,\"\")","v":""},{"$f":"IF(O558=\"\",\"\",RANK(O558,$O$2:$O$1000))","v":""}]
["1218 泰山","_董  事合計",202135,null,null,null,null,null,null,null,null,null,null,null,{"$f":"IFERROR(VLOOKUP(K559,股價!A:B,2,0)*M559,\"\")","v":""},{"$f":"IF(O559=\"\",\"\",RANK(O559,$O$2:$O$1000))","v":""}]
["1218 泰山","_董監事合計",202135,null,null,null,null,null,null,null,null,null,null,null,{"$f":"IFERROR(VLOOKUP(K560,股價!A:B,2,0)*M560,\"\")","v":""},{"$f":"IF(O560=\"\",\"\",RANK(O560,$O$2:$O$1000))","v":""}]
["1218 泰山","_監察人合計",0,null,null,null,null,null,null,null,null,null,null,null,{"$f":"IFERROR(VLOOKUP(K561,股價!A:B,2,0)*M561,\"\")","v":""},{"$f":"IF(O561=\"\",\"\",RANK(O561,$O$2:$O$1000))","v":""}]
["1218 泰山","元大商業銀行    元大商業銀行",13675,"元大商業銀行受託泰山企業信託財產專戶",null,null,null,null,null,null,null,null,null,null,{"$f":"IFERROR(VLOOKUP(K562,股價!A:B,2,0)*M562,\"\")","v":""},{"$f":"IF(O562=\"\",\"\",RANK(O562,$O$2:$O$1000))","v":""}]
["1218 泰山","王貴增          王貴增",17213,"王貴增",null,null,null,null,null,null,null,null,null,null,{"$f":"IFERROR(VLOOKUP(K563,股價!A:B,2,0)*M563,\"\")","v":""},{"$f":"IF(O563=\"\",\"\",RANK(O563,$O$2:$O$1000))","v":""}]
["1218 泰山","伸揚投資(有)    陳諾樺",2631,"伸揚投資",null,null,null,null,null,null,null,null,null,null,{"$f":"IFERROR(VLOOKUP(K564,股價!A:B,2,0)*M564,\"\")","v":""},{"$f":"IF(O564=\"\",\"\",RANK(O564,$O$2:$O$1000))","v":""}]
["1218 泰山","宏亞投資(股)    詹仁道",21129,"宏亞投資",null,null,null,null,null,null,null,null,null,null,{"$f":"IFERROR(VLOOKUP(K565,股價!A:B,2,0)*M565,\"\")","v":""},{"$f":"IF(O565=\"\",\"\",RANK(O565,$O$2:$O$1000))","v":""}]
["1218 泰山","李明輝          李明輝",0,"李明輝",null,null,null,null,null,null,null,null,null,null,{"$f":"IFERROR(VLOOKUP(K566,股價!A:B,2,0)*M566,\"\")","v":""},{"$f":"IF(O566=\"\",\"\",RANK(O566,$O$2:$O$1000))","v":""}]
["1218 泰山","杜英達          杜英達",0,"杜英達",null,null,null,null,null,null,null,null,null,null,{"$f":"IFERROR(VLOOKUP(K567,股價!A:B,2,0)*M567,\"\")","v":""},{"$f":"IF(O567=\"\",\"\",RANK(O567,$O$2:$O$1000))","v":""}]
["1218 泰山","邱憲道          邱憲道",7350,"邱憲道",null,null,null,null,null,null,null,null,null,null,{"$f":"IFERROR(VLOOKUP(K568,股價!A:B,2,0)*M568,\"\")","v":""},{"$f":"IF(O568=\"\",\"\",RANK(O568,$O$2:$O$1000))","v":""}]
["1218 泰山","保勝投資(股)    保勝投資(股)",58279,"保勝投資",null,null,null,null,null,null,null,null,null,null,{"$f":"IFERROR(VLOOKUP(K569,股價!A:B,2,0)*M569,\"\")","v":""},{"$f":"IF(O569=\"\",\"\",RANK(O569,$O$2:$O$1000))","v":""}]
["1218 泰山","陳敏薰          陳敏薰",0,"陳敏薰",null,null,null,null,null,null,null,null,null,null,{"$f":"IFERROR(VLOOKUP(K570,股價!A:B,2,0)*M570,\"\")","v":""},{"$f":"IF(O570=\"\",\"\",RANK(O570,$O$2:$O$1000))","v":""}]
["1218 泰山","陳諾樺          陳諾樺",0,"陳諾樺",null,null,null,null,null,null,null,null,null,null,{"$f":"IFERROR(VLOOKUP(K571,股價!A:B,2,0)*M571,\"\")","v":""},{"$f":"IF(O571=\"\",\"\",RANK(O571,$O$2:$O$1000))","v":""}]
["1218 泰山","喜威世流通(股)  詹景超",10351,"喜威世流通",null,null,null,null,null,null,null,null,null,null,{"$f":"IFERROR(VLOOKUP(K572,股價!A:B,2,0)*M572,\"\")","v":""},{"$f":"IF(O572=\"\",\"\",RANK(O572,$O$2:$O$1000))","v":""}]
["1218 泰山","景勛投資實業(有)詹景超",10446,"景勛投資實業",null,null,null,null,null,null,null,null,null,null,{"$f":"IFERROR(VLOOKUP(K573,股價!A:B,2,0)*M573,\"\")","v":""},{"$f":"IF(O573=\"\",\"\",RANK(O573,$O$2:$O$1000))","v":""}]
["1218 泰山","詹景超          詹景超",6460,"詹景超",null,null,null,null,null,null,null,null,null,null,{"$f":"IFERROR(VLOOKUP(K574,股價!A:B,2,0)*M574,\"\")","v":""},{"$f":"IF(O574=\"\",\"\",RANK(O574,$O$2:$O$1000))","v":""}]
["1218 泰山","詹皓鈞          詹皓鈞",1853,"詹皓鈞",null,null,null,null,null,null,null,null,null,null,{"$f":"IFERROR(VLOOKUP(K575,股價!A:B,2,0)*M575,\"\")","v":""},{"$f":"IF(O575=\"\",\"\",RANK(O575,$O$2:$O$1000))","v":""}]
["1218 泰山","雷松清          雷松清",0,"雷松清",null,null,null,null,null,null,null,null,null,null,{"$f":"IFERROR(VLOOKUP(K576,股價!A:B,2,0)*M576,\"\")","v":""},{"$f":"IF(O576=\"\",\"\",RANK(O576,$O$2:$O$1000))","v":""}]
["1218 泰山","聚優投資(有)    李月娟",25149,"聚優投資有限公司",null,null,null,null,null,null,null,null,null,null,{"$f":"IFERROR(VLOOKUP(K577,股價!A:B,2,0)*M577,\"\")","v":""},{"$f":"IF(O577=\"\",\"\",RANK(O577,$O$2:$O$1000))","v":""}]
["1218 泰山","劉偉龍          劉偉龍",0,"劉偉龍",null,null,null,null,null,null,null,null,null,null,{"$f":"IFERROR(VLOOKUP(K578,股價!A:B,2,0)*M578,\"\")","v":""},{"$f":"IF(O578=\"\",\"\",RANK(O578,$O$2:$O$1000))","v":""}]
["1218 泰山","潤遠投資(股)    潤遠投資(股)",28754,"潤遠投資股份有限公司",null,null,null,null,null,null,null,null,null,null,{"$f":"IFERROR(VLOOKUP(K579,股價!A:B,2,0)*M579,\"\")","v":""},{"$f":"IF(O579=\"\",\"\",RANK(O579,$O$2:$O$1000))","v":""}]
["1218 泰山","蔡政達          蔡政達",0,"蔡政達",null,null,null,null,null,null,null,null,null,null,{"$f":"IFERROR(VLOOKUP(K580,股價!A:B,2,0)*M580,\"\")","v":""},{"$f":"IF(O580=\"\",\"\",RANK(O580,$O$2:$O$1000))","v":""}]
["1218 泰山","蕭凱擇          蕭凱擇",2,"蕭凱擇",null,null,null,null,null,null,null,null,null,null,{"$f":"IFERROR(VLOOKUP(K581,股價!A:B,2,0)*M581,\"\")","v":""},{"$f":"IF(O581=\"\",\"\",RANK(O581,$O$2:$O$1000))","v":""}]
["1218 泰山","龍邦國際興業(股)劉偉龍",188136,"龍邦國際興業",null,null,null,null,null,null,null,null,null,null,{"$f":"IFERROR(VLOOKUP(K582,股價!A:B,2,0)*M582,\"\")","v":""},{"$f":"IF(O582=\"\",\"\",RANK(O582,$O$2:$O$1000))","v":""}]
["1218 泰山","龍邦國際興業(股)韓泰生",188136,"龍邦國際興業",null,null,null,null,null,null,null,null,null,null,{"$f":"IFERROR(VLOOKUP(K583,股價!A:B,2,0)*M583,\"\")","v":""},{"$f":"IF(O583=\"\",\"\",RANK(O583,$O$2:$O$1000))","v":""}]
["1218 泰山","韓泰生          韓泰生",0,"韓泰生",null,null,null,null,null,null,null,null,null,null,{"$f":"IFERROR(VLOOKUP(K584,股價!A:B,2,0)*M584,\"\")","v":""},{"$f":"IF(O584=\"\",\"\",RANK(O584,$O$2:$O$1000))","v":""}]
["1218 泰山","鴻強(股)        詹皓鈞",922,"鴻強股份有限公司",null,null,null,null,null,null,null,null,null,null,{"$f":"IFERROR(VLOOKUP(K585,股價!A:B,2,0)*M585,\"\")","v":""},{"$f":"IF(O585=\"\",\"\",RANK(O585,$O$2:$O$1000))","v":""}]
["1218 泰山","顏谷龍          顏谷龍",66,"顏谷龍",null,null,null,null,null,null,null,null,null,null,{"$f":"IFERROR(VLOOKUP(K586,股價!A:B,2,0)*M586,\"\")","v":""},{"$f":"IF(O586=\"\",\"\",RANK(O586,$O$2:$O$1000))","v":""}]
["1219 福壽","_大股東合計1",0,null,null,null,null,null,null,null,null,null,null,null,{"$f":"IFERROR(VLOOKUP(K587,股價!A:B,2,0)*M587,\"\")","v":""},{"$f":"IF(O587=\"\",\"\",RANK(O587,$O$2:$O$1000))","v":""}]
["1219 福壽","_大股東合計2    含沿用資料",73579,null,null,null,null,null,null,null,null,null,null,null,{"$f":"IFERROR(VLOOKUP(K588,股價!A:B,2,0)*M588,\"\")","v":""},{"$f":"IF(O588=\"\",\"\",RANK(O588,$O$2:$O$1000))","v":""}]
["1219 福壽","_經理人合計",3217,null,null,null,null,null,null,null,null,null,null,null,{"$f":"IFERROR(VLOOKUP(K589,股價!A:B,2,0)*M589,\"\")","v":""},{"$f":"IF(O589=\"\",\"\",RANK(O589,$O$2:$O$1000))","v":""}]
["1219 福壽","_董  事合計",22319,null,null,null,null,null,null,null,null,null,null,null,{"$f":"IFERROR(VLOOKUP(K590,股價!A:B,2,0)*M590,\"\")","v":""},{"$f":"IF(O590=\"\",\"\",RANK(O590,$O$2:$O$1000))","v":""}]
["1219 福壽","_董監事合計",22319,null,null,null,null,null,null,null,null,null,null,null,{"$f":"IFERROR(VLOOKUP(K591,股價!A:B,2,0)*M591,\"\")","v":""},{"$f":"IF(O591=\"\",\"\",RANK(O591,$O$2:$O$1000))","v":""}]
["1219 福壽","_監察人合計",0,null,null,null,null,null,null,null,null,null,null,null,{"$f":"IFERROR(VLOOKUP(K592,股價!A:B,2,0)*M592,\"\")","v":""},{"$f":"IF(O592=\"\",\"\",RANK(O592,$O$2:$O$1000))","v":""}]
["1219 福壽","王仁志          王仁志",0,"王仁志",null,null,null,null,null,null,null,null,null,null,{"$f":"IFERROR(VLOOKUP(K593,股價!A:B,2,0)*M593,\"\")","v":""},{"$f":"IF(O593=\"\",\"\",RANK(O593,$O$2:$O$1000))","v":""}]
["1219 福壽","任耀庭          任耀庭",0,"任耀庭",null,null,null,null,null,null,null,null,null,null,{"$f":"IFERROR(VLOOKUP(K594,股價!A:B,2,0)*M594,\"\")","v":""},{"$f":"IF(O594=\"\",\"\",RANK(O594,$O$2:$O$1000))","v":""}]
["1219 福壽","安達鑫投資(股)  葉姿伶",1486,"安達鑫投資",null,null,null,null,null,null,null,null,null,null,{"$f":"IFERROR(VLOOKUP(K595,股價!A:B,2,0)*M595,\"\")","v":""},{"$f":"IF(O595=\"\",\"\",RANK(O595,$O$2:$O$1000))","v":""}]
["1219 福壽","李志弘          李志弘",0,"李志弘",null,null,null,null,null,null,null,null,null,null,{"$f":"IFERROR(VLOOKUP(K596,股價!A:B,2,0)*M596,\"\")","v":""},{"$f":"IF(O596=\"\",\"\",RANK(O596,$O$2:$O$1000))","v":""}]
["1219 福壽","沈雪香          沈雪香",11093,"沈雪香",null,null,null,null,null,null,null,null,null,null,{"$f":"IFERROR(VLOOKUP(K597,股價!A:B,2,0)*M597,\"\")","v":""},{"$f":"IF(O597=\"\",\"\",RANK(O597,$O$2:$O$1000))","v":""}]
["1219 福壽","林茂盛          林茂盛",1,"林茂盛",null,null,null,null,null,null,null,null,null,null,{"$f":"IFERROR(VLOOKUP(K598,股價!A:B,2,0)*M598,\"\")","v":""},{"$f":"IF(O598=\"\",\"\",RANK(O598,$O$2:$O$1000))","v":""}]
["1219 福壽","洪堯昆          洪堯昆",14236,"洪堯昆",null,null,null,null,null,null,null,null,null,null,{"$f":"IFERROR(VLOOKUP(K599,股價!A:B,2,0)*M599,\"\")","v":""},{"$f":"IF(O599=\"\",\"\",RANK(O599,$O$2:$O$1000))","v":""}]
["1219 福壽","洪堯欣          洪堯欣",7095,"洪堯欣",null,null,null,null,null,null,null,null,null,null,{"$f":"IFERROR(VLOOKUP(K600,股價!A:B,2,0)*M600,\"\")","v":""},{"$f":"IF(O600=\"\",\"\",RANK(O600,$O$2:$O$1000))","v":""}]
["1219 福壽","洪堯浩          洪堯浩",7426,"洪堯浩",null,null,null,null,null,null,null,null,null,null,{"$f":"IFERROR(VLOOKUP(K601,股價!A:B,2,0)*M601,\"\")","v":""},{"$f":"IF(O601=\"\",\"\",RANK(O601,$O$2:$O$1000))","v":""}]
["1219 福壽","洪堯智          洪堯智",8447,"洪堯智",null,null,null,null,null,null,null,null,null,null,{"$f":"IFERROR(VLOOKUP(K602,股價!A:B,2,0)*M602,\"\")","v":""},{"$f":"IF(O602=\"\",\"\",RANK(O602,$O$2:$O$1000))","v":""}]
["1219 福壽","洪堯策          洪堯策",7297,"洪堯策",null,null,null,null,null,null,null,null,null,null,{"$f":"IFERROR(VLOOKUP(K603,股價!A:B,2,0)*M603,\"\")","v":""},{"$f":"IF(O603=\"\",\"\",RANK(O603,$O$2:$O$1000))","v":""}]
["1219 福壽","洪堯熙          洪堯熙",7089,"洪堯熙",null,null,null,null,null,null,null,null,null,null,{"$f":"IFERROR(VLOOKUP(K604,股價!A:B,2,0)*M604,\"\")","v":""},{"$f":"IF(O604=\"\",\"\",RANK(O604,$O$2:$O$1000))","v":""}]
["1219 福壽","洪碩嬪          洪碩嬪",3159,"洪碩嬪",null,null,null,null,null,null,null,null,null,null,{"$f":"IFERROR(VLOOKUP(K605,股價!A:B,2,0)*M605,\"\")","v":""},{"$f":"IF(O605=\"\",\"\",RANK(O605,$O$2:$O$1000))","v":""}]
["1219 福壽","洪澄芳          洪澄芳",7102,"洪澄芳",null,null,null,null,null,null,null,null,null,null,{"$f":"IFERROR(VLOOKUP(K606,股價!A:B,2,0)*M606,\"\")","v":""},{"$f":"IF(O606=\"\",\"\",RANK(O606,$O$2:$O$1000))","v":""}]
["1219 福壽","徐沛妤          徐沛妤",0,"徐沛妤",null,null,null,null,null,null,null,null,null,null,{"$f":"IFERROR(VLOOKUP(K607,股價!A:B,2,0)*M607,\"\")","v":""},{"$f":"IF(O607=\"\",\"\",RANK(O607,$O$2:$O$1000))","v":""}]
["1219 福壽","泰山元(股)      劉韋辰",86,"泰山元",null,null,null,null,null,null,null,null,null,null,{"$f":"IFERROR(VLOOKUP(K608,股價!A:B,2,0)*M608,\"\")","v":""},{"$f":"IF(O608=\"\",\"\",RANK(O608,$O$2:$O$1000))","v":""}]
["1219 福壽","張忠賀          張忠賀",0,"張忠賀",null,null,null,null,null,null,null,null,null,null,{"$f":"IFERROR(VLOOKUP(K609,股價!A:B,2,0)*M609,\"\")","v":""},{"$f":"IF(O609=\"\",\"\",RANK(O609,$O$2:$O$1000))","v":""}]
["1219 福壽","陳祺炆          陳祺炆",1,"陳祺炆",null,null,null,null,null,null,null,null,null,null,{"$f":"IFERROR(VLOOKUP(K610,股價!A:B,2,0)*M610,\"\")","v":""},{"$f":"IF(O610=\"\",\"\",RANK(O610,$O$2:$O$1000))","v":""}]
["1219 福壽","華紹投資(股)    洪堯昆",4983,"華紹投資",null,null,null,null,null,null,null,null,null,null,{"$f":"IFERROR(VLOOKUP(K611,股價!A:B,2,0)*M611,\"\")","v":""},{"$f":"IF(O611=\"\",\"\",RANK(O611,$O$2:$O$1000))","v":""}]
["1219 福壽","黃春生          黃春生",0,"黃春生",null,null,null,null,null,null,null,null,null,null,{"$f":"IFERROR(VLOOKUP(K612,股價!A:B,2,0)*M612,\"\")","v":""},{"$f":"IF(O612=\"\",\"\",RANK(O612,$O$2:$O$1000))","v":""}]
["1219 福壽","黃識頻          黃識頻",0,"黃識頻",null,null,null,null,null,null,null,null,null,null,{"$f":"IFERROR(VLOOKUP(K613,股價!A:B,2,0)*M613,\"\")","v":""},{"$f":"IF(O613=\"\",\"\",RANK(O613,$O$2:$O$1000))","v":""}]
["1219 福壽","楊俊賢          楊俊賢",0,"楊俊賢",null,null,null,null,null,null,null,null,null,null,{"$f":"IFERROR(VLOOKUP(K614,股價!A:B,2,0)*M614,\"\")","v":""},{"$f":"IF(O614=\"\",\"\",RANK(O614,$O$2:$O$1000))","v":""}]
["1219 福壽","葉姿伶          葉姿伶",100,"葉姿伶",null,null,null,null,null,null,null,null,null,null,{"$f":"IFERROR(VLOOKUP(K615,股價!A:B,2,0)*M615,\"\")","v":""},{"$f":"IF(O615=\"\",\"\",RANK(O615,$O$2:$O$1000))","v":""}]
["1219 福壽","劉韋辰          劉韋辰",0,"劉韋辰",null,null,null,null,null,null,null,null,null,null,{"$f":"IFERROR(VLOOKUP(K616,股價!A:B,2,0)*M616,\"\")","v":""},{"$f":"IF(O616=\"\",\"\",RANK(O616,$O$2:$O$1000))","v":""}]
["1219 福壽","澄隆投資(股)    蕭明珠",222,"澄隆投資",null,null,null,null,null,null,null,null,null,null,{"$f":"IFERROR(VLOOKUP(K617,股價!A:B,2,0)*M617,\"\")","v":""},{"$f":"IF(O617=\"\",\"\",RANK(O617,$O$2:$O$1000))","v":""}]
["1219 福壽","蔣玲玉          蔣玲玉",7224,"蔣玲玉",null,null,null,null,null,null,null,null,null,null,{"$f":"IFERROR(VLOOKUP(K618,股價!A:B,2,0)*M618,\"\")","v":""},{"$f":"IF(O618=\"\",\"\",RANK(O618,$O$2:$O$1000))","v":""}]
["1219 福壽","蔡稼光          蔡稼光",56,"蔡稼光",null,null,null,null,null,null,null,null,null,null,{"$f":"IFERROR(VLOOKUP(K619,股價!A:B,2,0)*M619,\"\")","v":""},{"$f":"IF(O619=\"\",\"\",RANK(O619,$O$2:$O$1000))","v":""}]
["1219 福壽","興泰實業(股)    吳金泉",12112,"興泰實業",null,null,null,null,null,null,null,null,null,null,{"$f":"IFERROR(VLOOKUP(K620,股價!A:B,2,0)*M620,\"\")","v":""},{"$f":"IF(O620=\"\",\"\",RANK(O620,$O$2:$O$1000))","v":""}]
["1219 福壽","蕭明珠          蕭明珠",1485,"蕭明珠",null,null,null,null,null,null,null,null,null,null,{"$f":"IFERROR(VLOOKUP(K621,股價!A:B,2,0)*M621,\"\")","v":""},{"$f":"IF(O621=\"\",\"\",RANK(O621,$O$2:$O$1000))","v":""}]
["1219 福壽","戴禎慧          戴禎慧",0,"戴禎慧",null,null,null,null,null,null,null,null,null,null,{"$f":"IFERROR(VLOOKUP(K622,股價!A:B,2,0)*M622,\"\")","v":""},{"$f":"IF(O622=\"\",\"\",RANK(O622,$O$2:$O$1000))","v":""}]
["1219 福壽","謝明志          謝明志",0,"謝明志",null,null,null,null,null,null,null,null,null,null,{"$f":"IFERROR(VLOOKUP(K623,股價!A:B,2,0)*M623,\"\")","v":""},{"$f":"IF(O623=\"\",\"\",RANK(O623,$O$2:$O$1000))","v":""}]
["1220 台榮","_大股東合計1",0,null,null,null,null,null,null,null,null,null,null,null,{"$f":"IFERROR(VLOOKUP(K624,股價!A:B,2,0)*M624,\"\")","v":""},{"$f":"IF(O624=\"\",\"\",RANK(O624,$O$2:$O$1000))","v":""}]
["1220 台榮","_大股東合計2    含沿用資料",39797,null,null,null,null,null,null,null,null,null,null,null,{"$f":"IFERROR(VLOOKUP(K625,股價!A:B,2,0)*M625,\"\")","v":""},{"$f":"IF(O625=\"\",\"\",RANK(O625,$O$2:$O$1000))","v":""}]
["1220 台榮","_經理人合計",0,null,null,null,null,null,null,null,null,null,null,null,{"$f":"IFERROR(VLOOKUP(K626,股價!A:B,2,0)*M626,\"\")","v":""},{"$f":"IF(O626=\"\",\"\",RANK(O626,$O$2:$O$1000))","v":""}]
["1220 台榮","_董  事合計",38471,null,null,null,null,null,null,null,null,null,null,null,{"$f":"IFERROR(VLOOKUP(K627,股價!A:B,2,0)*M627,\"\")","v":""},{"$f":"IF(O627=\"\",\"\",RANK(O627,$O$2:$O$1000))","v":""}]
["1220 台榮","_董監事合計",38471,null,null,null,null,null,null,null,null,null,null,null,{"$f":"IFERROR(VLOOKUP(K628,股價!A:B,2,0)*M628,\"\")","v":""},{"$f":"IF(O628=\"\",\"\",RANK(O628,$O$2:$O$1000))","v":""}]
["1220 台榮","_監察人合計",0,null,null,null,null,null,null,null,null,null,null,null,{"$f":"IFERROR(VLOOKUP(K629,股價!A:B,2,0)*M629,\"\")","v":""},{"$f":"IF(O629=\"\",\"\",RANK(O629,$O$2:$O$1000))","v":""}]
["1220 台榮","方平和          方平和",1056,"方平和",null,null,null,null,null,null,null,null,null,null,{"$f":"IFERROR(VLOOKUP(K630,股價!A:B,2,0)*M630,\"\")","v":""},{"$f":"IF(O630=\"\",\"\",RANK(O630,$O$2:$O$1000))","v":""}]
["1220 台榮","台榮投資(股)    陳維恭",15228,"台榮投資",null,null,null,null,null,null,null,null,null,null,{"$f":"IFERROR(VLOOKUP(K631,股價!A:B,2,0)*M631,\"\")","v":""},{"$f":"IF(O631=\"\",\"\",RANK(O631,$O$2:$O$1000))","v":""}]
["1220 台榮","全盛投資(有)    林茂盛",5580,"全盛投資",null,null,null,null,null,null,null,null,null,null,{"$f":"IFERROR(VLOOKUP(K632,股價!A:B,2,0)*M632,\"\")","v":""},{"$f":"IF(O632=\"\",\"\",RANK(O632,$O$2:$O$1000))","v":""}]
["1220 台榮","吳東明          吳東明",0,"吳東明",null,null,null,null,null,null,null,null,null,null,{"$f":"IFERROR(VLOOKUP(K633,股價!A:B,2,0)*M633,\"\")","v":""},{"$f":"IF(O633=\"\",\"\",RANK(O633,$O$2:$O$1000))","v":""}]
["1220 台榮","巫永森          巫永森",64,"巫永森",null,null,null,null,null,null,null,null,null,null,{"$f":"IFERROR(VLOOKUP(K634,股價!A:B,2,0)*M634,\"\")","v":""},{"$f":"IF(O634=\"\",\"\",RANK(O634,$O$2:$O$1000))","v":""}]
["1220 台榮","周宜寬          周宜寬",1056,"周宜寬",null,null,null,null,null,null,null,null,null,null,{"$f":"IFERROR(VLOOKUP(K635,股價!A:B,2,0)*M635,\"\")","v":""},{"$f":"IF(O635=\"\",\"\",RANK(O635,$O$2:$O$1000))","v":""}]
["1220 台榮","林永富          林永富",23,"林永富",null,null,null,null,null,null,null,null,null,null,{"$f":"IFERROR(VLOOKUP(K636,股價!A:B,2,0)*M636,\"\")","v":""},{"$f":"IF(O636=\"\",\"\",RANK(O636,$O$2:$O$1000))","v":""}]
["1220 台榮","林茂盛          林茂盛",0,"林茂盛",null,null,null,null,null,null,null,null,null,null,{"$f":"IFERROR(VLOOKUP(K637,股價!A:B,2,0)*M637,\"\")","v":""},{"$f":"IF(O637=\"\",\"\",RANK(O637,$O$2:$O$1000))","v":""}]
["1220 台榮","倍安利投資(有)  陳維恭",7924,"倍安利投資",null,null,null,null,null,null,null,null,null,null,{"$f":"IFERROR(VLOOKUP(K638,股價!A:B,2,0)*M638,\"\")","v":""},{"$f":"IF(O638=\"\",\"\",RANK(O638,$O$2:$O$1000))","v":""}]
["1220 台榮","張大慶          張大慶",0,"張大慶",null,null,null,null,null,null,null,null,null,null,{"$f":"IFERROR(VLOOKUP(K639,股價!A:B,2,0)*M639,\"\")","v":""},{"$f":"IF(O639=\"\",\"\",RANK(O639,$O$2:$O$1000))","v":""}]
["1220 台榮","陳玉能          陳玉能",25,"陳玉能",null,null,null,null,null,null,null,null,null,null,{"$f":"IFERROR(VLOOKUP(K640,股價!A:B,2,0)*M640,\"\")","v":""},{"$f":"IF(O640=\"\",\"\",RANK(O640,$O$2:$O$1000))","v":""}]
["1220 台榮","陳林慧嬪        陳林慧嬪",4957,"陳林慧嬪",null,null,null,null,null,null,null,null,null,null,{"$f":"IFERROR(VLOOKUP(K641,股價!A:B,2,0)*M641,\"\")","v":""},{"$f":"IF(O641=\"\",\"\",RANK(O641,$O$2:$O$1000))","v":""}]
["1220 台榮","陳春結          陳春結",128,"陳春結",null,null,null,null,null,null,null,null,null,null,{"$f":"IFERROR(VLOOKUP(K642,股價!A:B,2,0)*M642,\"\")","v":""},{"$f":"IF(O642=\"\",\"\",RANK(O642,$O$2:$O$1000))","v":""}]
["1220 台榮","陳英明          陳英明",2593,"陳英明",null,null,null,null,null,null,null,null,null,null,{"$f":"IFERROR(VLOOKUP(K643,股價!A:B,2,0)*M643,\"\")","v":""},{"$f":"IF(O643=\"\",\"\",RANK(O643,$O$2:$O$1000))","v":""}]
["1220 台榮","陳英凱          陳英凱",2144,"陳英凱",null,null,null,null,null,null,null,null,null,null,{"$f":"IFERROR(VLOOKUP(K644,股價!A:B,2,0)*M644,\"\")","v":""},{"$f":"IF(O644=\"\",\"\",RANK(O644,$O$2:$O$1000))","v":""}]
["1220 台榮","陳珮真          陳珮真",4437,"陳珮真",null,null,null,null,null,null,null,null,null,null,{"$f":"IFERROR(VLOOKUP(K645,股價!A:B,2,0)*M645,\"\")","v":""},{"$f":"IF(O645=\"\",\"\",RANK(O645,$O$2:$O$1000))","v":""}]
["1220 台榮","陳珮華          陳珮華",4494,"陳珮華",null,null,null,null,null,null,null,null,null,null,{"$f":"IFERROR(VLOOKUP(K646,股價!A:B,2,0)*M646,\"\")","v":""},{"$f":"IF(O646=\"\",\"\",RANK(O646,$O$2:$O$1000))","v":""}]
["1220 台榮","陳惠玲          陳惠玲",2767,"陳惠玲",null,null,null,null,null,null,null,null,null,null,{"$f":"IFERROR(VLOOKUP(K647,股價!A:B,2,0)*M647,\"\")","v":""},{"$f":"IF(O647=\"\",\"\",RANK(O647,$O$2:$O$1000))","v":""}]
["1220 台榮","陳維恭          陳維恭",5527,"陳維恭",null,null,null,null,null,null,null,null,null,null,{"$f":"IFERROR(VLOOKUP(K648,股價!A:B,2,0)*M648,\"\")","v":""},{"$f":"IF(O648=\"\",\"\",RANK(O648,$O$2:$O$1000))","v":""}]
["1220 台榮","陳維讓          陳維讓",6881,"陳維讓",null,null,null,null,null,null,null,null,null,null,{"$f":"IFERROR(VLOOKUP(K649,股價!A:B,2,0)*M649,\"\")","v":""},{"$f":"IF(O649=\"\",\"\",RANK(O649,$O$2:$O$1000))","v":""}]
["1220 台榮","黃棣楨          黃棣楨",0,"黃棣楨",null,null,null,null,null,null,null,null,null,null,{"$f":"IFERROR(VLOOKUP(K650,股價!A:B,2,0)*M650,\"\")","v":""},{"$f":"IF(O650=\"\",\"\",RANK(O650,$O$2:$O$1000))","v":""}]
["1220 台榮","黃慧玲          黃慧玲",2107,"黃慧玲",null,null,null,null,null,null,null,null,null,null,{"$f":"IFERROR(VLOOKUP(K651,股價!A:B,2,0)*M651,\"\")","v":""},{"$f":"IF(O651=\"\",\"\",RANK(O651,$O$2:$O$1000))","v":""}]
["1220 台榮","謙明投資(有)    陳英明",13870,"謙明投資",null,null,null,null,null,null,null,null,null,null,{"$f":"IFERROR(VLOOKUP(K652,股價!A:B,2,0)*M652,\"\")","v":""},{"$f":"IF(O652=\"\",\"\",RANK(O652,$O$2:$O$1000))","v":""}]
["1225 福懋油","_大股東合計1",17104,null,null,null,null,null,null,null,null,null,null,null,{"$f":"IFERROR(VLOOKUP(K653,股價!A:B,2,0)*M653,\"\")","v":""},{"$f":"IF(O653=\"\",\"\",RANK(O653,$O$2:$O$1000))","v":""}]
["1225 福懋油","_大股東合計2    含沿用資料",111677,null,null,null,null,null,null,null,null,null,null,null,{"$f":"IFERROR(VLOOKUP(K654,股價!A:B,2,0)*M654,\"\")","v":""},{"$f":"IF(O654=\"\",\"\",RANK(O654,$O$2:$O$1000))","v":""}]
["1225 福懋油","_經理人合計",1581,null,null,null,null,null,null,null,null,null,null,null,{"$f":"IFERROR(VLOOKUP(K655,股價!A:B,2,0)*M655,\"\")","v":""},{"$f":"IF(O655=\"\",\"\",RANK(O655,$O$2:$O$1000))","v":""}]
["1225 福懋油","_董  事合計",51143,null,null,null,null,null,null,null,null,null,null,null,{"$f":"IFERROR(VLOOKUP(K656,股價!A:B,2,0)*M656,\"\")","v":""},{"$f":"IF(O656=\"\",\"\",RANK(O656,$O$2:$O$1000))","v":""}]
["1225 福懋油","_董監事合計",51143,null,null,null,null,null,null,null,null,null,null,null,{"$f":"IFERROR(VLOOKUP(K657,股價!A:B,2,0)*M657,\"\")","v":""},{"$f":"IF(O657=\"\",\"\",RANK(O657,$O$2:$O$1000))","v":""}]
["1225 福懋油","_監察人合計",0,null,null,null,null,null,null,null,null,null,null,null,{"$f":"IFERROR(VLOOKUP(K658,股價!A:B,2,0)*M658,\"\")","v":""},{"$f":"IF(O658=\"\",\"\",RANK(O658,$O$2:$O$1000))","v":""}]
["1225 福懋油","王上仁          王上仁",0,"王上仁",null,null,null,null,null,null,null,null,null,null,{"$f":"IFERROR(VLOOKUP(K659,股價!A:B,2,0)*M659,\"\")","v":""},{"$f":"IF(O659=\"\",\"\",RANK(O659,$O$2:$O$1000))","v":""}]
["1225 福懋油","安和投資控股(股)吳星澄",215,"安和投資控股",null,null,null,null,null,null,null,null,null,null,{"$f":"IFERROR(VLOOKUP(K660,股價!A:B,2,0)*M660,\"\")","v":""},{"$f":"IF(O660=\"\",\"\",RANK(O660,$O$2:$O$1000))","v":""}]
["1225 福懋油","安答投資(股)    吳星澄",20712,"安答投資",null,null,null,null,null,null,null,null,null,null,{"$f":"IFERROR(VLOOKUP(K661,股價!A:B,2,0)*M661,\"\")","v":""},{"$f":"IF(O661=\"\",\"\",RANK(O661,$O$2:$O$1000))","v":""}]
["1225 福懋油","安鼎投資(股)    秦慧如",8137,"安鼎投資",null,null,null,null,null,null,null,null,null,null,{"$f":"IFERROR(VLOOKUP(K662,股價!A:B,2,0)*M662,\"\")","v":""},{"$f":"IF(O662=\"\",\"\",RANK(O662,$O$2:$O$1000))","v":""}]
["1225 福懋油","吳金泉          吳金泉",6918,"吳金泉",null,null,null,null,null,null,null,null,null,null,{"$f":"IFERROR(VLOOKUP(K663,股價!A:B,2,0)*M663,\"\")","v":""},{"$f":"IF(O663=\"\",\"\",RANK(O663,$O$2:$O$1000))","v":""}]
["1225 福懋油","吳星澄          吳星澄",1010,"吳星澄",null,null,null,null,null,null,null,null,null,null,{"$f":"IFERROR(VLOOKUP(K664,股價!A:B,2,0)*M664,\"\")","v":""},{"$f":"IF(O664=\"\",\"\",RANK(O664,$O$2:$O$1000))","v":""}]
["1225 福懋油","吳清德          吳清德",7,"吳清德",null,null,null,null,null,null,null,null,null,null,{"$f":"IFERROR(VLOOKUP(K665,股價!A:B,2,0)*M665,\"\")","v":""},{"$f":"IF(O665=\"\",\"\",RANK(O665,$O$2:$O$1000))","v":""}]
["1225 福懋油","李建儀          李建儀",0,"李建儀",null,null,null,null,null,null,null,null,null,null,{"$f":"IFERROR(VLOOKUP(K666,股價!A:B,2,0)*M666,\"\")","v":""},{"$f":"IF(O666=\"\",\"\",RANK(O666,$O$2:$O$1000))","v":""}]
["1225 福懋油","官耀(木丹)      官耀(木丹)",17104,"官耀(木丹)",null,null,null,null,null,null,null,null,null,null,{"$f":"IFERROR(VLOOKUP(K667,股價!A:B,2,0)*M667,\"\")","v":""},{"$f":"IF(O667=\"\",\"\",RANK(O667,$O$2:$O$1000))","v":""}]
["1225 福懋油","昇鋒投資(股)    鄭兆亨",15953,"昇鋒投資",null,null,null,null,null,null,null,null,null,null,{"$f":"IFERROR(VLOOKUP(K668,股價!A:B,2,0)*M668,\"\")","v":""},{"$f":"IF(O668=\"\",\"\",RANK(O668,$O$2:$O$1000))","v":""}]
["1225 福懋油","林芳如          林芳如",21,"林芳如",null,null,null,null,null,null,null,null,null,null,{"$f":"IFERROR(VLOOKUP(K669,股價!A:B,2,0)*M669,\"\")","v":""},{"$f":"IF(O669=\"\",\"\",RANK(O669,$O$2:$O$1000))","v":""}]
["1225 福懋油","茂生農經(股)    吳清德",5170,"茂生農經",null,null,null,null,null,null,null,null,null,null,{"$f":"IFERROR(VLOOKUP(K670,股價!A:B,2,0)*M670,\"\")","v":""},{"$f":"IF(O670=\"\",\"\",RANK(O670,$O$2:$O$1000))","v":""}]
["1225 福懋油","晉昇投資(有)    許逸群",2177,"晉昇投資",null,null,null,null,null,null,null,null,null,null,{"$f":"IFERROR(VLOOKUP(K671,股價!A:B,2,0)*M671,\"\")","v":""},{"$f":"IF(O671=\"\",\"\",RANK(O671,$O$2:$O$1000))","v":""}]
["1225 福懋油","泰生海洋開發(股)鄭依佳",2799,"泰生海洋開發",null,null,null,null,null,null,null,null,null,null,{"$f":"IFERROR(VLOOKUP(K672,股價!A:B,2,0)*M672,\"\")","v":""},{"$f":"IF(O672=\"\",\"\",RANK(O672,$O$2:$O$1000))","v":""}]
["1225 福懋油","張志賓          張志賓",0,"張志賓",null,null,null,null,null,null,null,null,null,null,{"$f":"IFERROR(VLOOKUP(K673,股價!A:B,2,0)*M673,\"\")","v":""},{"$f":"IF(O673=\"\",\"\",RANK(O673,$O$2:$O$1000))","v":""}]
["1225 福懋油","許文通          許文通",6863,"許文通",null,null,null,null,null,null,null,null,null,null,{"$f":"IFERROR(VLOOKUP(K674,股價!A:B,2,0)*M674,\"\")","v":""},{"$f":"IF(O674=\"\",\"\",RANK(O674,$O$2:$O$1000))","v":""}]
["1225 福懋油","許忠明          許忠明",9305,"許忠明",null,null,null,null,null,null,null,null,null,null,{"$f":"IFERROR(VLOOKUP(K675,股價!A:B,2,0)*M675,\"\")","v":""},{"$f":"IF(O675=\"\",\"\",RANK(O675,$O$2:$O$1000))","v":""}]
["1225 福懋油","許逸群          許逸群",1560,"許逸群",null,null,null,null,null,null,null,null,null,null,{"$f":"IFERROR(VLOOKUP(K676,股價!A:B,2,0)*M676,\"\")","v":""},{"$f":"IF(O676=\"\",\"\",RANK(O676,$O$2:$O$1000))","v":""}]
["1225 福懋油","連仁隆          連仁隆",0,"連仁隆",null,null,null,null,null,null,null,null,null,null,{"$f":"IFERROR(VLOOKUP(K677,股價!A:B,2,0)*M677,\"\")","v":""},{"$f":"IF(O677=\"\",\"\",RANK(O677,$O$2:$O$1000))","v":""}]
["1225 福懋油","郭中儀          郭中儀",0,"郭中儀",null,null,null,null,null,null,null,null,null,null,{"$f":"IFERROR(VLOOKUP(K678,股價!A:B,2,0)*M678,\"\")","v":""},{"$f":"IF(O678=\"\",\"\",RANK(O678,$O$2:$O$1000))","v":""}]
["1225 福懋油","陸醒華          陸醒華",0,"陸醒華",null,null,null,null,null,null,null,null,null,null,{"$f":"IFERROR(VLOOKUP(K679,股價!A:B,2,0)*M679,\"\")","v":""},{"$f":"IF(O679=\"\",\"\",RANK(O679,$O$2:$O$1000))","v":""}]
["1225 福懋油","群盛發(股)      許逸群",21794,"群盛發",null,null,null,null,null,null,null,null,null,null,{"$f":"IFERROR(VLOOKUP(K680,股價!A:B,2,0)*M680,\"\")","v":""},{"$f":"IF(O680=\"\",\"\",RANK(O680,$O$2:$O$1000))","v":""}]
["1225 福懋油","誠信投資(股)    黃蘊慧",20844,"誠信投資",null,null,null,null,null,null,null,null,null,null,{"$f":"IFERROR(VLOOKUP(K681,股價!A:B,2,0)*M681,\"\")","v":""},{"$f":"IF(O681=\"\",\"\",RANK(O681,$O$2:$O$1000))","v":""}]
["1225 福懋油","鄭兆亨          鄭兆亨",0,"鄭兆亨",null,null,null,null,null,null,null,null,null,null,{"$f":"IFERROR(VLOOKUP(K682,股價!A:B,2,0)*M682,\"\")","v":""},{"$f":"IF(O682=\"\",\"\",RANK(O682,$O$2:$O$1000))","v":""}]
["1225 福懋油","鄭依佳          鄭依佳",0,"鄭依佳",null,null,null,null,null,null,null,null,null,null,{"$f":"IFERROR(VLOOKUP(K683,股價!A:B,2,0)*M683,\"\")","v":""},{"$f":"IF(O683=\"\",\"\",RANK(O683,$O$2:$O$1000))","v":""}]
["1225 福懋油","興泰實業(股)",24829,"興泰實業",null,null,null,null,null,null,null,null,null,null,{"$f":"IFERROR(VLOOKUP(K684,股價!A:B,2,0)*M684,\"\")","v":""},{"$f":"IF(O684=\"\",\"\",RANK(O684,$O$2:$O$1000))","v":""}]
["1225 福懋油","譚榮闓          譚榮闓",0,"譚榮闓",null,null,null,null,null,null,null,null,null,null,{"$f":"IFERROR(VLOOKUP(K685,股價!A:B,2,0)*M685,\"\")","v":""},{"$f":"IF(O685=\"\",\"\",RANK(O685,$O$2:$O$1000))","v":""}]
["1227 佳格","_大股東合計1",156308,null,null,null,null,null,null,null,null,null,null,null,{"$f":"IFERROR(VLOOKUP(K686,股價!A:B,2,0)*M686,\"\")","v":""},{"$f":"IF(O686=\"\",\"\",RANK(O686,$O$2:$O$1000))","v":""}]
["1227 佳格","_大股東合計2    含沿用資料",556031,null,null,null,null,null,null,null,null,null,null,null,{"$f":"IFERROR(VLOOKUP(K687,股價!A:B,2,0)*M687,\"\")","v":""},{"$f":"IF(O687=\"\",\"\",RANK(O687,$O$2:$O$1000))","v":""}]
["1227 佳格","_經理人合計",1,null,null,null,null,null,null,null,null,null,null,null,{"$f":"IFERROR(VLOOKUP(K688,股價!A:B,2,0)*M688,\"\")","v":""},{"$f":"IF(O688=\"\",\"\",RANK(O688,$O$2:$O$1000))","v":""}]
["1227 佳格","_董  事合計",29319,null,null,null,null,null,null,null,null,null,null,null,{"$f":"IFERROR(VLOOKUP(K689,股價!A:B,2,0)*M689,\"\")","v":""},{"$f":"IF(O689=\"\",\"\",RANK(O689,$O$2:$O$1000))","v":""}]
["1227 佳格","_董監事合計",29319,null,null,null,null,null,null,null,null,null,null,null,{"$f":"IFERROR(VLOOKUP(K690,股價!A:B,2,0)*M690,\"\")","v":""},{"$f":"IF(O690=\"\",\"\",RANK(O690,$O$2:$O$1000))","v":""}]
["1227 佳格","_監察人合計",0,null,null,null,null,null,null,null,null,null,null,null,{"$f":"IFERROR(VLOOKUP(K691,股價!A:B,2,0)*M691,\"\")","v":""},{"$f":"IF(O691=\"\",\"\",RANK(O691,$O$2:$O$1000))","v":""}]
["1227 佳格","王允中          王允中",0,"王允中",null,null,null,null,null,null,null,null,null,null,{"$f":"IFERROR(VLOOKUP(K692,股價!A:B,2,0)*M692,\"\")","v":""},{"$f":"IF(O692=\"\",\"\",RANK(O692,$O$2:$O$1000))","v":""}]
["1227 佳格","必來投資(股)    曾琡雯",33039,"必來投資",null,null,null,null,null,null,null,null,null,null,{"$f":"IFERROR(VLOOKUP(K693,股價!A:B,2,0)*M693,\"\")","v":""},{"$f":"IF(O693=\"\",\"\",RANK(O693,$O$2:$O$1000))","v":""}]
["1227 佳格","李倍蓮          李倍蓮",0,"李倍蓮",null,null,null,null,null,null,null,null,null,null,{"$f":"IFERROR(VLOOKUP(K694,股價!A:B,2,0)*M694,\"\")","v":""},{"$f":"IF(O694=\"\",\"\",RANK(O694,$O$2:$O$1000))","v":""}]
["1227 佳格","沐德投資(股)    宣建生",22650,"沐德投資",null,null,null,null,null,null,null,null,null,null,{"$f":"IFERROR(VLOOKUP(K695,股價!A:B,2,0)*M695,\"\")","v":""},{"$f":"IF(O695=\"\",\"\",RANK(O695,$O$2:$O$1000))","v":""}]
["1227 佳格","沐德投資(股)    曹德風",22650,"沐德投資",null,null,null,null,null,null,null,null,null,null,{"$f":"IFERROR(VLOOKUP(K696,股價!A:B,2,0)*M696,\"\")","v":""},{"$f":"IF(O696=\"\",\"\",RANK(O696,$O$2:$O$1000))","v":""}]
["1227 佳格","沐德投資(股)    曹德華",22650,"沐德投資",null,null,null,null,null,null,null,null,null,null,{"$f":"IFERROR(VLOOKUP(K697,股價!A:B,2,0)*M697,\"\")","v":""},{"$f":"IF(O697=\"\",\"\",RANK(O697,$O$2:$O$1000))","v":""}]
["1227 佳格","沐德投資專戶    曹德風",159774,"沐德投資股份有限公司受託信託財產專戶",null,null,null,null,null,null,null,null,null,null,{"$f":"IFERROR(VLOOKUP(K698,股價!A:B,2,0)*M698,\"\")","v":""},{"$f":"IF(O698=\"\",\"\",RANK(O698,$O$2:$O$1000))","v":""}]
["1227 佳格","佳允投資(股)    佳允投資(股)",17,"佳允投資",null,null,null,null,null,null,null,null,null,null,{"$f":"IFERROR(VLOOKUP(K699,股價!A:B,2,0)*M699,\"\")","v":""},{"$f":"IF(O699=\"\",\"\",RANK(O699,$O$2:$O$1000))","v":""}]
["1227 佳格","佳允投資專戶    曹德風",133125,"佳允投資股份有限公司受託信託財產專戶",null,null,null,null,null,null,null,null,null,null,{"$f":"IFERROR(VLOOKUP(K700,股價!A:B,2,0)*M700,\"\")","v":""},{"$f":"IF(O700=\"\",\"\",RANK(O700,$O$2:$O$1000))","v":""}]
["1227 佳格","佳捷投資(股)    佳捷投資(股)",21,"佳捷投資股份有限公司",null,null,null,null,null,null,null,null,null,null,{"$f":"IFERROR(VLOOKUP(K701,股價!A:B,2,0)*M701,\"\")","v":""},{"$f":"IF(O701=\"\",\"\",RANK(O701,$O$2:$O$1000))","v":""}]
["1227 佳格","佳捷投資股份    佳捷投資股份",115460,"佳捷投資股份有限公司受託信託財產專戶",null,null,null,null,null,null,null,null,null,null,{"$f":"IFERROR(VLOOKUP(K702,股價!A:B,2,0)*M702,\"\")","v":""},{"$f":"IF(O702=\"\",\"\",RANK(O702,$O$2:$O$1000))","v":""}]
["1227 佳格","周鐘麒          周鐘麒",0,"周鐘麒",null,null,null,null,null,null,null,null,null,null,{"$f":"IFERROR(VLOOKUP(K703,股價!A:B,2,0)*M703,\"\")","v":""},{"$f":"IF(O703=\"\",\"\",RANK(O703,$O$2:$O$1000))","v":""}]
["1227 佳格","林俊堯          林俊堯",14804,"林俊堯",null,null,null,null,null,null,null,null,null,null,{"$f":"IFERROR(VLOOKUP(K704,股價!A:B,2,0)*M704,\"\")","v":""},{"$f":"IF(O704=\"\",\"\",RANK(O704,$O$2:$O$1000))","v":""}]
["1227 佳格","花旗託管挪威    花旗託管挪威",6909,"花旗託管挪威中央銀行投資專戶",null,null,null,null,null,null,null,null,null,null,{"$f":"IFERROR(VLOOKUP(K705,股價!A:B,2,0)*M705,\"\")","v":""},{"$f":"IF(O705=\"\",\"\",RANK(O705,$O$2:$O$1000))","v":""}]
["1227 佳格","長徽(股)        曹博睿",6669,"長徽",null,null,null,null,null,null,null,null,null,null,{"$f":"IFERROR(VLOOKUP(K706,股價!A:B,2,0)*M706,\"\")","v":""},{"$f":"IF(O706=\"\",\"\",RANK(O706,$O$2:$O$1000))","v":""}]
["1227 佳格","南山人壽保險(股)陳棠",41411,"南山人壽保險",null,null,null,null,null,null,null,null,null,null,{"$f":"IFERROR(VLOOKUP(K707,股價!A:B,2,0)*M707,\"\")","v":""},{"$f":"IF(O707=\"\",\"\",RANK(O707,$O$2:$O$1000))","v":""}]
["1227 佳格","姜豐年          姜豐年",0,"姜豐年",null,null,null,null,null,null,null,null,null,null,{"$f":"IFERROR(VLOOKUP(K708,股價!A:B,2,0)*M708,\"\")","v":""},{"$f":"IF(O708=\"\",\"\",RANK(O708,$O$2:$O$1000))","v":""}]
["1227 佳格","宣建生          宣建生",0,"宣建生",null,null,null,null,null,null,null,null,null,null,{"$f":"IFERROR(VLOOKUP(K709,股價!A:B,2,0)*M709,\"\")","v":""},{"$f":"IF(O709=\"\",\"\",RANK(O709,$O$2:$O$1000))","v":""}]
["1227 佳格","張忠本          張忠本",0,"張忠本",null,null,null,null,null,null,null,null,null,null,{"$f":"IFERROR(VLOOKUP(K710,股價!A:B,2,0)*M710,\"\")","v":""},{"$f":"IF(O710=\"\",\"\",RANK(O710,$O$2:$O$1000))","v":""}]
["1227 佳格","曹博睿          曹博睿",0,"曹博睿",null,null,null,null,null,null,null,null,null,null,{"$f":"IFERROR(VLOOKUP(K711,股價!A:B,2,0)*M711,\"\")","v":""},{"$f":"IF(O711=\"\",\"\",RANK(O711,$O$2:$O$1000))","v":""}]
["1227 佳格","曹德風          曹德風",40848,"曹德風",null,null,null,null,null,null,null,null,null,null,{"$f":"IFERROR(VLOOKUP(K712,股價!A:B,2,0)*M712,\"\")","v":""},{"$f":"IF(O712=\"\",\"\",RANK(O712,$O$2:$O$1000))","v":""}]
["1227 佳格","曹德華          曹德華",0,"曹德華",null,null,null,null,null,null,null,null,null,null,{"$f":"IFERROR(VLOOKUP(K713,股價!A:B,2,0)*M713,\"\")","v":""},{"$f":"IF(O713=\"\",\"\",RANK(O713,$O$2:$O$1000))","v":""}]
["1227 佳格","陳俊明          陳俊明",1,"陳俊明",null,null,null,null,null,null,null,null,null,null,{"$f":"IFERROR(VLOOKUP(K714,股價!A:B,2,0)*M714,\"\")","v":""},{"$f":"IF(O714=\"\",\"\",RANK(O714,$O$2:$O$1000))","v":""}]
["1227 佳格","富邦人壽保險(股)蔡明興",10661,"富邦人壽保險",null,null,null,null,null,null,null,null,null,null,{"$f":"IFERROR(VLOOKUP(K715,股價!A:B,2,0)*M715,\"\")","v":""},{"$f":"IF(O715=\"\",\"\",RANK(O715,$O$2:$O$1000))","v":""}]
["1227 佳格","黃世凱          黃世凱",0,"黃世凱",null,null,null,null,null,null,null,null,null,null,{"$f":"IFERROR(VLOOKUP(K716,股價!A:B,2,0)*M716,\"\")","v":""},{"$f":"IF(O716=\"\",\"\",RANK(O716,$O$2:$O$1000))","v":""}]
["1227 佳格","葉雲雲          葉雲雲",0,"葉雲雲",null,null,null,null,null,null,null,null,null,null,{"$f":"IFERROR(VLOOKUP(K717,股價!A:B,2,0)*M717,\"\")","v":""},{"$f":"IF(O717=\"\",\"\",RANK(O717,$O$2:$O$1000))","v":""}]
["1229 聯華","_大股東合計1",0,null,null,null,null,null,null,null,null,null,null,null,{"$f":"IFERROR(VLOOKUP(K718,股價!A:B,2,0)*M718,\"\")","v":""},{"$f":"IF(O718=\"\",\"\",RANK(O718,$O$2:$O$1000))","v":""}]
["1229 聯華","_大股東合計2    含沿用資料",236593,null,null,null,null,null,null,null,null,null,null,null,{"$f":"IFERROR(VLOOKUP(K719,股價!A:B,2,0)*M719,\"\")","v":""},{"$f":"IF(O719=\"\",\"\",RANK(O719,$O$2:$O$1000))","v":""}]
["1229 聯華","_經理人合計",47208,null,null,null,null,null,null,null,null,null,null,null,{"$f":"IFERROR(VLOOKUP(K720,股價!A:B,2,0)*M720,\"\")","v":""},{"$f":"IF(O720=\"\",\"\",RANK(O720,$O$2:$O$1000))","v":""}]
["1229 聯華","_董  事合計",359014,null,null,null,null,null,null,null,null,null,null,null,{"$f":"IFERROR(VLOOKUP(K721,股價!A:B,2,0)*M721,\"\")","v":""},{"$f":"IF(O721=\"\",\"\",RANK(O721,$O$2:$O$1000))","v":""}]
["1229 聯華","_董監事合計",359014,null,null,null,null,null,null,null,null,null,null,null,{"$f":"IFERROR(VLOOKUP(K722,股價!A:B,2,0)*M722,\"\")","v":""},{"$f":"IF(O722=\"\",\"\",RANK(O722,$O$2:$O$1000))","v":""}]
["1229 聯華","_監察人合計",0,null,null,null,null,null,null,null,null,null,null,null,{"$f":"IFERROR(VLOOKUP(K723,股價!A:B,2,0)*M723,\"\")","v":""},{"$f":"IF(O723=\"\",\"\",RANK(O723,$O$2:$O$1000))","v":""}]
["1229 聯華","育秀基金會      苗豐強",44348,"財團法人育秀教育基金會",null,null,null,null,null,null,null,null,null,null,{"$f":"IFERROR(VLOOKUP(K724,股價!A:B,2,0)*M724,\"\")","v":""},{"$f":"IF(O724=\"\",\"\",RANK(O724,$O$2:$O$1000))","v":""}]
["1229 聯華","周祖菴          周祖菴",37125,"周祖菴",null,null,null,null,null,null,null,null,null,null,{"$f":"IFERROR(VLOOKUP(K725,股價!A:B,2,0)*M725,\"\")","v":""},{"$f":"IF(O725=\"\",\"\",RANK(O725,$O$2:$O$1000))","v":""}]
["1229 聯華","林信宏          林信宏",0,"林信宏",null,null,null,null,null,null,null,null,null,null,{"$f":"IFERROR(VLOOKUP(K726,股價!A:B,2,0)*M726,\"\")","v":""},{"$f":"IF(O726=\"\",\"\",RANK(O726,$O$2:$O$1000))","v":""}]
["1229 聯華","邱羅火          邱羅火",0,"邱羅火",null,null,null,null,null,null,null,null,null,null,{"$f":"IFERROR(VLOOKUP(K727,股價!A:B,2,0)*M727,\"\")","v":""},{"$f":"IF(O727=\"\",\"\",RANK(O727,$O$2:$O$1000))","v":""}]
["1229 聯華","苗豐全          苗豐全",44624,"苗豐全",null,null,null,null,null,null,null,null,null,null,{"$f":"IFERROR(VLOOKUP(K728,股價!A:B,2,0)*M728,\"\")","v":""},{"$f":"IF(O728=\"\",\"\",RANK(O728,$O$2:$O$1000))","v":""}]
["1229 聯華","苗豐強          苗豐強",47208,"苗豐強",null,null,null,null,null,null,null,null,null,null,{"$f":"IFERROR(VLOOKUP(K729,股價!A:B,2,0)*M729,\"\")","v":""},{"$f":"IF(O729=\"\",\"\",RANK(O729,$O$2:$O$1000))","v":""}]
["1229 聯華","苗豐盛          苗豐盛",36072,"苗豐盛",null,null,null,null,null,null,null,null,null,null,{"$f":"IFERROR(VLOOKUP(K730,股價!A:B,2,0)*M730,\"\")","v":""},{"$f":"IF(O730=\"\",\"\",RANK(O730,$O$2:$O$1000))","v":""}]
["1229 聯華","孫頌恩          孫頌恩",1891,"孫頌恩",null,null,null,null,null,null,null,null,null,null,{"$f":"IFERROR(VLOOKUP(K731,股價!A:B,2,0)*M731,\"\")","v":""},{"$f":"IF(O731=\"\",\"\",RANK(O731,$O$2:$O$1000))","v":""}]
["1229 聯華","孫璐西          孫璐西",0,"孫璐西",null,null,null,null,null,null,null,null,null,null,{"$f":"IFERROR(VLOOKUP(K732,股價!A:B,2,0)*M732,\"\")","v":""},{"$f":"IF(O732=\"\",\"\",RANK(O732,$O$2:$O$1000))","v":""}]
["1229 聯華","神達電腦(股)    神達電腦(股)",41292,"神達電腦",null,null,null,null,null,null,null,null,null,null,{"$f":"IFERROR(VLOOKUP(K733,股價!A:B,2,0)*M733,\"\")","v":""},{"$f":"IF(O733=\"\",\"\",RANK(O733,$O$2:$O$1000))","v":""}]
["1229 聯華","陳沖            陳沖",0,"陳沖",null,null,null,null,null,null,null,null,null,null,{"$f":"IFERROR(VLOOKUP(K734,股價!A:B,2,0)*M734,\"\")","v":""},{"$f":"IF(O734=\"\",\"\",RANK(O734,$O$2:$O$1000))","v":""}]
["1229 聯華","程建人          程建人",0,"程建人",null,null,null,null,null,null,null,null,null,null,{"$f":"IFERROR(VLOOKUP(K735,股價!A:B,2,0)*M735,\"\")","v":""},{"$f":"IF(O735=\"\",\"\",RANK(O735,$O$2:$O$1000))","v":""}]
["1229 聯華","義源投資(股)    周祖菴",135332,"義源投資",null,null,null,null,null,null,null,null,null,null,{"$f":"IFERROR(VLOOKUP(K736,股價!A:B,2,0)*M736,\"\")","v":""},{"$f":"IF(O736=\"\",\"\",RANK(O736,$O$2:$O$1000))","v":""}]
["1229 聯華","義源投資(股)    譚成育",135332,"義源投資",null,null,null,null,null,null,null,null,null,null,{"$f":"IFERROR(VLOOKUP(K737,股價!A:B,2,0)*M737,\"\")","v":""},{"$f":"IF(O737=\"\",\"\",RANK(O737,$O$2:$O$1000))","v":""}]
["1229 聯華","義豐投資(股)    景虎士",71875,"義豐投資",null,null,null,null,null,null,null,null,null,null,{"$f":"IFERROR(VLOOKUP(K738,股價!A:B,2,0)*M738,\"\")","v":""},{"$f":"IF(O738=\"\",\"\",RANK(O738,$O$2:$O$1000))","v":""}]
["1229 聯華","聯成化學科技(股)孫頌恩",143262,"聯成化學科技",null,null,null,null,null,null,null,null,null,null,{"$f":"IFERROR(VLOOKUP(K739,股價!A:B,2,0)*M739,\"\")","v":""},{"$f":"IF(O739=\"\",\"\",RANK(O739,$O$2:$O$1000))","v":""}]
["1229 聯華","聯成化學科技(股)陳沖",143262,"聯成化學科技",null,null,null,null,null,null,null,null,null,null,{"$f":"IFERROR(VLOOKUP(K740,股價!A:B,2,0)*M740,\"\")","v":""},{"$f":"IF(O740=\"\",\"\",RANK(O740,$O$2:$O$1000))","v":""}]
["1229 聯華","聯華實職福      林信宏",41677,"聯華實業職工福利委員會",null,null,null,null,null,null,null,null,null,null,{"$f":"IFERROR(VLOOKUP(K741,股價!A:B,2,0)*M741,\"\")","v":""},{"$f":"IF(O741=\"\",\"\",RANK(O741,$O$2:$O$1000))","v":""}]
["1229 聯華","藍健瑋          藍健瑋",0,"藍健瑋",null,null,null,null,null,null,null,null,null,null,{"$f":"IFERROR(VLOOKUP(K742,股價!A:B,2,0)*M742,\"\")","v":""},{"$f":"IF(O742=\"\",\"\",RANK(O742,$O$2:$O$1000))","v":""}]
["1229 聯華","雙峽灣開發(股)  雙峽灣開發(",12000,"雙峽灣開發股份有限公司",null,null,null,null,null,null,null,null,null,null,{"$f":"IFERROR(VLOOKUP(K743,股價!A:B,2,0)*M743,\"\")","v":""},{"$f":"IF(O743=\"\",\"\",RANK(O743,$O$2:$O$1000))","v":""}]
["1229 聯華","譚成育          譚成育",18459,"譚成育",null,null,null,null,null,null,null,null,null,null,{"$f":"IFERROR(VLOOKUP(K744,股價!A:B,2,0)*M744,\"\")","v":""},{"$f":"IF(O744=\"\",\"\",RANK(O744,$O$2:$O$1000))","v":""}]
["1229 聯華","嚴文卿          嚴文卿",0,"嚴文卿",null,null,null,null,null,null,null,null,null,null,{"$f":"IFERROR(VLOOKUP(K745,股價!A:B,2,0)*M745,\"\")","v":""},{"$f":"IF(O745=\"\",\"\",RANK(O745,$O$2:$O$1000))","v":""}]
["1231 聯華食","_大股東合計1",27258,null,null,null,null,null,null,null,null,null,null,null,{"$f":"IFERROR(VLOOKUP(K746,股價!A:B,2,0)*M746,\"\")","v":""},{"$f":"IF(O746=\"\",\"\",RANK(O746,$O$2:$O$1000))","v":""}]
["1231 聯華食","_大股東合計2    含沿用資料",86383,null,null,null,null,null,null,null,null,null,null,null,{"$f":"IFERROR(VLOOKUP(K747,股價!A:B,2,0)*M747,\"\")","v":""},{"$f":"IF(O747=\"\",\"\",RANK(O747,$O$2:$O$1000))","v":""}]
["1231 聯華食","_經理人合計",3158,null,null,null,null,null,null,null,null,null,null,null,{"$f":"IFERROR(VLOOKUP(K748,股價!A:B,2,0)*M748,\"\")","v":""},{"$f":"IF(O748=\"\",\"\",RANK(O748,$O$2:$O$1000))","v":""}]
["1231 聯華食","_董  事合計",48850,null,null,null,null,null,null,null,null,null,null,null,{"$f":"IFERROR(VLOOKUP(K749,股價!A:B,2,0)*M749,\"\")","v":""},{"$f":"IF(O749=\"\",\"\",RANK(O749,$O$2:$O$1000))","v":""}]
["1231 聯華食","_董監事合計",48850,null,null,null,null,null,null,null,null,null,null,null,{"$f":"IFERROR(VLOOKUP(K750,股價!A:B,2,0)*M750,\"\")","v":""},{"$f":"IF(O750=\"\",\"\",RANK(O750,$O$2:$O$1000))","v":""}]
["1231 聯華食","_監察人合計",0,null,null,null,null,null,null,null,null,null,null,null,{"$f":"IFERROR(VLOOKUP(K751,股價!A:B,2,0)*M751,\"\")","v":""},{"$f":"IF(O751=\"\",\"\",RANK(O751,$O$2:$O$1000))","v":""}]
["1231 聯華食","山聯投資(有)    李昱璽",17716,"山聯投資",null,null,null,null,null,null,null,null,null,null,{"$f":"IFERROR(VLOOKUP(K752,股價!A:B,2,0)*M752,\"\")","v":""},{"$f":"IF(O752=\"\",\"\",RANK(O752,$O$2:$O$1000))","v":""}]
["1231 聯華食","王長義          王長義",50,"王長義",null,null,null,null,null,null,null,null,null,null,{"$f":"IFERROR(VLOOKUP(K753,股價!A:B,2,0)*M753,\"\")","v":""},{"$f":"IF(O753=\"\",\"\",RANK(O753,$O$2:$O$1000))","v":""}]
["1231 聯華食","江志強          江志強",69,"江志強",null,null,null,null,null,null,null,null,null,null,{"$f":"IFERROR(VLOOKUP(K754,股價!A:B,2,0)*M754,\"\")","v":""},{"$f":"IF(O754=\"\",\"\",RANK(O754,$O$2:$O$1000))","v":""}]
["1231 聯華食","宋佩娟          宋佩娟",2,"宋佩娟",null,null,null,null,null,null,null,null,null,null,{"$f":"IFERROR(VLOOKUP(K755,股價!A:B,2,0)*M755,\"\")","v":""},{"$f":"IF(O755=\"\",\"\",RANK(O755,$O$2:$O$1000))","v":""}]
["1231 聯華食","希望國際投資(有)李昱春",67,"希望國際投資",null,null,null,null,null,null,null,null,null,null,{"$f":"IFERROR(VLOOKUP(K756,股價!A:B,2,0)*M756,\"\")","v":""},{"$f":"IF(O756=\"\",\"\",RANK(O756,$O$2:$O$1000))","v":""}]
["1231 聯華食","希望國際投資(有)許永展",67,"希望國際投資",null,null,null,null,null,null,null,null,null,null,{"$f":"IFERROR(VLOOKUP(K757,股價!A:B,2,0)*M757,\"\")","v":""},{"$f":"IF(O757=\"\",\"\",RANK(O757,$O$2:$O$1000))","v":""}]
["1231 聯華食","扶兆民          扶兆民",117,"扶兆民",null,null,null,null,null,null,null,null,null,null,{"$f":"IFERROR(VLOOKUP(K758,股價!A:B,2,0)*M758,\"\")","v":""},{"$f":"IF(O758=\"\",\"\",RANK(O758,$O$2:$O$1000))","v":""}]
["1231 聯華食","李其芸          李其芸",2667,"李其芸",null,null,null,null,null,null,null,null,null,null,{"$f":"IFERROR(VLOOKUP(K759,股價!A:B,2,0)*M759,\"\")","v":""},{"$f":"IF(O759=\"\",\"\",RANK(O759,$O$2:$O$1000))","v":""}]
["1231 聯華食","李尚芸          李尚芸",6410,"李尚芸",null,null,null,null,null,null,null,null,null,null,{"$f":"IFERROR(VLOOKUP(K760,股價!A:B,2,0)*M760,\"\")","v":""},{"$f":"IF(O760=\"\",\"\",RANK(O760,$O$2:$O$1000))","v":""}]
["1231 聯華食","李青芸          李青芸",2667,"李青芸",null,null,null,null,null,null,null,null,null,null,{"$f":"IFERROR(VLOOKUP(K761,股價!A:B,2,0)*M761,\"\")","v":""},{"$f":"IF(O761=\"\",\"\",RANK(O761,$O$2:$O$1000))","v":""}]
["1231 聯華食","李昱(爾+土)     李昱(爾+土)",0,"李昱(爾+土)",null,null,null,null,null,null,null,null,null,null,{"$f":"IFERROR(VLOOKUP(K762,股價!A:B,2,0)*M762,\"\")","v":""},{"$f":"IF(O762=\"\",\"\",RANK(O762,$O$2:$O$1000))","v":""}]
["1231 聯華食","李昱春          李昱春",6191,"李昱春",null,null,null,null,null,null,null,null,null,null,{"$f":"IFERROR(VLOOKUP(K763,股價!A:B,2,0)*M763,\"\")","v":""},{"$f":"IF(O763=\"\",\"\",RANK(O763,$O$2:$O$1000))","v":""}]
["1231 聯華食","李開源          李開源",17567,"李開源",null,null,null,null,null,null,null,null,null,null,{"$f":"IFERROR(VLOOKUP(K764,股價!A:B,2,0)*M764,\"\")","v":""},{"$f":"IF(O764=\"\",\"\",RANK(O764,$O$2:$O$1000))","v":""}]
["1231 聯華食","李開勳          李開勳",14897,"李開勳",null,null,null,null,null,null,null,null,null,null,{"$f":"IFERROR(VLOOKUP(K765,股價!A:B,2,0)*M765,\"\")","v":""},{"$f":"IF(O765=\"\",\"\",RANK(O765,$O$2:$O$1000))","v":""}]
["1231 聯華食","林志遠          林志遠",0,"林志遠",null,null,null,null,null,null,null,null,null,null,{"$f":"IFERROR(VLOOKUP(K766,股價!A:B,2,0)*M766,\"\")","v":""},{"$f":"IF(O766=\"\",\"\",RANK(O766,$O$2:$O$1000))","v":""}]
["1231 聯華食","林美杏          林美杏",0,"林美杏",null,null,null,null,null,null,null,null,null,null,{"$f":"IFERROR(VLOOKUP(K767,股價!A:B,2,0)*M767,\"\")","v":""},{"$f":"IF(O767=\"\",\"\",RANK(O767,$O$2:$O$1000))","v":""}]
["1231 聯華食","林家齊          林家齊",220,"林家齊",null,null,null,null,null,null,null,null,null,null,{"$f":"IFERROR(VLOOKUP(K768,股價!A:B,2,0)*M768,\"\")","v":""},{"$f":"IF(O768=\"\",\"\",RANK(O768,$O$2:$O$1000))","v":""}]
["1231 聯華食","林胭            林胭",0,"林胭",null,null,null,null,null,null,null,null,null,null,{"$f":"IFERROR(VLOOKUP(K769,股價!A:B,2,0)*M769,\"\")","v":""},{"$f":"IF(O769=\"\",\"\",RANK(O769,$O$2:$O$1000))","v":""}]
["1231 聯華食","林意誠          林意誠",0,"林意誠",null,null,null,null,null,null,null,null,null,null,{"$f":"IFERROR(VLOOKUP(K770,股價!A:B,2,0)*M770,\"\")","v":""},{"$f":"IF(O770=\"\",\"\",RANK(O770,$O$2:$O$1000))","v":""}]
["1231 聯華食","施文吏          施文吏",0,"施文吏",null,null,null,null,null,null,null,null,null,null,{"$f":"IFERROR(VLOOKUP(K771,股價!A:B,2,0)*M771,\"\")","v":""},{"$f":"IF(O771=\"\",\"\",RANK(O771,$O$2:$O$1000))","v":""}]
["1231 聯華食","容繼業          容繼業",0,"容繼業",null,null,null,null,null,null,null,null,null,null,{"$f":"IFERROR(VLOOKUP(K772,股價!A:B,2,0)*M772,\"\")","v":""},{"$f":"IF(O772=\"\",\"\",RANK(O772,$O$2:$O$1000))","v":""}]
["1231 聯華食","高榮輝          高榮輝",0,"高榮輝",null,null,null,null,null,null,null,null,null,null,{"$f":"IFERROR(VLOOKUP(K773,股價!A:B,2,0)*M773,\"\")","v":""},{"$f":"IF(O773=\"\",\"\",RANK(O773,$O$2:$O$1000))","v":""}]
["1231 聯華食","國衡投資(有)    國衡投資(有)",27258,"國衡投資",null,null,null,null,null,null,null,null,null,null,{"$f":"IFERROR(VLOOKUP(K774,股價!A:B,2,0)*M774,\"\")","v":""},{"$f":"IF(O774=\"\",\"\",RANK(O774,$O$2:$O$1000))","v":""}]
["1231 聯華食","張蔚誠          張蔚誠",0,"張蔚誠",null,null,null,null,null,null,null,null,null,null,{"$f":"IFERROR(VLOOKUP(K775,股價!A:B,2,0)*M775,\"\")","v":""},{"$f":"IF(O775=\"\",\"\",RANK(O775,$O$2:$O$1000))","v":""}]
["1231 聯華食","張興祥          張興祥",10,"張興祥",null,null,null,null,null,null,null,null,null,null,{"$f":"IFERROR(VLOOKUP(K776,股價!A:B,2,0)*M776,\"\")","v":""},{"$f":"IF(O776=\"\",\"\",RANK(O776,$O$2:$O$1000))","v":""}]
["1231 聯華食","莊雪茹          莊雪茹",0,"莊雪茹",null,null,null,null,null,null,null,null,null,null,{"$f":"IFERROR(VLOOKUP(K777,股價!A:B,2,0)*M777,\"\")","v":""},{"$f":"IF(O777=\"\",\"\",RANK(O777,$O$2:$O$1000))","v":""}]
["1231 聯華食","許永展          許永展",0,"許永展",null,null,null,null,null,null,null,null,null,null,{"$f":"IFERROR(VLOOKUP(K778,股價!A:B,2,0)*M778,\"\")","v":""},{"$f":"IF(O778=\"\",\"\",RANK(O778,$O$2:$O$1000))","v":""}]
["1231 聯華食","許峻義          許峻義",0,"許峻義",null,null,null,null,null,null,null,null,null,null,{"$f":"IFERROR(VLOOKUP(K779,股價!A:B,2,0)*M779,\"\")","v":""},{"$f":"IF(O779=\"\",\"\",RANK(O779,$O$2:$O$1000))","v":""}]
["1231 聯華食","陳淑芬          陳淑芬",1,"陳淑芬",null,null,null,null,null,null,null,null,null,null,{"$f":"IFERROR(VLOOKUP(K780,股價!A:B,2,0)*M780,\"\")","v":""},{"$f":"IF(O780=\"\",\"\",RANK(O780,$O$2:$O$1000))","v":""}]
["1231 聯華食","黃惇勝          黃惇勝",0,"黃惇勝",null,null,null,null,null,null,null,null,null,null,{"$f":"IFERROR(VLOOKUP(K781,股價!A:B,2,0)*M781,\"\")","v":""},{"$f":"IF(O781=\"\",\"\",RANK(O781,$O$2:$O$1000))","v":""}]
["1231 聯華食","黃瓊萱          黃瓊萱",0,"黃瓊萱",null,null,null,null,null,null,null,null,null,null,{"$f":"IFERROR(VLOOKUP(K782,股價!A:B,2,0)*M782,\"\")","v":""},{"$f":"IF(O782=\"\",\"\",RANK(O782,$O$2:$O$1000))","v":""}]
["1231 聯華食","楊朝棋          楊朝棋",0,"楊朝棋",null,null,null,null,null,null,null,null,null,null,{"$f":"IFERROR(VLOOKUP(K783,股價!A:B,2,0)*M783,\"\")","v":""},{"$f":"IF(O783=\"\",\"\",RANK(O783,$O$2:$O$1000))","v":""}]
["1231 聯華食","萬歲投資(有)    李昱璽",6829,"萬歲投資",null,null,null,null,null,null,null,null,null,null,{"$f":"IFERROR(VLOOKUP(K784,股價!A:B,2,0)*M784,\"\")","v":""},{"$f":"IF(O784=\"\",\"\",RANK(O784,$O$2:$O$1000))","v":""}]
["1231 聯華食","詹懿真          詹懿真",0,"詹懿真",null,null,null,null,null,null,null,null,null,null,{"$f":"IFERROR(VLOOKUP(K785,股價!A:B,2,0)*M785,\"\")","v":""},{"$f":"IF(O785=\"\",\"\",RANK(O785,$O$2:$O$1000))","v":""}]
["1231 聯華食","廖志益          廖志益",0,"廖志益",null,null,null,null,null,null,null,null,null,null,{"$f":"IFERROR(VLOOKUP(K786,股價!A:B,2,0)*M786,\"\")","v":""},{"$f":"IF(O786=\"\",\"\",RANK(O786,$O$2:$O$1000))","v":""}]
["1231 聯華食","齊治平投資(有)  李青芸",7082,"齊治平投資",null,null,null,null,null,null,null,null,null,null,{"$f":"IFERROR(VLOOKUP(K787,股價!A:B,2,0)*M787,\"\")","v":""},{"$f":"IF(O787=\"\",\"\",RANK(O787,$O$2:$O$1000))","v":""}]
["1231 聯華食","簡伯武          簡伯武",22,"簡伯武",null,null,null,null,null,null,null,null,null,null,{"$f":"IFERROR(VLOOKUP(K788,股價!A:B,2,0)*M788,\"\")","v":""},{"$f":"IF(O788=\"\",\"\",RANK(O788,$O$2:$O$1000))","v":""}]
["1231 聯華食","鑫德投資(有)    黃惇勝",28549,"鑫德投資",null,null,null,null,null,null,null,null,null,null,{"$f":"IFERROR(VLOOKUP(K789,股價!A:B,2,0)*M789,\"\")","v":""},{"$f":"IF(O789=\"\",\"\",RANK(O789,$O$2:$O$1000))","v":""}]
["1232 大統益","_大股東合計1",0,null,null,null,null,null,null,null,null,null,null,null,{"$f":"IFERROR(VLOOKUP(K790,股價!A:B,2,0)*M790,\"\")","v":""},{"$f":"IF(O790=\"\",\"\",RANK(O790,$O$2:$O$1000))","v":""}]
["1232 大統益","_大股東合計2    含沿用資料",16964,null,null,null,null,null,null,null,null,null,null,null,{"$f":"IFERROR(VLOOKUP(K791,股價!A:B,2,0)*M791,\"\")","v":""},{"$f":"IF(O791=\"\",\"\",RANK(O791,$O$2:$O$1000))","v":""}]
["1232 大統益","_經理人合計",52,null,null,null,null,null,null,null,null,null,null,null,{"$f":"IFERROR(VLOOKUP(K792,股價!A:B,2,0)*M792,\"\")","v":""},{"$f":"IF(O792=\"\",\"\",RANK(O792,$O$2:$O$1000))","v":""}]
["1232 大統益","_董  事合計",104626,null,null,null,null,null,null,null,null,null,null,null,{"$f":"IFERROR(VLOOKUP(K793,股價!A:B,2,0)*M793,\"\")","v":""},{"$f":"IF(O793=\"\",\"\",RANK(O793,$O$2:$O$1000))","v":""}]
["1232 大統益","_董監事合計",104626,null,null,null,null,null,null,null,null,null,null,null,{"$f":"IFERROR(VLOOKUP(K794,股價!A:B,2,0)*M794,\"\")","v":""},{"$f":"IF(O794=\"\",\"\",RANK(O794,$O$2:$O$1000))","v":""}]
["1232 大統益","_監察人合計",0,null,null,null,null,null,null,null,null,null,null,null,{"$f":"IFERROR(VLOOKUP(K795,股價!A:B,2,0)*M795,\"\")","v":""},{"$f":"IF(O795=\"\",\"\",RANK(O795,$O$2:$O$1000))","v":""}]
["1232 大統益","大成長城企業(股)韓家宇",15417,"大成長城企業",null,null,null,null,null,null,null,null,null,null,{"$f":"IFERROR(VLOOKUP(K796,股價!A:B,2,0)*M796,\"\")","v":""},{"$f":"IF(O796=\"\",\"\",RANK(O796,$O$2:$O$1000))","v":""}]
["1232 大統益","尤中瑛          尤中瑛",0,"尤中瑛",null,null,null,null,null,null,null,null,null,null,{"$f":"IFERROR(VLOOKUP(K797,股價!A:B,2,0)*M797,\"\")","v":""},{"$f":"IF(O797=\"\",\"\",RANK(O797,$O$2:$O$1000))","v":""}]
["1232 大統益","吳諒豐          吳諒豐",0,"吳諒豐",null,null,null,null,null,null,null,null,null,null,{"$f":"IFERROR(VLOOKUP(K798,股價!A:B,2,0)*M798,\"\")","v":""},{"$f":"IF(O798=\"\",\"\",RANK(O798,$O$2:$O$1000))","v":""}]
["1232 大統益","李允裕          李允裕",0,"李允裕",null,null,null,null,null,null,null,null,null,null,{"$f":"IFERROR(VLOOKUP(K799,股價!A:B,2,0)*M799,\"\")","v":""},{"$f":"IF(O799=\"\",\"\",RANK(O799,$O$2:$O$1000))","v":""}]
["1232 大統益","李文生          李文生",0,"李文生",null,null,null,null,null,null,null,null,null,null,{"$f":"IFERROR(VLOOKUP(K800,股價!A:B,2,0)*M800,\"\")","v":""},{"$f":"IF(O800=\"\",\"\",RANK(O800,$O$2:$O$1000))","v":""}]
["1232 大統益","李清田          李清田",0,"李清田",null,null,null,null,null,null,null,null,null,null,{"$f":"IFERROR(VLOOKUP(K801,股價!A:B,2,0)*M801,\"\")","v":""},{"$f":"IF(O801=\"\",\"\",RANK(O801,$O$2:$O$1000))","v":""}]
["1232 大統益","李麗玲          李麗玲",385,"李麗玲",null,null,null,null,null,null,null,null,null,null,{"$f":"IFERROR(VLOOKUP(K802,股價!A:B,2,0)*M802,\"\")","v":""},{"$f":"IF(O802=\"\",\"\",RANK(O802,$O$2:$O$1000))","v":""}]
["1232 大統益","周(田井)宇      周(田井)宇",425,"周(田井)宇",null,null,null,null,null,null,null,null,null,null,{"$f":"IFERROR(VLOOKUP(K803,股價!A:B,2,0)*M803,\"\")","v":""},{"$f":"IF(O803=\"\",\"\",RANK(O803,$O$2:$O$1000))","v":""}]
["1232 大統益","林坤成          林坤成",0,"林坤成",null,null,null,null,null,null,null,null,null,null,{"$f":"IFERROR(VLOOKUP(K804,股價!A:B,2,0)*M804,\"\")","v":""},{"$f":"IF(O804=\"\",\"\",RANK(O804,$O$2:$O$1000))","v":""}]
["1232 大統益","胡育誌          胡育誌",1,"胡育誌",null,null,null,null,null,null,null,null,null,null,{"$f":"IFERROR(VLOOKUP(K805,股價!A:B,2,0)*M805,\"\")","v":""},{"$f":"IF(O805=\"\",\"\",RANK(O805,$O$2:$O$1000))","v":""}]
["1232 大統益","泰華油脂工業(股)陳翼宗",27615,"泰華油脂工業",null,null,null,null,null,null,null,null,null,null,{"$f":"IFERROR(VLOOKUP(K806,股價!A:B,2,0)*M806,\"\")","v":""},{"$f":"IF(O806=\"\",\"\",RANK(O806,$O$2:$O$1000))","v":""}]
["1232 大統益","泰華油脂工業(股)陳翼圖",27615,"泰華油脂工業",null,null,null,null,null,null,null,null,null,null,{"$f":"IFERROR(VLOOKUP(K807,股價!A:B,2,0)*M807,\"\")","v":""},{"$f":"IF(O807=\"\",\"\",RANK(O807,$O$2:$O$1000))","v":""}]
["1232 大統益","張立勳          張立勳",4,"張立勳",null,null,null,null,null,null,null,null,null,null,{"$f":"IFERROR(VLOOKUP(K808,股價!A:B,2,0)*M808,\"\")","v":""},{"$f":"IF(O808=\"\",\"\",RANK(O808,$O$2:$O$1000))","v":""}]
["1232 大統益","統一企業(股)    吳諒豐",61594,"統一企業",null,null,null,null,null,null,null,null,null,null,{"$f":"IFERROR(VLOOKUP(K809,股價!A:B,2,0)*M809,\"\")","v":""},{"$f":"IF(O809=\"\",\"\",RANK(O809,$O$2:$O$1000))","v":""}]
["1232 大統益","統一企業(股)    李清田",61594,"統一企業",null,null,null,null,null,null,null,null,null,null,{"$f":"IFERROR(VLOOKUP(K810,股價!A:B,2,0)*M810,\"\")","v":""},{"$f":"IF(O810=\"\",\"\",RANK(O810,$O$2:$O$1000))","v":""}]
["1232 大統益","統一企業(股)    張立勳",61594,"統一企業",null,null,null,null,null,null,null,null,null,null,{"$f":"IFERROR(VLOOKUP(K811,股價!A:B,2,0)*M811,\"\")","v":""},{"$f":"IF(O811=\"\",\"\",RANK(O811,$O$2:$O$1000))","v":""}]
["1232 大統益","統一企業(股)    陳昭良",61594,"統一企業",null,null,null,null,null,null,null,null,null,null,{"$f":"IFERROR(VLOOKUP(K812,股價!A:B,2,0)*M812,\"\")","v":""},{"$f":"IF(O812=\"\",\"\",RANK(O812,$O$2:$O$1000))","v":""}]
["1232 大統益","統一企業(股)    羅智先",61594,"統一企業",null,null,null,null,null,null,null,null,null,null,{"$f":"IFERROR(VLOOKUP(K813,股價!A:B,2,0)*M813,\"\")","v":""},{"$f":"IF(O813=\"\",\"\",RANK(O813,$O$2:$O$1000))","v":""}]
["1232 大統益","陳旭華          陳旭華",0,"陳旭華",null,null,null,null,null,null,null,null,null,null,{"$f":"IFERROR(VLOOKUP(K814,股價!A:B,2,0)*M814,\"\")","v":""},{"$f":"IF(O814=\"\",\"\",RANK(O814,$O$2:$O$1000))","v":""}]
["1232 大統益","陳冠州          陳冠州",51,"陳冠州",null,null,null,null,null,null,null,null,null,null,{"$f":"IFERROR(VLOOKUP(K815,股價!A:B,2,0)*M815,\"\")","v":""},{"$f":"IF(O815=\"\",\"\",RANK(O815,$O$2:$O$1000))","v":""}]
["1232 大統益","陳昭良          陳昭良",0,"陳昭良",null,null,null,null,null,null,null,null,null,null,{"$f":"IFERROR(VLOOKUP(K816,股價!A:B,2,0)*M816,\"\")","v":""},{"$f":"IF(O816=\"\",\"\",RANK(O816,$O$2:$O$1000))","v":""}]
["1232 大統益","陳玲音          陳玲音",485,"陳玲音",null,null,null,null,null,null,null,null,null,null,{"$f":"IFERROR(VLOOKUP(K817,股價!A:B,2,0)*M817,\"\")","v":""},{"$f":"IF(O817=\"\",\"\",RANK(O817,$O$2:$O$1000))","v":""}]
["1232 大統益","陳翼仁          陳翼仁",575,"陳翼仁",null,null,null,null,null,null,null,null,null,null,{"$f":"IFERROR(VLOOKUP(K818,股價!A:B,2,0)*M818,\"\")","v":""},{"$f":"IF(O818=\"\",\"\",RANK(O818,$O$2:$O$1000))","v":""}]
["1232 大統益","陳翼宗          陳翼宗",55,"陳翼宗",null,null,null,null,null,null,null,null,null,null,{"$f":"IFERROR(VLOOKUP(K819,股價!A:B,2,0)*M819,\"\")","v":""},{"$f":"IF(O819=\"\",\"\",RANK(O819,$O$2:$O$1000))","v":""}]
["1232 大統益","陳翼圖          陳翼圖",138,"陳翼圖",null,null,null,null,null,null,null,null,null,null,{"$f":"IFERROR(VLOOKUP(K820,股價!A:B,2,0)*M820,\"\")","v":""},{"$f":"IF(O820=\"\",\"\",RANK(O820,$O$2:$O$1000))","v":""}]
["1232 大統益","凱友投資(股)    陳國煇",12226,"凱友投資",null,null,null,null,null,null,null,null,null,null,{"$f":"IFERROR(VLOOKUP(K821,股價!A:B,2,0)*M821,\"\")","v":""},{"$f":"IF(O821=\"\",\"\",RANK(O821,$O$2:$O$1000))","v":""}]
["1232 大統益","黃河投資(股)    韓家宇",2458,"黃河投資",null,null,null,null,null,null,null,null,null,null,{"$f":"IFERROR(VLOOKUP(K822,股價!A:B,2,0)*M822,\"\")","v":""},{"$f":"IF(O822=\"\",\"\",RANK(O822,$O$2:$O$1000))","v":""}]
["1232 大統益","黃培文          黃培文",0,"黃培文",null,null,null,null,null,null,null,null,null,null,{"$f":"IFERROR(VLOOKUP(K823,股價!A:B,2,0)*M823,\"\")","v":""},{"$f":"IF(O823=\"\",\"\",RANK(O823,$O$2:$O$1000))","v":""}]
["1232 大統益","黃義生          黃義生",410,"黃義生",null,null,null,null,null,null,null,null,null,null,{"$f":"IFERROR(VLOOKUP(K824,股價!A:B,2,0)*M824,\"\")","v":""},{"$f":"IF(O824=\"\",\"\",RANK(O824,$O$2:$O$1000))","v":""}]
["1232 大統益","廖秀娟          廖秀娟",0,"廖秀娟",null,null,null,null,null,null,null,null,null,null,{"$f":"IFERROR(VLOOKUP(K825,股價!A:B,2,0)*M825,\"\")","v":""},{"$f":"IF(O825=\"\",\"\",RANK(O825,$O$2:$O$1000))","v":""}]
["1232 大統益","韓家宇          韓家宇",0,"韓家宇",null,null,null,null,null,null,null,null,null,null,{"$f":"IFERROR(VLOOKUP(K826,股價!A:B,2,0)*M826,\"\")","v":""},{"$f":"IF(O826=\"\",\"\",RANK(O826,$O$2:$O$1000))","v":""}]
["1232 大統益","羅智先          羅智先",0,"羅智先",null,null,null,null,null,null,null,null,null,null,{"$f":"IFERROR(VLOOKUP(K827,股價!A:B,2,0)*M827,\"\")","v":""},{"$f":"IF(O827=\"\",\"\",RANK(O827,$O$2:$O$1000))","v":""}]
["1233 天仁","_大股東合計1",10785,null,null,null,null,null,null,null,null,null,null,null,{"$f":"IFERROR(VLOOKUP(K828,股價!A:B,2,0)*M828,\"\")","v":""},{"$f":"IF(O828=\"\",\"\",RANK(O828,$O$2:$O$1000))","v":""}]
["1233 天仁","_大股東合計2    含沿用資料",44247,null,null,null,null,null,null,null,null,null,null,null,{"$f":"IFERROR(VLOOKUP(K829,股價!A:B,2,0)*M829,\"\")","v":""},{"$f":"IF(O829=\"\",\"\",RANK(O829,$O$2:$O$1000))","v":""}]
["1233 天仁","_經理人合計",402,null,null,null,null,null,null,null,null,null,null,null,{"$f":"IFERROR(VLOOKUP(K830,股價!A:B,2,0)*M830,\"\")","v":""},{"$f":"IF(O830=\"\",\"\",RANK(O830,$O$2:$O$1000))","v":""}]
["1233 天仁","_董  事合計",10031,null,null,null,null,null,null,null,null,null,null,null,{"$f":"IFERROR(VLOOKUP(K831,股價!A:B,2,0)*M831,\"\")","v":""},{"$f":"IF(O831=\"\",\"\",RANK(O831,$O$2:$O$1000))","v":""}]
["1233 天仁","_董監事合計",10031,null,null,null,null,null,null,null,null,null,null,null,{"$f":"IFERROR(VLOOKUP(K832,股價!A:B,2,0)*M832,\"\")","v":""},{"$f":"IF(O832=\"\",\"\",RANK(O832,$O$2:$O$1000))","v":""}]
["1233 天仁","_監察人合計",0,null,null,null,null,null,null,null,null,null,null,null,{"$f":"IFERROR(VLOOKUP(K833,股價!A:B,2,0)*M833,\"\")","v":""},{"$f":"IF(O833=\"\",\"\",RANK(O833,$O$2:$O$1000))","v":""}]
["1233 天仁","天欣投資(股)    天欣投資(股)",10785,"天欣投資",null,null,null,null,null,null,null,null,null,null,{"$f":"IFERROR(VLOOKUP(K834,股價!A:B,2,0)*M834,\"\")","v":""},{"$f":"IF(O834=\"\",\"\",RANK(O834,$O$2:$O$1000))","v":""}]
["1233 天仁","天瑞投資(股)    李瑞河",9057,"天瑞投資",null,null,null,null,null,null,null,null,null,null,{"$f":"IFERROR(VLOOKUP(K835,股價!A:B,2,0)*M835,\"\")","v":""},{"$f":"IF(O835=\"\",\"\",RANK(O835,$O$2:$O$1000))","v":""}]
["1233 天仁","天福投資(股)    李建德",9191,"天福投資",null,null,null,null,null,null,null,null,null,null,{"$f":"IFERROR(VLOOKUP(K836,股價!A:B,2,0)*M836,\"\")","v":""},{"$f":"IF(O836=\"\",\"\",RANK(O836,$O$2:$O$1000))","v":""}]
["1233 天仁","天福投資(股)    李國麟",9191,"天福投資",null,null,null,null,null,null,null,null,null,null,{"$f":"IFERROR(VLOOKUP(K837,股價!A:B,2,0)*M837,\"\")","v":""},{"$f":"IF(O837=\"\",\"\",RANK(O837,$O$2:$O$1000))","v":""}]
["1233 天仁","天福投資(股)    蔡松欉",9191,"天福投資",null,null,null,null,null,null,null,null,null,null,{"$f":"IFERROR(VLOOKUP(K838,股價!A:B,2,0)*M838,\"\")","v":""},{"$f":"IF(O838=\"\",\"\",RANK(O838,$O$2:$O$1000))","v":""}]
["1233 天仁","王洪樂音        王洪樂音",2150,"王洪樂音",null,null,null,null,null,null,null,null,null,null,{"$f":"IFERROR(VLOOKUP(K839,股價!A:B,2,0)*M839,\"\")","v":""},{"$f":"IF(O839=\"\",\"\",RANK(O839,$O$2:$O$1000))","v":""}]
["1233 天仁","王紅琬          王紅琬",1,"王紅琬",null,null,null,null,null,null,null,null,null,null,{"$f":"IFERROR(VLOOKUP(K840,股價!A:B,2,0)*M840,\"\")","v":""},{"$f":"IF(O840=\"\",\"\",RANK(O840,$O$2:$O$1000))","v":""}]
["1233 天仁","王連源          王連源",5899,"王連源",null,null,null,null,null,null,null,null,null,null,{"$f":"IFERROR(VLOOKUP(K841,股價!A:B,2,0)*M841,\"\")","v":""},{"$f":"IF(O841=\"\",\"\",RANK(O841,$O$2:$O$1000))","v":""}]
["1233 天仁","王華榮          王華榮",0,"王華榮",null,null,null,null,null,null,null,null,null,null,{"$f":"IFERROR(VLOOKUP(K842,股價!A:B,2,0)*M842,\"\")","v":""},{"$f":"IF(O842=\"\",\"\",RANK(O842,$O$2:$O$1000))","v":""}]
["1233 天仁","朱惠玲          朱惠玲",1,"朱惠玲",null,null,null,null,null,null,null,null,null,null,{"$f":"IFERROR(VLOOKUP(K843,股價!A:B,2,0)*M843,\"\")","v":""},{"$f":"IF(O843=\"\",\"\",RANK(O843,$O$2:$O$1000))","v":""}]
["1233 天仁","李建德          李建德",425,"李建德",null,null,null,null,null,null,null,null,null,null,{"$f":"IFERROR(VLOOKUP(K844,股價!A:B,2,0)*M844,\"\")","v":""},{"$f":"IF(O844=\"\",\"\",RANK(O844,$O$2:$O$1000))","v":""}]
["1233 天仁","李國麟          李國麟",387,"李國麟",null,null,null,null,null,null,null,null,null,null,{"$f":"IFERROR(VLOOKUP(K845,股價!A:B,2,0)*M845,\"\")","v":""},{"$f":"IF(O845=\"\",\"\",RANK(O845,$O$2:$O$1000))","v":""}]
["1233 天仁","李蔡麗莉        李蔡麗莉",1451,"李蔡麗莉",null,null,null,null,null,null,null,null,null,null,{"$f":"IFERROR(VLOOKUP(K846,股價!A:B,2,0)*M846,\"\")","v":""},{"$f":"IF(O846=\"\",\"\",RANK(O846,$O$2:$O$1000))","v":""}]
["1233 天仁","周月珠          周月珠",3202,"周月珠",null,null,null,null,null,null,null,null,null,null,{"$f":"IFERROR(VLOOKUP(K847,股價!A:B,2,0)*M847,\"\")","v":""},{"$f":"IF(O847=\"\",\"\",RANK(O847,$O$2:$O$1000))","v":""}]
["1233 天仁","林仁宗          林仁宗",120,"林仁宗",null,null,null,null,null,null,null,null,null,null,{"$f":"IFERROR(VLOOKUP(K848,股價!A:B,2,0)*M848,\"\")","v":""},{"$f":"IF(O848=\"\",\"\",RANK(O848,$O$2:$O$1000))","v":""}]
["1233 天仁","花旗(台灣)商業銀花旗(台灣)商",3764,"花旗(台灣)商業銀行受託保管阿爾發泉通用公司投資專戶",null,null,null,null,null,null,null,null,null,null,{"$f":"IFERROR(VLOOKUP(K849,股價!A:B,2,0)*M849,\"\")","v":""},{"$f":"IF(O849=\"\",\"\",RANK(O849,$O$2:$O$1000))","v":""}]
["1233 天仁","徐文源          徐文源",365,"徐文源",null,null,null,null,null,null,null,null,null,null,{"$f":"IFERROR(VLOOKUP(K850,股價!A:B,2,0)*M850,\"\")","v":""},{"$f":"IF(O850=\"\",\"\",RANK(O850,$O$2:$O$1000))","v":""}]
["1233 天仁","統懋投資(股)    王連源",720,"統懋投資",null,null,null,null,null,null,null,null,null,null,{"$f":"IFERROR(VLOOKUP(K851,股價!A:B,2,0)*M851,\"\")","v":""},{"$f":"IF(O851=\"\",\"\",RANK(O851,$O$2:$O$1000))","v":""}]
["1233 天仁","郭惠玲          郭惠玲",1333,"郭惠玲",null,null,null,null,null,null,null,null,null,null,{"$f":"IFERROR(VLOOKUP(K852,股價!A:B,2,0)*M852,\"\")","v":""},{"$f":"IF(O852=\"\",\"\",RANK(O852,$O$2:$O$1000))","v":""}]
["1233 天仁","陳中智          陳中智",6,"陳中智",null,null,null,null,null,null,null,null,null,null,{"$f":"IFERROR(VLOOKUP(K853,股價!A:B,2,0)*M853,\"\")","v":""},{"$f":"IF(O853=\"\",\"\",RANK(O853,$O$2:$O$1000))","v":""}]
["1233 天仁","陳映如          陳映如",25,"陳映如",null,null,null,null,null,null,null,null,null,null,{"$f":"IFERROR(VLOOKUP(K854,股價!A:B,2,0)*M854,\"\")","v":""},{"$f":"IF(O854=\"\",\"\",RANK(O854,$O$2:$O$1000))","v":""}]
["1233 天仁","曾明順          曾明順",0,"曾明順",null,null,null,null,null,null,null,null,null,null,{"$f":"IFERROR(VLOOKUP(K855,股價!A:B,2,0)*M855,\"\")","v":""},{"$f":"IF(O855=\"\",\"\",RANK(O855,$O$2:$O$1000))","v":""}]
["1233 天仁","馮仁厚          馮仁厚",0,"馮仁厚",null,null,null,null,null,null,null,null,null,null,{"$f":"IFERROR(VLOOKUP(K856,股價!A:B,2,0)*M856,\"\")","v":""},{"$f":"IF(O856=\"\",\"\",RANK(O856,$O$2:$O$1000))","v":""}]
["1233 天仁","維安投資(有)    蔡松欉",6606,"維安投資",null,null,null,null,null,null,null,null,null,null,{"$f":"IFERROR(VLOOKUP(K857,股價!A:B,2,0)*M857,\"\")","v":""},{"$f":"IF(O857=\"\",\"\",RANK(O857,$O$2:$O$1000))","v":""}]
["1233 天仁","歐宗明          歐宗明",4,"歐宗明",null,null,null,null,null,null,null,null,null,null,{"$f":"IFERROR(VLOOKUP(K858,股價!A:B,2,0)*M858,\"\")","v":""},{"$f":"IF(O858=\"\",\"\",RANK(O858,$O$2:$O$1000))","v":""}]
["1233 天仁","蔡松欉          蔡松欉",383,"蔡松欉",null,null,null,null,null,null,null,null,null,null,{"$f":"IFERROR(VLOOKUP(K859,股價!A:B,2,0)*M859,\"\")","v":""},{"$f":"IF(O859=\"\",\"\",RANK(O859,$O$2:$O$1000))","v":""}]
["1233 天仁","鄧泗堂          鄧泗堂",0,"鄧泗堂",null,null,null,null,null,null,null,null,null,null,{"$f":"IFERROR(VLOOKUP(K860,股價!A:B,2,0)*M860,\"\")","v":""},{"$f":"IF(O860=\"\",\"\",RANK(O860,$O$2:$O$1000))","v":""}]
["1233 天仁","謝文銓          謝文銓",0,"謝文銓",null,null,null,null,null,null,null,null,null,null,{"$f":"IFERROR(VLOOKUP(K861,股價!A:B,2,0)*M861,\"\")","v":""},{"$f":"IF(O861=\"\",\"\",RANK(O861,$O$2:$O$1000))","v":""}]
["1234 黑松","_大股東合計1",0,null,null,null,null,null,null,null,null,null,null,null,{"$f":"IFERROR(VLOOKUP(K862,股價!A:B,2,0)*M862,\"\")","v":""},{"$f":"IF(O862=\"\",\"\",RANK(O862,$O$2:$O$1000))","v":""}]
["1234 黑松","_大股東合計2    含沿用資料",80031,null,null,null,null,null,null,null,null,null,null,null,{"$f":"IFERROR(VLOOKUP(K863,股價!A:B,2,0)*M863,\"\")","v":""},{"$f":"IF(O863=\"\",\"\",RANK(O863,$O$2:$O$1000))","v":""}]
["1234 黑松","_經理人合計",2370,null,null,null,null,null,null,null,null,null,null,null,{"$f":"IFERROR(VLOOKUP(K864,股價!A:B,2,0)*M864,\"\")","v":""},{"$f":"IF(O864=\"\",\"\",RANK(O864,$O$2:$O$1000))","v":""}]
["1234 黑松","_董  事合計",48316,null,null,null,null,null,null,null,null,null,null,null,{"$f":"IFERROR(VLOOKUP(K865,股價!A:B,2,0)*M865,\"\")","v":""},{"$f":"IF(O865=\"\",\"\",RANK(O865,$O$2:$O$1000))","v":""}]
["1234 黑松","_董監事合計",48316,null,null,null,null,null,null,null,null,null,null,null,{"$f":"IFERROR(VLOOKUP(K866,股價!A:B,2,0)*M866,\"\")","v":""},{"$f":"IF(O866=\"\",\"\",RANK(O866,$O$2:$O$1000))","v":""}]
["1234 黑松","_監察人合計",0,null,null,null,null,null,null,null,null,null,null,null,{"$f":"IFERROR(VLOOKUP(K867,股價!A:B,2,0)*M867,\"\")","v":""},{"$f":"IF(O867=\"\",\"\",RANK(O867,$O$2:$O$1000))","v":""}]
["1234 黑松","上詠投資(股)    張國慶",7919,"上詠投資",null,null,null,null,null,null,null,null,null,null,{"$f":"IFERROR(VLOOKUP(K868,股價!A:B,2,0)*M868,\"\")","v":""},{"$f":"IF(O868=\"\",\"\",RANK(O868,$O$2:$O$1000))","v":""}]
["1234 黑松","太得投資(有)    楊盛傑",5563,"太得投資",null,null,null,null,null,null,null,null,null,null,{"$f":"IFERROR(VLOOKUP(K869,股價!A:B,2,0)*M869,\"\")","v":""},{"$f":"IF(O869=\"\",\"\",RANK(O869,$O$2:$O$1000))","v":""}]
["1234 黑松","太得投資(有)    蔡彩雲",5563,"太得投資",null,null,null,null,null,null,null,null,null,null,{"$f":"IFERROR(VLOOKUP(K870,股價!A:B,2,0)*M870,\"\")","v":""},{"$f":"IF(O870=\"\",\"\",RANK(O870,$O$2:$O$1000))","v":""}]
["1234 黑松","有盛投資(股)    張智泓",3657,"有盛投資",null,null,null,null,null,null,null,null,null,null,{"$f":"IFERROR(VLOOKUP(K871,股價!A:B,2,0)*M871,\"\")","v":""},{"$f":"IF(O871=\"\",\"\",RANK(O871,$O$2:$O$1000))","v":""}]
["1234 黑松","何世華          何世華",6480,"何世華",null,null,null,null,null,null,null,null,null,null,{"$f":"IFERROR(VLOOKUP(K872,股價!A:B,2,0)*M872,\"\")","v":""},{"$f":"IF(O872=\"\",\"\",RANK(O872,$O$2:$O$1000))","v":""}]
["1234 黑松","李建論          李建論",0,"李建論",null,null,null,null,null,null,null,null,null,null,{"$f":"IFERROR(VLOOKUP(K873,股價!A:B,2,0)*M873,\"\")","v":""},{"$f":"IF(O873=\"\",\"\",RANK(O873,$O$2:$O$1000))","v":""}]
["1234 黑松","李鳳翱          李鳳翱",0,"李鳳翱",null,null,null,null,null,null,null,null,null,null,{"$f":"IFERROR(VLOOKUP(K874,股價!A:B,2,0)*M874,\"\")","v":""},{"$f":"IF(O874=\"\",\"\",RANK(O874,$O$2:$O$1000))","v":""}]
["1234 黑松","杜居燦          杜居燦",0,"杜居燦",null,null,null,null,null,null,null,null,null,null,{"$f":"IFERROR(VLOOKUP(K875,股價!A:B,2,0)*M875,\"\")","v":""},{"$f":"IF(O875=\"\",\"\",RANK(O875,$O$2:$O$1000))","v":""}]
["1234 黑松","來亨投資(股)    程清屘",6189,"來亨投資",null,null,null,null,null,null,null,null,null,null,{"$f":"IFERROR(VLOOKUP(K876,股價!A:B,2,0)*M876,\"\")","v":""},{"$f":"IF(O876=\"\",\"\",RANK(O876,$O$2:$O$1000))","v":""}]
["1234 黑松","林火燈          林火燈",0,"林火燈",null,null,null,null,null,null,null,null,null,null,{"$f":"IFERROR(VLOOKUP(K877,股價!A:B,2,0)*M877,\"\")","v":""},{"$f":"IF(O877=\"\",\"\",RANK(O877,$O$2:$O$1000))","v":""}]
["1234 黑松","欣永恒(有)      欣永恒(有)",310,"欣永恒",null,null,null,null,null,null,null,null,null,null,{"$f":"IFERROR(VLOOKUP(K878,股價!A:B,2,0)*M878,\"\")","v":""},{"$f":"IF(O878=\"\",\"\",RANK(O878,$O$2:$O$1000))","v":""}]
["1234 黑松","邱國棟          邱國棟",3,"邱國棟",null,null,null,null,null,null,null,null,null,null,{"$f":"IFERROR(VLOOKUP(K879,股價!A:B,2,0)*M879,\"\")","v":""},{"$f":"IF(O879=\"\",\"\",RANK(O879,$O$2:$O$1000))","v":""}]
["1234 黑松","長源投資(股)    楊振隆",6411,"長源投資",null,null,null,null,null,null,null,null,null,null,{"$f":"IFERROR(VLOOKUP(K880,股價!A:B,2,0)*M880,\"\")","v":""},{"$f":"IF(O880=\"\",\"\",RANK(O880,$O$2:$O$1000))","v":""}]
["1234 黑松","長僑投資開發(有)廖鎮漢",10847,"長僑投資開發",null,null,null,null,null,null,null,null,null,null,{"$f":"IFERROR(VLOOKUP(K881,股價!A:B,2,0)*M881,\"\")","v":""},{"$f":"IF(O881=\"\",\"\",RANK(O881,$O$2:$O$1000))","v":""}]
["1234 黑松","康欣國際投資(股)林明輝",9220,"康欣國際投資",null,null,null,null,null,null,null,null,null,null,{"$f":"IFERROR(VLOOKUP(K882,股價!A:B,2,0)*M882,\"\")","v":""},{"$f":"IF(O882=\"\",\"\",RANK(O882,$O$2:$O$1000))","v":""}]
["1234 黑松","張正星          張正星",2623,"張正星",null,null,null,null,null,null,null,null,null,null,{"$f":"IFERROR(VLOOKUP(K883,股價!A:B,2,0)*M883,\"\")","v":""},{"$f":"IF(O883=\"\",\"\",RANK(O883,$O$2:$O$1000))","v":""}]
["1234 黑松","張建章          張建章",1576,"張建章",null,null,null,null,null,null,null,null,null,null,{"$f":"IFERROR(VLOOKUP(K884,股價!A:B,2,0)*M884,\"\")","v":""},{"$f":"IF(O884=\"\",\"\",RANK(O884,$O$2:$O$1000))","v":""}]
["1234 黑松","張建陽          張建陽",1533,"張建陽",null,null,null,null,null,null,null,null,null,null,{"$f":"IFERROR(VLOOKUP(K885,股價!A:B,2,0)*M885,\"\")","v":""},{"$f":"IF(O885=\"\",\"\",RANK(O885,$O$2:$O$1000))","v":""}]
["1234 黑松","張建業          張建業",110,"張建業",null,null,null,null,null,null,null,null,null,null,{"$f":"IFERROR(VLOOKUP(K886,股價!A:B,2,0)*M886,\"\")","v":""},{"$f":"IF(O886=\"\",\"\",RANK(O886,$O$2:$O$1000))","v":""}]
["1234 黑松","張智泓          張智泓",69,"張智泓",null,null,null,null,null,null,null,null,null,null,{"$f":"IFERROR(VLOOKUP(K887,股價!A:B,2,0)*M887,\"\")","v":""},{"$f":"IF(O887=\"\",\"\",RANK(O887,$O$2:$O$1000))","v":""}]
["1234 黑松","張智鈞          張智鈞",2358,"張智鈞",null,null,null,null,null,null,null,null,null,null,{"$f":"IFERROR(VLOOKUP(K888,股價!A:B,2,0)*M888,\"\")","v":""},{"$f":"IF(O888=\"\",\"\",RANK(O888,$O$2:$O$1000))","v":""}]
["1234 黑松","張斌炎          張斌炎",10892,"張斌炎",null,null,null,null,null,null,null,null,null,null,{"$f":"IFERROR(VLOOKUP(K889,股價!A:B,2,0)*M889,\"\")","v":""},{"$f":"IF(O889=\"\",\"\",RANK(O889,$O$2:$O$1000))","v":""}]
["1234 黑松","張斌堂          張斌堂",12555,"張斌堂",null,null,null,null,null,null,null,null,null,null,{"$f":"IFERROR(VLOOKUP(K890,股價!A:B,2,0)*M890,\"\")","v":""},{"$f":"IF(O890=\"\",\"\",RANK(O890,$O$2:$O$1000))","v":""}]
["1234 黑松","程清屘          程清屘",362,"程清屘",null,null,null,null,null,null,null,null,null,null,{"$f":"IFERROR(VLOOKUP(K891,股價!A:B,2,0)*M891,\"\")","v":""},{"$f":"IF(O891=\"\",\"\",RANK(O891,$O$2:$O$1000))","v":""}]
["1234 黑松","微風場站開發(股)黃瑞妍",11012,"微風場站開發",null,null,null,null,null,null,null,null,null,null,{"$f":"IFERROR(VLOOKUP(K892,股價!A:B,2,0)*M892,\"\")","v":""},{"$f":"IF(O892=\"\",\"\",RANK(O892,$O$2:$O$1000))","v":""}]
["1234 黑松","微風廣場實業(股)黃瑞妍",17250,"微風廣場實業",null,null,null,null,null,null,null,null,null,null,{"$f":"IFERROR(VLOOKUP(K893,股價!A:B,2,0)*M893,\"\")","v":""},{"$f":"IF(O893=\"\",\"\",RANK(O893,$O$2:$O$1000))","v":""}]
["1234 黑松","新邦投資(有)    張建業",6434,"新邦投資",null,null,null,null,null,null,null,null,null,null,{"$f":"IFERROR(VLOOKUP(K894,股價!A:B,2,0)*M894,\"\")","v":""},{"$f":"IF(O894=\"\",\"\",RANK(O894,$O$2:$O$1000))","v":""}]
["1234 黑松","楊盛傑          楊盛傑",0,"楊盛傑",null,null,null,null,null,null,null,null,null,null,{"$f":"IFERROR(VLOOKUP(K895,股價!A:B,2,0)*M895,\"\")","v":""},{"$f":"IF(O895=\"\",\"\",RANK(O895,$O$2:$O$1000))","v":""}]
["1234 黑松","道和投資(股)    張智鈞",3273,"道和投資",null,null,null,null,null,null,null,null,null,null,{"$f":"IFERROR(VLOOKUP(K896,股價!A:B,2,0)*M896,\"\")","v":""},{"$f":"IF(O896=\"\",\"\",RANK(O896,$O$2:$O$1000))","v":""}]
["1234 黑松","蔡明章          蔡明章",0,"蔡明章",null,null,null,null,null,null,null,null,null,null,{"$f":"IFERROR(VLOOKUP(K897,股價!A:B,2,0)*M897,\"\")","v":""},{"$f":"IF(O897=\"\",\"\",RANK(O897,$O$2:$O$1000))","v":""}]
["1234 黑松","蔡彩雲          蔡彩雲",39,"蔡彩雲",null,null,null,null,null,null,null,null,null,null,{"$f":"IFERROR(VLOOKUP(K898,股價!A:B,2,0)*M898,\"\")","v":""},{"$f":"IF(O898=\"\",\"\",RANK(O898,$O$2:$O$1000))","v":""}]
["1234 黑松","蔡曜光          蔡曜光",7,"蔡曜光",null,null,null,null,null,null,null,null,null,null,{"$f":"IFERROR(VLOOKUP(K899,股價!A:B,2,0)*M899,\"\")","v":""},{"$f":"IF(O899=\"\",\"\",RANK(O899,$O$2:$O$1000))","v":""}]
["1234 黑松","盧功偉          盧功偉",2,"盧功偉",null,null,null,null,null,null,null,null,null,null,{"$f":"IFERROR(VLOOKUP(K900,股價!A:B,2,0)*M900,\"\")","v":""},{"$f":"IF(O900=\"\",\"\",RANK(O900,$O$2:$O$1000))","v":""}]
["1234 黑松","興園投資(股)    張建章",5943,"興園投資",null,null,null,null,null,null,null,null,null,null,{"$f":"IFERROR(VLOOKUP(K901,股價!A:B,2,0)*M901,\"\")","v":""},{"$f":"IF(O901=\"\",\"\",RANK(O901,$O$2:$O$1000))","v":""}]
["1234 黑松","賴進此          賴進此",0,"賴進此",null,null,null,null,null,null,null,null,null,null,{"$f":"IFERROR(VLOOKUP(K902,股價!A:B,2,0)*M902,\"\")","v":""},{"$f":"IF(O902=\"\",\"\",RANK(O902,$O$2:$O$1000))","v":""}]
["1234 黑松","簡敏秋          簡敏秋",0,"簡敏秋",null,null,null,null,null,null,null,null,null,null,{"$f":"IFERROR(VLOOKUP(K903,股價!A:B,2,0)*M903,\"\")","v":""},{"$f":"IF(O903=\"\",\"\",RANK(O903,$O$2:$O$1000))","v":""}]
["1234 黑松","簡義修          簡義修",0,"簡義修",null,null,null,null,null,null,null,null,null,null,{"$f":"IFERROR(VLOOKUP(K904,股價!A:B,2,0)*M904,\"\")","v":""},{"$f":"IF(O904=\"\",\"\",RANK(O904,$O$2:$O$1000))","v":""}]
["1234 黑松","穩盈投資(股)    張建陽",2079,"穩盈投資",null,null,null,null,null,null,null,null,null,null,{"$f":"IFERROR(VLOOKUP(K905,股價!A:B,2,0)*M905,\"\")","v":""},{"$f":"IF(O905=\"\",\"\",RANK(O905,$O$2:$O$1000))","v":""}]
["1235 興泰","_大股東合計1",83410,null,null,null,null,null,null,null,null,null,null,null,{"$f":"IFERROR(VLOOKUP(K906,股價!A:B,2,0)*M906,\"\")","v":""},{"$f":"IF(O906=\"\",\"\",RANK(O906,$O$2:$O$1000))","v":""}]
["1235 興泰","_大股東合計2    含沿用資料",110370,null,null,null,null,null,null,null,null,null,null,null,{"$f":"IFERROR(VLOOKUP(K907,股價!A:B,2,0)*M907,\"\")","v":""},{"$f":"IF(O907=\"\",\"\",RANK(O907,$O$2:$O$1000))","v":""}]
["1235 興泰","_經理人合計",0,null,null,null,null,null,null,null,null,null,null,null,{"$f":"IFERROR(VLOOKUP(K908,股價!A:B,2,0)*M908,\"\")","v":""},{"$f":"IF(O908=\"\",\"\",RANK(O908,$O$2:$O$1000))","v":""}]
["1235 興泰","_董  事合計",15533,null,null,null,null,null,null,null,null,null,null,null,{"$f":"IFERROR(VLOOKUP(K909,股價!A:B,2,0)*M909,\"\")","v":""},{"$f":"IF(O909=\"\",\"\",RANK(O909,$O$2:$O$1000))","v":""}]
["1235 興泰","_董監事合計",15533,null,null,null,null,null,null,null,null,null,null,null,{"$f":"IFERROR(VLOOKUP(K910,股價!A:B,2,0)*M910,\"\")","v":""},{"$f":"IF(O910=\"\",\"\",RANK(O910,$O$2:$O$1000))","v":""}]
["1235 興泰","_監察人合計",0,null,null,null,null,null,null,null,null,null,null,null,{"$f":"IFERROR(VLOOKUP(K911,股價!A:B,2,0)*M911,\"\")","v":""},{"$f":"IF(O911=\"\",\"\",RANK(O911,$O$2:$O$1000))","v":""}]
["1235 興泰","同安化工企業(股)同安化工企業",24037,"同安化工企業",null,null,null,null,null,null,null,null,null,null,{"$f":"IFERROR(VLOOKUP(K912,股價!A:B,2,0)*M912,\"\")","v":""},{"$f":"IF(O912=\"\",\"\",RANK(O912,$O$2:$O$1000))","v":""}]
["1235 興泰","安和投資控股(股)吳星和",3142,"安和投資控股",null,null,null,null,null,null,null,null,null,null,{"$f":"IFERROR(VLOOKUP(K913,股價!A:B,2,0)*M913,\"\")","v":""},{"$f":"IF(O913=\"\",\"\",RANK(O913,$O$2:$O$1000))","v":""}]
["1235 興泰","安答投資(股)    吳星澄",5961,"安答投資",null,null,null,null,null,null,null,null,null,null,{"$f":"IFERROR(VLOOKUP(K914,股價!A:B,2,0)*M914,\"\")","v":""},{"$f":"IF(O914=\"\",\"\",RANK(O914,$O$2:$O$1000))","v":""}]
["1235 興泰","安鼎投資(股)    安鼎投資(股)",59373,"安鼎投資",null,null,null,null,null,null,null,null,null,null,{"$f":"IFERROR(VLOOKUP(K915,股價!A:B,2,0)*M915,\"\")","v":""},{"$f":"IF(O915=\"\",\"\",RANK(O915,$O$2:$O$1000))","v":""}]
["1235 興泰","何睿楠          何睿楠",0,"何睿楠",null,null,null,null,null,null,null,null,null,null,{"$f":"IFERROR(VLOOKUP(K916,股價!A:B,2,0)*M916,\"\")","v":""},{"$f":"IF(O916=\"\",\"\",RANK(O916,$O$2:$O$1000))","v":""}]
["1235 興泰","吳金泉          吳金泉",52,"吳金泉",null,null,null,null,null,null,null,null,null,null,{"$f":"IFERROR(VLOOKUP(K917,股價!A:B,2,0)*M917,\"\")","v":""},{"$f":"IF(O917=\"\",\"\",RANK(O917,$O$2:$O$1000))","v":""}]
["1235 興泰","吳星澄          吳星澄",2391,"吳星澄",null,null,null,null,null,null,null,null,null,null,{"$f":"IFERROR(VLOOKUP(K918,股價!A:B,2,0)*M918,\"\")","v":""},{"$f":"IF(O918=\"\",\"\",RANK(O918,$O$2:$O$1000))","v":""}]
["1235 興泰","吳美紅          吳美紅",847,"吳美紅",null,null,null,null,null,null,null,null,null,null,{"$f":"IFERROR(VLOOKUP(K919,股價!A:B,2,0)*M919,\"\")","v":""},{"$f":"IF(O919=\"\",\"\",RANK(O919,$O$2:$O$1000))","v":""}]
["1235 興泰","吳新恙          吳新恙",0,"吳新恙",null,null,null,null,null,null,null,null,null,null,{"$f":"IFERROR(VLOOKUP(K920,股價!A:B,2,0)*M920,\"\")","v":""},{"$f":"IF(O920=\"\",\"\",RANK(O920,$O$2:$O$1000))","v":""}]
["1235 興泰","沈子文          沈子文",0,"沈子文",null,null,null,null,null,null,null,null,null,null,{"$f":"IFERROR(VLOOKUP(K921,股價!A:B,2,0)*M921,\"\")","v":""},{"$f":"IF(O921=\"\",\"\",RANK(O921,$O$2:$O$1000))","v":""}]
["1235 興泰","昇鋒投資(股)    吳金泉",4363,"昇鋒投資",null,null,null,null,null,null,null,null,null,null,{"$f":"IFERROR(VLOOKUP(K922,股價!A:B,2,0)*M922,\"\")","v":""},{"$f":"IF(O922=\"\",\"\",RANK(O922,$O$2:$O$1000))","v":""}]
["1235 興泰","林德鴻          林德鴻",0,"林德鴻",null,null,null,null,null,null,null,null,null,null,{"$f":"IFERROR(VLOOKUP(K923,股價!A:B,2,0)*M923,\"\")","v":""},{"$f":"IF(O923=\"\",\"\",RANK(O923,$O$2:$O$1000))","v":""}]
["1235 興泰","美安生化科技(股)吳金泉",13114,"美安生化科技",null,null,null,null,null,null,null,null,null,null,{"$f":"IFERROR(VLOOKUP(K924,股價!A:B,2,0)*M924,\"\")","v":""},{"$f":"IF(O924=\"\",\"\",RANK(O924,$O$2:$O$1000))","v":""}]
["1235 興泰","秦慧如          秦慧如",1505,"秦慧如",null,null,null,null,null,null,null,null,null,null,{"$f":"IFERROR(VLOOKUP(K925,股價!A:B,2,0)*M925,\"\")","v":""},{"$f":"IF(O925=\"\",\"\",RANK(O925,$O$2:$O$1000))","v":""}]
["1235 興泰","葉文隆          葉文隆",0,"葉文隆",null,null,null,null,null,null,null,null,null,null,{"$f":"IFERROR(VLOOKUP(K926,股價!A:B,2,0)*M926,\"\")","v":""},{"$f":"IF(O926=\"\",\"\",RANK(O926,$O$2:$O$1000))","v":""}]
["1235 興泰","葉文籐          葉文籐",0,"葉文籐",null,null,null,null,null,null,null,null,null,null,{"$f":"IFERROR(VLOOKUP(K927,股價!A:B,2,0)*M927,\"\")","v":""},{"$f":"IF(O927=\"\",\"\",RANK(O927,$O$2:$O$1000))","v":""}]
["1235 興泰","農安生技(股)    葉文籐",11170,"農安生技",null,null,null,null,null,null,null,null,null,null,{"$f":"IFERROR(VLOOKUP(K928,股價!A:B,2,0)*M928,\"\")","v":""},{"$f":"IF(O928=\"\",\"\",RANK(O928,$O$2:$O$1000))","v":""}]
["1235 興泰","謝幸珍          謝幸珍",0,"謝幸珍",null,null,null,null,null,null,null,null,null,null,{"$f":"IFERROR(VLOOKUP(K929,股價!A:B,2,0)*M929,\"\")","v":""},{"$f":"IF(O929=\"\",\"\",RANK(O929,$O$2:$O$1000))","v":""}]
["1235 興泰","蘇玲慧          蘇玲慧",0,"蘇玲慧",null,null,null,null,null,null,null,null,null,null,{"$f":"IFERROR(VLOOKUP(K930,股價!A:B,2,0)*M930,\"\")","v":""},{"$f":"IF(O930=\"\",\"\",RANK(O930,$O$2:$O$1000))","v":""}]
["1236 宏亞","_大股東合計1",0,null,null,null,null,null,null,null,null,null,null,null,{"$f":"IFERROR(VLOOKUP(K931,股價!A:B,2,0)*M931,\"\")","v":""},{"$f":"IF(O931=\"\",\"\",RANK(O931,$O$2:$O$1000))","v":""}]
["1236 宏亞","_大股東合計2    含沿用資料",38711,null,null,null,null,null,null,null,null,null,null,null,{"$f":"IFERROR(VLOOKUP(K932,股價!A:B,2,0)*M932,\"\")","v":""},{"$f":"IF(O932=\"\",\"\",RANK(O932,$O$2:$O$1000))","v":""}]
["1236 宏亞","_經理人合計",2217,null,null,null,null,null,null,null,null,null,null,null,{"$f":"IFERROR(VLOOKUP(K933,股價!A:B,2,0)*M933,\"\")","v":""},{"$f":"IF(O933=\"\",\"\",RANK(O933,$O$2:$O$1000))","v":""}]
["1236 宏亞","_董  事合計",26510,null,null,null,null,null,null,null,null,null,null,null,{"$f":"IFERROR(VLOOKUP(K934,股價!A:B,2,0)*M934,\"\")","v":""},{"$f":"IF(O934=\"\",\"\",RANK(O934,$O$2:$O$1000))","v":""}]
["1236 宏亞","_董監事合計",26510,null,null,null,null,null,null,null,null,null,null,null,{"$f":"IFERROR(VLOOKUP(K935,股價!A:B,2,0)*M935,\"\")","v":""},{"$f":"IF(O935=\"\",\"\",RANK(O935,$O$2:$O$1000))","v":""}]
["1236 宏亞","_監察人合計",0,null,null,null,null,null,null,null,null,null,null,null,{"$f":"IFERROR(VLOOKUP(K936,股價!A:B,2,0)*M936,\"\")","v":""},{"$f":"IF(O936=\"\",\"\",RANK(O936,$O$2:$O$1000))","v":""}]
["1236 宏亞","王連源          王連源",7714,"王連源",null,null,null,null,null,null,null,null,null,null,{"$f":"IFERROR(VLOOKUP(K937,股價!A:B,2,0)*M937,\"\")","v":""},{"$f":"IF(O937=\"\",\"\",RANK(O937,$O$2:$O$1000))","v":""}]
["1236 宏亞","王聖茹          王聖茹",2517,"王聖茹",null,null,null,null,null,null,null,null,null,null,{"$f":"IFERROR(VLOOKUP(K938,股價!A:B,2,0)*M938,\"\")","v":""},{"$f":"IF(O938=\"\",\"\",RANK(O938,$O$2:$O$1000))","v":""}]
["1236 宏亞","王聖鈞          王聖鈞",3440,"王聖鈞",null,null,null,null,null,null,null,null,null,null,{"$f":"IFERROR(VLOOKUP(K939,股價!A:B,2,0)*M939,\"\")","v":""},{"$f":"IF(O939=\"\",\"\",RANK(O939,$O$2:$O$1000))","v":""}]
["1236 宏亞","余彩雲          余彩雲",0,"余彩雲",null,null,null,null,null,null,null,null,null,null,{"$f":"IFERROR(VLOOKUP(K940,股價!A:B,2,0)*M940,\"\")","v":""},{"$f":"IF(O940=\"\",\"\",RANK(O940,$O$2:$O$1000))","v":""}]
["1236 宏亞","承添投資(股)    張云綺",10410,"承添投資",null,null,null,null,null,null,null,null,null,null,{"$f":"IFERROR(VLOOKUP(K941,股價!A:B,2,0)*M941,\"\")","v":""},{"$f":"IF(O941=\"\",\"\",RANK(O941,$O$2:$O$1000))","v":""}]
["1236 宏亞","林燕娟          林燕娟",0,"林燕娟",null,null,null,null,null,null,null,null,null,null,{"$f":"IFERROR(VLOOKUP(K942,股價!A:B,2,0)*M942,\"\")","v":""},{"$f":"IF(O942=\"\",\"\",RANK(O942,$O$2:$O$1000))","v":""}]
["1236 宏亞","張云綺          張云綺",2217,"張云綺",null,null,null,null,null,null,null,null,null,null,{"$f":"IFERROR(VLOOKUP(K943,股價!A:B,2,0)*M943,\"\")","v":""},{"$f":"IF(O943=\"\",\"\",RANK(O943,$O$2:$O$1000))","v":""}]
["1236 宏亞","張國珍          張國珍",8213,"張國珍",null,null,null,null,null,null,null,null,null,null,{"$f":"IFERROR(VLOOKUP(K944,股價!A:B,2,0)*M944,\"\")","v":""},{"$f":"IF(O944=\"\",\"\",RANK(O944,$O$2:$O$1000))","v":""}]
["1236 宏亞","張舒雁          張舒雁",5098,"張舒雁",null,null,null,null,null,null,null,null,null,null,{"$f":"IFERROR(VLOOKUP(K945,股價!A:B,2,0)*M945,\"\")","v":""},{"$f":"IF(O945=\"\",\"\",RANK(O945,$O$2:$O$1000))","v":""}]
["1236 宏亞","張趙春貴        張趙春貴",4076,"張趙春貴",null,null,null,null,null,null,null,null,null,null,{"$f":"IFERROR(VLOOKUP(K946,股價!A:B,2,0)*M946,\"\")","v":""},{"$f":"IF(O946=\"\",\"\",RANK(O946,$O$2:$O$1000))","v":""}]
["1236 宏亞","張聰本          張聰本",0,"張聰本",null,null,null,null,null,null,null,null,null,null,{"$f":"IFERROR(VLOOKUP(K947,股價!A:B,2,0)*M947,\"\")","v":""},{"$f":"IF(O947=\"\",\"\",RANK(O947,$O$2:$O$1000))","v":""}]
["1236 宏亞","張琇晴          張琇晴",4133,"張琇晴",null,null,null,null,null,null,null,null,null,null,{"$f":"IFERROR(VLOOKUP(K948,股價!A:B,2,0)*M948,\"\")","v":""},{"$f":"IF(O948=\"\",\"\",RANK(O948,$O$2:$O$1000))","v":""}]
["1236 宏亞","戚其傑          戚其傑",0,"戚其傑",null,null,null,null,null,null,null,null,null,null,{"$f":"IFERROR(VLOOKUP(K949,股價!A:B,2,0)*M949,\"\")","v":""},{"$f":"IF(O949=\"\",\"\",RANK(O949,$O$2:$O$1000))","v":""}]
["1236 宏亞","統懋投資(股)    王聖鈞",144,"統懋投資",null,null,null,null,null,null,null,null,null,null,{"$f":"IFERROR(VLOOKUP(K950,股價!A:B,2,0)*M950,\"\")","v":""},{"$f":"IF(O950=\"\",\"\",RANK(O950,$O$2:$O$1000))","v":""}]
["1236 宏亞","楊楚彬          楊楚彬",0,"楊楚彬",null,null,null,null,null,null,null,null,null,null,{"$f":"IFERROR(VLOOKUP(K951,股價!A:B,2,0)*M951,\"\")","v":""},{"$f":"IF(O951=\"\",\"\",RANK(O951,$O$2:$O$1000))","v":""}]
["1236 宏亞","劉俊北          劉俊北",0,"劉俊北",null,null,null,null,null,null,null,null,null,null,{"$f":"IFERROR(VLOOKUP(K952,股價!A:B,2,0)*M952,\"\")","v":""},{"$f":"IF(O952=\"\",\"\",RANK(O952,$O$2:$O$1000))","v":""}]
["1236 宏亞","鍾韶庭          鍾韶庭",0,"鍾韶庭",null,null,null,null,null,null,null,null,null,null,{"$f":"IFERROR(VLOOKUP(K953,股價!A:B,2,0)*M953,\"\")","v":""},{"$f":"IF(O953=\"\",\"\",RANK(O953,$O$2:$O$1000))","v":""}]
["1236 宏亞","鴻圖投資控股(股)殷翠鳳",3520,"鴻圖投資控股",null,null,null,null,null,null,null,null,null,null,{"$f":"IFERROR(VLOOKUP(K954,股價!A:B,2,0)*M954,\"\")","v":""},{"$f":"IF(O954=\"\",\"\",RANK(O954,$O$2:$O$1000))","v":""}]
["1236 宏亞","禮坊投資(股)    張舒雁",15956,"禮坊投資",null,null,null,null,null,null,null,null,null,null,{"$f":"IFERROR(VLOOKUP(K955,股價!A:B,2,0)*M955,\"\")","v":""},{"$f":"IF(O955=\"\",\"\",RANK(O955,$O$2:$O$1000))","v":""}]
["1240 茂生農經","_大股東合計1",0,null,null,null,null,null,null,null,null,null,null,null,{"$f":"IFERROR(VLOOKUP(K956,股價!A:B,2,0)*M956,\"\")","v":""},{"$f":"IF(O956=\"\",\"\",RANK(O956,$O$2:$O$1000))","v":""}]
["1240 茂生農經","_大股東合計2    含沿用資料",13914,null,null,null,null,null,null,null,null,null,null,null,{"$f":"IFERROR(VLOOKUP(K957,股價!A:B,2,0)*M957,\"\")","v":""},{"$f":"IF(O957=\"\",\"\",RANK(O957,$O$2:$O$1000))","v":""}]
["1240 茂生農經","_經理人合計",1129,null,null,null,null,null,null,null,null,null,null,null,{"$f":"IFERROR(VLOOKUP(K958,股價!A:B,2,0)*M958,\"\")","v":""},{"$f":"IF(O958=\"\",\"\",RANK(O958,$O$2:$O$1000))","v":""}]
["1240 茂生農經","_董  事合計",4256,null,null,null,null,null,null,null,null,null,null,null,{"$f":"IFERROR(VLOOKUP(K959,股價!A:B,2,0)*M959,\"\")","v":""},{"$f":"IF(O959=\"\",\"\",RANK(O959,$O$2:$O$1000))","v":""}]
["1240 茂生農經","_董監事合計",4256,null,null,null,null,null,null,null,null,null,null,null,{"$f":"IFERROR(VLOOKUP(K960,股價!A:B,2,0)*M960,\"\")","v":""},{"$f":"IF(O960=\"\",\"\",RANK(O960,$O$2:$O$1000))","v":""}]
["1240 茂生農經","_監察人合計",0,null,null,null,null,null,null,null,null,null,null,null,{"$f":"IFERROR(VLOOKUP(K961,股價!A:B,2,0)*M961,\"\")","v":""},{"$f":"IF(O961=\"\",\"\",RANK(O961,$O$2:$O$1000))","v":""}]
["1240 茂生農經","大茂道原(股)    大茂道原(股)",771,"大茂道原",null,null,null,null,null,null,null,null,null,null,{"$f":"IFERROR(VLOOKUP(K962,股價!A:B,2,0)*M962,\"\")","v":""},{"$f":"IF(O962=\"\",\"\",RANK(O962,$O$2:$O$1000))","v":""}]
["1240 茂生農經","吳尚穎          吳尚穎",929,"吳尚穎",null,null,null,null,null,null,null,null,null,null,{"$f":"IFERROR(VLOOKUP(K963,股價!A:B,2,0)*M963,\"\")","v":""},{"$f":"IF(O963=\"\",\"\",RANK(O963,$O$2:$O$1000))","v":""}]
["1240 茂生農經","吳清德          吳清德",640,"吳清德",null,null,null,null,null,null,null,null,null,null,{"$f":"IFERROR(VLOOKUP(K964,股價!A:B,2,0)*M964,\"\")","v":""},{"$f":"IF(O964=\"\",\"\",RANK(O964,$O$2:$O$1000))","v":""}]
["1240 茂生農經","李安宗          李安宗",27,"李安宗",null,null,null,null,null,null,null,null,null,null,{"$f":"IFERROR(VLOOKUP(K965,股價!A:B,2,0)*M965,\"\")","v":""},{"$f":"IF(O965=\"\",\"\",RANK(O965,$O$2:$O$1000))","v":""}]
["1240 茂生農經","李建裕          李建裕",0,"李建裕",null,null,null,null,null,null,null,null,null,null,{"$f":"IFERROR(VLOOKUP(K966,股價!A:B,2,0)*M966,\"\")","v":""},{"$f":"IF(O966=\"\",\"\",RANK(O966,$O$2:$O$1000))","v":""}]
["1240 茂生農經","林信鴻          林信鴻",34,"林信鴻",null,null,null,null,null,null,null,null,null,null,{"$f":"IFERROR(VLOOKUP(K967,股價!A:B,2,0)*M967,\"\")","v":""},{"$f":"IF(O967=\"\",\"\",RANK(O967,$O$2:$O$1000))","v":""}]
["1240 茂生農經","邱紹齊          邱紹齊",0,"邱紹齊",null,null,null,null,null,null,null,null,null,null,{"$f":"IFERROR(VLOOKUP(K968,股價!A:B,2,0)*M968,\"\")","v":""},{"$f":"IF(O968=\"\",\"\",RANK(O968,$O$2:$O$1000))","v":""}]
["1240 茂生農經","茂元國際(股)    羅任芬",744,"茂元國際",null,null,null,null,null,null,null,null,null,null,{"$f":"IFERROR(VLOOKUP(K969,股價!A:B,2,0)*M969,\"\")","v":""},{"$f":"IF(O969=\"\",\"\",RANK(O969,$O$2:$O$1000))","v":""}]
["1240 茂生農經","徐卓鳳嬌        徐卓鳳嬌",1387,"徐卓鳳嬌",null,null,null,null,null,null,null,null,null,null,{"$f":"IFERROR(VLOOKUP(K970,股價!A:B,2,0)*M970,\"\")","v":""},{"$f":"IF(O970=\"\",\"\",RANK(O970,$O$2:$O$1000))","v":""}]
["1240 茂生農經","徐維宏          徐維宏",603,"徐維宏",null,null,null,null,null,null,null,null,null,null,{"$f":"IFERROR(VLOOKUP(K971,股價!A:B,2,0)*M971,\"\")","v":""},{"$f":"IF(O971=\"\",\"\",RANK(O971,$O$2:$O$1000))","v":""}]
["1240 茂生農經","黃大中          黃大中",512,"黃大中",null,null,null,null,null,null,null,null,null,null,{"$f":"IFERROR(VLOOKUP(K972,股價!A:B,2,0)*M972,\"\")","v":""},{"$f":"IF(O972=\"\",\"\",RANK(O972,$O$2:$O$1000))","v":""}]
["1240 茂生農經","黃大祐          黃大祐",1331,"黃大祐",null,null,null,null,null,null,null,null,null,null,{"$f":"IFERROR(VLOOKUP(K973,股價!A:B,2,0)*M973,\"\")","v":""},{"$f":"IF(O973=\"\",\"\",RANK(O973,$O$2:$O$1000))","v":""}]
["1240 茂生農經","黃佩玲          黃佩玲",2755,"黃佩玲",null,null,null,null,null,null,null,null,null,null,{"$f":"IFERROR(VLOOKUP(K974,股價!A:B,2,0)*M974,\"\")","v":""},{"$f":"IF(O974=\"\",\"\",RANK(O974,$O$2:$O$1000))","v":""}]
["1240 茂生農經","黃強            黃強",1806,"黃強",null,null,null,null,null,null,null,null,null,null,{"$f":"IFERROR(VLOOKUP(K975,股價!A:B,2,0)*M975,\"\")","v":""},{"$f":"IF(O975=\"\",\"\",RANK(O975,$O$2:$O$1000))","v":""}]
["1240 茂生農經","黃啟曄          黃啟曄",2575,"黃啟曄",null,null,null,null,null,null,null,null,null,null,{"$f":"IFERROR(VLOOKUP(K976,股價!A:B,2,0)*M976,\"\")","v":""},{"$f":"IF(O976=\"\",\"\",RANK(O976,$O$2:$O$1000))","v":""}]
["1240 茂生農經","黃蘊慧          黃蘊慧",890,"黃蘊慧",null,null,null,null,null,null,null,null,null,null,{"$f":"IFERROR(VLOOKUP(K977,股價!A:B,2,0)*M977,\"\")","v":""},{"$f":"IF(O977=\"\",\"\",RANK(O977,$O$2:$O$1000))","v":""}]
["1240 茂生農經","葉明球          葉明球",459,"葉明球",null,null,null,null,null,null,null,null,null,null,{"$f":"IFERROR(VLOOKUP(K978,股價!A:B,2,0)*M978,\"\")","v":""},{"$f":"IF(O978=\"\",\"\",RANK(O978,$O$2:$O$1000))","v":""}]
["1240 茂生農經","葉雪玲          葉雪玲",1470,"葉雪玲",null,null,null,null,null,null,null,null,null,null,{"$f":"IFERROR(VLOOKUP(K979,股價!A:B,2,0)*M979,\"\")","v":""},{"$f":"IF(O979=\"\",\"\",RANK(O979,$O$2:$O$1000))","v":""}]
["1240 茂生農經","鍾亮宏          鍾亮宏",97,"鍾亮宏",null,null,null,null,null,null,null,null,null,null,{"$f":"IFERROR(VLOOKUP(K980,股價!A:B,2,0)*M980,\"\")","v":""},{"$f":"IF(O980=\"\",\"\",RANK(O980,$O$2:$O$1000))","v":""}]
["1240 茂生農經","韓千山          韓千山",0,"韓千山",null,null,null,null,null,null,null,null,null,null,{"$f":"IFERROR(VLOOKUP(K981,股價!A:B,2,0)*M981,\"\")","v":""},{"$f":"IF(O981=\"\",\"\",RANK(O981,$O$2:$O$1000))","v":""}]
["1240 茂生農經","魏恒巍          魏恒巍",0,"魏恒巍",null,null,null,null,null,null,null,null,null,null,{"$f":"IFERROR(VLOOKUP(K982,股價!A:B,2,0)*M982,\"\")","v":""},{"$f":"IF(O982=\"\",\"\",RANK(O982,$O$2:$O$1000))","v":""}]
["1240 茂生農經","羅任芬          羅任芬",8,"羅任芬",null,null,null,null,null,null,null,null,null,null,{"$f":"IFERROR(VLOOKUP(K983,股價!A:B,2,0)*M983,\"\")","v":""},{"$f":"IF(O983=\"\",\"\",RANK(O983,$O$2:$O$1000))","v":""}]
["1240 茂生農經","瓏德國際事業股份黃大中",2269,"瓏德國際事業股份有限公司",null,null,null,null,null,null,null,null,null,null,{"$f":"IFERROR(VLOOKUP(K984,股價!A:B,2,0)*M984,\"\")","v":""},{"$f":"IF(O984=\"\",\"\",RANK(O984,$O$2:$O$1000))","v":""}]
["1256 鮮活果汁-KY","_大股東合計1",0,null,null,null,null,null,null,null,null,null,null,null,{"$f":"IFERROR(VLOOKUP(K985,股價!A:B,2,0)*M985,\"\")","v":""},{"$f":"IF(O985=\"\",\"\",RANK(O985,$O$2:$O$1000))","v":""}]
["1256 鮮活果汁-KY","_大股東合計2    含沿用資料",2441,null,null,null,null,null,null,null,null,null,null,null,{"$f":"IFERROR(VLOOKUP(K986,股價!A:B,2,0)*M986,\"\")","v":""},{"$f":"IF(O986=\"\",\"\",RANK(O986,$O$2:$O$1000))","v":""}]
["1256 鮮活果汁-KY","_經理人合計",11,null,null,null,null,null,null,null,null,null,null,null,{"$f":"IFERROR(VLOOKUP(K987,股價!A:B,2,0)*M987,\"\")","v":""},{"$f":"IF(O987=\"\",\"\",RANK(O987,$O$2:$O$1000))","v":""}]
["1256 鮮活果汁-KY","_董  事合計",18275,null,null,null,null,null,null,null,null,null,null,null,{"$f":"IFERROR(VLOOKUP(K988,股價!A:B,2,0)*M988,\"\")","v":""},{"$f":"IF(O988=\"\",\"\",RANK(O988,$O$2:$O$1000))","v":""}]
["1256 鮮活果汁-KY","_董監事合計",18275,null,null,null,null,null,null,null,null,null,null,null,{"$f":"IFERROR(VLOOKUP(K989,股價!A:B,2,0)*M989,\"\")","v":""},{"$f":"IF(O989=\"\",\"\",RANK(O989,$O$2:$O$1000))","v":""}]
["1256 鮮活果汁-KY","_監察人合計",0,null,null,null,null,null,null,null,null,null,null,null,{"$f":"IFERROR(VLOOKUP(K990,股價!A:B,2,0)*M990,\"\")","v":""},{"$f":"IF(O990=\"\",\"\",RANK(O990,$O$2:$O$1000))","v":""}]
["1256 鮮活果汁-KY","王明智          王明智",1451,"王明智",null,null,null,null,null,null,null,null,null,null,{"$f":"IFERROR(VLOOKUP(K991,股價!A:B,2,0)*M991,\"\")","v":""},{"$f":"IF(O991=\"\",\"\",RANK(O991,$O$2:$O$1000))","v":""}]
["1256 鮮活果汁-KY","台聯電訊(股)    台聯電訊(股)",384,"台聯電訊",null,null,null,null,null,null,null,null,null,null,{"$f":"IFERROR(VLOOKUP(K992,股價!A:B,2,0)*M992,\"\")","v":""},{"$f":"IF(O992=\"\",\"\",RANK(O992,$O$2:$O$1000))","v":""}]
["1256 鮮活果汁-KY","吳明憲          吳明憲",1232,"吳明憲",null,null,null,null,null,null,null,null,null,null,{"$f":"IFERROR(VLOOKUP(K993,股價!A:B,2,0)*M993,\"\")","v":""},{"$f":"IF(O993=\"\",\"\",RANK(O993,$O$2:$O$1000))","v":""}]
["1256 鮮活果汁-KY","林秀珍          林秀珍",309,"林秀珍",null,null,null,null,null,null,null,null,null,null,{"$f":"IFERROR(VLOOKUP(K994,股價!A:B,2,0)*M994,\"\")","v":""},{"$f":"IF(O994=\"\",\"\",RANK(O994,$O$2:$O$1000))","v":""}]
["1256 鮮活果汁-KY","林宗諭          林宗諭",881,"林宗諭",null,null,null,null,null,null,null,null,null,null,{"$f":"IFERROR(VLOOKUP(K995,股價!A:B,2,0)*M995,\"\")","v":""},{"$f":"IF(O995=\"\",\"\",RANK(O995,$O$2:$O$1000))","v":""}]
["1256 鮮活果汁-KY","林鳳儀          林鳳儀",0,"林鳳儀",null,null,null,null,null,null,null,null,null,null,{"$f":"IFERROR(VLOOKUP(K996,股價!A:B,2,0)*M996,\"\")","v":""},{"$f":"IF(O996=\"\",\"\",RANK(O996,$O$2:$O$1000))","v":""}]
["1256 鮮活果汁-KY","林麗玲          林麗玲",6178,"林麗玲",null,null,null,null,null,null,null,null,null,null,{"$f":"IFERROR(VLOOKUP(K997,股價!A:B,2,0)*M997,\"\")","v":""},{"$f":"IF(O997=\"\",\"\",RANK(O997,$O$2:$O$1000))","v":""}]
["1256 鮮活果汁-KY","林麗雪          林麗雪",526,"林麗雪",null,null,null,null,null,null,null,null,null,null,{"$f":"IFERROR(VLOOKUP(K998,股價!A:B,2,0)*M998,\"\")","v":""},{"$f":"IF(O998=\"\",\"\",RANK(O998,$O$2:$O$1000))","v":""}]
["1256 鮮活果汁-KY","陳怡如          陳怡如",11,"陳怡如",null,null,null,null,null,null,null,null,null,null,{"$f":"IFERROR(VLOOKUP(K999,股價!A:B,2,0)*M999,\"\")","v":""},{"$f":"IF(O999=\"\",\"\",RANK(O999,$O$2:$O$1000))","v":""}]
["1256 鮮活果汁-KY","陳柏蒼          陳柏蒼",0,"陳柏蒼",null,null,null,null,null,null,null,null,null,null,{"$f":"IFERROR(VLOOKUP(K1000,股價!A:B,2,0)*M1000,\"\")","v":""},{"$f":"IF(O1000=\"\",\"\",RANK(O1000,$O$2:$O$1000))","v":""}]
["1256 鮮活果汁-KY","陳錦坤          陳錦坤",341,"陳錦坤",null,null,null,null,null,null,null,null,null,null,{"$f":"IFERROR(VLOOKUP(K1001,股價!A:B,2,0)*M1001,\"\")","v":""},{"$f":"IF(O1001=\"\",\"\",RANK(O1001,$O$2:$O$1000))","v":""}]
["1256 鮮活果汁-KY","黃國晃          黃國晃",9094,"黃國晃",null,null,null,null,null,null,null,null,null,null,{"$f":"IFERROR(VLOOKUP(K1002,股價!A:B,2,0)*M1002,\"\")","v":""},{"$f":"IF(O1002=\"\",\"\",RANK(O1002,$O$2:$O$1000))","v":""}]
["1256 鮮活果汁-KY","黃薰毅          黃薰毅",320,"黃薰毅",null,null,null,null,null,null,null,null,null,null,{"$f":"IFERROR(VLOOKUP(K1003,股價!A:B,2,0)*M1003,\"\")","v":""},{"$f":"IF(O1003=\"\",\"\",RANK(O1003,$O$2:$O$1000))","v":""}]
["1256 鮮活果汁-KY","羅世蔚          羅世蔚",0,"羅世蔚",null,null,null,null,null,null,null,null,null,null,{"$f":"IFERROR(VLOOKUP(K1004,股價!A:B,2,0)*M1004,\"\")","v":""},{"$f":"IF(O1004=\"\",\"\",RANK(O1004,$O$2:$O$1000))","v":""}]
["1259 安心","_大股東合計1",0,null,null,null,null,null,null,null,null,null,null,null,{"$f":"IFERROR(VLOOKUP(K1005,股價!A:B,2,0)*M1005,\"\")","v":""},{"$f":"IF(O1005=\"\",\"\",RANK(O1005,$O$2:$O$1000))","v":""}]
["1259 安心","_大股東合計2    含沿用資料",6869,null,null,null,null,null,null,null,null,null,null,null,{"$f":"IFERROR(VLOOKUP(K1006,股價!A:B,2,0)*M1006,\"\")","v":""},{"$f":"IF(O1006=\"\",\"\",RANK(O1006,$O$2:$O$1000))","v":""}]
["1259 安心","_經理人合計",102,null,null,null,null,null,null,null,null,null,null,null,{"$f":"IFERROR(VLOOKUP(K1007,股價!A:B,2,0)*M1007,\"\")","v":""},{"$f":"IF(O1007=\"\",\"\",RANK(O1007,$O$2:$O$1000))","v":""}]
["1259 安心","_董  事合計",17024,null,null,null,null,null,null,null,null,null,null,null,{"$f":"IFERROR(VLOOKUP(K1008,股價!A:B,2,0)*M1008,\"\")","v":""},{"$f":"IF(O1008=\"\",\"\",RANK(O1008,$O$2:$O$1000))","v":""}]
["1259 安心","_董監事合計",17024,null,null,null,null,null,null,null,null,null,null,null,{"$f":"IFERROR(VLOOKUP(K1009,股價!A:B,2,0)*M1009,\"\")","v":""},{"$f":"IF(O1009=\"\",\"\",RANK(O1009,$O$2:$O$1000))","v":""}]
["1259 安心","_監察人合計",0,null,null,null,null,null,null,null,null,null,null,null,{"$f":"IFERROR(VLOOKUP(K1010,股價!A:B,2,0)*M1010,\"\")","v":""},{"$f":"IF(O1010=\"\",\"\",RANK(O1010,$O$2:$O$1000))","v":""}]
["1259 安心","中國信託-033    中國信託-033",1547,"中國信託商銀受安心食品服務股份有限公司員工持股委員會信託財產專戶",null,null,null,null,null,null,null,null,null,null,{"$f":"IFERROR(VLOOKUP(K1011,股價!A:B,2,0)*M1011,\"\")","v":""},{"$f":"IF(O1011=\"\",\"\",RANK(O1011,$O$2:$O$1000))","v":""}]
["1259 安心","日商魔術食品(股)平山美夫",8098,"日商魔術食品服務",null,null,null,null,null,null,null,null,null,null,{"$f":"IFERROR(VLOOKUP(K1012,股價!A:B,2,0)*M1012,\"\")","v":""},{"$f":"IF(O1012=\"\",\"\",RANK(O1012,$O$2:$O$1000))","v":""}]
["1259 安心","日商魔術食品(股)福光昭夫",8098,"日商魔術食品服務",null,null,null,null,null,null,null,null,null,null,{"$f":"IFERROR(VLOOKUP(K1013,股價!A:B,2,0)*M1013,\"\")","v":""},{"$f":"IF(O1013=\"\",\"\",RANK(O1013,$O$2:$O$1000))","v":""}]
["1259 安心","日商魔術食品(股)瀧深淳",8098,"日商魔術食品服務",null,null,null,null,null,null,null,null,null,null,{"$f":"IFERROR(VLOOKUP(K1014,股價!A:B,2,0)*M1014,\"\")","v":""},{"$f":"IF(O1014=\"\",\"\",RANK(O1014,$O$2:$O$1000))","v":""}]
["1259 安心","平山美夫        平山美夫",0,"平山美夫",null,null,null,null,null,null,null,null,null,null,{"$f":"IFERROR(VLOOKUP(K1015,股價!A:B,2,0)*M1015,\"\")","v":""},{"$f":"IF(O1015=\"\",\"\",RANK(O1015,$O$2:$O$1000))","v":""}]
["1259 安心","光元實業(股)    林建元",8926,"光元實業",null,null,null,null,null,null,null,null,null,null,{"$f":"IFERROR(VLOOKUP(K1016,股價!A:B,2,0)*M1016,\"\")","v":""},{"$f":"IF(O1016=\"\",\"\",RANK(O1016,$O$2:$O$1000))","v":""}]
["1259 安心","光元實業(股)    高順興",8926,"光元實業",null,null,null,null,null,null,null,null,null,null,{"$f":"IFERROR(VLOOKUP(K1017,股價!A:B,2,0)*M1017,\"\")","v":""},{"$f":"IF(O1017=\"\",\"\",RANK(O1017,$O$2:$O$1000))","v":""}]
["1259 安心","光元實業(股)    黃尚莉",8926,"光元實業",null,null,null,null,null,null,null,null,null,null,{"$f":"IFERROR(VLOOKUP(K1018,股價!A:B,2,0)*M1018,\"\")","v":""},{"$f":"IF(O1018=\"\",\"\",RANK(O1018,$O$2:$O$1000))","v":""}]
["1259 安心","安台國際投資(股)黃茂雄",2756,"安台國際投資",null,null,null,null,null,null,null,null,null,null,{"$f":"IFERROR(VLOOKUP(K1019,股價!A:B,2,0)*M1019,\"\")","v":""},{"$f":"IF(O1019=\"\",\"\",RANK(O1019,$O$2:$O$1000))","v":""}]
["1259 安心","安慶創新投資(股)王安亞",296,"安慶創新投資股份有限公司",null,null,null,null,null,null,null,null,null,null,{"$f":"IFERROR(VLOOKUP(K1020,股價!A:B,2,0)*M1020,\"\")","v":""},{"$f":"IF(O1020=\"\",\"\",RANK(O1020,$O$2:$O$1000))","v":""}]
["1259 安心","何頎胤          何頎胤",9,"何頎胤",null,null,null,null,null,null,null,null,null,null,{"$f":"IFERROR(VLOOKUP(K1021,股價!A:B,2,0)*M1021,\"\")","v":""},{"$f":"IF(O1021=\"\",\"\",RANK(O1021,$O$2:$O$1000))","v":""}]
["1259 安心","呂兆萍          呂兆萍",330,"呂兆萍",null,null,null,null,null,null,null,null,null,null,{"$f":"IFERROR(VLOOKUP(K1022,股價!A:B,2,0)*M1022,\"\")","v":""},{"$f":"IF(O1022=\"\",\"\",RANK(O1022,$O$2:$O$1000))","v":""}]
["1259 安心","東安投資(股)    黃茂雄",547,"東安投資",null,null,null,null,null,null,null,null,null,null,{"$f":"IFERROR(VLOOKUP(K1023,股價!A:B,2,0)*M1023,\"\")","v":""},{"$f":"IF(O1023=\"\",\"\",RANK(O1023,$O$2:$O$1000))","v":""}]
["1259 安心","東和國際投資(股)高東海",784,"東和國際投資",null,null,null,null,null,null,null,null,null,null,{"$f":"IFERROR(VLOOKUP(K1024,股價!A:B,2,0)*M1024,\"\")","v":""},{"$f":"IF(O1024=\"\",\"\",RANK(O1024,$O$2:$O$1000))","v":""}]
["1259 安心","東騰創新投資股份王安亞",346,"東騰創新投資股份有限公司",null,null,null,null,null,null,null,null,null,null,{"$f":"IFERROR(VLOOKUP(K1025,股價!A:B,2,0)*M1025,\"\")","v":""},{"$f":"IF(O1025=\"\",\"\",RANK(O1025,$O$2:$O$1000))","v":""}]
["1259 安心","林建元          林建元",5,"林建元",null,null,null,null,null,null,null,null,null,null,{"$f":"IFERROR(VLOOKUP(K1026,股價!A:B,2,0)*M1026,\"\")","v":""},{"$f":"IF(O1026=\"\",\"\",RANK(O1026,$O$2:$O$1000))","v":""}]
["1259 安心","施啟寅          施啟寅",0,"施啟寅",null,null,null,null,null,null,null,null,null,null,{"$f":"IFERROR(VLOOKUP(K1027,股價!A:B,2,0)*M1027,\"\")","v":""},{"$f":"IF(O1027=\"\",\"\",RANK(O1027,$O$2:$O$1000))","v":""}]
["1259 安心","高順興          高順興",88,"高順興",null,null,null,null,null,null,null,null,null,null,{"$f":"IFERROR(VLOOKUP(K1028,股價!A:B,2,0)*M1028,\"\")","v":""},{"$f":"IF(O1028=\"\",\"\",RANK(O1028,$O$2:$O$1000))","v":""}]
["1259 安心","陳弘道          陳弘道",5,"陳弘道",null,null,null,null,null,null,null,null,null,null,{"$f":"IFERROR(VLOOKUP(K1029,股價!A:B,2,0)*M1029,\"\")","v":""},{"$f":"IF(O1029=\"\",\"\",RANK(O1029,$O$2:$O$1000))","v":""}]
["1259 安心","黃尚莉          黃尚莉",0,"黃尚莉",null,null,null,null,null,null,null,null,null,null,{"$f":"IFERROR(VLOOKUP(K1030,股價!A:B,2,0)*M1030,\"\")","v":""},{"$f":"IF(O1030=\"\",\"\",RANK(O1030,$O$2:$O$1000))","v":""}]
["1259 安心","黃茂雄          黃茂雄",0,"黃茂雄",null,null,null,null,null,null,null,null,null,null,{"$f":"IFERROR(VLOOKUP(K1031,股價!A:B,2,0)*M1031,\"\")","v":""},{"$f":"IF(O1031=\"\",\"\",RANK(O1031,$O$2:$O$1000))","v":""}]
["1259 安心","福光昭夫        福光昭夫",0,"福光昭夫",null,null,null,null,null,null,null,null,null,null,{"$f":"IFERROR(VLOOKUP(K1032,股價!A:B,2,0)*M1032,\"\")","v":""},{"$f":"IF(O1032=\"\",\"\",RANK(O1032,$O$2:$O$1000))","v":""}]
["1259 安心","劉維琪          劉維琪",0,"劉維琪",null,null,null,null,null,null,null,null,null,null,{"$f":"IFERROR(VLOOKUP(K1033,股價!A:B,2,0)*M1033,\"\")","v":""},{"$f":"IF(O1033=\"\",\"\",RANK(O1033,$O$2:$O$1000))","v":""}]
["1259 安心","蕭德岐          蕭德岐",263,"蕭德岐",null,null,null,null,null,null,null,null,null,null,{"$f":"IFERROR(VLOOKUP(K1034,股價!A:B,2,0)*M1034,\"\")","v":""},{"$f":"IF(O1034=\"\",\"\",RANK(O1034,$O$2:$O$1000))","v":""}]
["1259 安心","賴瑟珍          賴瑟珍",0,"賴瑟珍",null,null,null,null,null,null,null,null,null,null,{"$f":"IFERROR(VLOOKUP(K1035,股價!A:B,2,0)*M1035,\"\")","v":""},{"$f":"IF(O1035=\"\",\"\",RANK(O1035,$O$2:$O$1000))","v":""}]
["1259 安心","龔仁文          龔仁文",0,"龔仁文",null,null,null,null,null,null,null,null,null,null,{"$f":"IFERROR(VLOOKUP(K1036,股價!A:B,2,0)*M1036,\"\")","v":""},{"$f":"IF(O1036=\"\",\"\",RANK(O1036,$O$2:$O$1000))","v":""}]
["1259 安心","瀧深淳          瀧深淳",0,"瀧深淳",null,null,null,null,null,null,null,null,null,null,{"$f":"IFERROR(VLOOKUP(K1037,股價!A:B,2,0)*M1037,\"\")","v":""},{"$f":"IF(O1037=\"\",\"\",RANK(O1037,$O$2:$O$1000))","v":""}]
["1264 德麥","_大股東合計1",0,null,null,null,null,null,null,null,null,null,null,null,{"$f":"IFERROR(VLOOKUP(K1038,股價!A:B,2,0)*M1038,\"\")","v":""},{"$f":"IF(O1038=\"\",\"\",RANK(O1038,$O$2:$O$1000))","v":""}]
["1264 德麥","_大股東合計2    含沿用資料",7700,null,null,null,null,null,null,null,null,null,null,null,{"$f":"IFERROR(VLOOKUP(K1039,股價!A:B,2,0)*M1039,\"\")","v":""},{"$f":"IF(O1039=\"\",\"\",RANK(O1039,$O$2:$O$1000))","v":""}]
["1264 德麥","_經理人合計",316,null,null,null,null,null,null,null,null,null,null,null,{"$f":"IFERROR(VLOOKUP(K1040,股價!A:B,2,0)*M1040,\"\")","v":""},{"$f":"IF(O1040=\"\",\"\",RANK(O1040,$O$2:$O$1000))","v":""}]
["1264 德麥","_董  事合計",5787,null,null,null,null,null,null,null,null,null,null,null,{"$f":"IFERROR(VLOOKUP(K1041,股價!A:B,2,0)*M1041,\"\")","v":""},{"$f":"IF(O1041=\"\",\"\",RANK(O1041,$O$2:$O$1000))","v":""}]
["1264 德麥","_董監事合計",5787,null,null,null,null,null,null,null,null,null,null,null,{"$f":"IFERROR(VLOOKUP(K1042,股價!A:B,2,0)*M1042,\"\")","v":""},{"$f":"IF(O1042=\"\",\"\",RANK(O1042,$O$2:$O$1000))","v":""}]
["1264 德麥","_監察人合計",0,null,null,null,null,null,null,null,null,null,null,null,{"$f":"IFERROR(VLOOKUP(K1043,股價!A:B,2,0)*M1043,\"\")","v":""},{"$f":"IF(O1043=\"\",\"\",RANK(O1043,$O$2:$O$1000))","v":""}]
["1264 德麥","任碧玉          任碧玉",920,"任碧玉",null,null,null,null,null,null,null,null,null,null,{"$f":"IFERROR(VLOOKUP(K1044,股價!A:B,2,0)*M1044,\"\")","v":""},{"$f":"IF(O1044=\"\",\"\",RANK(O1044,$O$2:$O$1000))","v":""}]
["1264 德麥","江進元          江進元",11,"江進元",null,null,null,null,null,null,null,null,null,null,{"$f":"IFERROR(VLOOKUP(K1045,股價!A:B,2,0)*M1045,\"\")","v":""},{"$f":"IF(O1045=\"\",\"\",RANK(O1045,$O$2:$O$1000))","v":""}]
["1264 德麥","何文信          何文信",280,"何文信",null,null,null,null,null,null,null,null,null,null,{"$f":"IFERROR(VLOOKUP(K1046,股價!A:B,2,0)*M1046,\"\")","v":""},{"$f":"IF(O1046=\"\",\"\",RANK(O1046,$O$2:$O$1000))","v":""}]
["1264 德麥","吳文欽          吳文欽",2503,"吳文欽",null,null,null,null,null,null,null,null,null,null,{"$f":"IFERROR(VLOOKUP(K1047,股價!A:B,2,0)*M1047,\"\")","v":""},{"$f":"IF(O1047=\"\",\"\",RANK(O1047,$O$2:$O$1000))","v":""}]
["1264 德麥","吳火爐投資股(股)吳火爐投資股",2090,"吳火爐投資股份有限公司",null,null,null,null,null,null,null,null,null,null,{"$f":"IFERROR(VLOOKUP(K1048,股價!A:B,2,0)*M1048,\"\")","v":""},{"$f":"IF(O1048=\"\",\"\",RANK(O1048,$O$2:$O$1000))","v":""}]
["1264 德麥","吳峰源          吳峰源",868,"吳峰源",null,null,null,null,null,null,null,null,null,null,{"$f":"IFERROR(VLOOKUP(K1049,股價!A:B,2,0)*M1049,\"\")","v":""},{"$f":"IF(O1049=\"\",\"\",RANK(O1049,$O$2:$O$1000))","v":""}]
["1264 德麥","吳婉熒          吳婉熒",886,"吳婉熒",null,null,null,null,null,null,null,null,null,null,{"$f":"IFERROR(VLOOKUP(K1050,股價!A:B,2,0)*M1050,\"\")","v":""},{"$f":"IF(O1050=\"\",\"\",RANK(O1050,$O$2:$O$1000))","v":""}]
["1264 德麥","吳曜宗          吳曜宗",1462,"吳曜宗",null,null,null,null,null,null,null,null,null,null,{"$f":"IFERROR(VLOOKUP(K1051,股價!A:B,2,0)*M1051,\"\")","v":""},{"$f":"IF(O1051=\"\",\"\",RANK(O1051,$O$2:$O$1000))","v":""}]
["1264 德麥","呂榮轉          呂榮轉",0,"呂榮轉",null,null,null,null,null,null,null,null,null,null,{"$f":"IFERROR(VLOOKUP(K1052,股價!A:B,2,0)*M1052,\"\")","v":""},{"$f":"IF(O1052=\"\",\"\",RANK(O1052,$O$2:$O$1000))","v":""}]
["1264 德麥","李政寬          李政寬",0,"李政寬",null,null,null,null,null,null,null,null,null,null,{"$f":"IFERROR(VLOOKUP(K1053,股價!A:B,2,0)*M1053,\"\")","v":""},{"$f":"IF(O1053=\"\",\"\",RANK(O1053,$O$2:$O$1000))","v":""}]
["1264 德麥","周中理          周中理",2,"周中理",null,null,null,null,null,null,null,null,null,null,{"$f":"IFERROR(VLOOKUP(K1054,股價!A:B,2,0)*M1054,\"\")","v":""},{"$f":"IF(O1054=\"\",\"\",RANK(O1054,$O$2:$O$1000))","v":""}]
["1264 德麥","周允文          周允文",0,"周允文",null,null,null,null,null,null,null,null,null,null,{"$f":"IFERROR(VLOOKUP(K1055,股價!A:B,2,0)*M1055,\"\")","v":""},{"$f":"IF(O1055=\"\",\"\",RANK(O1055,$O$2:$O$1000))","v":""}]
["1264 德麥","林雪嬌          林雪嬌",1788,"林雪嬌",null,null,null,null,null,null,null,null,null,null,{"$f":"IFERROR(VLOOKUP(K1056,股價!A:B,2,0)*M1056,\"\")","v":""},{"$f":"IF(O1056=\"\",\"\",RANK(O1056,$O$2:$O$1000))","v":""}]
["1264 德麥","邱俊榮          邱俊榮",23,"邱俊榮",null,null,null,null,null,null,null,null,null,null,{"$f":"IFERROR(VLOOKUP(K1057,股價!A:B,2,0)*M1057,\"\")","v":""},{"$f":"IF(O1057=\"\",\"\",RANK(O1057,$O$2:$O$1000))","v":""}]
["1264 德麥","張育瑋          張育瑋",840,"張育瑋",null,null,null,null,null,null,null,null,null,null,{"$f":"IFERROR(VLOOKUP(K1058,股價!A:B,2,0)*M1058,\"\")","v":""},{"$f":"IF(O1058=\"\",\"\",RANK(O1058,$O$2:$O$1000))","v":""}]
["1264 德麥","曹信忠          曹信忠",0,"曹信忠",null,null,null,null,null,null,null,null,null,null,{"$f":"IFERROR(VLOOKUP(K1059,股價!A:B,2,0)*M1059,\"\")","v":""},{"$f":"IF(O1059=\"\",\"\",RANK(O1059,$O$2:$O$1000))","v":""}]
["1264 德麥","楊蒂敏          楊蒂敏",0,"楊蒂敏",null,null,null,null,null,null,null,null,null,null,{"$f":"IFERROR(VLOOKUP(K1060,股價!A:B,2,0)*M1060,\"\")","v":""},{"$f":"IF(O1060=\"\",\"\",RANK(O1060,$O$2:$O$1000))","v":""}]
["1264 德麥","廖本蒼          廖本蒼",34,"廖本蒼",null,null,null,null,null,null,null,null,null,null,{"$f":"IFERROR(VLOOKUP(K1061,股價!A:B,2,0)*M1061,\"\")","v":""},{"$f":"IF(O1061=\"\",\"\",RANK(O1061,$O$2:$O$1000))","v":""}]
["1264 德麥","鄭宇傑          鄭宇傑",830,"鄭宇傑",null,null,null,null,null,null,null,null,null,null,{"$f":"IFERROR(VLOOKUP(K1062,股價!A:B,2,0)*M1062,\"\")","v":""},{"$f":"IF(O1062=\"\",\"\",RANK(O1062,$O$2:$O$1000))","v":""}]
["1264 德麥","韓銘義          韓銘義",0,"韓銘義",null,null,null,null,null,null,null,null,null,null,{"$f":"IFERROR(VLOOKUP(K1063,股價!A:B,2,0)*M1063,\"\")","v":""},{"$f":"IF(O1063=\"\",\"\",RANK(O1063,$O$2:$O$1000))","v":""}]
["1264 德麥","簡慶堯          簡慶堯",1266,"簡慶堯",null,null,null,null,null,null,null,null,null,null,{"$f":"IFERROR(VLOOKUP(K1064,股價!A:B,2,0)*M1064,\"\")","v":""},{"$f":"IF(O1064=\"\",\"\",RANK(O1064,$O$2:$O$1000))","v":""}]
["1264 德麥","涂三遷          涂三遷",0,"涂三遷",null,null,null,null,null,null,null,null,null,null,{"$f":"IFERROR(VLOOKUP(K1065,股價!A:B,2,0)*M1065,\"\")","v":""},{"$f":"IF(O1065=\"\",\"\",RANK(O1065,$O$2:$O$1000))","v":""}]
["1268 漢來美食","_大股東合計1",14751,null,null,null,null,null,null,null,null,null,null,null,{"$f":"IFERROR(VLOOKUP(K1066,股價!A:B,2,0)*M1066,\"\")","v":""},{"$f":"IF(O1066=\"\",\"\",RANK(O1066,$O$2:$O$1000))","v":""}]
["1268 漢來美食","_大股東合計2    含沿用資料",25843,null,null,null,null,null,null,null,null,null,null,null,{"$f":"IFERROR(VLOOKUP(K1067,股價!A:B,2,0)*M1067,\"\")","v":""},{"$f":"IF(O1067=\"\",\"\",RANK(O1067,$O$2:$O$1000))","v":""}]
["1268 漢來美食","_經理人合計",804,null,null,null,null,null,null,null,null,null,null,null,{"$f":"IFERROR(VLOOKUP(K1068,股價!A:B,2,0)*M1068,\"\")","v":""},{"$f":"IF(O1068=\"\",\"\",RANK(O1068,$O$2:$O$1000))","v":""}]
["1268 漢來美食","_董  事合計",6798,null,null,null,null,null,null,null,null,null,null,null,{"$f":"IFERROR(VLOOKUP(K1069,股價!A:B,2,0)*M1069,\"\")","v":""},{"$f":"IF(O1069=\"\",\"\",RANK(O1069,$O$2:$O$1000))","v":""}]
["1268 漢來美食","_董監事合計",6798,null,null,null,null,null,null,null,null,null,null,null,{"$f":"IFERROR(VLOOKUP(K1070,股價!A:B,2,0)*M1070,\"\")","v":""},{"$f":"IF(O1070=\"\",\"\",RANK(O1070,$O$2:$O$1000))","v":""}]
["1268 漢來美食","_監察人合計",0,null,null,null,null,null,null,null,null,null,null,null,{"$f":"IFERROR(VLOOKUP(K1071,股價!A:B,2,0)*M1071,\"\")","v":""},{"$f":"IF(O1071=\"\",\"\",RANK(O1071,$O$2:$O$1000))","v":""}]
["1268 漢來美食","又達興業(股)    又達興業(股)",14751,"又達興業",null,null,null,null,null,null,null,null,null,null,{"$f":"IFERROR(VLOOKUP(K1072,股價!A:B,2,0)*M1072,\"\")","v":""},{"$f":"IF(O1072=\"\",\"\",RANK(O1072,$O$2:$O$1000))","v":""}]
["1268 漢來美食","亨瑞開發實業(股)侯淳淯",547,"亨瑞開發實業",null,null,null,null,null,null,null,null,null,null,{"$f":"IFERROR(VLOOKUP(K1073,股價!A:B,2,0)*M1073,\"\")","v":""},{"$f":"IF(O1073=\"\",\"\",RANK(O1073,$O$2:$O$1000))","v":""}]
["1268 漢來美食","吳若寧          吳若寧",47,"吳若寧",null,null,null,null,null,null,null,null,null,null,{"$f":"IFERROR(VLOOKUP(K1074,股價!A:B,2,0)*M1074,\"\")","v":""},{"$f":"IF(O1074=\"\",\"\",RANK(O1074,$O$2:$O$1000))","v":""}]
["1268 漢來美食","李孟栩          李孟栩",4,"李孟栩",null,null,null,null,null,null,null,null,null,null,{"$f":"IFERROR(VLOOKUP(K1075,股價!A:B,2,0)*M1075,\"\")","v":""},{"$f":"IF(O1075=\"\",\"\",RANK(O1075,$O$2:$O$1000))","v":""}]
["1268 漢來美食","周裕翔          周裕翔",52,"周裕翔",null,null,null,null,null,null,null,null,null,null,{"$f":"IFERROR(VLOOKUP(K1076,股價!A:B,2,0)*M1076,\"\")","v":""},{"$f":"IF(O1076=\"\",\"\",RANK(O1076,$O$2:$O$1000))","v":""}]
["1268 漢來美食","固邦(股)        彭邵齡",4213,"固邦",null,null,null,null,null,null,null,null,null,null,{"$f":"IFERROR(VLOOKUP(K1077,股價!A:B,2,0)*M1077,\"\")","v":""},{"$f":"IF(O1077=\"\",\"\",RANK(O1077,$O$2:$O$1000))","v":""}]
["1268 漢來美食","旺董(有)        賴宗成",468,"旺董",null,null,null,null,null,null,null,null,null,null,{"$f":"IFERROR(VLOOKUP(K1078,股價!A:B,2,0)*M1078,\"\")","v":""},{"$f":"IF(O1078=\"\",\"\",RANK(O1078,$O$2:$O$1000))","v":""}]
["1268 漢來美食","旺漲(有)        旺漲(有)",445,"旺漲",null,null,null,null,null,null,null,null,null,null,{"$f":"IFERROR(VLOOKUP(K1079,股價!A:B,2,0)*M1079,\"\")","v":""},{"$f":"IF(O1079=\"\",\"\",RANK(O1079,$O$2:$O$1000))","v":""}]
["1268 漢來美食","林淑婷          林淑婷",294,"林淑婷",null,null,null,null,null,null,null,null,null,null,{"$f":"IFERROR(VLOOKUP(K1080,股價!A:B,2,0)*M1080,\"\")","v":""},{"$f":"IF(O1080=\"\",\"\",RANK(O1080,$O$2:$O$1000))","v":""}]
["1268 漢來美食","侯宣羽          侯宣羽",6,"侯宣羽",null,null,null,null,null,null,null,null,null,null,{"$f":"IFERROR(VLOOKUP(K1081,股價!A:B,2,0)*M1081,\"\")","v":""},{"$f":"IF(O1081=\"\",\"\",RANK(O1081,$O$2:$O$1000))","v":""}]
["1268 漢來美食","侯思羽          侯思羽",528,"侯思羽",null,null,null,null,null,null,null,null,null,null,{"$f":"IFERROR(VLOOKUP(K1082,股價!A:B,2,0)*M1082,\"\")","v":""},{"$f":"IF(O1082=\"\",\"\",RANK(O1082,$O$2:$O$1000))","v":""}]
["1268 漢來美食","侯淳淯          侯淳淯",0,"侯淳淯",null,null,null,null,null,null,null,null,null,null,{"$f":"IFERROR(VLOOKUP(K1083,股價!A:B,2,0)*M1083,\"\")","v":""},{"$f":"IF(O1083=\"\",\"\",RANK(O1083,$O$2:$O$1000))","v":""}]
["1268 漢來美食","柯柏良          柯柏良",91,"柯柏良",null,null,null,null,null,null,null,null,null,null,{"$f":"IFERROR(VLOOKUP(K1084,股價!A:B,2,0)*M1084,\"\")","v":""},{"$f":"IF(O1084=\"\",\"\",RANK(O1084,$O$2:$O$1000))","v":""}]
["1268 漢來美食","原仲(股)        涂佩勳",3990,"原仲",null,null,null,null,null,null,null,null,null,null,{"$f":"IFERROR(VLOOKUP(K1085,股價!A:B,2,0)*M1085,\"\")","v":""},{"$f":"IF(O1085=\"\",\"\",RANK(O1085,$O$2:$O$1000))","v":""}]
["1268 漢來美食","國協(股)        侯淳淯",2117,"國協",null,null,null,null,null,null,null,null,null,null,{"$f":"IFERROR(VLOOKUP(K1086,股價!A:B,2,0)*M1086,\"\")","v":""},{"$f":"IF(O1086=\"\",\"\",RANK(O1086,$O$2:$O$1000))","v":""}]
["1268 漢來美食","陳冠雅          陳冠雅",0,"陳冠雅",null,null,null,null,null,null,null,null,null,null,{"$f":"IFERROR(VLOOKUP(K1087,股價!A:B,2,0)*M1087,\"\")","v":""},{"$f":"IF(O1087=\"\",\"\",RANK(O1087,$O$2:$O$1000))","v":""}]
["1268 漢來美食","陳棠            陳棠",0,"陳棠",null,null,null,null,null,null,null,null,null,null,{"$f":"IFERROR(VLOOKUP(K1088,股價!A:B,2,0)*M1088,\"\")","v":""},{"$f":"IF(O1088=\"\",\"\",RANK(O1088,$O$2:$O$1000))","v":""}]
["1268 漢來美食","陳順天          陳順天",0,"陳順天",null,null,null,null,null,null,null,null,null,null,{"$f":"IFERROR(VLOOKUP(K1089,股價!A:B,2,0)*M1089,\"\")","v":""},{"$f":"IF(O1089=\"\",\"\",RANK(O1089,$O$2:$O$1000))","v":""}]
["1268 漢來美食","陳肇隆          陳肇隆",0,"陳肇隆",null,null,null,null,null,null,null,null,null,null,{"$f":"IFERROR(VLOOKUP(K1090,股價!A:B,2,0)*M1090,\"\")","v":""},{"$f":"IF(O1090=\"\",\"\",RANK(O1090,$O$2:$O$1000))","v":""}]
["1268 漢來美食","陳潤祺          陳潤祺",0,"陳潤祺",null,null,null,null,null,null,null,null,null,null,{"$f":"IFERROR(VLOOKUP(K1091,股價!A:B,2,0)*M1091,\"\")","v":""},{"$f":"IF(O1091=\"\",\"\",RANK(O1091,$O$2:$O$1000))","v":""}]
["1268 漢來美食","彭邵齡          彭邵齡",11,"彭邵齡",null,null,null,null,null,null,null,null,null,null,{"$f":"IFERROR(VLOOKUP(K1092,股價!A:B,2,0)*M1092,\"\")","v":""},{"$f":"IF(O1092=\"\",\"\",RANK(O1092,$O$2:$O$1000))","v":""}]
["1268 漢來美食","華棣資產(股)    賴建明",2058,"華棣資產管理",null,null,null,null,null,null,null,null,null,null,{"$f":"IFERROR(VLOOKUP(K1093,股價!A:B,2,0)*M1093,\"\")","v":""},{"$f":"IF(O1093=\"\",\"\",RANK(O1093,$O$2:$O$1000))","v":""}]
["1268 漢來美食","漢來美食股份    漢來美食股份",500,"漢來美食股份有限公司庫藏股專戶",null,null,null,null,null,null,null,null,null,null,{"$f":"IFERROR(VLOOKUP(K1094,股價!A:B,2,0)*M1094,\"\")","v":""},{"$f":"IF(O1094=\"\",\"\",RANK(O1094,$O$2:$O$1000))","v":""}]
["1268 漢來美食","漢神投資(股)    蔡哲雄",2072,"漢神投資",null,null,null,null,null,null,null,null,null,null,{"$f":"IFERROR(VLOOKUP(K1095,股價!A:B,2,0)*M1095,\"\")","v":""},{"$f":"IF(O1095=\"\",\"\",RANK(O1095,$O$2:$O$1000))","v":""}]
["1268 漢來美食","劉子銘          劉子銘",154,"劉子銘",null,null,null,null,null,null,null,null,null,null,{"$f":"IFERROR(VLOOKUP(K1096,股價!A:B,2,0)*M1096,\"\")","v":""},{"$f":"IF(O1096=\"\",\"\",RANK(O1096,$O$2:$O$1000))","v":""}]
["1268 漢來美食","蔡慧娟          蔡慧娟",53,"蔡慧娟",null,null,null,null,null,null,null,null,null,null,{"$f":"IFERROR(VLOOKUP(K1097,股價!A:B,2,0)*M1097,\"\")","v":""},{"$f":"IF(O1097=\"\",\"\",RANK(O1097,$O$2:$O$1000))","v":""}]
["1268 漢來美食","學詠(有)        侯嘉騏",1397,"學詠",null,null,null,null,null,null,null,null,null,null,{"$f":"IFERROR(VLOOKUP(K1098,股價!A:B,2,0)*M1098,\"\")","v":""},{"$f":"IF(O1098=\"\",\"\",RANK(O1098,$O$2:$O$1000))","v":""}]
["1268 漢來美食","賴宗成          賴宗成",336,"賴宗成",null,null,null,null,null,null,null,null,null,null,{"$f":"IFERROR(VLOOKUP(K1099,股價!A:B,2,0)*M1099,\"\")","v":""},{"$f":"IF(O1099=\"\",\"\",RANK(O1099,$O$2:$O$1000))","v":""}]
["1268 漢來美食","謝騰隆          謝騰隆",0,"謝騰隆",null,null,null,null,null,null,null,null,null,null,{"$f":"IFERROR(VLOOKUP(K1100,股價!A:B,2,0)*M1100,\"\")","v":""},{"$f":"IF(O1100=\"\",\"\",RANK(O1100,$O$2:$O$1000))","v":""}]
["1268 漢來美食","羅嶸            羅嶸",103,"羅嶸",null,null,null,null,null,null,null,null,null,null,{"$f":"IFERROR(VLOOKUP(K1101,股價!A:B,2,0)*M1101,\"\")","v":""},{"$f":"IF(O1101=\"\",\"\",RANK(O1101,$O$2:$O$1000))","v":""}]
["1301 台塑","_大股東合計1",0,null,null,null,null,null,null,null,null,null,null,null,{"$f":"IFERROR(VLOOKUP(K1102,股價!A:B,2,0)*M1102,\"\")","v":""},{"$f":"IF(O1102=\"\",\"\",RANK(O1102,$O$2:$O$1000))","v":""}]
["1301 台塑","_大股東合計2    含沿用資料",1724270,null,null,null,null,null,null,null,null,null,null,null,{"$f":"IFERROR(VLOOKUP(K1103,股價!A:B,2,0)*M1103,\"\")","v":""},{"$f":"IF(O1103=\"\",\"\",RANK(O1103,$O$2:$O$1000))","v":""}]
["1301 台塑","_經理人合計",25,null,null,null,null,null,null,null,null,null,null,null,{"$f":"IFERROR(VLOOKUP(K1104,股價!A:B,2,0)*M1104,\"\")","v":""},{"$f":"IF(O1104=\"\",\"\",RANK(O1104,$O$2:$O$1000))","v":""}]
["1301 台塑","_董  事合計",950467,null,null,null,null,null,null,null,null,null,null,null,{"$f":"IFERROR(VLOOKUP(K1105,股價!A:B,2,0)*M1105,\"\")","v":""},{"$f":"IF(O1105=\"\",\"\",RANK(O1105,$O$2:$O$1000))","v":""}]
["1301 台塑","_董監事合計",950467,null,null,null,null,null,null,null,null,null,null,null,{"$f":"IFERROR(VLOOKUP(K1106,股價!A:B,2,0)*M1106,\"\")","v":""},{"$f":"IF(O1106=\"\",\"\",RANK(O1106,$O$2:$O$1000))","v":""}]
["1301 台塑","_監察人合計",0,null,null,null,null,null,null,null,null,null,null,null,{"$f":"IFERROR(VLOOKUP(K1107,股價!A:B,2,0)*M1107,\"\")","v":""},{"$f":"IF(O1107=\"\",\"\",RANK(O1107,$O$2:$O$1000))","v":""}]
["1301 台塑","王文淵          王文淵",45152,"王文淵",null,null,null,null,null,null,null,null,null,null,{"$f":"IFERROR(VLOOKUP(K1108,股價!A:B,2,0)*M1108,\"\")","v":""},{"$f":"IF(O1108=\"\",\"\",RANK(O1108,$O$2:$O$1000))","v":""}]
["1301 台塑","王文潮          王文潮",12067,"王文潮",null,null,null,null,null,null,null,null,null,null,{"$f":"IFERROR(VLOOKUP(K1109,股價!A:B,2,0)*M1109,\"\")","v":""},{"$f":"IF(O1109=\"\",\"\",RANK(O1109,$O$2:$O$1000))","v":""}]
["1301 台塑","王雪紅          王雪紅",7369,"王雪紅",null,null,null,null,null,null,null,null,null,null,{"$f":"IFERROR(VLOOKUP(K1110,股價!A:B,2,0)*M1110,\"\")","v":""},{"$f":"IF(O1110=\"\",\"\",RANK(O1110,$O$2:$O$1000))","v":""}]
["1301 台塑","王瑞華          王瑞華",8828,"王瑞華",null,null,null,null,null,null,null,null,null,null,{"$f":"IFERROR(VLOOKUP(K1111,股價!A:B,2,0)*M1111,\"\")","v":""},{"$f":"IF(O1111=\"\",\"\",RANK(O1111,$O$2:$O$1000))","v":""}]
["1301 台塑","王漢雄          王漢雄",0,"王漢雄",null,null,null,null,null,null,null,null,null,null,{"$f":"IFERROR(VLOOKUP(K1112,股價!A:B,2,0)*M1112,\"\")","v":""},{"$f":"IF(O1112=\"\",\"\",RANK(O1112,$O$2:$O$1000))","v":""}]
["1301 台塑","台塑石化(股)    王文潮",131460,"台塑石化",null,null,null,null,null,null,null,null,null,null,{"$f":"IFERROR(VLOOKUP(K1113,股價!A:B,2,0)*M1113,\"\")","v":""},{"$f":"IF(O1113=\"\",\"\",RANK(O1113,$O$2:$O$1000))","v":""}]
["1301 台塑","台灣化學纖維(股)王文淵",486979,"台灣化學纖維",null,null,null,null,null,null,null,null,null,null,{"$f":"IFERROR(VLOOKUP(K1114,股價!A:B,2,0)*M1114,\"\")","v":""},{"$f":"IF(O1114=\"\",\"\",RANK(O1114,$O$2:$O$1000))","v":""}]
["1301 台塑","何敏廷          何敏廷",27824,"何敏廷",null,null,null,null,null,null,null,null,null,null,{"$f":"IFERROR(VLOOKUP(K1115,股價!A:B,2,0)*M1115,\"\")","v":""},{"$f":"IF(O1115=\"\",\"\",RANK(O1115,$O$2:$O$1000))","v":""}]
["1301 台塑","吳政龍          吳政龍",16,"吳政龍",null,null,null,null,null,null,null,null,null,null,{"$f":"IFERROR(VLOOKUP(K1116,股價!A:B,2,0)*M1116,\"\")","v":""},{"$f":"IF(O1116=\"\",\"\",RANK(O1116,$O$2:$O$1000))","v":""}]
["1301 台塑","吳國雄          吳國雄",135,"吳國雄",null,null,null,null,null,null,null,null,null,null,{"$f":"IFERROR(VLOOKUP(K1117,股價!A:B,2,0)*M1117,\"\")","v":""},{"$f":"IF(O1117=\"\",\"\",RANK(O1117,$O$2:$O$1000))","v":""}]
["1301 台塑","吳清基          吳清基",0,"吳清基",null,null,null,null,null,null,null,null,null,null,{"$f":"IFERROR(VLOOKUP(K1118,股價!A:B,2,0)*M1118,\"\")","v":""},{"$f":"IF(O1118=\"\",\"\",RANK(O1118,$O$2:$O$1000))","v":""}]
["1301 台塑","李志村          李志村",1907,"李志村",null,null,null,null,null,null,null,null,null,null,{"$f":"IFERROR(VLOOKUP(K1119,股價!A:B,2,0)*M1119,\"\")","v":""},{"$f":"IF(O1119=\"\",\"\",RANK(O1119,$O$2:$O$1000))","v":""}]
["1301 台塑","李應源          李應源",0,"李應源",null,null,null,null,null,null,null,null,null,null,{"$f":"IFERROR(VLOOKUP(K1120,股價!A:B,2,0)*M1120,\"\")","v":""},{"$f":"IF(O1120=\"\",\"\",RANK(O1120,$O$2:$O$1000))","v":""}]
["1301 台塑","明志科技大學    王文淵",90902,"明志科技大學",null,null,null,null,null,null,null,null,null,null,{"$f":"IFERROR(VLOOKUP(K1121,股價!A:B,2,0)*M1121,\"\")","v":""},{"$f":"IF(O1121=\"\",\"\",RANK(O1121,$O$2:$O$1000))","v":""}]
["1301 台塑","林健男          林健男",0,"林健男",null,null,null,null,null,null,null,null,null,null,{"$f":"IFERROR(VLOOKUP(K1122,股價!A:B,2,0)*M1122,\"\")","v":""},{"$f":"IF(O1122=\"\",\"\",RANK(O1122,$O$2:$O$1000))","v":""}]
["1301 台塑","林勝冠          林勝冠",0,"林勝冠",null,null,null,null,null,null,null,null,null,null,{"$f":"IFERROR(VLOOKUP(K1123,股價!A:B,2,0)*M1123,\"\")","v":""},{"$f":"IF(O1123=\"\",\"\",RANK(O1123,$O$2:$O$1000))","v":""}]
["1301 台塑","林善志          林善志",0,"林善志",null,null,null,null,null,null,null,null,null,null,{"$f":"IFERROR(VLOOKUP(K1124,股價!A:B,2,0)*M1124,\"\")","v":""},{"$f":"IF(O1124=\"\",\"\",RANK(O1124,$O$2:$O$1000))","v":""}]
["1301 台塑","花旗政府(星)    花旗政府(星)",95274,"花旗銀託管新加坡政府基金專戶",null,null,null,null,null,null,null,null,null,null,{"$f":"IFERROR(VLOOKUP(K1125,股價!A:B,2,0)*M1125,\"\")","v":""},{"$f":"IF(O1125=\"\",\"\",RANK(O1125,$O$2:$O$1000))","v":""}]
["1301 台塑","邱奕裕          邱奕裕",0,"邱奕裕",null,null,null,null,null,null,null,null,null,null,{"$f":"IFERROR(VLOOKUP(K1126,股價!A:B,2,0)*M1126,\"\")","v":""},{"$f":"IF(O1126=\"\",\"\",RANK(O1126,$O$2:$O$1000))","v":""}]
["1301 台塑","長庚醫療財團法人王瑞慧",601011,"長庚醫療財團法人",null,null,null,null,null,null,null,null,null,null,{"$f":"IFERROR(VLOOKUP(K1127,股價!A:B,2,0)*M1127,\"\")","v":""},{"$f":"IF(O1127=\"\",\"\",RANK(O1127,$O$2:$O$1000))","v":""}]
["1301 台塑","南亞塑膠工業(股)王瑞華",294793,"南亞塑膠工業",null,null,null,null,null,null,null,null,null,null,{"$f":"IFERROR(VLOOKUP(K1128,股價!A:B,2,0)*M1128,\"\")","v":""},{"$f":"IF(O1128=\"\",\"\",RANK(O1128,$O$2:$O$1000))","v":""}]
["1301 台塑","施顏祥          施顏祥",0,"施顏祥",null,null,null,null,null,null,null,null,null,null,{"$f":"IFERROR(VLOOKUP(K1129,股價!A:B,2,0)*M1129,\"\")","v":""},{"$f":"IF(O1129=\"\",\"\",RANK(O1129,$O$2:$O$1000))","v":""}]
["1301 台塑","秦氏國際投資(股)Everred Corp",264693,"秦氏國際投資",null,null,null,null,null,null,null,null,null,null,{"$f":"IFERROR(VLOOKUP(K1130,股價!A:B,2,0)*M1130,\"\")","v":""},{"$f":"IF(O1130=\"\",\"\",RANK(O1130,$O$2:$O$1000))","v":""}]
["1301 台塑","翁文祺          翁文祺",0,"翁文祺",null,null,null,null,null,null,null,null,null,null,{"$f":"IFERROR(VLOOKUP(K1131,股價!A:B,2,0)*M1131,\"\")","v":""},{"$f":"IF(O1131=\"\",\"\",RANK(O1131,$O$2:$O$1000))","v":""}]
["1301 台塑","梁世昌          梁世昌",0,"梁世昌",null,null,null,null,null,null,null,null,null,null,{"$f":"IFERROR(VLOOKUP(K1132,股價!A:B,2,0)*M1132,\"\")","v":""},{"$f":"IF(O1132=\"\",\"\",RANK(O1132,$O$2:$O$1000))","v":""}]
["1301 台塑","郭文筆          郭文筆",0,"郭文筆",null,null,null,null,null,null,null,null,null,null,{"$f":"IFERROR(VLOOKUP(K1133,股價!A:B,2,0)*M1133,\"\")","v":""},{"$f":"IF(O1133=\"\",\"\",RANK(O1133,$O$2:$O$1000))","v":""}]
["1301 台塑","陳光明          陳光明",0,"陳光明",null,null,null,null,null,null,null,null,null,null,{"$f":"IFERROR(VLOOKUP(K1134,股價!A:B,2,0)*M1134,\"\")","v":""},{"$f":"IF(O1134=\"\",\"\",RANK(O1134,$O$2:$O$1000))","v":""}]
["1301 台塑","陳朝榮          陳朝榮",0,"陳朝榮",null,null,null,null,null,null,null,null,null,null,{"$f":"IFERROR(VLOOKUP(K1135,股價!A:B,2,0)*M1135,\"\")","v":""},{"$f":"IF(O1135=\"\",\"\",RANK(O1135,$O$2:$O$1000))","v":""}]
["1301 台塑","渣打瑞士信貸    渣打瑞士信貸",398732,"渣打國際商業銀行營業部受託保管瑞士信貸銀行-瑞士信貸新加坡分行投資專戶",null,null,null,null,null,null,null,null,null,null,{"$f":"IFERROR(VLOOKUP(K1136,股價!A:B,2,0)*M1136,\"\")","v":""},{"$f":"IF(O1136=\"\",\"\",RANK(O1136,$O$2:$O$1000))","v":""}]
["1301 台塑","程成忠          程成忠",0,"程成忠",null,null,null,null,null,null,null,null,null,null,{"$f":"IFERROR(VLOOKUP(K1137,股價!A:B,2,0)*M1137,\"\")","v":""},{"$f":"IF(O1137=\"\",\"\",RANK(O1137,$O$2:$O$1000))","v":""}]
["1301 台塑","新制勞退基金    新制勞退基金",79416,"新制勞工勞退基金",null,null,null,null,null,null,null,null,null,null,{"$f":"IFERROR(VLOOKUP(K1138,股價!A:B,2,0)*M1138,\"\")","v":""},{"$f":"IF(O1138=\"\",\"\",RANK(O1138,$O$2:$O$1000))","v":""}]
["1301 台塑","萬順國際投資(股)Landmark Cap",194242,"萬順國際投資",null,null,null,null,null,null,null,null,null,null,{"$f":"IFERROR(VLOOKUP(K1139,股價!A:B,2,0)*M1139,\"\")","v":""},{"$f":"IF(O1139=\"\",\"\",RANK(O1139,$O$2:$O$1000))","v":""}]
["1301 台塑","葉一志          葉一志",3,"葉一志",null,null,null,null,null,null,null,null,null,null,{"$f":"IFERROR(VLOOKUP(K1140,股價!A:B,2,0)*M1140,\"\")","v":""},{"$f":"IF(O1140=\"\",\"\",RANK(O1140,$O$2:$O$1000))","v":""}]
["1301 台塑","雷震霄          雷震霄",0,"雷震霄",null,null,null,null,null,null,null,null,null,null,{"$f":"IFERROR(VLOOKUP(K1141,股價!A:B,2,0)*M1141,\"\")","v":""},{"$f":"IF(O1141=\"\",\"\",RANK(O1141,$O$2:$O$1000))","v":""}]
["1301 台塑","鄭明煌          鄭明煌",6,"鄭明煌",null,null,null,null,null,null,null,null,null,null,{"$f":"IFERROR(VLOOKUP(K1142,股價!A:B,2,0)*M1142,\"\")","v":""},{"$f":"IF(O1142=\"\",\"\",RANK(O1142,$O$2:$O$1000))","v":""}]
["1301 台塑","簡嘉宏          簡嘉宏",0,"簡嘉宏",null,null,null,null,null,null,null,null,null,null,{"$f":"IFERROR(VLOOKUP(K1143,股價!A:B,2,0)*M1143,\"\")","v":""},{"$f":"IF(O1143=\"\",\"\",RANK(O1143,$O$2:$O$1000))","v":""}]
["1301 台塑","魏啟林          魏啟林",0,"魏啟林",null,null,null,null,null,null,null,null,null,null,{"$f":"IFERROR(VLOOKUP(K1144,股價!A:B,2,0)*M1144,\"\")","v":""},{"$f":"IF(O1144=\"\",\"\",RANK(O1144,$O$2:$O$1000))","v":""}]
["1303 南亞","_大股東合計1",876733,null,null,null,null,null,null,null,null,null,null,null,{"$f":"IFERROR(VLOOKUP(K1145,股價!A:B,2,0)*M1145,\"\")","v":""},{"$f":"IF(O1145=\"\",\"\",RANK(O1145,$O$2:$O$1000))","v":""}]
["1303 南亞","_大股東合計2    含沿用資料",1860140,null,null,null,null,null,null,null,null,null,null,null,{"$f":"IFERROR(VLOOKUP(K1146,股價!A:B,2,0)*M1146,\"\")","v":""},{"$f":"IF(O1146=\"\",\"\",RANK(O1146,$O$2:$O$1000))","v":""}]
["1303 南亞","_經理人合計",75,null,null,null,null,null,null,null,null,null,null,null,{"$f":"IFERROR(VLOOKUP(K1147,股價!A:B,2,0)*M1147,\"\")","v":""},{"$f":"IF(O1147=\"\",\"\",RANK(O1147,$O$2:$O$1000))","v":""}]
["1303 南亞","_董  事合計",1447987,null,null,null,null,null,null,null,null,null,null,null,{"$f":"IFERROR(VLOOKUP(K1148,股價!A:B,2,0)*M1148,\"\")","v":""},{"$f":"IF(O1148=\"\",\"\",RANK(O1148,$O$2:$O$1000))","v":""}]
["1303 南亞","_董監事合計",1447987,null,null,null,null,null,null,null,null,null,null,null,{"$f":"IFERROR(VLOOKUP(K1149,股價!A:B,2,0)*M1149,\"\")","v":""},{"$f":"IF(O1149=\"\",\"\",RANK(O1149,$O$2:$O$1000))","v":""}]
["1303 南亞","_監察人合計",0,null,null,null,null,null,null,null,null,null,null,null,{"$f":"IFERROR(VLOOKUP(K1150,股價!A:B,2,0)*M1150,\"\")","v":""},{"$f":"IF(O1150=\"\",\"\",RANK(O1150,$O$2:$O$1000))","v":""}]
["1303 南亞","丁誌儀          丁誌儀",0,"丁誌儀",null,null,null,null,null,null,null,null,null,null,{"$f":"IFERROR(VLOOKUP(K1151,股價!A:B,2,0)*M1151,\"\")","v":""},{"$f":"IF(O1151=\"\",\"\",RANK(O1151,$O$2:$O$1000))","v":""}]
["1303 南亞","王文淵          王文淵",38291,"王文淵",null,null,null,null,null,null,null,null,null,null,{"$f":"IFERROR(VLOOKUP(K1152,股價!A:B,2,0)*M1152,\"\")","v":""},{"$f":"IF(O1152=\"\",\"\",RANK(O1152,$O$2:$O$1000))","v":""}]
["1303 南亞","王文潮          王文潮",969,"王文潮",null,null,null,null,null,null,null,null,null,null,{"$f":"IFERROR(VLOOKUP(K1153,股價!A:B,2,0)*M1153,\"\")","v":""},{"$f":"IF(O1153=\"\",\"\",RANK(O1153,$O$2:$O$1000))","v":""}]
["1303 南亞","王志剛          王志剛",0,"王志剛",null,null,null,null,null,null,null,null,null,null,{"$f":"IFERROR(VLOOKUP(K1154,股價!A:B,2,0)*M1154,\"\")","v":""},{"$f":"IF(O1154=\"\",\"\",RANK(O1154,$O$2:$O$1000))","v":""}]
["1303 南亞","王貴雲          王貴雲",11164,"王貴雲",null,null,null,null,null,null,null,null,null,null,{"$f":"IFERROR(VLOOKUP(K1155,股價!A:B,2,0)*M1155,\"\")","v":""},{"$f":"IF(O1155=\"\",\"\",RANK(O1155,$O$2:$O$1000))","v":""}]
["1303 南亞","王瑞瑜          王瑞瑜",19052,"王瑞瑜",null,null,null,null,null,null,null,null,null,null,{"$f":"IFERROR(VLOOKUP(K1156,股價!A:B,2,0)*M1156,\"\")","v":""},{"$f":"IF(O1156=\"\",\"\",RANK(O1156,$O$2:$O$1000))","v":""}]
["1303 南亞","台塑石化(股)    王文潮",179214,"台塑石化",null,null,null,null,null,null,null,null,null,null,{"$f":"IFERROR(VLOOKUP(K1157,股價!A:B,2,0)*M1157,\"\")","v":""},{"$f":"IF(O1157=\"\",\"\",RANK(O1157,$O$2:$O$1000))","v":""}]
["1303 南亞","台灣化學纖維(股)施宗岳",413328,"台灣化學纖維",null,null,null,null,null,null,null,null,null,null,{"$f":"IFERROR(VLOOKUP(K1158,股價!A:B,2,0)*M1158,\"\")","v":""},{"$f":"IF(O1158=\"\",\"\",RANK(O1158,$O$2:$O$1000))","v":""}]
["1303 南亞","台灣塑膠工業(股)簡日春",783357,"台灣塑膠工業",null,null,null,null,null,null,null,null,null,null,{"$f":"IFERROR(VLOOKUP(K1159,股價!A:B,2,0)*M1159,\"\")","v":""},{"$f":"IF(O1159=\"\",\"\",RANK(O1159,$O$2:$O$1000))","v":""}]
["1303 南亞","白立達          白立達",16,"白立達",null,null,null,null,null,null,null,null,null,null,{"$f":"IFERROR(VLOOKUP(K1160,股價!A:B,2,0)*M1160,\"\")","v":""},{"$f":"IF(O1160=\"\",\"\",RANK(O1160,$O$2:$O$1000))","v":""}]
["1303 南亞","朱雲鵬          朱雲鵬",1,"朱雲鵬",null,null,null,null,null,null,null,null,null,null,{"$f":"IFERROR(VLOOKUP(K1161,股價!A:B,2,0)*M1161,\"\")","v":""},{"$f":"IF(O1161=\"\",\"\",RANK(O1161,$O$2:$O$1000))","v":""}]
["1303 南亞","吳嘉昭          吳嘉昭",79,"吳嘉昭",null,null,null,null,null,null,null,null,null,null,{"$f":"IFERROR(VLOOKUP(K1162,股價!A:B,2,0)*M1162,\"\")","v":""},{"$f":"IF(O1162=\"\",\"\",RANK(O1162,$O$2:$O$1000))","v":""}]
["1303 南亞","李伸一          李伸一",0,"李伸一",null,null,null,null,null,null,null,null,null,null,{"$f":"IFERROR(VLOOKUP(K1163,股價!A:B,2,0)*M1163,\"\")","v":""},{"$f":"IF(O1163=\"\",\"\",RANK(O1163,$O$2:$O$1000))","v":""}]
["1303 南亞","李政中          李政中",0,"李政中",null,null,null,null,null,null,null,null,null,null,{"$f":"IFERROR(VLOOKUP(K1164,股價!A:B,2,0)*M1164,\"\")","v":""},{"$f":"IF(O1164=\"\",\"\",RANK(O1164,$O$2:$O$1000))","v":""}]
["1303 南亞","林義夫          林義夫",0,"林義夫",null,null,null,null,null,null,null,null,null,null,{"$f":"IFERROR(VLOOKUP(K1165,股價!A:B,2,0)*M1165,\"\")","v":""},{"$f":"IF(O1165=\"\",\"\",RANK(O1165,$O$2:$O$1000))","v":""}]
["1303 南亞","林豐欽          林豐欽",25,"林豐欽",null,null,null,null,null,null,null,null,null,null,{"$f":"IFERROR(VLOOKUP(K1166,股價!A:B,2,0)*M1166,\"\")","v":""},{"$f":"IF(O1166=\"\",\"\",RANK(O1166,$O$2:$O$1000))","v":""}]
["1303 南亞","花旗(台灣)商    花旗(台灣)商",114698,"花旗(台灣)商業銀行託管遠大系統(股)公司投資專戶",null,null,null,null,null,null,null,null,null,null,{"$f":"IFERROR(VLOOKUP(K1167,股價!A:B,2,0)*M1167,\"\")","v":""},{"$f":"IF(O1167=\"\",\"\",RANK(O1167,$O$2:$O$1000))","v":""}]
["1303 南亞","長庚大學        王文淵",317469,"財團法人私立長庚大學",null,null,null,null,null,null,null,null,null,null,{"$f":"IFERROR(VLOOKUP(K1168,股價!A:B,2,0)*M1168,\"\")","v":""},{"$f":"IF(O1168=\"\",\"\",RANK(O1168,$O$2:$O$1000))","v":""}]
["1303 南亞","長庚醫療財團法人長庚醫療財團",876733,"長庚醫療財團法人",null,null,null,null,null,null,null,null,null,null,{"$f":"IFERROR(VLOOKUP(K1169,股價!A:B,2,0)*M1169,\"\")","v":""},{"$f":"IF(O1169=\"\",\"\",RANK(O1169,$O$2:$O$1000))","v":""}]
["1303 南亞","施宗岳          施宗岳",8,"施宗岳",null,null,null,null,null,null,null,null,null,null,{"$f":"IFERROR(VLOOKUP(K1170,股價!A:B,2,0)*M1170,\"\")","v":""},{"$f":"IF(O1170=\"\",\"\",RANK(O1170,$O$2:$O$1000))","v":""}]
["1303 南亞","柯有明          柯有明",0,"柯有明",null,null,null,null,null,null,null,null,null,null,{"$f":"IFERROR(VLOOKUP(K1171,股價!A:B,2,0)*M1171,\"\")","v":""},{"$f":"IF(O1171=\"\",\"\",RANK(O1171,$O$2:$O$1000))","v":""}]
["1303 南亞","秦氏國際投資(股)Everred Corp",147557,"秦氏國際投資",null,null,null,null,null,null,null,null,null,null,{"$f":"IFERROR(VLOOKUP(K1172,股價!A:B,2,0)*M1172,\"\")","v":""},{"$f":"IF(O1172=\"\",\"\",RANK(O1172,$O$2:$O$1000))","v":""}]
["1303 南亞","張永芳          張永芳",0,"張永芳",null,null,null,null,null,null,null,null,null,null,{"$f":"IFERROR(VLOOKUP(K1173,股價!A:B,2,0)*M1173,\"\")","v":""},{"$f":"IF(O1173=\"\",\"\",RANK(O1173,$O$2:$O$1000))","v":""}]
["1303 南亞","張清正          張清正",1446,"張清正",null,null,null,null,null,null,null,null,null,null,{"$f":"IFERROR(VLOOKUP(K1174,股價!A:B,2,0)*M1174,\"\")","v":""},{"$f":"IF(O1174=\"\",\"\",RANK(O1174,$O$2:$O$1000))","v":""}]
["1303 南亞","盛修業          盛修業",0,"盛修業",null,null,null,null,null,null,null,null,null,null,{"$f":"IFERROR(VLOOKUP(K1175,股價!A:B,2,0)*M1175,\"\")","v":""},{"$f":"IF(O1175=\"\",\"\",RANK(O1175,$O$2:$O$1000))","v":""}]
["1303 南亞","陳振溶          陳振溶",0,"陳振溶",null,null,null,null,null,null,null,null,null,null,{"$f":"IFERROR(VLOOKUP(K1176,股價!A:B,2,0)*M1176,\"\")","v":""},{"$f":"IF(O1176=\"\",\"\",RANK(O1176,$O$2:$O$1000))","v":""}]
["1303 南亞","陳祐聖          陳祐聖",0,"陳祐聖",null,null,null,null,null,null,null,null,null,null,{"$f":"IFERROR(VLOOKUP(K1177,股價!A:B,2,0)*M1177,\"\")","v":""},{"$f":"IF(O1177=\"\",\"\",RANK(O1177,$O$2:$O$1000))","v":""}]
["1303 南亞","富臨投資(有)    張清正",3287,"富臨投資",null,null,null,null,null,null,null,null,null,null,{"$f":"IFERROR(VLOOKUP(K1178,股價!A:B,2,0)*M1178,\"\")","v":""},{"$f":"IF(O1178=\"\",\"\",RANK(O1178,$O$2:$O$1000))","v":""}]
["1303 南亞","彭福榮          彭福榮",1,"彭福榮",null,null,null,null,null,null,null,null,null,null,{"$f":"IFERROR(VLOOKUP(K1179,股價!A:B,2,0)*M1179,\"\")","v":""},{"$f":"IF(O1179=\"\",\"\",RANK(O1179,$O$2:$O$1000))","v":""}]
["1303 南亞","渣打利國皇家    渣打利國皇家",118694,"渣打託管利國皇家銀行(新加坡)有限公司",null,null,null,null,null,null,null,null,null,null,{"$f":"IFERROR(VLOOKUP(K1180,股價!A:B,2,0)*M1180,\"\")","v":""},{"$f":"IF(O1180=\"\",\"\",RANK(O1180,$O$2:$O$1000))","v":""}]
["1303 南亞","渣打瑞士信貸    渣打瑞士信貸",95211,"渣打國際商業銀行營業部受託保管瑞士信貸銀行-瑞士信貸新加坡分行投資專戶",null,null,null,null,null,null,null,null,null,null,{"$f":"IFERROR(VLOOKUP(K1181,股價!A:B,2,0)*M1181,\"\")","v":""},{"$f":"IF(O1181=\"\",\"\",RANK(O1181,$O$2:$O$1000))","v":""}]
["1303 南亞","黃有隆          黃有隆",4,"黃有隆",null,null,null,null,null,null,null,null,null,null,{"$f":"IFERROR(VLOOKUP(K1182,股價!A:B,2,0)*M1182,\"\")","v":""},{"$f":"IF(O1182=\"\",\"\",RANK(O1182,$O$2:$O$1000))","v":""}]
["1303 南亞","楊文政          楊文政",0,"楊文政",null,null,null,null,null,null,null,null,null,null,{"$f":"IFERROR(VLOOKUP(K1183,股價!A:B,2,0)*M1183,\"\")","v":""},{"$f":"IF(O1183=\"\",\"\",RANK(O1183,$O$2:$O$1000))","v":""}]
["1303 南亞","萬順國際投資(股)Landmark Cap",189778,"萬順國際投資",null,null,null,null,null,null,null,null,null,null,{"$f":"IFERROR(VLOOKUP(K1184,股價!A:B,2,0)*M1184,\"\")","v":""},{"$f":"IF(O1184=\"\",\"\",RANK(O1184,$O$2:$O$1000))","v":""}]
["1303 南亞","鄒明仁          鄒明仁",189,"鄒明仁",null,null,null,null,null,null,null,null,null,null,{"$f":"IFERROR(VLOOKUP(K1185,股價!A:B,2,0)*M1185,\"\")","v":""},{"$f":"IF(O1185=\"\",\"\",RANK(O1185,$O$2:$O$1000))","v":""}]
["1303 南亞","廖德超          廖德超",0,"廖德超",null,null,null,null,null,null,null,null,null,null,{"$f":"IFERROR(VLOOKUP(K1186,股價!A:B,2,0)*M1186,\"\")","v":""},{"$f":"IF(O1186=\"\",\"\",RANK(O1186,$O$2:$O$1000))","v":""}]
["1303 南亞","劉寶長          劉寶長",7,"劉寶長",null,null,null,null,null,null,null,null,null,null,{"$f":"IFERROR(VLOOKUP(K1187,股價!A:B,2,0)*M1187,\"\")","v":""},{"$f":"IF(O1187=\"\",\"\",RANK(O1187,$O$2:$O$1000))","v":""}]
["1303 南亞","蔡昌明          蔡昌明",0,"蔡昌明",null,null,null,null,null,null,null,null,null,null,{"$f":"IFERROR(VLOOKUP(K1188,股價!A:B,2,0)*M1188,\"\")","v":""},{"$f":"IF(O1188=\"\",\"\",RANK(O1188,$O$2:$O$1000))","v":""}]
["1303 南亞","鄭文濱          鄭文濱",1,"鄭文濱",null,null,null,null,null,null,null,null,null,null,{"$f":"IFERROR(VLOOKUP(K1189,股價!A:B,2,0)*M1189,\"\")","v":""},{"$f":"IF(O1189=\"\",\"\",RANK(O1189,$O$2:$O$1000))","v":""}]
["1303 南亞","薛勝宏          薛勝宏",0,"薛勝宏",null,null,null,null,null,null,null,null,null,null,{"$f":"IFERROR(VLOOKUP(K1190,股價!A:B,2,0)*M1190,\"\")","v":""},{"$f":"IF(O1190=\"\",\"\",RANK(O1190,$O$2:$O$1000))","v":""}]
["1303 南亞","簡日春          簡日春",303,"簡日春",null,null,null,null,null,null,null,null,null,null,{"$f":"IFERROR(VLOOKUP(K1191,股價!A:B,2,0)*M1191,\"\")","v":""},{"$f":"IF(O1191=\"\",\"\",RANK(O1191,$O$2:$O$1000))","v":""}]
["1303 南亞","蘇啟雲          蘇啟雲",38,"蘇啟雲",null,null,null,null,null,null,null,null,null,null,{"$f":"IFERROR(VLOOKUP(K1192,股價!A:B,2,0)*M1192,\"\")","v":""},{"$f":"IF(O1192=\"\",\"\",RANK(O1192,$O$2:$O$1000))","v":""}]
["1304 台聚","_大股東合計1",0,null,null,null,null,null,null,null,null,null,null,null,{"$f":"IFERROR(VLOOKUP(K1193,股價!A:B,2,0)*M1193,\"\")","v":""},{"$f":"IF(O1193=\"\",\"\",RANK(O1193,$O$2:$O$1000))","v":""}]
["1304 台聚","_大股東合計2    含沿用資料",266022,null,null,null,null,null,null,null,null,null,null,null,{"$f":"IFERROR(VLOOKUP(K1194,股價!A:B,2,0)*M1194,\"\")","v":""},{"$f":"IF(O1194=\"\",\"\",RANK(O1194,$O$2:$O$1000))","v":""}]
["1304 台聚","_經理人合計",0,null,null,null,null,null,null,null,null,null,null,null,{"$f":"IFERROR(VLOOKUP(K1195,股價!A:B,2,0)*M1195,\"\")","v":""},{"$f":"IF(O1195=\"\",\"\",RANK(O1195,$O$2:$O$1000))","v":""}]
["1304 台聚","_董  事合計",290243,null,null,null,null,null,null,null,null,null,null,null,{"$f":"IFERROR(VLOOKUP(K1196,股價!A:B,2,0)*M1196,\"\")","v":""},{"$f":"IF(O1196=\"\",\"\",RANK(O1196,$O$2:$O$1000))","v":""}]
["1304 台聚","_董監事合計",290243,null,null,null,null,null,null,null,null,null,null,null,{"$f":"IFERROR(VLOOKUP(K1197,股價!A:B,2,0)*M1197,\"\")","v":""},{"$f":"IF(O1197=\"\",\"\",RANK(O1197,$O$2:$O$1000))","v":""}]
["1304 台聚","_監察人合計",0,null,null,null,null,null,null,null,null,null,null,null,{"$f":"IFERROR(VLOOKUP(K1198,股價!A:B,2,0)*M1198,\"\")","v":""},{"$f":"IF(O1198=\"\",\"\",RANK(O1198,$O$2:$O$1000))","v":""}]
["1304 台聚","台達化學工業(股)吳培基",15110,"台達化學工業",null,null,null,null,null,null,null,null,null,null,{"$f":"IFERROR(VLOOKUP(K1199,股價!A:B,2,0)*M1199,\"\")","v":""},{"$f":"IF(O1199=\"\",\"\",RANK(O1199,$O$2:$O$1000))","v":""}]
["1304 台聚","台達化學工業(股)黃光哲",15110,"台達化學工業",null,null,null,null,null,null,null,null,null,null,{"$f":"IFERROR(VLOOKUP(K1200,股價!A:B,2,0)*M1200,\"\")","v":""},{"$f":"IF(O1200=\"\",\"\",RANK(O1200,$O$2:$O$1000))","v":""}]
["1304 台聚","余文萱          余文萱",16750,"余文萱",null,null,null,null,null,null,null,null,null,null,{"$f":"IFERROR(VLOOKUP(K1201,股價!A:B,2,0)*M1201,\"\")","v":""},{"$f":"IF(O1201=\"\",\"\",RANK(O1201,$O$2:$O$1000))","v":""}]
["1304 台聚","余文琮          余文琮",16750,"余文琮",null,null,null,null,null,null,null,null,null,null,{"$f":"IFERROR(VLOOKUP(K1202,股價!A:B,2,0)*M1202,\"\")","v":""},{"$f":"IF(O1202=\"\",\"\",RANK(O1202,$O$2:$O$1000))","v":""}]
["1304 台聚","余文鈺          余文鈺",16750,"余文鈺",null,null,null,null,null,null,null,null,null,null,{"$f":"IFERROR(VLOOKUP(K1203,股價!A:B,2,0)*M1203,\"\")","v":""},{"$f":"IF(O1203=\"\",\"\",RANK(O1203,$O$2:$O$1000))","v":""}]
["1304 台聚","余經壽          余經壽",0,"余經壽",null,null,null,null,null,null,null,null,null,null,{"$f":"IFERROR(VLOOKUP(K1204,股價!A:B,2,0)*M1204,\"\")","v":""},{"$f":"IF(O1204=\"\",\"\",RANK(O1204,$O$2:$O$1000))","v":""}]
["1304 台聚","吳亦圭          吳亦圭",113,"吳亦圭",null,null,null,null,null,null,null,null,null,null,{"$f":"IFERROR(VLOOKUP(K1205,股價!A:B,2,0)*M1205,\"\")","v":""},{"$f":"IF(O1205=\"\",\"\",RANK(O1205,$O$2:$O$1000))","v":""}]
["1304 台聚","吳洪霆          吳洪霆",50,"吳洪霆",null,null,null,null,null,null,null,null,null,null,{"$f":"IFERROR(VLOOKUP(K1206,股價!A:B,2,0)*M1206,\"\")","v":""},{"$f":"IF(O1206=\"\",\"\",RANK(O1206,$O$2:$O$1000))","v":""}]
["1304 台聚","吳培基          吳培基",0,"吳培基",null,null,null,null,null,null,null,null,null,null,{"$f":"IFERROR(VLOOKUP(K1207,股價!A:B,2,0)*M1207,\"\")","v":""},{"$f":"IF(O1207=\"\",\"\",RANK(O1207,$O$2:$O$1000))","v":""}]
["1304 台聚","吳銘宗          吳銘宗",0,"吳銘宗",null,null,null,null,null,null,null,null,null,null,{"$f":"IFERROR(VLOOKUP(K1208,股價!A:B,2,0)*M1208,\"\")","v":""},{"$f":"IF(O1208=\"\",\"\",RANK(O1208,$O$2:$O$1000))","v":""}]
["1304 台聚","杜紫軍          杜紫軍",0,"杜紫軍",null,null,null,null,null,null,null,null,null,null,{"$f":"IFERROR(VLOOKUP(K1209,股價!A:B,2,0)*M1209,\"\")","v":""},{"$f":"IF(O1209=\"\",\"\",RANK(O1209,$O$2:$O$1000))","v":""}]
["1304 台聚","亞洲聚合(股)    余經壽",101356,"亞洲聚合",null,null,null,null,null,null,null,null,null,null,{"$f":"IFERROR(VLOOKUP(K1210,股價!A:B,2,0)*M1210,\"\")","v":""},{"$f":"IF(O1210=\"\",\"\",RANK(O1210,$O$2:$O$1000))","v":""}]
["1304 台聚","亞洲聚合(股)    高哲一",101356,"亞洲聚合",null,null,null,null,null,null,null,null,null,null,{"$f":"IFERROR(VLOOKUP(K1211,股價!A:B,2,0)*M1211,\"\")","v":""},{"$f":"IF(O1211=\"\",\"\",RANK(O1211,$O$2:$O$1000))","v":""}]
["1304 台聚","林蘇珊珊        林蘇珊珊",19854,"林蘇珊珊",null,null,null,null,null,null,null,null,null,null,{"$f":"IFERROR(VLOOKUP(K1212,股價!A:B,2,0)*M1212,\"\")","v":""},{"$f":"IF(O1212=\"\",\"\",RANK(O1212,$O$2:$O$1000))","v":""}]
["1304 台聚","香港商誠利置(有)吳亦圭",173777,"香港商誠利置業",null,null,null,null,null,null,null,null,null,null,{"$f":"IFERROR(VLOOKUP(K1213,股價!A:B,2,0)*M1213,\"\")","v":""},{"$f":"IF(O1213=\"\",\"\",RANK(O1213,$O$2:$O$1000))","v":""}]
["1304 台聚","香港商誠利置(有)吳洪霆",173777,"香港商誠利置業",null,null,null,null,null,null,null,null,null,null,{"$f":"IFERROR(VLOOKUP(K1214,股價!A:B,2,0)*M1214,\"\")","v":""},{"$f":"IF(O1214=\"\",\"\",RANK(O1214,$O$2:$O$1000))","v":""}]
["1304 台聚","泰興投資(股)    薛美良",17791,"泰興投資",null,null,null,null,null,null,null,null,null,null,{"$f":"IFERROR(VLOOKUP(K1215,股價!A:B,2,0)*M1215,\"\")","v":""},{"$f":"IF(O1215=\"\",\"\",RANK(O1215,$O$2:$O$1000))","v":""}]
["1304 台聚","海英俊          海英俊",0,"海英俊",null,null,null,null,null,null,null,null,null,null,{"$f":"IFERROR(VLOOKUP(K1216,股價!A:B,2,0)*M1216,\"\")","v":""},{"$f":"IF(O1216=\"\",\"\",RANK(O1216,$O$2:$O$1000))","v":""}]
["1304 台聚","高哲一          高哲一",0,"高哲一",null,null,null,null,null,null,null,null,null,null,{"$f":"IFERROR(VLOOKUP(K1217,股價!A:B,2,0)*M1217,\"\")","v":""},{"$f":"IF(O1217=\"\",\"\",RANK(O1217,$O$2:$O$1000))","v":""}]
["1304 台聚","郭娟華          郭娟華",0,"郭娟華",null,null,null,null,null,null,null,null,null,null,{"$f":"IFERROR(VLOOKUP(K1218,股價!A:B,2,0)*M1218,\"\")","v":""},{"$f":"IF(O1218=\"\",\"\",RANK(O1218,$O$2:$O$1000))","v":""}]
["1304 台聚","陳沖            陳沖",0,"陳沖",null,null,null,null,null,null,null,null,null,null,{"$f":"IFERROR(VLOOKUP(K1219,股價!A:B,2,0)*M1219,\"\")","v":""},{"$f":"IF(O1219=\"\",\"\",RANK(O1219,$O$2:$O$1000))","v":""}]
["1304 台聚","陳雍之          陳雍之",0,"陳雍之",null,null,null,null,null,null,null,null,null,null,{"$f":"IFERROR(VLOOKUP(K1220,股價!A:B,2,0)*M1220,\"\")","v":""},{"$f":"IF(O1220=\"\",\"\",RANK(O1220,$O$2:$O$1000))","v":""}]
["1304 台聚","富邦人壽保險(股)蔡明興",47506,"富邦人壽保險",null,null,null,null,null,null,null,null,null,null,{"$f":"IFERROR(VLOOKUP(K1221,股價!A:B,2,0)*M1221,\"\")","v":""},{"$f":"IF(O1221=\"\",\"\",RANK(O1221,$O$2:$O$1000))","v":""}]
["1304 台聚","富邦證好其利    富邦證好其利",110000,"富邦綜合證券股份有限公司受託保管好其利有限公司投資專戶",null,null,null,null,null,null,null,null,null,null,{"$f":"IFERROR(VLOOKUP(K1222,股價!A:B,2,0)*M1222,\"\")","v":""},{"$f":"IF(O1222=\"\",\"\",RANK(O1222,$O$2:$O$1000))","v":""}]
["1304 台聚","黃光哲          黃光哲",125,"黃光哲",null,null,null,null,null,null,null,null,null,null,{"$f":"IFERROR(VLOOKUP(K1223,股價!A:B,2,0)*M1223,\"\")","v":""},{"$f":"IF(O1223=\"\",\"\",RANK(O1223,$O$2:$O$1000))","v":""}]
["1304 台聚","楊文立          楊文立",0,"楊文立",null,null,null,null,null,null,null,null,null,null,{"$f":"IFERROR(VLOOKUP(K1224,股價!A:B,2,0)*M1224,\"\")","v":""},{"$f":"IF(O1224=\"\",\"\",RANK(O1224,$O$2:$O$1000))","v":""}]
["1304 台聚","粵興華投資(有)  薛惠良",20621,"粵興華投資",null,null,null,null,null,null,null,null,null,null,{"$f":"IFERROR(VLOOKUP(K1225,股價!A:B,2,0)*M1225,\"\")","v":""},{"$f":"IF(O1225=\"\",\"\",RANK(O1225,$O$2:$O$1000))","v":""}]
["1304 台聚","劉漢台          劉漢台",0,"劉漢台",null,null,null,null,null,null,null,null,null,null,{"$f":"IFERROR(VLOOKUP(K1226,股價!A:B,2,0)*M1226,\"\")","v":""},{"$f":"IF(O1226=\"\",\"\",RANK(O1226,$O$2:$O$1000))","v":""}]
["1305 華夏","_大股東合計1",0,null,null,null,null,null,null,null,null,null,null,null,{"$f":"IFERROR(VLOOKUP(K1227,股價!A:B,2,0)*M1227,\"\")","v":""},{"$f":"IF(O1227=\"\",\"\",RANK(O1227,$O$2:$O$1000))","v":""}]
["1305 華夏","_大股東合計2    含沿用資料",70084,null,null,null,null,null,null,null,null,null,null,null,{"$f":"IFERROR(VLOOKUP(K1228,股價!A:B,2,0)*M1228,\"\")","v":""},{"$f":"IF(O1228=\"\",\"\",RANK(O1228,$O$2:$O$1000))","v":""}]
["1305 華夏","_經理人合計",1,null,null,null,null,null,null,null,null,null,null,null,{"$f":"IFERROR(VLOOKUP(K1229,股價!A:B,2,0)*M1229,\"\")","v":""},{"$f":"IF(O1229=\"\",\"\",RANK(O1229,$O$2:$O$1000))","v":""}]
["1305 華夏","_董  事合計",192516,null,null,null,null,null,null,null,null,null,null,null,{"$f":"IFERROR(VLOOKUP(K1230,股價!A:B,2,0)*M1230,\"\")","v":""},{"$f":"IF(O1230=\"\",\"\",RANK(O1230,$O$2:$O$1000))","v":""}]
["1305 華夏","_董監事合計",192516,null,null,null,null,null,null,null,null,null,null,null,{"$f":"IFERROR(VLOOKUP(K1231,股價!A:B,2,0)*M1231,\"\")","v":""},{"$f":"IF(O1231=\"\",\"\",RANK(O1231,$O$2:$O$1000))","v":""}]
["1305 華夏","_監察人合計",0,null,null,null,null,null,null,null,null,null,null,null,{"$f":"IFERROR(VLOOKUP(K1232,股價!A:B,2,0)*M1232,\"\")","v":""},{"$f":"IF(O1232=\"\",\"\",RANK(O1232,$O$2:$O$1000))","v":""}]
["1305 華夏","大通先進星光    大通先進星光",5771,"美商摩根大通銀行台北分行受託保管先進星光基金公司之系列基金先進總合國際股票指數基金",null,null,null,null,null,null,null,null,null,null,{"$f":"IFERROR(VLOOKUP(K1233,股價!A:B,2,0)*M1233,\"\")","v":""},{"$f":"IF(O1233=\"\",\"\",RANK(O1233,$O$2:$O$1000))","v":""}]
["1305 華夏","台達化學工業(股)吳亦圭",11516,"台達化學工業",null,null,null,null,null,null,null,null,null,null,{"$f":"IFERROR(VLOOKUP(K1234,股價!A:B,2,0)*M1234,\"\")","v":""},{"$f":"IF(O1234=\"\",\"\",RANK(O1234,$O$2:$O$1000))","v":""}]
["1305 華夏","台聚投資(股)    吳洪鐸",551,"台聚投資",null,null,null,null,null,null,null,null,null,null,{"$f":"IFERROR(VLOOKUP(K1235,股價!A:B,2,0)*M1235,\"\")","v":""},{"$f":"IF(O1235=\"\",\"\",RANK(O1235,$O$2:$O$1000))","v":""}]
["1305 華夏","台灣人壽保險(股)黃思國",14502,"台灣人壽保險",null,null,null,null,null,null,null,null,null,null,{"$f":"IFERROR(VLOOKUP(K1236,股價!A:B,2,0)*M1236,\"\")","v":""},{"$f":"IF(O1236=\"\",\"\",RANK(O1236,$O$2:$O$1000))","v":""}]
["1305 華夏","吳亦圭          吳亦圭",0,"吳亦圭",null,null,null,null,null,null,null,null,null,null,{"$f":"IFERROR(VLOOKUP(K1237,股價!A:B,2,0)*M1237,\"\")","v":""},{"$f":"IF(O1237=\"\",\"\",RANK(O1237,$O$2:$O$1000))","v":""}]
["1305 華夏","吳洪鐸          吳洪鐸",0,"吳洪鐸",null,null,null,null,null,null,null,null,null,null,{"$f":"IFERROR(VLOOKUP(K1238,股價!A:B,2,0)*M1238,\"\")","v":""},{"$f":"IF(O1238=\"\",\"\",RANK(O1238,$O$2:$O$1000))","v":""}]
["1305 華夏","吳培基          吳培基",0,"吳培基",null,null,null,null,null,null,null,null,null,null,{"$f":"IFERROR(VLOOKUP(K1239,股價!A:B,2,0)*M1239,\"\")","v":""},{"$f":"IF(O1239=\"\",\"\",RANK(O1239,$O$2:$O$1000))","v":""}]
["1305 華夏","吳慧雪          吳慧雪",0,"吳慧雪",null,null,null,null,null,null,null,null,null,null,{"$f":"IFERROR(VLOOKUP(K1240,股價!A:B,2,0)*M1240,\"\")","v":""},{"$f":"IF(O1240=\"\",\"\",RANK(O1240,$O$2:$O$1000))","v":""}]
["1305 華夏","李良賢          李良賢",0,"李良賢",null,null,null,null,null,null,null,null,null,null,{"$f":"IFERROR(VLOOKUP(K1241,股價!A:B,2,0)*M1241,\"\")","v":""},{"$f":"IF(O1241=\"\",\"\",RANK(O1241,$O$2:$O$1000))","v":""}]
["1305 華夏","李祖德          李祖德",0,"李祖德",null,null,null,null,null,null,null,null,null,null,{"$f":"IFERROR(VLOOKUP(K1242,股價!A:B,2,0)*M1242,\"\")","v":""},{"$f":"IF(O1242=\"\",\"\",RANK(O1242,$O$2:$O$1000))","v":""}]
["1305 華夏","亞洲聚合(股)    吳培基",46886,"亞洲聚合",null,null,null,null,null,null,null,null,null,null,{"$f":"IFERROR(VLOOKUP(K1243,股價!A:B,2,0)*M1243,\"\")","v":""},{"$f":"IF(O1243=\"\",\"\",RANK(O1243,$O$2:$O$1000))","v":""}]
["1305 華夏","亞洲聚合(股)    劉漢台",46886,"亞洲聚合",null,null,null,null,null,null,null,null,null,null,{"$f":"IFERROR(VLOOKUP(K1244,股價!A:B,2,0)*M1244,\"\")","v":""},{"$f":"IF(O1244=\"\",\"\",RANK(O1244,$O$2:$O$1000))","v":""}]
["1305 華夏","林漢福          林漢福",0,"林漢福",null,null,null,null,null,null,null,null,null,null,{"$f":"IFERROR(VLOOKUP(K1245,股價!A:B,2,0)*M1245,\"\")","v":""},{"$f":"IF(O1245=\"\",\"\",RANK(O1245,$O$2:$O$1000))","v":""}]
["1305 華夏","胡吉宏          胡吉宏",0,"胡吉宏",null,null,null,null,null,null,null,null,null,null,{"$f":"IFERROR(VLOOKUP(K1246,股價!A:B,2,0)*M1246,\"\")","v":""},{"$f":"IF(O1246=\"\",\"\",RANK(O1246,$O$2:$O$1000))","v":""}]
["1305 華夏","徐承義          徐承義",0,"徐承義",null,null,null,null,null,null,null,null,null,null,{"$f":"IFERROR(VLOOKUP(K1247,股價!A:B,2,0)*M1247,\"\")","v":""},{"$f":"IF(O1247=\"\",\"\",RANK(O1247,$O$2:$O$1000))","v":""}]
["1305 華夏","郭建洲          郭建洲",1,"郭建洲",null,null,null,null,null,null,null,null,null,null,{"$f":"IFERROR(VLOOKUP(K1248,股價!A:B,2,0)*M1248,\"\")","v":""},{"$f":"IF(O1248=\"\",\"\",RANK(O1248,$O$2:$O$1000))","v":""}]
["1305 華夏","陳萬達          陳萬達",0,"陳萬達",null,null,null,null,null,null,null,null,null,null,{"$f":"IFERROR(VLOOKUP(K1249,股價!A:B,2,0)*M1249,\"\")","v":""},{"$f":"IF(O1249=\"\",\"\",RANK(O1249,$O$2:$O$1000))","v":""}]
["1305 華夏","陳雍之          陳雍之",0,"陳雍之",null,null,null,null,null,null,null,null,null,null,{"$f":"IFERROR(VLOOKUP(K1250,股價!A:B,2,0)*M1250,\"\")","v":""},{"$f":"IF(O1250=\"\",\"\",RANK(O1250,$O$2:$O$1000))","v":""}]
["1305 華夏","富邦人壽保險(股)蔡明興",20770,"富邦人壽保險",null,null,null,null,null,null,null,null,null,null,{"$f":"IFERROR(VLOOKUP(K1251,股價!A:B,2,0)*M1251,\"\")","v":""},{"$f":"IF(O1251=\"\",\"\",RANK(O1251,$O$2:$O$1000))","v":""}]
["1305 華夏","華運倉儲實業(股)張鴻江",2941,"華運倉儲實業",null,null,null,null,null,null,null,null,null,null,{"$f":"IFERROR(VLOOKUP(K1252,股價!A:B,2,0)*M1252,\"\")","v":""},{"$f":"IF(O1252=\"\",\"\",RANK(O1252,$O$2:$O$1000))","v":""}]
["1305 華夏","新制勞退基金    新制勞退基金",3160,"新制勞工勞退基金",null,null,null,null,null,null,null,null,null,null,{"$f":"IFERROR(VLOOKUP(K1253,股價!A:B,2,0)*M1253,\"\")","v":""},{"$f":"IF(O1253=\"\",\"\",RANK(O1253,$O$2:$O$1000))","v":""}]
["1305 華夏","彰化商業銀行(股)凌忠嫄",5568,"彰化商業銀行",null,null,null,null,null,null,null,null,null,null,{"$f":"IFERROR(VLOOKUP(K1254,股價!A:B,2,0)*M1254,\"\")","v":""},{"$f":"IF(O1254=\"\",\"\",RANK(O1254,$O$2:$O$1000))","v":""}]
["1305 華夏","劉漢台          劉漢台",0,"劉漢台",null,null,null,null,null,null,null,null,null,null,{"$f":"IFERROR(VLOOKUP(K1255,股價!A:B,2,0)*M1255,\"\")","v":""},{"$f":"IF(O1255=\"\",\"\",RANK(O1255,$O$2:$O$1000))","v":""}]
["1305 華夏","摩根梵市場股    摩根梵市場股",5856,"美商摩根大通銀行台北分行受託保管梵加德集團公司經理之梵加德新興市場股票指數基金投資專戶",null,null,null,null,null,null,null,null,null,null,{"$f":"IFERROR(VLOOKUP(K1256,股價!A:B,2,0)*M1256,\"\")","v":""},{"$f":"IF(O1256=\"\",\"\",RANK(O1256,$O$2:$O$1000))","v":""}]
["1305 華夏","鄭瑛彬          鄭瑛彬",0,"鄭瑛彬",null,null,null,null,null,null,null,null,null,null,{"$f":"IFERROR(VLOOKUP(K1257,股價!A:B,2,0)*M1257,\"\")","v":""},{"$f":"IF(O1257=\"\",\"\",RANK(O1257,$O$2:$O$1000))","v":""}]
["1305 華夏","聯聚國際投資(股)吳亦圭",145079,"聯聚國際投資",null,null,null,null,null,null,null,null,null,null,{"$f":"IFERROR(VLOOKUP(K1258,股價!A:B,2,0)*M1258,\"\")","v":""},{"$f":"IF(O1258=\"\",\"\",RANK(O1258,$O$2:$O$1000))","v":""}]
["1305 華夏","聯聚國際投資(股)林漢福",145079,"聯聚國際投資",null,null,null,null,null,null,null,null,null,null,{"$f":"IFERROR(VLOOKUP(K1259,股價!A:B,2,0)*M1259,\"\")","v":""},{"$f":"IF(O1259=\"\",\"\",RANK(O1259,$O$2:$O$1000))","v":""}]
["1307 三芳","_大股東合計1",0,null,null,null,null,null,null,null,null,null,null,null,{"$f":"IFERROR(VLOOKUP(K1260,股價!A:B,2,0)*M1260,\"\")","v":""},{"$f":"IF(O1260=\"\",\"\",RANK(O1260,$O$2:$O$1000))","v":""}]
["1307 三芳","_大股東合計2    含沿用資料",222804,null,null,null,null,null,null,null,null,null,null,null,{"$f":"IFERROR(VLOOKUP(K1261,股價!A:B,2,0)*M1261,\"\")","v":""},{"$f":"IF(O1261=\"\",\"\",RANK(O1261,$O$2:$O$1000))","v":""}]
["1307 三芳","_經理人合計",14,null,null,null,null,null,null,null,null,null,null,null,{"$f":"IFERROR(VLOOKUP(K1262,股價!A:B,2,0)*M1262,\"\")","v":""},{"$f":"IF(O1262=\"\",\"\",RANK(O1262,$O$2:$O$1000))","v":""}]
["1307 三芳","_董  事合計",37693,null,null,null,null,null,null,null,null,null,null,null,{"$f":"IFERROR(VLOOKUP(K1263,股價!A:B,2,0)*M1263,\"\")","v":""},{"$f":"IF(O1263=\"\",\"\",RANK(O1263,$O$2:$O$1000))","v":""}]
["1307 三芳","_董監事合計",37693,null,null,null,null,null,null,null,null,null,null,null,{"$f":"IFERROR(VLOOKUP(K1264,股價!A:B,2,0)*M1264,\"\")","v":""},{"$f":"IF(O1264=\"\",\"\",RANK(O1264,$O$2:$O$1000))","v":""}]
["1307 三芳","_監察人合計",0,null,null,null,null,null,null,null,null,null,null,null,{"$f":"IFERROR(VLOOKUP(K1265,股價!A:B,2,0)*M1265,\"\")","v":""},{"$f":"IF(O1265=\"\",\"\",RANK(O1265,$O$2:$O$1000))","v":""}]
["1307 三芳","三芳投資企業(有)林孟經",1144,"三芳投資企業",null,null,null,null,null,null,null,null,null,null,{"$f":"IFERROR(VLOOKUP(K1266,股價!A:B,2,0)*M1266,\"\")","v":""},{"$f":"IF(O1266=\"\",\"\",RANK(O1266,$O$2:$O$1000))","v":""}]
["1307 三芳","中國信託託管蜂投中國信託託管",26579,"中國信託商業銀行受託保管蜂投證券有限公司投資專戶",null,null,null,null,null,null,null,null,null,null,{"$f":"IFERROR(VLOOKUP(K1267,股價!A:B,2,0)*M1267,\"\")","v":""},{"$f":"IF(O1267=\"\",\"\",RANK(O1267,$O$2:$O$1000))","v":""}]
["1307 三芳","元盛材料科技(股)洪啟智",38980,"元盛材料科技股份有限公司",null,null,null,null,null,null,null,null,null,null,{"$f":"IFERROR(VLOOKUP(K1268,股價!A:B,2,0)*M1268,\"\")","v":""},{"$f":"IF(O1268=\"\",\"\",RANK(O1268,$O$2:$O$1000))","v":""}]
["1307 三芳","王華興          王華興",0,"王華興",null,null,null,null,null,null,null,null,null,null,{"$f":"IFERROR(VLOOKUP(K1269,股價!A:B,2,0)*M1269,\"\")","v":""},{"$f":"IF(O1269=\"\",\"\",RANK(O1269,$O$2:$O$1000))","v":""}]
["1307 三芳","李禮權          李禮權",0,"李禮權",null,null,null,null,null,null,null,null,null,null,{"$f":"IFERROR(VLOOKUP(K1270,股價!A:B,2,0)*M1270,\"\")","v":""},{"$f":"IF(O1270=\"\",\"\",RANK(O1270,$O$2:$O$1000))","v":""}]
["1307 三芳","周志龍          周志龍",0,"周志龍",null,null,null,null,null,null,null,null,null,null,{"$f":"IFERROR(VLOOKUP(K1271,股價!A:B,2,0)*M1271,\"\")","v":""},{"$f":"IF(O1271=\"\",\"\",RANK(O1271,$O$2:$O$1000))","v":""}]
["1307 三芳","易進亮          易進亮",0,"易進亮",null,null,null,null,null,null,null,null,null,null,{"$f":"IFERROR(VLOOKUP(K1272,股價!A:B,2,0)*M1272,\"\")","v":""},{"$f":"IF(O1272=\"\",\"\",RANK(O1272,$O$2:$O$1000))","v":""}]
["1307 三芳","林立璿          林立璿",0,"林立璿",null,null,null,null,null,null,null,null,null,null,{"$f":"IFERROR(VLOOKUP(K1273,股價!A:B,2,0)*M1273,\"\")","v":""},{"$f":"IF(O1273=\"\",\"\",RANK(O1273,$O$2:$O$1000))","v":""}]
["1307 三芳","林至逸          林至逸",0,"林至逸",null,null,null,null,null,null,null,null,null,null,{"$f":"IFERROR(VLOOKUP(K1274,股價!A:B,2,0)*M1274,\"\")","v":""},{"$f":"IF(O1274=\"\",\"\",RANK(O1274,$O$2:$O$1000))","v":""}]
["1307 三芳","林孟丹          林孟丹",12778,"林孟丹",null,null,null,null,null,null,null,null,null,null,{"$f":"IFERROR(VLOOKUP(K1275,股價!A:B,2,0)*M1275,\"\")","v":""},{"$f":"IF(O1275=\"\",\"\",RANK(O1275,$O$2:$O$1000))","v":""}]
["1307 三芳","林孟陽          林孟陽",19935,"林孟陽",null,null,null,null,null,null,null,null,null,null,{"$f":"IFERROR(VLOOKUP(K1276,股價!A:B,2,0)*M1276,\"\")","v":""},{"$f":"IF(O1276=\"\",\"\",RANK(O1276,$O$2:$O$1000))","v":""}]
["1307 三芳","林孟經          林孟經",26239,"林孟經",null,null,null,null,null,null,null,null,null,null,{"$f":"IFERROR(VLOOKUP(K1277,股價!A:B,2,0)*M1277,\"\")","v":""},{"$f":"IF(O1277=\"\",\"\",RANK(O1277,$O$2:$O$1000))","v":""}]
["1307 三芳","林孟緯          林孟緯",16303,"林孟緯",null,null,null,null,null,null,null,null,null,null,{"$f":"IFERROR(VLOOKUP(K1278,股價!A:B,2,0)*M1278,\"\")","v":""},{"$f":"IF(O1278=\"\",\"\",RANK(O1278,$O$2:$O$1000))","v":""}]
["1307 三芳","林信宏          林信宏",0,"林信宏",null,null,null,null,null,null,null,null,null,null,{"$f":"IFERROR(VLOOKUP(K1279,股價!A:B,2,0)*M1279,\"\")","v":""},{"$f":"IF(O1279=\"\",\"\",RANK(O1279,$O$2:$O$1000))","v":""}]
["1307 三芳","邱金發          邱金發",0,"邱金發",null,null,null,null,null,null,null,null,null,null,{"$f":"IFERROR(VLOOKUP(K1280,股價!A:B,2,0)*M1280,\"\")","v":""},{"$f":"IF(O1280=\"\",\"\",RANK(O1280,$O$2:$O$1000))","v":""}]
["1307 三芳","張益承          張益承",2,"張益承",null,null,null,null,null,null,null,null,null,null,{"$f":"IFERROR(VLOOKUP(K1281,股價!A:B,2,0)*M1281,\"\")","v":""},{"$f":"IF(O1281=\"\",\"\",RANK(O1281,$O$2:$O$1000))","v":""}]
["1307 三芳","許良泉          許良泉",0,"許良泉",null,null,null,null,null,null,null,null,null,null,{"$f":"IFERROR(VLOOKUP(K1282,股價!A:B,2,0)*M1282,\"\")","v":""},{"$f":"IF(O1282=\"\",\"\",RANK(O1282,$O$2:$O$1000))","v":""}]
["1307 三芳","許萬林          許萬林",0,"許萬林",null,null,null,null,null,null,null,null,null,null,{"$f":"IFERROR(VLOOKUP(K1283,股價!A:B,2,0)*M1283,\"\")","v":""},{"$f":"IF(O1283=\"\",\"\",RANK(O1283,$O$2:$O$1000))","v":""}]
["1307 三芳","陳偉鉅          陳偉鉅",11,"陳偉鉅",null,null,null,null,null,null,null,null,null,null,{"$f":"IFERROR(VLOOKUP(K1284,股價!A:B,2,0)*M1284,\"\")","v":""},{"$f":"IF(O1284=\"\",\"\",RANK(O1284,$O$2:$O$1000))","v":""}]
["1307 三芳","裕典科技(股)    陳育君",37299,"裕典科技",null,null,null,null,null,null,null,null,null,null,{"$f":"IFERROR(VLOOKUP(K1285,股價!A:B,2,0)*M1285,\"\")","v":""},{"$f":"IF(O1285=\"\",\"\",RANK(O1285,$O$2:$O$1000))","v":""}]
["1307 三芳","廖元煌          廖元煌",0,"廖元煌",null,null,null,null,null,null,null,null,null,null,{"$f":"IFERROR(VLOOKUP(K1286,股價!A:B,2,0)*M1286,\"\")","v":""},{"$f":"IF(O1286=\"\",\"\",RANK(O1286,$O$2:$O$1000))","v":""}]
["1307 三芳","鄭振泰          鄭振泰",0,"鄭振泰",null,null,null,null,null,null,null,null,null,null,{"$f":"IFERROR(VLOOKUP(K1287,股價!A:B,2,0)*M1287,\"\")","v":""},{"$f":"IF(O1287=\"\",\"\",RANK(O1287,$O$2:$O$1000))","v":""}]
["1307 三芳","鄭國光          鄭國光",1,"鄭國光",null,null,null,null,null,null,null,null,null,null,{"$f":"IFERROR(VLOOKUP(K1288,股價!A:B,2,0)*M1288,\"\")","v":""},{"$f":"IF(O1288=\"\",\"\",RANK(O1288,$O$2:$O$1000))","v":""}]
["1307 三芳","鄧加惠          鄧加惠",5369,"鄧加惠",null,null,null,null,null,null,null,null,null,null,{"$f":"IFERROR(VLOOKUP(K1289,股價!A:B,2,0)*M1289,\"\")","v":""},{"$f":"IF(O1289=\"\",\"\",RANK(O1289,$O$2:$O$1000))","v":""}]
["1307 三芳","鄧廖美璡        鄧廖美璡",6189,"鄧廖美璡",null,null,null,null,null,null,null,null,null,null,{"$f":"IFERROR(VLOOKUP(K1290,股價!A:B,2,0)*M1290,\"\")","v":""},{"$f":"IF(O1290=\"\",\"\",RANK(O1290,$O$2:$O$1000))","v":""}]
["1307 三芳","盧金柱          盧金柱",0,"盧金柱",null,null,null,null,null,null,null,null,null,null,{"$f":"IFERROR(VLOOKUP(K1291,股價!A:B,2,0)*M1291,\"\")","v":""},{"$f":"IF(O1291=\"\",\"\",RANK(O1291,$O$2:$O$1000))","v":""}]
["1307 三芳","寶建企業(股)    何明坤",38502,"寶建企業",null,null,null,null,null,null,null,null,null,null,{"$f":"IFERROR(VLOOKUP(K1292,股價!A:B,2,0)*M1292,\"\")","v":""},{"$f":"IF(O1292=\"\",\"\",RANK(O1292,$O$2:$O$1000))","v":""}]
["1307 三芳","寶建科技(股)    廖元煌",36549,"寶建科技",null,null,null,null,null,null,null,null,null,null,{"$f":"IFERROR(VLOOKUP(K1293,股價!A:B,2,0)*M1293,\"\")","v":""},{"$f":"IF(O1293=\"\",\"\",RANK(O1293,$O$2:$O$1000))","v":""}]
["1307 三芳","寶建科技(股)    鄧加惠",36549,"寶建科技",null,null,null,null,null,null,null,null,null,null,{"$f":"IFERROR(VLOOKUP(K1294,股價!A:B,2,0)*M1294,\"\")","v":""},{"$f":"IF(O1294=\"\",\"\",RANK(O1294,$O$2:$O$1000))","v":""}]
["1307 三芳","寶建科技(股)    盧金柱",36549,"寶建科技",null,null,null,null,null,null,null,null,null,null,{"$f":"IFERROR(VLOOKUP(K1295,股價!A:B,2,0)*M1295,\"\")","v":""},{"$f":"IF(O1295=\"\",\"\",RANK(O1295,$O$2:$O$1000))","v":""}]
["1308 亞聚","_大股東合計1",0,null,null,null,null,null,null,null,null,null,null,null,{"$f":"IFERROR(VLOOKUP(K1296,股價!A:B,2,0)*M1296,\"\")","v":""},{"$f":"IF(O1296=\"\",\"\",RANK(O1296,$O$2:$O$1000))","v":""}]
["1308 亞聚","_大股東合計2    含沿用資料",58630,null,null,null,null,null,null,null,null,null,null,null,{"$f":"IFERROR(VLOOKUP(K1297,股價!A:B,2,0)*M1297,\"\")","v":""},{"$f":"IF(O1297=\"\",\"\",RANK(O1297,$O$2:$O$1000))","v":""}]
["1308 亞聚","_經理人合計",0,null,null,null,null,null,null,null,null,null,null,null,{"$f":"IFERROR(VLOOKUP(K1298,股價!A:B,2,0)*M1298,\"\")","v":""},{"$f":"IF(O1298=\"\",\"\",RANK(O1298,$O$2:$O$1000))","v":""}]
["1308 亞聚","_董  事合計",227771,null,null,null,null,null,null,null,null,null,null,null,{"$f":"IFERROR(VLOOKUP(K1299,股價!A:B,2,0)*M1299,\"\")","v":""},{"$f":"IF(O1299=\"\",\"\",RANK(O1299,$O$2:$O$1000))","v":""}]
["1308 亞聚","_董監事合計",227771,null,null,null,null,null,null,null,null,null,null,null,{"$f":"IFERROR(VLOOKUP(K1300,股價!A:B,2,0)*M1300,\"\")","v":""},{"$f":"IF(O1300=\"\",\"\",RANK(O1300,$O$2:$O$1000))","v":""}]
["1308 亞聚","_監察人合計",0,null,null,null,null,null,null,null,null,null,null,null,{"$f":"IFERROR(VLOOKUP(K1301,股價!A:B,2,0)*M1301,\"\")","v":""},{"$f":"IF(O1301=\"\",\"\",RANK(O1301,$O$2:$O$1000))","v":""}]
["1308 亞聚","大通先進星光    大通先進星光",5143,"美商摩根大通銀行台北分行受託保管先進星光基金公司之系列基金先進總合國際股票指數基金",null,null,null,null,null,null,null,null,null,null,{"$f":"IFERROR(VLOOKUP(K1302,股價!A:B,2,0)*M1302,\"\")","v":""},{"$f":"IF(O1302=\"\",\"\",RANK(O1302,$O$2:$O$1000))","v":""}]
["1308 亞聚","中華郵政(股)    吳宏謀",15316,"中華郵政",null,null,null,null,null,null,null,null,null,null,{"$f":"IFERROR(VLOOKUP(K1303,股價!A:B,2,0)*M1303,\"\")","v":""},{"$f":"IF(O1303=\"\",\"\",RANK(O1303,$O$2:$O$1000))","v":""}]
["1308 亞聚","台新人壽保險(股)台新人壽保險",5314,"台新人壽保險",null,null,null,null,null,null,null,null,null,null,{"$f":"IFERROR(VLOOKUP(K1304,股價!A:B,2,0)*M1304,\"\")","v":""},{"$f":"IF(O1304=\"\",\"\",RANK(O1304,$O$2:$O$1000))","v":""}]
["1308 亞聚","台聚投資(股)    吳洪鑄",1714,"台聚投資",null,null,null,null,null,null,null,null,null,null,{"$f":"IFERROR(VLOOKUP(K1305,股價!A:B,2,0)*M1305,\"\")","v":""},{"$f":"IF(O1305=\"\",\"\",RANK(O1305,$O$2:$O$1000))","v":""}]
["1308 亞聚","台聚投資(股)    吳培基",1714,"台聚投資",null,null,null,null,null,null,null,null,null,null,{"$f":"IFERROR(VLOOKUP(K1306,股價!A:B,2,0)*M1306,\"\")","v":""},{"$f":"IF(O1306=\"\",\"\",RANK(O1306,$O$2:$O$1000))","v":""}]
["1308 亞聚","台聯國際投資(股)柯衣紹",11811,"台聯國際投資",null,null,null,null,null,null,null,null,null,null,{"$f":"IFERROR(VLOOKUP(K1307,股價!A:B,2,0)*M1307,\"\")","v":""},{"$f":"IF(O1307=\"\",\"\",RANK(O1307,$O$2:$O$1000))","v":""}]
["1308 亞聚","台灣人壽保險(股)黃思國",2500,"台灣人壽保險",null,null,null,null,null,null,null,null,null,null,{"$f":"IFERROR(VLOOKUP(K1308,股價!A:B,2,0)*M1308,\"\")","v":""},{"$f":"IF(O1308=\"\",\"\",RANK(O1308,$O$2:$O$1000))","v":""}]
["1308 亞聚","吳亦圭          吳亦圭",0,"吳亦圭",null,null,null,null,null,null,null,null,null,null,{"$f":"IFERROR(VLOOKUP(K1309,股價!A:B,2,0)*M1309,\"\")","v":""},{"$f":"IF(O1309=\"\",\"\",RANK(O1309,$O$2:$O$1000))","v":""}]
["1308 亞聚","吳洪鑄          吳洪鑄",0,"吳洪鑄",null,null,null,null,null,null,null,null,null,null,{"$f":"IFERROR(VLOOKUP(K1310,股價!A:B,2,0)*M1310,\"\")","v":""},{"$f":"IF(O1310=\"\",\"\",RANK(O1310,$O$2:$O$1000))","v":""}]
["1308 亞聚","吳培基          吳培基",0,"吳培基",null,null,null,null,null,null,null,null,null,null,{"$f":"IFERROR(VLOOKUP(K1311,股價!A:B,2,0)*M1311,\"\")","v":""},{"$f":"IF(O1311=\"\",\"\",RANK(O1311,$O$2:$O$1000))","v":""}]
["1308 亞聚","吳銘宗          吳銘宗",0,"吳銘宗",null,null,null,null,null,null,null,null,null,null,{"$f":"IFERROR(VLOOKUP(K1312,股價!A:B,2,0)*M1312,\"\")","v":""},{"$f":"IF(O1312=\"\",\"\",RANK(O1312,$O$2:$O$1000))","v":""}]
["1308 亞聚","李國弘          李國弘",0,"李國弘",null,null,null,null,null,null,null,null,null,null,{"$f":"IFERROR(VLOOKUP(K1313,股價!A:B,2,0)*M1313,\"\")","v":""},{"$f":"IF(O1313=\"\",\"\",RANK(O1313,$O$2:$O$1000))","v":""}]
["1308 亞聚","沈尚弘          沈尚弘",0,"沈尚弘",null,null,null,null,null,null,null,null,null,null,{"$f":"IFERROR(VLOOKUP(K1314,股價!A:B,2,0)*M1314,\"\")","v":""},{"$f":"IF(O1314=\"\",\"\",RANK(O1314,$O$2:$O$1000))","v":""}]
["1308 亞聚","花旗瑞銀歐洲    花旗瑞銀歐洲",7425,"花旗託管瑞銀歐洲SE投資專戶",null,null,null,null,null,null,null,null,null,null,{"$f":"IFERROR(VLOOKUP(K1315,股價!A:B,2,0)*M1315,\"\")","v":""},{"$f":"IF(O1315=\"\",\"\",RANK(O1315,$O$2:$O$1000))","v":""}]
["1308 亞聚","施如萱          施如萱",0,"施如萱",null,null,null,null,null,null,null,null,null,null,{"$f":"IFERROR(VLOOKUP(K1316,股價!A:B,2,0)*M1316,\"\")","v":""},{"$f":"IF(O1316=\"\",\"\",RANK(O1316,$O$2:$O$1000))","v":""}]
["1308 亞聚","柯衣紹          柯衣紹",0,"柯衣紹",null,null,null,null,null,null,null,null,null,null,{"$f":"IFERROR(VLOOKUP(K1317,股價!A:B,2,0)*M1317,\"\")","v":""},{"$f":"IF(O1317=\"\",\"\",RANK(O1317,$O$2:$O$1000))","v":""}]
["1308 亞聚","陳建平          陳建平",0,"陳建平",null,null,null,null,null,null,null,null,null,null,{"$f":"IFERROR(VLOOKUP(K1318,股價!A:B,2,0)*M1318,\"\")","v":""},{"$f":"IF(O1318=\"\",\"\",RANK(O1318,$O$2:$O$1000))","v":""}]
["1308 亞聚","陳政順          陳政順",0,"陳政順",null,null,null,null,null,null,null,null,null,null,{"$f":"IFERROR(VLOOKUP(K1319,股價!A:B,2,0)*M1319,\"\")","v":""},{"$f":"IF(O1319=\"\",\"\",RANK(O1319,$O$2:$O$1000))","v":""}]
["1308 亞聚","陳達雄          陳達雄",0,"陳達雄",null,null,null,null,null,null,null,null,null,null,{"$f":"IFERROR(VLOOKUP(K1320,股價!A:B,2,0)*M1320,\"\")","v":""},{"$f":"IF(O1320=\"\",\"\",RANK(O1320,$O$2:$O$1000))","v":""}]
["1308 亞聚","陳雍之          陳雍之",0,"陳雍之",null,null,null,null,null,null,null,null,null,null,{"$f":"IFERROR(VLOOKUP(K1321,股價!A:B,2,0)*M1321,\"\")","v":""},{"$f":"IF(O1321=\"\",\"\",RANK(O1321,$O$2:$O$1000))","v":""}]
["1308 亞聚","華運倉儲實業(股)張鴻江",5290,"華運倉儲實業",null,null,null,null,null,null,null,null,null,null,{"$f":"IFERROR(VLOOKUP(K1322,股價!A:B,2,0)*M1322,\"\")","v":""},{"$f":"IF(O1322=\"\",\"\",RANK(O1322,$O$2:$O$1000))","v":""}]
["1308 亞聚","彰銀元大高股    彰銀元大高股",12123,"彰化商業銀行股份有限公司受託保管元大臺灣高股息優質龍頭證券投資信託基金專戶",null,null,null,null,null,null,null,null,null,null,{"$f":"IFERROR(VLOOKUP(K1323,股價!A:B,2,0)*M1323,\"\")","v":""},{"$f":"IF(O1323=\"\",\"\",RANK(O1323,$O$2:$O$1000))","v":""}]
["1308 亞聚","摩根梵市場股    摩根梵市場股",5519,"美商摩根大通銀行台北分行受託保管梵加德集團公司經理之梵加德新興市場股票指數基金投資專戶",null,null,null,null,null,null,null,null,null,null,{"$f":"IFERROR(VLOOKUP(K1324,股價!A:B,2,0)*M1324,\"\")","v":""},{"$f":"IF(O1324=\"\",\"\",RANK(O1324,$O$2:$O$1000))","v":""}]
["1308 亞聚","鄭敦謙          鄭敦謙",0,"鄭敦謙",null,null,null,null,null,null,null,null,null,null,{"$f":"IFERROR(VLOOKUP(K1325,股價!A:B,2,0)*M1325,\"\")","v":""},{"$f":"IF(O1325=\"\",\"\",RANK(O1325,$O$2:$O$1000))","v":""}]
["1308 亞聚","聯聚國際投資(股)吳亦圭",214246,"聯聚國際投資",null,null,null,null,null,null,null,null,null,null,{"$f":"IFERROR(VLOOKUP(K1326,股價!A:B,2,0)*M1326,\"\")","v":""},{"$f":"IF(O1326=\"\",\"\",RANK(O1326,$O$2:$O$1000))","v":""}]
["1308 亞聚","聯聚國際投資(股)李國弘",214246,"聯聚國際投資",null,null,null,null,null,null,null,null,null,null,{"$f":"IFERROR(VLOOKUP(K1327,股價!A:B,2,0)*M1327,\"\")","v":""},{"$f":"IF(O1327=\"\",\"\",RANK(O1327,$O$2:$O$1000))","v":""}]
["1309 台達化","_大股東合計1",0,null,null,null,null,null,null,null,null,null,null,null,{"$f":"IFERROR(VLOOKUP(K1328,股價!A:B,2,0)*M1328,\"\")","v":""},{"$f":"IF(O1328=\"\",\"\",RANK(O1328,$O$2:$O$1000))","v":""}]
["1309 台達化","_大股東合計2    含沿用資料",9381,null,null,null,null,null,null,null,null,null,null,null,{"$f":"IFERROR(VLOOKUP(K1329,股價!A:B,2,0)*M1329,\"\")","v":""},{"$f":"IF(O1329=\"\",\"\",RANK(O1329,$O$2:$O$1000))","v":""}]
["1309 台達化","_經理人合計",0,null,null,null,null,null,null,null,null,null,null,null,{"$f":"IFERROR(VLOOKUP(K1330,股價!A:B,2,0)*M1330,\"\")","v":""},{"$f":"IF(O1330=\"\",\"\",RANK(O1330,$O$2:$O$1000))","v":""}]
["1309 台達化","_董  事合計",156533,null,null,null,null,null,null,null,null,null,null,null,{"$f":"IFERROR(VLOOKUP(K1331,股價!A:B,2,0)*M1331,\"\")","v":""},{"$f":"IF(O1331=\"\",\"\",RANK(O1331,$O$2:$O$1000))","v":""}]
["1309 台達化","_董監事合計",156533,null,null,null,null,null,null,null,null,null,null,null,{"$f":"IFERROR(VLOOKUP(K1332,股價!A:B,2,0)*M1332,\"\")","v":""},{"$f":"IF(O1332=\"\",\"\",RANK(O1332,$O$2:$O$1000))","v":""}]
["1309 台達化","_監察人合計",0,null,null,null,null,null,null,null,null,null,null,null,{"$f":"IFERROR(VLOOKUP(K1333,股價!A:B,2,0)*M1333,\"\")","v":""},{"$f":"IF(O1333=\"\",\"\",RANK(O1333,$O$2:$O$1000))","v":""}]
["1309 台達化","台聚投資(股)    馬以工",1415,"台聚投資",null,null,null,null,null,null,null,null,null,null,{"$f":"IFERROR(VLOOKUP(K1334,股價!A:B,2,0)*M1334,\"\")","v":""},{"$f":"IF(O1334=\"\",\"\",RANK(O1334,$O$2:$O$1000))","v":""}]
["1309 台達化","台聚投資(股)    應保羅",1415,"台聚投資",null,null,null,null,null,null,null,null,null,null,{"$f":"IFERROR(VLOOKUP(K1335,股價!A:B,2,0)*M1335,\"\")","v":""},{"$f":"IF(O1335=\"\",\"\",RANK(O1335,$O$2:$O$1000))","v":""}]
["1309 台達化","台聯國際投資(股)柯衣紹",8855,"台聯國際投資",null,null,null,null,null,null,null,null,null,null,{"$f":"IFERROR(VLOOKUP(K1336,股價!A:B,2,0)*M1336,\"\")","v":""},{"$f":"IF(O1336=\"\",\"\",RANK(O1336,$O$2:$O$1000))","v":""}]
["1309 台達化","吳亦圭          吳亦圭",0,"吳亦圭",null,null,null,null,null,null,null,null,null,null,{"$f":"IFERROR(VLOOKUP(K1337,股價!A:B,2,0)*M1337,\"\")","v":""},{"$f":"IF(O1337=\"\",\"\",RANK(O1337,$O$2:$O$1000))","v":""}]
["1309 台達化","吳培基          吳培基",0,"吳培基",null,null,null,null,null,null,null,null,null,null,{"$f":"IFERROR(VLOOKUP(K1338,股價!A:B,2,0)*M1338,\"\")","v":""},{"$f":"IF(O1338=\"\",\"\",RANK(O1338,$O$2:$O$1000))","v":""}]
["1309 台達化","李國祥          李國祥",0,"李國祥",null,null,null,null,null,null,null,null,null,null,{"$f":"IFERROR(VLOOKUP(K1339,股價!A:B,2,0)*M1339,\"\")","v":""},{"$f":"IF(O1339=\"\",\"\",RANK(O1339,$O$2:$O$1000))","v":""}]
["1309 台達化","阮啟殷          阮啟殷",0,"阮啟殷",null,null,null,null,null,null,null,null,null,null,{"$f":"IFERROR(VLOOKUP(K1340,股價!A:B,2,0)*M1340,\"\")","v":""},{"$f":"IF(O1340=\"\",\"\",RANK(O1340,$O$2:$O$1000))","v":""}]
["1309 台達化","協明化工(股)    高永生",643,"協明化工",null,null,null,null,null,null,null,null,null,null,{"$f":"IFERROR(VLOOKUP(K1341,股價!A:B,2,0)*M1341,\"\")","v":""},{"$f":"IF(O1341=\"\",\"\",RANK(O1341,$O$2:$O$1000))","v":""}]
["1309 台達化","和鼎投資(股)    陳清堯",2056,"和鼎投資股份有限公司",null,null,null,null,null,null,null,null,null,null,{"$f":"IFERROR(VLOOKUP(K1342,股價!A:B,2,0)*M1342,\"\")","v":""},{"$f":"IF(O1342=\"\",\"\",RANK(O1342,$O$2:$O$1000))","v":""}]
["1309 台達化","林金才          林金才",0,"林金才",null,null,null,null,null,null,null,null,null,null,{"$f":"IFERROR(VLOOKUP(K1343,股價!A:B,2,0)*M1343,\"\")","v":""},{"$f":"IF(O1343=\"\",\"\",RANK(O1343,$O$2:$O$1000))","v":""}]
["1309 台達化","林澤鈿          林澤鈿",839,"林澤鈿",null,null,null,null,null,null,null,null,null,null,{"$f":"IFERROR(VLOOKUP(K1344,股價!A:B,2,0)*M1344,\"\")","v":""},{"$f":"IF(O1344=\"\",\"\",RANK(O1344,$O$2:$O$1000))","v":""}]
["1309 台達化","柯衣紹          柯衣紹",0,"柯衣紹",null,null,null,null,null,null,null,null,null,null,{"$f":"IFERROR(VLOOKUP(K1345,股價!A:B,2,0)*M1345,\"\")","v":""},{"$f":"IF(O1345=\"\",\"\",RANK(O1345,$O$2:$O$1000))","v":""}]
["1309 台達化","美商摩根大通    美商摩根大通",819,"美商摩根大通銀行台北分行受託保管新興市場小資本股票指數非可貸放基金投資專戶",null,null,null,null,null,null,null,null,null,null,{"$f":"IFERROR(VLOOKUP(K1346,股價!A:B,2,0)*M1346,\"\")","v":""},{"$f":"IF(O1346=\"\",\"\",RANK(O1346,$O$2:$O$1000))","v":""}]
["1309 台達化","哥羅西實業(股)  汪弘鈞",1961,"哥羅西實業股份有限公司",null,null,null,null,null,null,null,null,null,null,{"$f":"IFERROR(VLOOKUP(K1347,股價!A:B,2,0)*M1347,\"\")","v":""},{"$f":"IF(O1347=\"\",\"\",RANK(O1347,$O$2:$O$1000))","v":""}]
["1309 台達化","馬以工          馬以工",0,"馬以工",null,null,null,null,null,null,null,null,null,null,{"$f":"IFERROR(VLOOKUP(K1348,股價!A:B,2,0)*M1348,\"\")","v":""},{"$f":"IF(O1348=\"\",\"\",RANK(O1348,$O$2:$O$1000))","v":""}]
["1309 台達化","莊凱惠          莊凱惠",0,"莊凱惠",null,null,null,null,null,null,null,null,null,null,{"$f":"IFERROR(VLOOKUP(K1349,股價!A:B,2,0)*M1349,\"\")","v":""},{"$f":"IF(O1349=\"\",\"\",RANK(O1349,$O$2:$O$1000))","v":""}]
["1309 台達化","陳田文          陳田文",0,"陳田文",null,null,null,null,null,null,null,null,null,null,{"$f":"IFERROR(VLOOKUP(K1350,股價!A:B,2,0)*M1350,\"\")","v":""},{"$f":"IF(O1350=\"\",\"\",RANK(O1350,$O$2:$O$1000))","v":""}]
["1309 台達化","陳雍之          陳雍之",0,"陳雍之",null,null,null,null,null,null,null,null,null,null,{"$f":"IFERROR(VLOOKUP(K1351,股價!A:B,2,0)*M1351,\"\")","v":""},{"$f":"IF(O1351=\"\",\"\",RANK(O1351,$O$2:$O$1000))","v":""}]
["1309 台達化","渣打聖詹姆士    渣打聖詹姆士",784,"渣打國際商業銀行營業部受託保管聖詹姆士地區平衡管理單位信託受託人為奈威施特受託人和存託服務有限公司委",null,null,null,null,null,null,null,null,null,null,{"$f":"IFERROR(VLOOKUP(K1352,股價!A:B,2,0)*M1352,\"\")","v":""},{"$f":"IF(O1352=\"\",\"\",RANK(O1352,$O$2:$O$1000))","v":""}]
["1309 台達化","華運倉儲實業(股)張鴻江",2279,"華運倉儲實業",null,null,null,null,null,null,null,null,null,null,{"$f":"IFERROR(VLOOKUP(K1353,股價!A:B,2,0)*M1353,\"\")","v":""},{"$f":"IF(O1353=\"\",\"\",RANK(O1353,$O$2:$O$1000))","v":""}]
["1309 台達化","應保羅          應保羅",32,"應保羅",null,null,null,null,null,null,null,null,null,null,{"$f":"IFERROR(VLOOKUP(K1354,股價!A:B,2,0)*M1354,\"\")","v":""},{"$f":"IF(O1354=\"\",\"\",RANK(O1354,$O$2:$O$1000))","v":""}]
["1309 台達化","聯聚國際投資(股)吳亦圭",146263,"聯聚國際投資",null,null,null,null,null,null,null,null,null,null,{"$f":"IFERROR(VLOOKUP(K1355,股價!A:B,2,0)*M1355,\"\")","v":""},{"$f":"IF(O1355=\"\",\"\",RANK(O1355,$O$2:$O$1000))","v":""}]
["1309 台達化","聯聚國際投資(股)吳培基",146263,"聯聚國際投資",null,null,null,null,null,null,null,null,null,null,{"$f":"IFERROR(VLOOKUP(K1356,股價!A:B,2,0)*M1356,\"\")","v":""},{"$f":"IF(O1356=\"\",\"\",RANK(O1356,$O$2:$O$1000))","v":""}]
["1309 台達化","顏太明          顏太明",0,"顏太明",null,null,null,null,null,null,null,null,null,null,{"$f":"IFERROR(VLOOKUP(K1357,股價!A:B,2,0)*M1357,\"\")","v":""},{"$f":"IF(O1357=\"\",\"\",RANK(O1357,$O$2:$O$1000))","v":""}]
["1309 台達化","魏永篤          魏永篤",0,"魏永篤",null,null,null,null,null,null,null,null,null,null,{"$f":"IFERROR(VLOOKUP(K1358,股價!A:B,2,0)*M1358,\"\")","v":""},{"$f":"IF(O1358=\"\",\"\",RANK(O1358,$O$2:$O$1000))","v":""}]
["1310 台苯","_大股東合計1",0,null,null,null,null,null,null,null,null,null,null,null,{"$f":"IFERROR(VLOOKUP(K1359,股價!A:B,2,0)*M1359,\"\")","v":""},{"$f":"IF(O1359=\"\",\"\",RANK(O1359,$O$2:$O$1000))","v":""}]
["1310 台苯","_大股東合計2    含沿用資料",112548,null,null,null,null,null,null,null,null,null,null,null,{"$f":"IFERROR(VLOOKUP(K1360,股價!A:B,2,0)*M1360,\"\")","v":""},{"$f":"IF(O1360=\"\",\"\",RANK(O1360,$O$2:$O$1000))","v":""}]
["1310 台苯","_經理人合計",75,null,null,null,null,null,null,null,null,null,null,null,{"$f":"IFERROR(VLOOKUP(K1361,股價!A:B,2,0)*M1361,\"\")","v":""},{"$f":"IF(O1361=\"\",\"\",RANK(O1361,$O$2:$O$1000))","v":""}]
["1310 台苯","_董  事合計",23965,null,null,null,null,null,null,null,null,null,null,null,{"$f":"IFERROR(VLOOKUP(K1362,股價!A:B,2,0)*M1362,\"\")","v":""},{"$f":"IF(O1362=\"\",\"\",RANK(O1362,$O$2:$O$1000))","v":""}]
["1310 台苯","_董監事合計",23965,null,null,null,null,null,null,null,null,null,null,null,{"$f":"IFERROR(VLOOKUP(K1363,股價!A:B,2,0)*M1363,\"\")","v":""},{"$f":"IF(O1363=\"\",\"\",RANK(O1363,$O$2:$O$1000))","v":""}]
["1310 台苯","_監察人合計",0,null,null,null,null,null,null,null,null,null,null,null,{"$f":"IFERROR(VLOOKUP(K1364,股價!A:B,2,0)*M1364,\"\")","v":""},{"$f":"IF(O1364=\"\",\"\",RANK(O1364,$O$2:$O$1000))","v":""}]
["1310 台苯","大通先進星光    大通先進星光",6365,"美商摩根大通銀行台北分行受託保管先進星光基金公司之系列基金先進總合國際股票指數基金",null,null,null,null,null,null,null,null,null,null,{"$f":"IFERROR(VLOOKUP(K1365,股價!A:B,2,0)*M1365,\"\")","v":""},{"$f":"IF(O1365=\"\",\"\",RANK(O1365,$O$2:$O$1000))","v":""}]
["1310 台苯","王炯棻          王炯棻",0,"王炯棻",null,null,null,null,null,null,null,null,null,null,{"$f":"IFERROR(VLOOKUP(K1366,股價!A:B,2,0)*M1366,\"\")","v":""},{"$f":"IF(O1366=\"\",\"\",RANK(O1366,$O$2:$O$1000))","v":""}]
["1310 台苯","台苯投資(有)    李勝琛",10000,"台苯投資",null,null,null,null,null,null,null,null,null,null,{"$f":"IFERROR(VLOOKUP(K1367,股價!A:B,2,0)*M1367,\"\")","v":""},{"$f":"IF(O1367=\"\",\"\",RANK(O1367,$O$2:$O$1000))","v":""}]
["1310 台苯","台苯投資(有)    林文淵",10000,"台苯投資",null,null,null,null,null,null,null,null,null,null,{"$f":"IFERROR(VLOOKUP(K1368,股價!A:B,2,0)*M1368,\"\")","v":""},{"$f":"IF(O1368=\"\",\"\",RANK(O1368,$O$2:$O$1000))","v":""}]
["1310 台苯","台苯投資(有)    陳建甫",10000,"台苯投資",null,null,null,null,null,null,null,null,null,null,{"$f":"IFERROR(VLOOKUP(K1369,股價!A:B,2,0)*M1369,\"\")","v":""},{"$f":"IF(O1369=\"\",\"\",RANK(O1369,$O$2:$O$1000))","v":""}]
["1310 台苯","台苯投資(有)    陳柏元",10000,"台苯投資",null,null,null,null,null,null,null,null,null,null,{"$f":"IFERROR(VLOOKUP(K1370,股價!A:B,2,0)*M1370,\"\")","v":""},{"$f":"IF(O1370=\"\",\"\",RANK(O1370,$O$2:$O$1000))","v":""}]
["1310 台苯","台灣鋼鐵(有)    王炯棻",41794,"台灣鋼鐵",null,null,null,null,null,null,null,null,null,null,{"$f":"IFERROR(VLOOKUP(K1371,股價!A:B,2,0)*M1371,\"\")","v":""},{"$f":"IF(O1371=\"\",\"\",RANK(O1371,$O$2:$O$1000))","v":""}]
["1310 台苯","禾揚投資(股)    王炯棻",5067,"禾揚投資",null,null,null,null,null,null,null,null,null,null,{"$f":"IFERROR(VLOOKUP(K1372,股價!A:B,2,0)*M1372,\"\")","v":""},{"$f":"IF(O1372=\"\",\"\",RANK(O1372,$O$2:$O$1000))","v":""}]
["1310 台苯","仲崇國          仲崇國",60,"仲崇國",null,null,null,null,null,null,null,null,null,null,{"$f":"IFERROR(VLOOKUP(K1373,股價!A:B,2,0)*M1373,\"\")","v":""},{"$f":"IF(O1373=\"\",\"\",RANK(O1373,$O$2:$O$1000))","v":""}]
["1310 台苯","安慶開發(股)    劉正元",487,"安慶開發",null,null,null,null,null,null,null,null,null,null,{"$f":"IFERROR(VLOOKUP(K1374,股價!A:B,2,0)*M1374,\"\")","v":""},{"$f":"IF(O1374=\"\",\"\",RANK(O1374,$O$2:$O$1000))","v":""}]
["1310 台苯","呂政欣          呂政欣",15,"呂政欣",null,null,null,null,null,null,null,null,null,null,{"$f":"IFERROR(VLOOKUP(K1375,股價!A:B,2,0)*M1375,\"\")","v":""},{"$f":"IF(O1375=\"\",\"\",RANK(O1375,$O$2:$O$1000))","v":""}]
["1310 台苯","李勝琛          李勝琛",70,"李勝琛",null,null,null,null,null,null,null,null,null,null,{"$f":"IFERROR(VLOOKUP(K1376,股價!A:B,2,0)*M1376,\"\")","v":""},{"$f":"IF(O1376=\"\",\"\",RANK(O1376,$O$2:$O$1000))","v":""}]
["1310 台苯","林文淵          林文淵",105,"林文淵",null,null,null,null,null,null,null,null,null,null,{"$f":"IFERROR(VLOOKUP(K1377,股價!A:B,2,0)*M1377,\"\")","v":""},{"$f":"IF(O1377=\"\",\"\",RANK(O1377,$O$2:$O$1000))","v":""}]
["1310 台苯","林郁昌          林郁昌",0,"林郁昌",null,null,null,null,null,null,null,null,null,null,{"$f":"IFERROR(VLOOKUP(K1378,股價!A:B,2,0)*M1378,\"\")","v":""},{"$f":"IF(O1378=\"\",\"\",RANK(O1378,$O$2:$O$1000))","v":""}]
["1310 台苯","金智宏投資(有)  王炯棻",1000,"金智宏投資",null,null,null,null,null,null,null,null,null,null,{"$f":"IFERROR(VLOOKUP(K1379,股價!A:B,2,0)*M1379,\"\")","v":""},{"$f":"IF(O1379=\"\",\"\",RANK(O1379,$O$2:$O$1000))","v":""}]
["1310 台苯","春邦精密(股)    陳其泰",6440,"春邦精密",null,null,null,null,null,null,null,null,null,null,{"$f":"IFERROR(VLOOKUP(K1380,股價!A:B,2,0)*M1380,\"\")","v":""},{"$f":"IF(O1380=\"\",\"\",RANK(O1380,$O$2:$O$1000))","v":""}]
["1310 台苯","春雨工廠(股)    陳其泰",11678,"春雨工廠",null,null,null,null,null,null,null,null,null,null,{"$f":"IFERROR(VLOOKUP(K1381,股價!A:B,2,0)*M1381,\"\")","v":""},{"$f":"IF(O1381=\"\",\"\",RANK(O1381,$O$2:$O$1000))","v":""}]
["1310 台苯","春雨投資(股)    陳其泰",6529,"春雨投資",null,null,null,null,null,null,null,null,null,null,{"$f":"IFERROR(VLOOKUP(K1382,股價!A:B,2,0)*M1382,\"\")","v":""},{"$f":"IF(O1382=\"\",\"\",RANK(O1382,$O$2:$O$1000))","v":""}]
["1310 台苯","孫稚堯          孫稚堯",0,"孫稚堯",null,null,null,null,null,null,null,null,null,null,{"$f":"IFERROR(VLOOKUP(K1383,股價!A:B,2,0)*M1383,\"\")","v":""},{"$f":"IF(O1383=\"\",\"\",RANK(O1383,$O$2:$O$1000))","v":""}]
["1310 台苯","陳其泰          陳其泰",0,"陳其泰",null,null,null,null,null,null,null,null,null,null,{"$f":"IFERROR(VLOOKUP(K1384,股價!A:B,2,0)*M1384,\"\")","v":""},{"$f":"IF(O1384=\"\",\"\",RANK(O1384,$O$2:$O$1000))","v":""}]
["1310 台苯","陳建甫          陳建甫",0,"陳建甫",null,null,null,null,null,null,null,null,null,null,{"$f":"IFERROR(VLOOKUP(K1385,股價!A:B,2,0)*M1385,\"\")","v":""},{"$f":"IF(O1385=\"\",\"\",RANK(O1385,$O$2:$O$1000))","v":""}]
["1310 台苯","陳彥均          陳彥均",0,"陳彥均",null,null,null,null,null,null,null,null,null,null,{"$f":"IFERROR(VLOOKUP(K1386,股價!A:B,2,0)*M1386,\"\")","v":""},{"$f":"IF(O1386=\"\",\"\",RANK(O1386,$O$2:$O$1000))","v":""}]
["1310 台苯","陳柏元          陳柏元",38,"陳柏元",null,null,null,null,null,null,null,null,null,null,{"$f":"IFERROR(VLOOKUP(K1387,股價!A:B,2,0)*M1387,\"\")","v":""},{"$f":"IF(O1387=\"\",\"\",RANK(O1387,$O$2:$O$1000))","v":""}]
["1310 台苯","陳啟川文教基    陳啟川文教基",28750,"財團法人陳啟川先生文教基金會",null,null,null,null,null,null,null,null,null,null,{"$f":"IFERROR(VLOOKUP(K1388,股價!A:B,2,0)*M1388,\"\")","v":""},{"$f":"IF(O1388=\"\",\"\",RANK(O1388,$O$2:$O$1000))","v":""}]
["1310 台苯","陳慧姍          陳慧姍",0,"陳慧姍",null,null,null,null,null,null,null,null,null,null,{"$f":"IFERROR(VLOOKUP(K1389,股價!A:B,2,0)*M1389,\"\")","v":""},{"$f":"IF(O1389=\"\",\"\",RANK(O1389,$O$2:$O$1000))","v":""}]
["1310 台苯","開疆(股)        孫稚堯",800,"開疆",null,null,null,null,null,null,null,null,null,null,{"$f":"IFERROR(VLOOKUP(K1390,股價!A:B,2,0)*M1390,\"\")","v":""},{"$f":"IF(O1390=\"\",\"\",RANK(O1390,$O$2:$O$1000))","v":""}]
["1310 台苯","黃瑞沐          黃瑞沐",0,"黃瑞沐",null,null,null,null,null,null,null,null,null,null,{"$f":"IFERROR(VLOOKUP(K1391,股價!A:B,2,0)*M1391,\"\")","v":""},{"$f":"IF(O1391=\"\",\"\",RANK(O1391,$O$2:$O$1000))","v":""}]
["1310 台苯","裕捷投資(股)    蕭進長",10800,"裕捷投資",null,null,null,null,null,null,null,null,null,null,{"$f":"IFERROR(VLOOKUP(K1392,股價!A:B,2,0)*M1392,\"\")","v":""},{"$f":"IF(O1392=\"\",\"\",RANK(O1392,$O$2:$O$1000))","v":""}]
["1310 台苯","劉正元          劉正元",18,"劉正元",null,null,null,null,null,null,null,null,null,null,{"$f":"IFERROR(VLOOKUP(K1393,股價!A:B,2,0)*M1393,\"\")","v":""},{"$f":"IF(O1393=\"\",\"\",RANK(O1393,$O$2:$O$1000))","v":""}]
["1310 台苯","摩根梵市場股    摩根梵市場股",6803,"美商摩根大通銀行台北分行受託保管梵加德集團公司經理之梵加德新興市場股票指數基金投資專戶",null,null,null,null,null,null,null,null,null,null,{"$f":"IFERROR(VLOOKUP(K1394,股價!A:B,2,0)*M1394,\"\")","v":""},{"$f":"IF(O1394=\"\",\"\",RANK(O1394,$O$2:$O$1000))","v":""}]
["1310 台苯","鄭伊淵          鄭伊淵",0,"鄭伊淵",null,null,null,null,null,null,null,null,null,null,{"$f":"IFERROR(VLOOKUP(K1395,股價!A:B,2,0)*M1395,\"\")","v":""},{"$f":"IF(O1395=\"\",\"\",RANK(O1395,$O$2:$O$1000))","v":""}]
["1310 台苯","簡金成          簡金成",0,"簡金成",null,null,null,null,null,null,null,null,null,null,{"$f":"IFERROR(VLOOKUP(K1396,股價!A:B,2,0)*M1396,\"\")","v":""},{"$f":"IF(O1396=\"\",\"\",RANK(O1396,$O$2:$O$1000))","v":""}]
["1312 國喬","_大股東合計1",0,null,null,null,null,null,null,null,null,null,null,null,{"$f":"IFERROR(VLOOKUP(K1397,股價!A:B,2,0)*M1397,\"\")","v":""},{"$f":"IF(O1397=\"\",\"\",RANK(O1397,$O$2:$O$1000))","v":""}]
["1312 國喬","_大股東合計2    含沿用資料",129955,null,null,null,null,null,null,null,null,null,null,null,{"$f":"IFERROR(VLOOKUP(K1398,股價!A:B,2,0)*M1398,\"\")","v":""},{"$f":"IF(O1398=\"\",\"\",RANK(O1398,$O$2:$O$1000))","v":""}]
["1312 國喬","_經理人合計",0,null,null,null,null,null,null,null,null,null,null,null,{"$f":"IFERROR(VLOOKUP(K1399,股價!A:B,2,0)*M1399,\"\")","v":""},{"$f":"IF(O1399=\"\",\"\",RANK(O1399,$O$2:$O$1000))","v":""}]
["1312 國喬","_董  事合計",48743,null,null,null,null,null,null,null,null,null,null,null,{"$f":"IFERROR(VLOOKUP(K1400,股價!A:B,2,0)*M1400,\"\")","v":""},{"$f":"IF(O1400=\"\",\"\",RANK(O1400,$O$2:$O$1000))","v":""}]
["1312 國喬","_董監事合計",48743,null,null,null,null,null,null,null,null,null,null,null,{"$f":"IFERROR(VLOOKUP(K1401,股價!A:B,2,0)*M1401,\"\")","v":""},{"$f":"IF(O1401=\"\",\"\",RANK(O1401,$O$2:$O$1000))","v":""}]
["1312 國喬","_監察人合計",0,null,null,null,null,null,null,null,null,null,null,null,{"$f":"IFERROR(VLOOKUP(K1402,股價!A:B,2,0)*M1402,\"\")","v":""},{"$f":"IF(O1402=\"\",\"\",RANK(O1402,$O$2:$O$1000))","v":""}]
["1312 國喬","大通先進星光    大通先進星光",11244,"美商摩根大通銀行台北分行受託保管先進星光基金公司之系列基金先進總合國際股票指數基金",null,null,null,null,null,null,null,null,null,null,{"$f":"IFERROR(VLOOKUP(K1403,股價!A:B,2,0)*M1403,\"\")","v":""},{"$f":"IF(O1403=\"\",\"\",RANK(O1403,$O$2:$O$1000))","v":""}]
["1312 國喬","大通託梵加德新  大通託梵加德",12820,"摩根大通託管梵加德新興市場股票指數基金戶",null,null,null,null,null,null,null,null,null,null,{"$f":"IFERROR(VLOOKUP(K1404,股價!A:B,2,0)*M1404,\"\")","v":""},{"$f":"IF(O1404=\"\",\"\",RANK(O1404,$O$2:$O$1000))","v":""}]
["1312 國喬","中國人壽保險(股)譚碩倫",14359,"中國人壽保險",null,null,null,null,null,null,null,null,null,null,{"$f":"IFERROR(VLOOKUP(K1405,股價!A:B,2,0)*M1405,\"\")","v":""},{"$f":"IF(O1405=\"\",\"\",RANK(O1405,$O$2:$O$1000))","v":""}]
["1312 國喬","台銀LSV         台銀LSV",8049,"臺灣銀行受託保管LSV 新興市場股票基金有限合夥投資",null,null,null,null,null,null,null,null,null,null,{"$f":"IFERROR(VLOOKUP(K1406,股價!A:B,2,0)*M1406,\"\")","v":""},{"$f":"IF(O1406=\"\",\"\",RANK(O1406,$O$2:$O$1000))","v":""}]
["1312 國喬","田振慶          田振慶",0,"田振慶",null,null,null,null,null,null,null,null,null,null,{"$f":"IFERROR(VLOOKUP(K1407,股價!A:B,2,0)*M1407,\"\")","v":""},{"$f":"IF(O1407=\"\",\"\",RANK(O1407,$O$2:$O$1000))","v":""}]
["1312 國喬","仲冠投資(股)    邱德馨",28263,"仲冠投資",null,null,null,null,null,null,null,null,null,null,{"$f":"IFERROR(VLOOKUP(K1408,股價!A:B,2,0)*M1408,\"\")","v":""},{"$f":"IF(O1408=\"\",\"\",RANK(O1408,$O$2:$O$1000))","v":""}]
["1312 國喬","周振銘          周振銘",0,"周振銘",null,null,null,null,null,null,null,null,null,null,{"$f":"IFERROR(VLOOKUP(K1409,股價!A:B,2,0)*M1409,\"\")","v":""},{"$f":"IF(O1409=\"\",\"\",RANK(O1409,$O$2:$O$1000))","v":""}]
["1312 國喬","林文輝          林文輝",0,"林文輝",null,null,null,null,null,null,null,null,null,null,{"$f":"IFERROR(VLOOKUP(K1410,股價!A:B,2,0)*M1410,\"\")","v":""},{"$f":"IF(O1410=\"\",\"\",RANK(O1410,$O$2:$O$1000))","v":""}]
["1312 國喬","林金柱          林金柱",0,"林金柱",null,null,null,null,null,null,null,null,null,null,{"$f":"IFERROR(VLOOKUP(K1411,股價!A:B,2,0)*M1411,\"\")","v":""},{"$f":"IF(O1411=\"\",\"\",RANK(O1411,$O$2:$O$1000))","v":""}]
["1312 國喬","邱德富          邱德富",8049,"邱德富",null,null,null,null,null,null,null,null,null,null,{"$f":"IFERROR(VLOOKUP(K1412,股價!A:B,2,0)*M1412,\"\")","v":""},{"$f":"IF(O1412=\"\",\"\",RANK(O1412,$O$2:$O$1000))","v":""}]
["1312 國喬","邱德馨          邱德馨",500,"邱德馨",null,null,null,null,null,null,null,null,null,null,{"$f":"IFERROR(VLOOKUP(K1413,股價!A:B,2,0)*M1413,\"\")","v":""},{"$f":"IF(O1413=\"\",\"\",RANK(O1413,$O$2:$O$1000))","v":""}]
["1312 國喬","張聰明          張聰明",0,"張聰明",null,null,null,null,null,null,null,null,null,null,{"$f":"IFERROR(VLOOKUP(K1414,股價!A:B,2,0)*M1414,\"\")","v":""},{"$f":"IF(O1414=\"\",\"\",RANK(O1414,$O$2:$O$1000))","v":""}]
["1312 國喬","張鎮麟          張鎮麟",15404,"張鎮麟",null,null,null,null,null,null,null,null,null,null,{"$f":"IFERROR(VLOOKUP(K1415,股價!A:B,2,0)*M1415,\"\")","v":""},{"$f":"IF(O1415=\"\",\"\",RANK(O1415,$O$2:$O$1000))","v":""}]
["1312 國喬","陳文宗          陳文宗",0,"陳文宗",null,null,null,null,null,null,null,null,null,null,{"$f":"IFERROR(VLOOKUP(K1416,股價!A:B,2,0)*M1416,\"\")","v":""},{"$f":"IF(O1416=\"\",\"\",RANK(O1416,$O$2:$O$1000))","v":""}]
["1312 國喬","陳玲珠          陳玲珠",0,"陳玲珠",null,null,null,null,null,null,null,null,null,null,{"$f":"IFERROR(VLOOKUP(K1417,股價!A:B,2,0)*M1417,\"\")","v":""},{"$f":"IF(O1417=\"\",\"\",RANK(O1417,$O$2:$O$1000))","v":""}]
["1312 國喬","陳景福          陳景福",0,"陳景福",null,null,null,null,null,null,null,null,null,null,{"$f":"IFERROR(VLOOKUP(K1418,股價!A:B,2,0)*M1418,\"\")","v":""},{"$f":"IF(O1418=\"\",\"\",RANK(O1418,$O$2:$O$1000))","v":""}]
["1312 國喬","陳慕賢          陳慕賢",0,"陳慕賢",null,null,null,null,null,null,null,null,null,null,{"$f":"IFERROR(VLOOKUP(K1419,股價!A:B,2,0)*M1419,\"\")","v":""},{"$f":"IF(O1419=\"\",\"\",RANK(O1419,$O$2:$O$1000))","v":""}]
["1312 國喬","凱基證券(股)    許道義",50069,"凱基證券",null,null,null,null,null,null,null,null,null,null,{"$f":"IFERROR(VLOOKUP(K1420,股價!A:B,2,0)*M1420,\"\")","v":""},{"$f":"IF(O1420=\"\",\"\",RANK(O1420,$O$2:$O$1000))","v":""}]
["1312 國喬","景冠投資(股)    楊品正",20280,"景冠投資",null,null,null,null,null,null,null,null,null,null,{"$f":"IFERROR(VLOOKUP(K1421,股價!A:B,2,0)*M1421,\"\")","v":""},{"$f":"IF(O1421=\"\",\"\",RANK(O1421,$O$2:$O$1000))","v":""}]
["1312 國喬","曾嘉雄          曾嘉雄",0,"曾嘉雄",null,null,null,null,null,null,null,null,null,null,{"$f":"IFERROR(VLOOKUP(K1422,股價!A:B,2,0)*M1422,\"\")","v":""},{"$f":"IF(O1422=\"\",\"\",RANK(O1422,$O$2:$O$1000))","v":""}]
["1312 國喬","楊品正          楊品正",0,"楊品正",null,null,null,null,null,null,null,null,null,null,{"$f":"IFERROR(VLOOKUP(K1423,股價!A:B,2,0)*M1423,\"\")","v":""},{"$f":"IF(O1423=\"\",\"\",RANK(O1423,$O$2:$O$1000))","v":""}]
["1312 國喬","興文投資(股)    興文投資(股)",9961,"興文投資",null,null,null,null,null,null,null,null,null,null,{"$f":"IFERROR(VLOOKUP(K1424,股價!A:B,2,0)*M1424,\"\")","v":""},{"$f":"IF(O1424=\"\",\"\",RANK(O1424,$O$2:$O$1000))","v":""}]
["1312 國喬","薛鴻敏          薛鴻敏",0,"薛鴻敏",null,null,null,null,null,null,null,null,null,null,{"$f":"IFERROR(VLOOKUP(K1425,股價!A:B,2,0)*M1425,\"\")","v":""},{"$f":"IF(O1425=\"\",\"\",RANK(O1425,$O$2:$O$1000))","v":""}]
["1312 國喬","謝志鴻          謝志鴻",0,"謝志鴻",null,null,null,null,null,null,null,null,null,null,{"$f":"IFERROR(VLOOKUP(K1426,股價!A:B,2,0)*M1426,\"\")","v":""},{"$f":"IF(O1426=\"\",\"\",RANK(O1426,$O$2:$O$1000))","v":""}]
["1312 國喬","紘灣投資(有)    田振慶",200,"紘灣投資有限公司",null,null,null,null,null,null,null,null,null,null,{"$f":"IFERROR(VLOOKUP(K1427,股價!A:B,2,0)*M1427,\"\")","v":""},{"$f":"IF(O1427=\"\",\"\",RANK(O1427,$O$2:$O$1000))","v":""}]
["1312 國喬","紘灣投資(有)    林金柱",200,"紘灣投資有限公司",null,null,null,null,null,null,null,null,null,null,{"$f":"IFERROR(VLOOKUP(K1428,股價!A:B,2,0)*M1428,\"\")","v":""},{"$f":"IF(O1428=\"\",\"\",RANK(O1428,$O$2:$O$1000))","v":""}]
["1313 聯成","_大股東合計1",0,null,null,null,null,null,null,null,null,null,null,null,{"$f":"IFERROR(VLOOKUP(K1429,股價!A:B,2,0)*M1429,\"\")","v":""},{"$f":"IF(O1429=\"\",\"\",RANK(O1429,$O$2:$O$1000))","v":""}]
["1313 聯成","_大股東合計2    含沿用資料",205653,null,null,null,null,null,null,null,null,null,null,null,{"$f":"IFERROR(VLOOKUP(K1430,股價!A:B,2,0)*M1430,\"\")","v":""},{"$f":"IF(O1430=\"\",\"\",RANK(O1430,$O$2:$O$1000))","v":""}]
["1313 聯成","_經理人合計",7496,null,null,null,null,null,null,null,null,null,null,null,{"$f":"IFERROR(VLOOKUP(K1431,股價!A:B,2,0)*M1431,\"\")","v":""},{"$f":"IF(O1431=\"\",\"\",RANK(O1431,$O$2:$O$1000))","v":""}]
["1313 聯成","_董  事合計",433108,null,null,null,null,null,null,null,null,null,null,null,{"$f":"IFERROR(VLOOKUP(K1432,股價!A:B,2,0)*M1432,\"\")","v":""},{"$f":"IF(O1432=\"\",\"\",RANK(O1432,$O$2:$O$1000))","v":""}]
["1313 聯成","_董監事合計",433108,null,null,null,null,null,null,null,null,null,null,null,{"$f":"IFERROR(VLOOKUP(K1433,股價!A:B,2,0)*M1433,\"\")","v":""},{"$f":"IF(O1433=\"\",\"\",RANK(O1433,$O$2:$O$1000))","v":""}]
["1313 聯成","_監察人合計",0,null,null,null,null,null,null,null,null,null,null,null,{"$f":"IFERROR(VLOOKUP(K1434,股價!A:B,2,0)*M1434,\"\")","v":""},{"$f":"IF(O1434=\"\",\"\",RANK(O1434,$O$2:$O$1000))","v":""}]
["1313 聯成","方鴻慶          方鴻慶",120,"方鴻慶",null,null,null,null,null,null,null,null,null,null,{"$f":"IFERROR(VLOOKUP(K1435,股價!A:B,2,0)*M1435,\"\")","v":""},{"$f":"IF(O1435=\"\",\"\",RANK(O1435,$O$2:$O$1000))","v":""}]
["1313 聯成","王伯元          王伯元",0,"王伯元",null,null,null,null,null,null,null,null,null,null,{"$f":"IFERROR(VLOOKUP(K1436,股價!A:B,2,0)*M1436,\"\")","v":""},{"$f":"IF(O1436=\"\",\"\",RANK(O1436,$O$2:$O$1000))","v":""}]
["1313 聯成","江惠中          江惠中",25,"江惠中",null,null,null,null,null,null,null,null,null,null,{"$f":"IFERROR(VLOOKUP(K1437,股價!A:B,2,0)*M1437,\"\")","v":""},{"$f":"IF(O1437=\"\",\"\",RANK(O1437,$O$2:$O$1000))","v":""}]
["1313 聯成","利百代國際實業( 門田明輝",20655,"利百代國際實業",null,null,null,null,null,null,null,null,null,null,{"$f":"IFERROR(VLOOKUP(K1438,股價!A:B,2,0)*M1438,\"\")","v":""},{"$f":"IF(O1438=\"\",\"\",RANK(O1438,$O$2:$O$1000))","v":""}]
["1313 聯成","吳盛銓          吳盛銓",2135,"吳盛銓",null,null,null,null,null,null,null,null,null,null,{"$f":"IFERROR(VLOOKUP(K1439,股價!A:B,2,0)*M1439,\"\")","v":""},{"$f":"IF(O1439=\"\",\"\",RANK(O1439,$O$2:$O$1000))","v":""}]
["1313 聯成","林信宏          林信宏",0,"林信宏",null,null,null,null,null,null,null,null,null,null,{"$f":"IFERROR(VLOOKUP(K1440,股價!A:B,2,0)*M1440,\"\")","v":""},{"$f":"IF(O1440=\"\",\"\",RANK(O1440,$O$2:$O$1000))","v":""}]
["1313 聯成","柯衣紹          柯衣紹",2382,"柯衣紹",null,null,null,null,null,null,null,null,null,null,{"$f":"IFERROR(VLOOKUP(K1441,股價!A:B,2,0)*M1441,\"\")","v":""},{"$f":"IF(O1441=\"\",\"\",RANK(O1441,$O$2:$O$1000))","v":""}]
["1313 聯成","美安投資(股)    許愛貞",18224,"美安投資",null,null,null,null,null,null,null,null,null,null,{"$f":"IFERROR(VLOOKUP(K1442,股價!A:B,2,0)*M1442,\"\")","v":""},{"$f":"IF(O1442=\"\",\"\",RANK(O1442,$O$2:$O$1000))","v":""}]
["1313 聯成","苗豐強          苗豐強",4919,"苗豐強",null,null,null,null,null,null,null,null,null,null,{"$f":"IFERROR(VLOOKUP(K1443,股價!A:B,2,0)*M1443,\"\")","v":""},{"$f":"IF(O1443=\"\",\"\",RANK(O1443,$O$2:$O$1000))","v":""}]
["1313 聯成","苗豐盛          苗豐盛",991,"苗豐盛",null,null,null,null,null,null,null,null,null,null,{"$f":"IFERROR(VLOOKUP(K1444,股價!A:B,2,0)*M1444,\"\")","v":""},{"$f":"IF(O1444=\"\",\"\",RANK(O1444,$O$2:$O$1000))","v":""}]
["1313 聯成","泰商華貿(有)    Terawat Tech",14977,"泰商華貿有限公司",null,null,null,null,null,null,null,null,null,null,{"$f":"IFERROR(VLOOKUP(K1445,股價!A:B,2,0)*M1445,\"\")","v":""},{"$f":"IF(O1445=\"\",\"\",RANK(O1445,$O$2:$O$1000))","v":""}]
["1313 聯成","神達電腦(股)    苗豐強",16180,"神達電腦",null,null,null,null,null,null,null,null,null,null,{"$f":"IFERROR(VLOOKUP(K1446,股價!A:B,2,0)*M1446,\"\")","v":""},{"$f":"IF(O1446=\"\",\"\",RANK(O1446,$O$2:$O$1000))","v":""}]
["1313 聯成","畢淑蒨          畢淑蒨",322,"畢淑蒨",null,null,null,null,null,null,null,null,null,null,{"$f":"IFERROR(VLOOKUP(K1447,股價!A:B,2,0)*M1447,\"\")","v":""},{"$f":"IF(O1447=\"\",\"\",RANK(O1447,$O$2:$O$1000))","v":""}]
["1313 聯成","通達投資(股)    周德虔",14510,"通達投資",null,null,null,null,null,null,null,null,null,null,{"$f":"IFERROR(VLOOKUP(K1448,股價!A:B,2,0)*M1448,\"\")","v":""},{"$f":"IF(O1448=\"\",\"\",RANK(O1448,$O$2:$O$1000))","v":""}]
["1313 聯成","陳沖            陳沖",0,"陳沖",null,null,null,null,null,null,null,null,null,null,{"$f":"IFERROR(VLOOKUP(K1449,股價!A:B,2,0)*M1449,\"\")","v":""},{"$f":"IF(O1449=\"\",\"\",RANK(O1449,$O$2:$O$1000))","v":""}]
["1313 聯成","黃重球          黃重球",0,"黃重球",null,null,null,null,null,null,null,null,null,null,{"$f":"IFERROR(VLOOKUP(K1450,股價!A:B,2,0)*M1450,\"\")","v":""},{"$f":"IF(O1450=\"\",\"\",RANK(O1450,$O$2:$O$1000))","v":""}]
["1313 聯成","義源投資(股)    孫頌恩",21532,"義源投資",null,null,null,null,null,null,null,null,null,null,{"$f":"IFERROR(VLOOKUP(K1451,股價!A:B,2,0)*M1451,\"\")","v":""},{"$f":"IF(O1451=\"\",\"\",RANK(O1451,$O$2:$O$1000))","v":""}]
["1313 聯成","義豐投資(股)    景虎士",13123,"義豐投資",null,null,null,null,null,null,null,null,null,null,{"$f":"IFERROR(VLOOKUP(K1452,股價!A:B,2,0)*M1452,\"\")","v":""},{"$f":"IF(O1452=\"\",\"\",RANK(O1452,$O$2:$O$1000))","v":""}]
["1313 聯成","資豐投資(股)    何繼武",17460,"資豐投資",null,null,null,null,null,null,null,null,null,null,{"$f":"IFERROR(VLOOKUP(K1453,股價!A:B,2,0)*M1453,\"\")","v":""},{"$f":"IF(O1453=\"\",\"\",RANK(O1453,$O$2:$O$1000))","v":""}]
["1313 聯成","潘文炎          潘文炎",0,"潘文炎",null,null,null,null,null,null,null,null,null,null,{"$f":"IFERROR(VLOOKUP(K1454,股價!A:B,2,0)*M1454,\"\")","v":""},{"$f":"IF(O1454=\"\",\"\",RANK(O1454,$O$2:$O$1000))","v":""}]
["1313 聯成","聯強國際(股)    苗豐強",68992,"聯強國際",null,null,null,null,null,null,null,null,null,null,{"$f":"IFERROR(VLOOKUP(K1455,股價!A:B,2,0)*M1455,\"\")","v":""},{"$f":"IF(O1455=\"\",\"\",RANK(O1455,$O$2:$O$1000))","v":""}]
["1313 聯成","聯華實業投資控股江惠中",424881,"聯華實業投資控股",null,null,null,null,null,null,null,null,null,null,{"$f":"IFERROR(VLOOKUP(K1456,股價!A:B,2,0)*M1456,\"\")","v":""},{"$f":"IF(O1456=\"\",\"\",RANK(O1456,$O$2:$O$1000))","v":""}]
["1313 聯成","聯華實業投資控股林信宏",424881,"聯華實業投資控股",null,null,null,null,null,null,null,null,null,null,{"$f":"IFERROR(VLOOKUP(K1457,股價!A:B,2,0)*M1457,\"\")","v":""},{"$f":"IF(O1457=\"\",\"\",RANK(O1457,$O$2:$O$1000))","v":""}]
["1313 聯成","聯華實業投資控股苗豐強",424881,"聯華實業投資控股",null,null,null,null,null,null,null,null,null,null,{"$f":"IFERROR(VLOOKUP(K1458,股價!A:B,2,0)*M1458,\"\")","v":""},{"$f":"IF(O1458=\"\",\"\",RANK(O1458,$O$2:$O$1000))","v":""}]
["1313 聯成","聯華實業投資控股陳沖",424881,"聯華實業投資控股",null,null,null,null,null,null,null,null,null,null,{"$f":"IFERROR(VLOOKUP(K1459,股價!A:B,2,0)*M1459,\"\")","v":""},{"$f":"IF(O1459=\"\",\"\",RANK(O1459,$O$2:$O$1000))","v":""}]
["1313 聯成","薛昌煒          薛昌煒",4854,"薛昌煒",null,null,null,null,null,null,null,null,null,null,{"$f":"IFERROR(VLOOKUP(K1460,股價!A:B,2,0)*M1460,\"\")","v":""},{"$f":"IF(O1460=\"\",\"\",RANK(O1460,$O$2:$O$1000))","v":""}]
["1314 中石化","_大股東合計1",0,null,null,null,null,null,null,null,null,null,null,null,{"$f":"IFERROR(VLOOKUP(K1461,股價!A:B,2,0)*M1461,\"\")","v":""},{"$f":"IF(O1461=\"\",\"\",RANK(O1461,$O$2:$O$1000))","v":""}]
["1314 中石化","_大股東合計2    含沿用資料",336596,null,null,null,null,null,null,null,null,null,null,null,{"$f":"IFERROR(VLOOKUP(K1462,股價!A:B,2,0)*M1462,\"\")","v":""},{"$f":"IF(O1462=\"\",\"\",RANK(O1462,$O$2:$O$1000))","v":""}]
["1314 中石化","_經理人合計",1948,null,null,null,null,null,null,null,null,null,null,null,{"$f":"IFERROR(VLOOKUP(K1463,股價!A:B,2,0)*M1463,\"\")","v":""},{"$f":"IF(O1463=\"\",\"\",RANK(O1463,$O$2:$O$1000))","v":""}]
["1314 中石化","_董  事合計",261366,null,null,null,null,null,null,null,null,null,null,null,{"$f":"IFERROR(VLOOKUP(K1464,股價!A:B,2,0)*M1464,\"\")","v":""},{"$f":"IF(O1464=\"\",\"\",RANK(O1464,$O$2:$O$1000))","v":""}]
["1314 中石化","_董監事合計",261366,null,null,null,null,null,null,null,null,null,null,null,{"$f":"IFERROR(VLOOKUP(K1465,股價!A:B,2,0)*M1465,\"\")","v":""},{"$f":"IF(O1465=\"\",\"\",RANK(O1465,$O$2:$O$1000))","v":""}]
["1314 中石化","_監察人合計",0,null,null,null,null,null,null,null,null,null,null,null,{"$f":"IFERROR(VLOOKUP(K1466,股價!A:B,2,0)*M1466,\"\")","v":""},{"$f":"IF(O1466=\"\",\"\",RANK(O1466,$O$2:$O$1000))","v":""}]
["1314 中石化","大通先進星光    大通先進星光",46897,"美商摩根大通銀行台北分行受託保管先進星光基金公司之系列基金先進總合國際股票指數基金",null,null,null,null,null,null,null,null,null,null,{"$f":"IFERROR(VLOOKUP(K1467,股價!A:B,2,0)*M1467,\"\")","v":""},{"$f":"IF(O1467=\"\",\"\",RANK(O1467,$O$2:$O$1000))","v":""}]
["1314 中石化","中華工程(股)",183038,"中華工程",null,null,null,null,null,null,null,null,null,null,{"$f":"IFERROR(VLOOKUP(K1468,股價!A:B,2,0)*M1468,\"\")","v":""},{"$f":"IF(O1468=\"\",\"\",RANK(O1468,$O$2:$O$1000))","v":""}]
["1314 中石化","中華城(股)      沈慶京",30650,"中華城",null,null,null,null,null,null,null,null,null,null,{"$f":"IFERROR(VLOOKUP(K1469,股價!A:B,2,0)*M1469,\"\")","v":""},{"$f":"IF(O1469=\"\",\"\",RANK(O1469,$O$2:$O$1000))","v":""}]
["1314 中石化","王延立          王延立",0,"王延立",null,null,null,null,null,null,null,null,null,null,{"$f":"IFERROR(VLOOKUP(K1470,股價!A:B,2,0)*M1470,\"\")","v":""},{"$f":"IF(O1470=\"\",\"\",RANK(O1470,$O$2:$O$1000))","v":""}]
["1314 中石化","王智鋒          王智鋒",6,"王智鋒",null,null,null,null,null,null,null,null,null,null,{"$f":"IFERROR(VLOOKUP(K1471,股價!A:B,2,0)*M1471,\"\")","v":""},{"$f":"IF(O1471=\"\",\"\",RANK(O1471,$O$2:$O$1000))","v":""}]
["1314 中石化","王豫蘭          王豫蘭",0,"王豫蘭",null,null,null,null,null,null,null,null,null,null,{"$f":"IFERROR(VLOOKUP(K1472,股價!A:B,2,0)*M1472,\"\")","v":""},{"$f":"IF(O1472=\"\",\"\",RANK(O1472,$O$2:$O$1000))","v":""}]
["1314 中石化","王琮謙          王琮謙",23,"王琮謙",null,null,null,null,null,null,null,null,null,null,{"$f":"IFERROR(VLOOKUP(K1473,股價!A:B,2,0)*M1473,\"\")","v":""},{"$f":"IF(O1473=\"\",\"\",RANK(O1473,$O$2:$O$1000))","v":""}]
["1314 中石化","白俊男          白俊男",0,"白俊男",null,null,null,null,null,null,null,null,null,null,{"$f":"IFERROR(VLOOKUP(K1474,股價!A:B,2,0)*M1474,\"\")","v":""},{"$f":"IF(O1474=\"\",\"\",RANK(O1474,$O$2:$O$1000))","v":""}]
["1314 中石化","朱雲鵬          朱雲鵬",0,"朱雲鵬",null,null,null,null,null,null,null,null,null,null,{"$f":"IFERROR(VLOOKUP(K1475,股價!A:B,2,0)*M1475,\"\")","v":""},{"$f":"IF(O1475=\"\",\"\",RANK(O1475,$O$2:$O$1000))","v":""}]
["1314 中石化","何木川          何木川",165,"何木川",null,null,null,null,null,null,null,null,null,null,{"$f":"IFERROR(VLOOKUP(K1476,股價!A:B,2,0)*M1476,\"\")","v":""},{"$f":"IF(O1476=\"\",\"\",RANK(O1476,$O$2:$O$1000))","v":""}]
["1314 中石化","余建松          余建松",292,"余建松",null,null,null,null,null,null,null,null,null,null,{"$f":"IFERROR(VLOOKUP(K1477,股價!A:B,2,0)*M1477,\"\")","v":""},{"$f":"IF(O1477=\"\",\"\",RANK(O1477,$O$2:$O$1000))","v":""}]
["1314 中石化","李奇昌          李奇昌",75,"李奇昌",null,null,null,null,null,null,null,null,null,null,{"$f":"IFERROR(VLOOKUP(K1478,股價!A:B,2,0)*M1478,\"\")","v":""},{"$f":"IF(O1478=\"\",\"\",RANK(O1478,$O$2:$O$1000))","v":""}]
["1314 中石化","李建憲          李建憲",140,"李建憲",null,null,null,null,null,null,null,null,null,null,{"$f":"IFERROR(VLOOKUP(K1479,股價!A:B,2,0)*M1479,\"\")","v":""},{"$f":"IF(O1479=\"\",\"\",RANK(O1479,$O$2:$O$1000))","v":""}]
["1314 中石化","李偉英          李偉英",0,"李偉英",null,null,null,null,null,null,null,null,null,null,{"$f":"IFERROR(VLOOKUP(K1480,股價!A:B,2,0)*M1480,\"\")","v":""},{"$f":"IF(O1480=\"\",\"\",RANK(O1480,$O$2:$O$1000))","v":""}]
["1314 中石化","李喬賓          李喬賓",20,"李喬賓",null,null,null,null,null,null,null,null,null,null,{"$f":"IFERROR(VLOOKUP(K1481,股價!A:B,2,0)*M1481,\"\")","v":""},{"$f":"IF(O1481=\"\",\"\",RANK(O1481,$O$2:$O$1000))","v":""}]
["1314 中石化","李進義          李進義",135,"李進義",null,null,null,null,null,null,null,null,null,null,{"$f":"IFERROR(VLOOKUP(K1482,股價!A:B,2,0)*M1482,\"\")","v":""},{"$f":"IF(O1482=\"\",\"\",RANK(O1482,$O$2:$O$1000))","v":""}]
["1314 中石化","沈慶京          沈慶京",0,"沈慶京",null,null,null,null,null,null,null,null,null,null,{"$f":"IFERROR(VLOOKUP(K1483,股價!A:B,2,0)*M1483,\"\")","v":""},{"$f":"IF(O1483=\"\",\"\",RANK(O1483,$O$2:$O$1000))","v":""}]
["1314 中石化","沈輝庭          沈輝庭",0,"沈輝庭",null,null,null,null,null,null,null,null,null,null,{"$f":"IFERROR(VLOOKUP(K1484,股價!A:B,2,0)*M1484,\"\")","v":""},{"$f":"IF(O1484=\"\",\"\",RANK(O1484,$O$2:$O$1000))","v":""}]
["1314 中石化","京都建設開發(股)阮聖元",46300,"京都建設開發股份有限公司",null,null,null,null,null,null,null,null,null,null,{"$f":"IFERROR(VLOOKUP(K1485,股價!A:B,2,0)*M1485,\"\")","v":""},{"$f":"IF(O1485=\"\",\"\",RANK(O1485,$O$2:$O$1000))","v":""}]
["1314 中石化","京華租賃(股)    林坤銘",2101,"京華租賃",null,null,null,null,null,null,null,null,null,null,{"$f":"IFERROR(VLOOKUP(K1486,股價!A:B,2,0)*M1486,\"\")","v":""},{"$f":"IF(O1486=\"\",\"\",RANK(O1486,$O$2:$O$1000))","v":""}]
["1314 中石化","林坤銘          林坤銘",0,"林坤銘",null,null,null,null,null,null,null,null,null,null,{"$f":"IFERROR(VLOOKUP(K1487,股價!A:B,2,0)*M1487,\"\")","v":""},{"$f":"IF(O1487=\"\",\"\",RANK(O1487,$O$2:$O$1000))","v":""}]
["1314 中石化","林明達          林明達",30000,"林明達",null,null,null,null,null,null,null,null,null,null,{"$f":"IFERROR(VLOOKUP(K1488,股價!A:B,2,0)*M1488,\"\")","v":""},{"$f":"IF(O1488=\"\",\"\",RANK(O1488,$O$2:$O$1000))","v":""}]
["1314 中石化","林青            林青",35,"林青",null,null,null,null,null,null,null,null,null,null,{"$f":"IFERROR(VLOOKUP(K1489,股價!A:B,2,0)*M1489,\"\")","v":""},{"$f":"IF(O1489=\"\",\"\",RANK(O1489,$O$2:$O$1000))","v":""}]
["1314 中石化","花旗(台灣)託管波花旗(台灣)託",27691,"花旗(台灣)商業銀行受託保管波露寧發展國家基金有限公司投資專戶",null,null,null,null,null,null,null,null,null,null,{"$f":"IFERROR(VLOOKUP(K1490,股價!A:B,2,0)*M1490,\"\")","v":""},{"$f":"IF(O1490=\"\",\"\",RANK(O1490,$O$2:$O$1000))","v":""}]
["1314 中石化","威京開發投資(股)陳瑞隆",53981,"威京開發投資",null,null,null,null,null,null,null,null,null,null,{"$f":"IFERROR(VLOOKUP(K1491,股價!A:B,2,0)*M1491,\"\")","v":""},{"$f":"IF(O1491=\"\",\"\",RANK(O1491,$O$2:$O$1000))","v":""}]
["1314 中石化","威京開發投資(股)楊紹欣",53981,"威京開發投資",null,null,null,null,null,null,null,null,null,null,{"$f":"IFERROR(VLOOKUP(K1492,股價!A:B,2,0)*M1492,\"\")","v":""},{"$f":"IF(O1492=\"\",\"\",RANK(O1492,$O$2:$O$1000))","v":""}]
["1314 中石化","洪朝順          洪朝順",73834,"洪朝順",null,null,null,null,null,null,null,null,null,null,{"$f":"IFERROR(VLOOKUP(K1493,股價!A:B,2,0)*M1493,\"\")","v":""},{"$f":"IF(O1493=\"\",\"\",RANK(O1493,$O$2:$O$1000))","v":""}]
["1314 中石化","袁一平          袁一平",13,"袁一平",null,null,null,null,null,null,null,null,null,null,{"$f":"IFERROR(VLOOKUP(K1494,股價!A:B,2,0)*M1494,\"\")","v":""},{"$f":"IF(O1494=\"\",\"\",RANK(O1494,$O$2:$O$1000))","v":""}]
["1314 中石化","高啟綜          高啟綜",346,"高啟綜",null,null,null,null,null,null,null,null,null,null,{"$f":"IFERROR(VLOOKUP(K1495,股價!A:B,2,0)*M1495,\"\")","v":""},{"$f":"IF(O1495=\"\",\"\",RANK(O1495,$O$2:$O$1000))","v":""}]
["1314 中石化","高添水          高添水",101,"高添水",null,null,null,null,null,null,null,null,null,null,{"$f":"IFERROR(VLOOKUP(K1496,股價!A:B,2,0)*M1496,\"\")","v":""},{"$f":"IF(O1496=\"\",\"\",RANK(O1496,$O$2:$O$1000))","v":""}]
["1314 中石化","張成龍          張成龍",0,"張成龍",null,null,null,null,null,null,null,null,null,null,{"$f":"IFERROR(VLOOKUP(K1497,股價!A:B,2,0)*M1497,\"\")","v":""},{"$f":"IF(O1497=\"\",\"\",RANK(O1497,$O$2:$O$1000))","v":""}]
["1314 中石化","張芷維          張芷維",50,"張芷維",null,null,null,null,null,null,null,null,null,null,{"$f":"IFERROR(VLOOKUP(K1498,股價!A:B,2,0)*M1498,\"\")","v":""},{"$f":"IF(O1498=\"\",\"\",RANK(O1498,$O$2:$O$1000))","v":""}]
["1314 中石化","陳宏隆          陳宏隆",0,"陳宏隆",null,null,null,null,null,null,null,null,null,null,{"$f":"IFERROR(VLOOKUP(K1499,股價!A:B,2,0)*M1499,\"\")","v":""},{"$f":"IF(O1499=\"\",\"\",RANK(O1499,$O$2:$O$1000))","v":""}]
["1314 中石化","陳勇杉          陳勇杉",8,"陳勇杉",null,null,null,null,null,null,null,null,null,null,{"$f":"IFERROR(VLOOKUP(K1500,股價!A:B,2,0)*M1500,\"\")","v":""},{"$f":"IF(O1500=\"\",\"\",RANK(O1500,$O$2:$O$1000))","v":""}]
["1314 中石化","陳瑞隆          陳瑞隆",200,"陳瑞隆",null,null,null,null,null,null,null,null,null,null,{"$f":"IFERROR(VLOOKUP(K1501,股價!A:B,2,0)*M1501,\"\")","v":""},{"$f":"IF(O1501=\"\",\"\",RANK(O1501,$O$2:$O$1000))","v":""}]
["1314 中石化","陳穎俊          陳穎俊",100,"陳穎俊",null,null,null,null,null,null,null,null,null,null,{"$f":"IFERROR(VLOOKUP(K1502,股價!A:B,2,0)*M1502,\"\")","v":""},{"$f":"IF(O1502=\"\",\"\",RANK(O1502,$O$2:$O$1000))","v":""}]
["1314 中石化","曾文源          曾文源",20,"曾文源",null,null,null,null,null,null,null,null,null,null,{"$f":"IFERROR(VLOOKUP(K1503,股價!A:B,2,0)*M1503,\"\")","v":""},{"$f":"IF(O1503=\"\",\"\",RANK(O1503,$O$2:$O$1000))","v":""}]
["1314 中石化","匯豐託京華山    匯豐託京華山",31857,"匯豐銀行託管京華山(香港)投資專戶",null,null,null,null,null,null,null,null,null,null,{"$f":"IFERROR(VLOOKUP(K1504,股價!A:B,2,0)*M1504,\"\")","v":""},{"$f":"IF(O1504=\"\",\"\",RANK(O1504,$O$2:$O$1000))","v":""}]
["1314 中石化","楊沛諭          楊沛諭",21,"楊沛諭",null,null,null,null,null,null,null,null,null,null,{"$f":"IFERROR(VLOOKUP(K1505,股價!A:B,2,0)*M1505,\"\")","v":""},{"$f":"IF(O1505=\"\",\"\",RANK(O1505,$O$2:$O$1000))","v":""}]
["1314 中石化","楊敏玲          楊敏玲",0,"楊敏玲",null,null,null,null,null,null,null,null,null,null,{"$f":"IFERROR(VLOOKUP(K1506,股價!A:B,2,0)*M1506,\"\")","v":""},{"$f":"IF(O1506=\"\",\"\",RANK(O1506,$O$2:$O$1000))","v":""}]
["1314 中石化","楊紹欣          楊紹欣",0,"楊紹欣",null,null,null,null,null,null,null,null,null,null,{"$f":"IFERROR(VLOOKUP(K1507,股價!A:B,2,0)*M1507,\"\")","v":""},{"$f":"IF(O1507=\"\",\"\",RANK(O1507,$O$2:$O$1000))","v":""}]
["1314 中石化","楊智元          楊智元",7,"楊智元",null,null,null,null,null,null,null,null,null,null,{"$f":"IFERROR(VLOOKUP(K1508,股價!A:B,2,0)*M1508,\"\")","v":""},{"$f":"IF(O1508=\"\",\"\",RANK(O1508,$O$2:$O$1000))","v":""}]
["1314 中石化","摩根梵市場股    摩根梵市場股",49367,"美商摩根大通銀行台北分行受託保管梵加德集團公司經理之梵加德新興市場股票指數基金投資專戶",null,null,null,null,null,null,null,null,null,null,{"$f":"IFERROR(VLOOKUP(K1509,股價!A:B,2,0)*M1509,\"\")","v":""},{"$f":"IF(O1509=\"\",\"\",RANK(O1509,$O$2:$O$1000))","v":""}]
["1314 中石化","潘文炎          潘文炎",0,"潘文炎",null,null,null,null,null,null,null,null,null,null,{"$f":"IFERROR(VLOOKUP(K1510,股價!A:B,2,0)*M1510,\"\")","v":""},{"$f":"IF(O1510=\"\",\"\",RANK(O1510,$O$2:$O$1000))","v":""}]
["1314 中石化","蔣永寵          蔣永寵",0,"蔣永寵",null,null,null,null,null,null,null,null,null,null,{"$f":"IFERROR(VLOOKUP(K1511,股價!A:B,2,0)*M1511,\"\")","v":""},{"$f":"IF(O1511=\"\",\"\",RANK(O1511,$O$2:$O$1000))","v":""}]
["1314 中石化","蔡文智          蔡文智",10,"蔡文智",null,null,null,null,null,null,null,null,null,null,{"$f":"IFERROR(VLOOKUP(K1512,股價!A:B,2,0)*M1512,\"\")","v":""},{"$f":"IF(O1512=\"\",\"\",RANK(O1512,$O$2:$O$1000))","v":""}]
["1314 中石化","蔡超元          蔡超元",160,"蔡超元",null,null,null,null,null,null,null,null,null,null,{"$f":"IFERROR(VLOOKUP(K1513,股價!A:B,2,0)*M1513,\"\")","v":""},{"$f":"IF(O1513=\"\",\"\",RANK(O1513,$O$2:$O$1000))","v":""}]
["1314 中石化","蔡練生          蔡練生",0,"蔡練生",null,null,null,null,null,null,null,null,null,null,{"$f":"IFERROR(VLOOKUP(K1514,股價!A:B,2,0)*M1514,\"\")","v":""},{"$f":"IF(O1514=\"\",\"\",RANK(O1514,$O$2:$O$1000))","v":""}]
["1314 中石化","蔡珈緯          蔡珈緯",67,"蔡珈緯",null,null,null,null,null,null,null,null,null,null,{"$f":"IFERROR(VLOOKUP(K1515,股價!A:B,2,0)*M1515,\"\")","v":""},{"$f":"IF(O1515=\"\",\"\",RANK(O1515,$O$2:$O$1000))","v":""}]
["1314 中石化","鄭榮文          鄭榮文",30,"鄭榮文",null,null,null,null,null,null,null,null,null,null,{"$f":"IFERROR(VLOOKUP(K1516,股價!A:B,2,0)*M1516,\"\")","v":""},{"$f":"IF(O1516=\"\",\"\",RANK(O1516,$O$2:$O$1000))","v":""}]
["1314 中石化","簡芳模          簡芳模",74,"簡芳模",null,null,null,null,null,null,null,null,null,null,{"$f":"IFERROR(VLOOKUP(K1517,股價!A:B,2,0)*M1517,\"\")","v":""},{"$f":"IF(O1517=\"\",\"\",RANK(O1517,$O$2:$O$1000))","v":""}]
["1314 中石化","簡彰宏          簡彰宏",0,"簡彰宏",null,null,null,null,null,null,null,null,null,null,{"$f":"IFERROR(VLOOKUP(K1518,股價!A:B,2,0)*M1518,\"\")","v":""},{"$f":"IF(O1518=\"\",\"\",RANK(O1518,$O$2:$O$1000))","v":""}]
["1314 中石化","簡寬德          簡寬德",50,"簡寬德",null,null,null,null,null,null,null,null,null,null,{"$f":"IFERROR(VLOOKUP(K1519,股價!A:B,2,0)*M1519,\"\")","v":""},{"$f":"IF(O1519=\"\",\"\",RANK(O1519,$O$2:$O$1000))","v":""}]
["1314 中石化","耀群(有)        沈輝庭",449,"耀群有限公司",null,null,null,null,null,null,null,null,null,null,{"$f":"IFERROR(VLOOKUP(K1520,股價!A:B,2,0)*M1520,\"\")","v":""},{"$f":"IF(O1520=\"\",\"\",RANK(O1520,$O$2:$O$1000))","v":""}]
["1314 中石化","蓁輝股份有限公司白俊男",21797,"蓁輝股份有限公司",null,null,null,null,null,null,null,null,null,null,{"$f":"IFERROR(VLOOKUP(K1521,股價!A:B,2,0)*M1521,\"\")","v":""},{"$f":"IF(O1521=\"\",\"\",RANK(O1521,$O$2:$O$1000))","v":""}]
["1315 達新","_大股東合計1",10075,null,null,null,null,null,null,null,null,null,null,null,{"$f":"IFERROR(VLOOKUP(K1522,股價!A:B,2,0)*M1522,\"\")","v":""},{"$f":"IF(O1522=\"\",\"\",RANK(O1522,$O$2:$O$1000))","v":""}]
["1315 達新","_大股東合計2    含沿用資料",31064,null,null,null,null,null,null,null,null,null,null,null,{"$f":"IFERROR(VLOOKUP(K1523,股價!A:B,2,0)*M1523,\"\")","v":""},{"$f":"IF(O1523=\"\",\"\",RANK(O1523,$O$2:$O$1000))","v":""}]
["1315 達新","_經理人合計",345,null,null,null,null,null,null,null,null,null,null,null,{"$f":"IFERROR(VLOOKUP(K1524,股價!A:B,2,0)*M1524,\"\")","v":""},{"$f":"IF(O1524=\"\",\"\",RANK(O1524,$O$2:$O$1000))","v":""}]
["1315 達新","_董  事合計",15652,null,null,null,null,null,null,null,null,null,null,null,{"$f":"IFERROR(VLOOKUP(K1525,股價!A:B,2,0)*M1525,\"\")","v":""},{"$f":"IF(O1525=\"\",\"\",RANK(O1525,$O$2:$O$1000))","v":""}]
["1315 達新","_董監事合計",15652,null,null,null,null,null,null,null,null,null,null,null,{"$f":"IFERROR(VLOOKUP(K1526,股價!A:B,2,0)*M1526,\"\")","v":""},{"$f":"IF(O1526=\"\",\"\",RANK(O1526,$O$2:$O$1000))","v":""}]
["1315 達新","_監察人合計",0,null,null,null,null,null,null,null,null,null,null,null,{"$f":"IFERROR(VLOOKUP(K1527,股價!A:B,2,0)*M1527,\"\")","v":""},{"$f":"IF(O1527=\"\",\"\",RANK(O1527,$O$2:$O$1000))","v":""}]
["1315 達新","平芳投資(股)    柳萬成",1902,"平芳投資股份有限公司",null,null,null,null,null,null,null,null,null,null,{"$f":"IFERROR(VLOOKUP(K1528,股價!A:B,2,0)*M1528,\"\")","v":""},{"$f":"IF(O1528=\"\",\"\",RANK(O1528,$O$2:$O$1000))","v":""}]
["1315 達新","吳子聰          吳子聰",333,"吳子聰",null,null,null,null,null,null,null,null,null,null,{"$f":"IFERROR(VLOOKUP(K1529,股價!A:B,2,0)*M1529,\"\")","v":""},{"$f":"IF(O1529=\"\",\"\",RANK(O1529,$O$2:$O$1000))","v":""}]
["1315 達新","林克武          林克武",0,"林克武",null,null,null,null,null,null,null,null,null,null,{"$f":"IFERROR(VLOOKUP(K1530,股價!A:B,2,0)*M1530,\"\")","v":""},{"$f":"IF(O1530=\"\",\"\",RANK(O1530,$O$2:$O$1000))","v":""}]
["1315 達新","長彩實業(股)    胡柏聰",9000,"長彩實業",null,null,null,null,null,null,null,null,null,null,{"$f":"IFERROR(VLOOKUP(K1531,股價!A:B,2,0)*M1531,\"\")","v":""},{"$f":"IF(O1531=\"\",\"\",RANK(O1531,$O$2:$O$1000))","v":""}]
["1315 達新","柳萬成          柳萬成",575,"柳萬成",null,null,null,null,null,null,null,null,null,null,{"$f":"IFERROR(VLOOKUP(K1532,股價!A:B,2,0)*M1532,\"\")","v":""},{"$f":"IF(O1532=\"\",\"\",RANK(O1532,$O$2:$O$1000))","v":""}]
["1315 達新","胡伯毅          胡伯毅",1701,"胡伯毅",null,null,null,null,null,null,null,null,null,null,{"$f":"IFERROR(VLOOKUP(K1533,股價!A:B,2,0)*M1533,\"\")","v":""},{"$f":"IF(O1533=\"\",\"\",RANK(O1533,$O$2:$O$1000))","v":""}]
["1315 達新","胡柏墩          胡柏墩",4,"胡柏墩",null,null,null,null,null,null,null,null,null,null,{"$f":"IFERROR(VLOOKUP(K1534,股價!A:B,2,0)*M1534,\"\")","v":""},{"$f":"IF(O1534=\"\",\"\",RANK(O1534,$O$2:$O$1000))","v":""}]
["1315 達新","胡柏聰          胡柏聰",2,"胡柏聰",null,null,null,null,null,null,null,null,null,null,{"$f":"IFERROR(VLOOKUP(K1535,股價!A:B,2,0)*M1535,\"\")","v":""},{"$f":"IF(O1535=\"\",\"\",RANK(O1535,$O$2:$O$1000))","v":""}]
["1315 達新","胡純如          胡純如",2083,"胡純如",null,null,null,null,null,null,null,null,null,null,{"$f":"IFERROR(VLOOKUP(K1536,股價!A:B,2,0)*M1536,\"\")","v":""},{"$f":"IF(O1536=\"\",\"\",RANK(O1536,$O$2:$O$1000))","v":""}]
["1315 達新","陳以千          陳以千",0,"陳以千",null,null,null,null,null,null,null,null,null,null,{"$f":"IFERROR(VLOOKUP(K1537,股價!A:B,2,0)*M1537,\"\")","v":""},{"$f":"IF(O1537=\"\",\"\",RANK(O1537,$O$2:$O$1000))","v":""}]
["1315 達新","陳明哲          陳明哲",0,"陳明哲",null,null,null,null,null,null,null,null,null,null,{"$f":"IFERROR(VLOOKUP(K1538,股價!A:B,2,0)*M1538,\"\")","v":""},{"$f":"IF(O1538=\"\",\"\",RANK(O1538,$O$2:$O$1000))","v":""}]
["1315 達新","黃俊嘉          黃俊嘉",0,"黃俊嘉",null,null,null,null,null,null,null,null,null,null,{"$f":"IFERROR(VLOOKUP(K1539,股價!A:B,2,0)*M1539,\"\")","v":""},{"$f":"IF(O1539=\"\",\"\",RANK(O1539,$O$2:$O$1000))","v":""}]
["1315 達新","楊國樞          楊國樞",0,"楊國樞",null,null,null,null,null,null,null,null,null,null,{"$f":"IFERROR(VLOOKUP(K1540,股價!A:B,2,0)*M1540,\"\")","v":""},{"$f":"IF(O1540=\"\",\"\",RANK(O1540,$O$2:$O$1000))","v":""}]
["1315 達新","楊德旺          楊德旺",0,"楊德旺",null,null,null,null,null,null,null,null,null,null,{"$f":"IFERROR(VLOOKUP(K1541,股價!A:B,2,0)*M1541,\"\")","v":""},{"$f":"IF(O1541=\"\",\"\",RANK(O1541,$O$2:$O$1000))","v":""}]
["1315 達新","達發投資(股)    胡伯毅",3572,"達發投資",null,null,null,null,null,null,null,null,null,null,{"$f":"IFERROR(VLOOKUP(K1542,股價!A:B,2,0)*M1542,\"\")","v":""},{"$f":"IF(O1542=\"\",\"\",RANK(O1542,$O$2:$O$1000))","v":""}]
["1315 達新","達新昌投資(股)  胡柏墩",2547,"達新昌投資",null,null,null,null,null,null,null,null,null,null,{"$f":"IFERROR(VLOOKUP(K1543,股價!A:B,2,0)*M1543,\"\")","v":""},{"$f":"IF(O1543=\"\",\"\",RANK(O1543,$O$2:$O$1000))","v":""}]
["1315 達新","達誠投資(股)    胡伯毅",4000,"達誠投資",null,null,null,null,null,null,null,null,null,null,{"$f":"IFERROR(VLOOKUP(K1544,股價!A:B,2,0)*M1544,\"\")","v":""},{"$f":"IF(O1544=\"\",\"\",RANK(O1544,$O$2:$O$1000))","v":""}]
["1315 達新","達權投資(股)    吳子聰",9500,"達權投資",null,null,null,null,null,null,null,null,null,null,{"$f":"IFERROR(VLOOKUP(K1545,股價!A:B,2,0)*M1545,\"\")","v":""},{"$f":"IF(O1545=\"\",\"\",RANK(O1545,$O$2:$O$1000))","v":""}]
["1315 達新","達昶投資(股)    達昶投資(股)",10075,"達昶投資",null,null,null,null,null,null,null,null,null,null,{"$f":"IFERROR(VLOOKUP(K1546,股價!A:B,2,0)*M1546,\"\")","v":""},{"$f":"IF(O1546=\"\",\"\",RANK(O1546,$O$2:$O$1000))","v":""}]
["1315 達新","劉基輝          劉基輝",0,"劉基輝",null,null,null,null,null,null,null,null,null,null,{"$f":"IFERROR(VLOOKUP(K1547,股價!A:B,2,0)*M1547,\"\")","v":""},{"$f":"IF(O1547=\"\",\"\",RANK(O1547,$O$2:$O$1000))","v":""}]
["1315 達新","賴耿民          賴耿民",12,"賴耿民",null,null,null,null,null,null,null,null,null,null,{"$f":"IFERROR(VLOOKUP(K1548,股價!A:B,2,0)*M1548,\"\")","v":""},{"$f":"IF(O1548=\"\",\"\",RANK(O1548,$O$2:$O$1000))","v":""}]
["1315 達新","鑫昌興投資(股)  胡柏墩",2334,"鑫昌興投資",null,null,null,null,null,null,null,null,null,null,{"$f":"IFERROR(VLOOKUP(K1549,股價!A:B,2,0)*M1549,\"\")","v":""},{"$f":"IF(O1549=\"\",\"\",RANK(O1549,$O$2:$O$1000))","v":""}]
["1316 上曜","_大股東合計1",0,null,null,null,null,null,null,null,null,null,null,null,{"$f":"IFERROR(VLOOKUP(K1550,股價!A:B,2,0)*M1550,\"\")","v":""},{"$f":"IF(O1550=\"\",\"\",RANK(O1550,$O$2:$O$1000))","v":""}]
["1316 上曜","_大股東合計2    含沿用資料",47060,null,null,null,null,null,null,null,null,null,null,null,{"$f":"IFERROR(VLOOKUP(K1551,股價!A:B,2,0)*M1551,\"\")","v":""},{"$f":"IF(O1551=\"\",\"\",RANK(O1551,$O$2:$O$1000))","v":""}]
["1316 上曜","_經理人合計",2333,null,null,null,null,null,null,null,null,null,null,null,{"$f":"IFERROR(VLOOKUP(K1552,股價!A:B,2,0)*M1552,\"\")","v":""},{"$f":"IF(O1552=\"\",\"\",RANK(O1552,$O$2:$O$1000))","v":""}]
["1316 上曜","_董  事合計",19762,null,null,null,null,null,null,null,null,null,null,null,{"$f":"IFERROR(VLOOKUP(K1553,股價!A:B,2,0)*M1553,\"\")","v":""},{"$f":"IF(O1553=\"\",\"\",RANK(O1553,$O$2:$O$1000))","v":""}]
["1316 上曜","_董監事合計",19762,null,null,null,null,null,null,null,null,null,null,null,{"$f":"IFERROR(VLOOKUP(K1554,股價!A:B,2,0)*M1554,\"\")","v":""},{"$f":"IF(O1554=\"\",\"\",RANK(O1554,$O$2:$O$1000))","v":""}]
["1316 上曜","_監察人合計",0,null,null,null,null,null,null,null,null,null,null,null,{"$f":"IFERROR(VLOOKUP(K1555,股價!A:B,2,0)*M1555,\"\")","v":""},{"$f":"IF(O1555=\"\",\"\",RANK(O1555,$O$2:$O$1000))","v":""}]
["1316 上曜","大都會網路科(股)李東洪",121,"大都會網路科技",null,null,null,null,null,null,null,null,null,null,{"$f":"IFERROR(VLOOKUP(K1556,股價!A:B,2,0)*M1556,\"\")","v":""},{"$f":"IF(O1556=\"\",\"\",RANK(O1556,$O$2:$O$1000))","v":""}]
["1316 上曜","中清科技(股)    張碩文",19134,"中清科技",null,null,null,null,null,null,null,null,null,null,{"$f":"IFERROR(VLOOKUP(K1557,股價!A:B,2,0)*M1557,\"\")","v":""},{"$f":"IF(O1557=\"\",\"\",RANK(O1557,$O$2:$O$1000))","v":""}]
["1316 上曜","永捷創新科技(股)曾鵬光",17023,"永捷創新科技",null,null,null,null,null,null,null,null,null,null,{"$f":"IFERROR(VLOOKUP(K1558,股價!A:B,2,0)*M1558,\"\")","v":""},{"$f":"IF(O1558=\"\",\"\",RANK(O1558,$O$2:$O$1000))","v":""}]
["1316 上曜","李東洪          李東洪",148,"李東洪",null,null,null,null,null,null,null,null,null,null,{"$f":"IFERROR(VLOOKUP(K1559,股價!A:B,2,0)*M1559,\"\")","v":""},{"$f":"IF(O1559=\"\",\"\",RANK(O1559,$O$2:$O$1000))","v":""}]
["1316 上曜","和瑞投資(有)    和瑞投資(有)",5943,"和瑞投資",null,null,null,null,null,null,null,null,null,null,{"$f":"IFERROR(VLOOKUP(K1560,股價!A:B,2,0)*M1560,\"\")","v":""},{"$f":"IF(O1560=\"\",\"\",RANK(O1560,$O$2:$O$1000))","v":""}]
["1316 上曜","勁弘(有)        張祐銘",2618,"勁弘",null,null,null,null,null,null,null,null,null,null,{"$f":"IFERROR(VLOOKUP(K1561,股價!A:B,2,0)*M1561,\"\")","v":""},{"$f":"IF(O1561=\"\",\"\",RANK(O1561,$O$2:$O$1000))","v":""}]
["1316 上曜","洪肯堂          洪肯堂",4151,"洪肯堂",null,null,null,null,null,null,null,null,null,null,{"$f":"IFERROR(VLOOKUP(K1562,股價!A:B,2,0)*M1562,\"\")","v":""},{"$f":"IF(O1562=\"\",\"\",RANK(O1562,$O$2:$O$1000))","v":""}]
["1316 上曜","胡利源          胡利源",0,"胡利源",null,null,null,null,null,null,null,null,null,null,{"$f":"IFERROR(VLOOKUP(K1563,股價!A:B,2,0)*M1563,\"\")","v":""},{"$f":"IF(O1563=\"\",\"\",RANK(O1563,$O$2:$O$1000))","v":""}]
["1316 上曜","張祐銘          張祐銘",2323,"張祐銘",null,null,null,null,null,null,null,null,null,null,{"$f":"IFERROR(VLOOKUP(K1564,股價!A:B,2,0)*M1564,\"\")","v":""},{"$f":"IF(O1564=\"\",\"\",RANK(O1564,$O$2:$O$1000))","v":""}]
["1316 上曜","張謝家家        張謝家家",0,"張謝家家",null,null,null,null,null,null,null,null,null,null,{"$f":"IFERROR(VLOOKUP(K1565,股價!A:B,2,0)*M1565,\"\")","v":""},{"$f":"IF(O1565=\"\",\"\",RANK(O1565,$O$2:$O$1000))","v":""}]
["1316 上曜","啟航投資(有)    啟航投資(有)",11907,"啟航投資",null,null,null,null,null,null,null,null,null,null,{"$f":"IFERROR(VLOOKUP(K1566,股價!A:B,2,0)*M1566,\"\")","v":""},{"$f":"IF(O1566=\"\",\"\",RANK(O1566,$O$2:$O$1000))","v":""}]
["1316 上曜","郭育政          郭育政",10,"郭育政",null,null,null,null,null,null,null,null,null,null,{"$f":"IFERROR(VLOOKUP(K1567,股價!A:B,2,0)*M1567,\"\")","v":""},{"$f":"IF(O1567=\"\",\"\",RANK(O1567,$O$2:$O$1000))","v":""}]
["1316 上曜","陳進隆          陳進隆",2020,"陳進隆",null,null,null,null,null,null,null,null,null,null,{"$f":"IFERROR(VLOOKUP(K1568,股價!A:B,2,0)*M1568,\"\")","v":""},{"$f":"IF(O1568=\"\",\"\",RANK(O1568,$O$2:$O$1000))","v":""}]
["1316 上曜","陳雅琴          陳雅琴",2106,"陳雅琴",null,null,null,null,null,null,null,null,null,null,{"$f":"IFERROR(VLOOKUP(K1569,股價!A:B,2,0)*M1569,\"\")","v":""},{"$f":"IF(O1569=\"\",\"\",RANK(O1569,$O$2:$O$1000))","v":""}]
["1316 上曜","斐成企業(股)    斐成企業(股)",1799,"斐成企業",null,null,null,null,null,null,null,null,null,null,{"$f":"IFERROR(VLOOKUP(K1570,股價!A:B,2,0)*M1570,\"\")","v":""},{"$f":"IF(O1570=\"\",\"\",RANK(O1570,$O$2:$O$1000))","v":""}]
["1316 上曜","曾鵬光          曾鵬光",0,"曾鵬光",null,null,null,null,null,null,null,null,null,null,{"$f":"IFERROR(VLOOKUP(K1571,股價!A:B,2,0)*M1571,\"\")","v":""},{"$f":"IF(O1571=\"\",\"\",RANK(O1571,$O$2:$O$1000))","v":""}]
["1316 上曜","葉鳳樺          葉鳳樺",0,"葉鳳樺",null,null,null,null,null,null,null,null,null,null,{"$f":"IFERROR(VLOOKUP(K1572,股價!A:B,2,0)*M1572,\"\")","v":""},{"$f":"IF(O1572=\"\",\"\",RANK(O1572,$O$2:$O$1000))","v":""}]
["1319 東陽","_大股東合計1",0,null,null,null,null,null,null,null,null,null,null,null,{"$f":"IFERROR(VLOOKUP(K1573,股價!A:B,2,0)*M1573,\"\")","v":""},{"$f":"IF(O1573=\"\",\"\",RANK(O1573,$O$2:$O$1000))","v":""}]
["1319 東陽","_大股東合計2    含沿用資料",128183,null,null,null,null,null,null,null,null,null,null,null,{"$f":"IFERROR(VLOOKUP(K1574,股價!A:B,2,0)*M1574,\"\")","v":""},{"$f":"IF(O1574=\"\",\"\",RANK(O1574,$O$2:$O$1000))","v":""}]
["1319 東陽","_經理人合計",6235,null,null,null,null,null,null,null,null,null,null,null,{"$f":"IFERROR(VLOOKUP(K1575,股價!A:B,2,0)*M1575,\"\")","v":""},{"$f":"IF(O1575=\"\",\"\",RANK(O1575,$O$2:$O$1000))","v":""}]
["1319 東陽","_董  事合計",108725,null,null,null,null,null,null,null,null,null,null,null,{"$f":"IFERROR(VLOOKUP(K1576,股價!A:B,2,0)*M1576,\"\")","v":""},{"$f":"IF(O1576=\"\",\"\",RANK(O1576,$O$2:$O$1000))","v":""}]
["1319 東陽","_董監事合計",108725,null,null,null,null,null,null,null,null,null,null,null,{"$f":"IFERROR(VLOOKUP(K1577,股價!A:B,2,0)*M1577,\"\")","v":""},{"$f":"IF(O1577=\"\",\"\",RANK(O1577,$O$2:$O$1000))","v":""}]
["1319 東陽","_監察人合計",0,null,null,null,null,null,null,null,null,null,null,null,{"$f":"IFERROR(VLOOKUP(K1578,股價!A:B,2,0)*M1578,\"\")","v":""},{"$f":"IF(O1578=\"\",\"\",RANK(O1578,$O$2:$O$1000))","v":""}]
["1319 東陽","王麒斌          王麒斌",137,"王麒斌",null,null,null,null,null,null,null,null,null,null,{"$f":"IFERROR(VLOOKUP(K1579,股價!A:B,2,0)*M1579,\"\")","v":""},{"$f":"IF(O1579=\"\",\"\",RANK(O1579,$O$2:$O$1000))","v":""}]
["1319 東陽","永茂盛投資(股)  永茂盛投資(",14327,"永茂盛投資股份有限公司",null,null,null,null,null,null,null,null,null,null,{"$f":"IFERROR(VLOOKUP(K1580,股價!A:B,2,0)*M1580,\"\")","v":""},{"$f":"IF(O1580=\"\",\"\",RANK(O1580,$O$2:$O$1000))","v":""}]
["1319 東陽","永祥瑞投資(股)  永祥瑞投資(",13767,"永祥瑞投資股份有限公司",null,null,null,null,null,null,null,null,null,null,{"$f":"IFERROR(VLOOKUP(K1581,股價!A:B,2,0)*M1581,\"\")","v":""},{"$f":"IF(O1581=\"\",\"\",RANK(O1581,$O$2:$O$1000))","v":""}]
["1319 東陽","永豐康投資(股)  永豐康投資(",14929,"永豐康投資股份有限公司",null,null,null,null,null,null,null,null,null,null,{"$f":"IFERROR(VLOOKUP(K1582,股價!A:B,2,0)*M1582,\"\")","v":""},{"$f":"IF(O1582=\"\",\"\",RANK(O1582,$O$2:$O$1000))","v":""}]
["1319 東陽","石國雄          石國雄",0,"石國雄",null,null,null,null,null,null,null,null,null,null,{"$f":"IFERROR(VLOOKUP(K1583,股價!A:B,2,0)*M1583,\"\")","v":""},{"$f":"IF(O1583=\"\",\"\",RANK(O1583,$O$2:$O$1000))","v":""}]
["1319 東陽","吳永茂          吳永茂",38007,"吳永茂",null,null,null,null,null,null,null,null,null,null,{"$f":"IFERROR(VLOOKUP(K1584,股價!A:B,2,0)*M1584,\"\")","v":""},{"$f":"IF(O1584=\"\",\"\",RANK(O1584,$O$2:$O$1000))","v":""}]
["1319 東陽","吳永祥          吳永祥",33904,"吳永祥",null,null,null,null,null,null,null,null,null,null,{"$f":"IFERROR(VLOOKUP(K1585,股價!A:B,2,0)*M1585,\"\")","v":""},{"$f":"IF(O1585=\"\",\"\",RANK(O1585,$O$2:$O$1000))","v":""}]
["1319 東陽","吳永豐          吳永豐",36677,"吳永豐",null,null,null,null,null,null,null,null,null,null,{"$f":"IFERROR(VLOOKUP(K1586,股價!A:B,2,0)*M1586,\"\")","v":""},{"$f":"IF(O1586=\"\",\"\",RANK(O1586,$O$2:$O$1000))","v":""}]
["1319 東陽","吳明龍          吳明龍",0,"吳明龍",null,null,null,null,null,null,null,null,null,null,{"$f":"IFERROR(VLOOKUP(K1587,股價!A:B,2,0)*M1587,\"\")","v":""},{"$f":"IF(O1587=\"\",\"\",RANK(O1587,$O$2:$O$1000))","v":""}]
["1319 東陽","吳明聰          吳明聰",6086,"吳明聰",null,null,null,null,null,null,null,null,null,null,{"$f":"IFERROR(VLOOKUP(K1588,股價!A:B,2,0)*M1588,\"\")","v":""},{"$f":"IF(O1588=\"\",\"\",RANK(O1588,$O$2:$O$1000))","v":""}]
["1319 東陽","吳淑珍          吳淑珍",1,"吳淑珍",null,null,null,null,null,null,null,null,null,null,{"$f":"IFERROR(VLOOKUP(K1589,股價!A:B,2,0)*M1589,\"\")","v":""},{"$f":"IF(O1589=\"\",\"\",RANK(O1589,$O$2:$O$1000))","v":""}]
["1319 東陽","宏陽投資(股)    吳永豐",29462,"宏陽投資",null,null,null,null,null,null,null,null,null,null,{"$f":"IFERROR(VLOOKUP(K1590,股價!A:B,2,0)*M1590,\"\")","v":""},{"$f":"IF(O1590=\"\",\"\",RANK(O1590,$O$2:$O$1000))","v":""}]
["1319 東陽","林幹雄          林幹雄",0,"林幹雄",null,null,null,null,null,null,null,null,null,null,{"$f":"IFERROR(VLOOKUP(K1591,股價!A:B,2,0)*M1591,\"\")","v":""},{"$f":"IF(O1591=\"\",\"\",RANK(O1591,$O$2:$O$1000))","v":""}]
["1319 東陽","欣陽投資(股)    吳永豐",27133,"欣陽投資",null,null,null,null,null,null,null,null,null,null,{"$f":"IFERROR(VLOOKUP(K1592,股價!A:B,2,0)*M1592,\"\")","v":""},{"$f":"IF(O1592=\"\",\"\",RANK(O1592,$O$2:$O$1000))","v":""}]
["1319 東陽","南山人壽保險(股)陳棠",12841,"南山人壽保險",null,null,null,null,null,null,null,null,null,null,{"$f":"IFERROR(VLOOKUP(K1593,股價!A:B,2,0)*M1593,\"\")","v":""},{"$f":"IF(O1593=\"\",\"\",RANK(O1593,$O$2:$O$1000))","v":""}]
["1319 東陽","孫東照          孫東照",0,"孫東照",null,null,null,null,null,null,null,null,null,null,{"$f":"IFERROR(VLOOKUP(K1594,股價!A:B,2,0)*M1594,\"\")","v":""},{"$f":"IF(O1594=\"\",\"\",RANK(O1594,$O$2:$O$1000))","v":""}]
["1319 東陽","郭東裕          郭東裕",0,"郭東裕",null,null,null,null,null,null,null,null,null,null,{"$f":"IFERROR(VLOOKUP(K1595,股價!A:B,2,0)*M1595,\"\")","v":""},{"$f":"IF(O1595=\"\",\"\",RANK(O1595,$O$2:$O$1000))","v":""}]
["1319 東陽","陳金錫          陳金錫",1,"陳金錫",null,null,null,null,null,null,null,null,null,null,{"$f":"IFERROR(VLOOKUP(K1596,股價!A:B,2,0)*M1596,\"\")","v":""},{"$f":"IF(O1596=\"\",\"\",RANK(O1596,$O$2:$O$1000))","v":""}]
["1319 東陽","陳祖雄          陳祖雄",147,"陳祖雄",null,null,null,null,null,null,null,null,null,null,{"$f":"IFERROR(VLOOKUP(K1597,股價!A:B,2,0)*M1597,\"\")","v":""},{"$f":"IF(O1597=\"\",\"\",RANK(O1597,$O$2:$O$1000))","v":""}]
["1319 東陽","黃士銘          黃士銘",0,"黃士銘",null,null,null,null,null,null,null,null,null,null,{"$f":"IFERROR(VLOOKUP(K1598,股價!A:B,2,0)*M1598,\"\")","v":""},{"$f":"IF(O1598=\"\",\"\",RANK(O1598,$O$2:$O$1000))","v":""}]
["1319 東陽","楊明河          楊明河",0,"楊明河",null,null,null,null,null,null,null,null,null,null,{"$f":"IFERROR(VLOOKUP(K1599,股價!A:B,2,0)*M1599,\"\")","v":""},{"$f":"IF(O1599=\"\",\"\",RANK(O1599,$O$2:$O$1000))","v":""}]
["1319 東陽","瑞成投資股份有限吳金寶",15724,"瑞成投資股份有限公司",null,null,null,null,null,null,null,null,null,null,{"$f":"IFERROR(VLOOKUP(K1600,股價!A:B,2,0)*M1600,\"\")","v":""},{"$f":"IF(O1600=\"\",\"\",RANK(O1600,$O$2:$O$1000))","v":""}]
["1319 東陽","蔡君山          蔡君山",0,"蔡君山",null,null,null,null,null,null,null,null,null,null,{"$f":"IFERROR(VLOOKUP(K1601,股價!A:B,2,0)*M1601,\"\")","v":""},{"$f":"IF(O1601=\"\",\"\",RANK(O1601,$O$2:$O$1000))","v":""}]
["1319 東陽","蔡明田          蔡明田",0,"蔡明田",null,null,null,null,null,null,null,null,null,null,{"$f":"IFERROR(VLOOKUP(K1602,股價!A:B,2,0)*M1602,\"\")","v":""},{"$f":"IF(O1602=\"\",\"\",RANK(O1602,$O$2:$O$1000))","v":""}]
["1319 東陽","鄭正勝          鄭正勝",0,"鄭正勝",null,null,null,null,null,null,null,null,null,null,{"$f":"IFERROR(VLOOKUP(K1603,股價!A:B,2,0)*M1603,\"\")","v":""},{"$f":"IF(O1603=\"\",\"\",RANK(O1603,$O$2:$O$1000))","v":""}]
["1319 東陽","鄭雁玲          鄭雁玲",0,"鄭雁玲",null,null,null,null,null,null,null,null,null,null,{"$f":"IFERROR(VLOOKUP(K1604,股價!A:B,2,0)*M1604,\"\")","v":""},{"$f":"IF(O1604=\"\",\"\",RANK(O1604,$O$2:$O$1000))","v":""}]
["1319 東陽","戴安國          戴安國",0,"戴安國",null,null,null,null,null,null,null,null,null,null,{"$f":"IFERROR(VLOOKUP(K1605,股價!A:B,2,0)*M1605,\"\")","v":""},{"$f":"IF(O1605=\"\",\"\",RANK(O1605,$O$2:$O$1000))","v":""}]
["1321 大洋","_大股東合計1",0,null,null,null,null,null,null,null,null,null,null,null,{"$f":"IFERROR(VLOOKUP(K1606,股價!A:B,2,0)*M1606,\"\")","v":""},{"$f":"IF(O1606=\"\",\"\",RANK(O1606,$O$2:$O$1000))","v":""}]
["1321 大洋","_大股東合計2    含沿用資料",52601,null,null,null,null,null,null,null,null,null,null,null,{"$f":"IFERROR(VLOOKUP(K1607,股價!A:B,2,0)*M1607,\"\")","v":""},{"$f":"IF(O1607=\"\",\"\",RANK(O1607,$O$2:$O$1000))","v":""}]
["1321 大洋","_經理人合計",90,null,null,null,null,null,null,null,null,null,null,null,{"$f":"IFERROR(VLOOKUP(K1608,股價!A:B,2,0)*M1608,\"\")","v":""},{"$f":"IF(O1608=\"\",\"\",RANK(O1608,$O$2:$O$1000))","v":""}]
["1321 大洋","_董  事合計",13376,null,null,null,null,null,null,null,null,null,null,null,{"$f":"IFERROR(VLOOKUP(K1609,股價!A:B,2,0)*M1609,\"\")","v":""},{"$f":"IF(O1609=\"\",\"\",RANK(O1609,$O$2:$O$1000))","v":""}]
["1321 大洋","_董監事合計",13376,null,null,null,null,null,null,null,null,null,null,null,{"$f":"IFERROR(VLOOKUP(K1610,股價!A:B,2,0)*M1610,\"\")","v":""},{"$f":"IF(O1610=\"\",\"\",RANK(O1610,$O$2:$O$1000))","v":""}]
["1321 大洋","_監察人合計",0,null,null,null,null,null,null,null,null,null,null,null,{"$f":"IFERROR(VLOOKUP(K1611,股價!A:B,2,0)*M1611,\"\")","v":""},{"$f":"IF(O1611=\"\",\"\",RANK(O1611,$O$2:$O$1000))","v":""}]
["1321 大洋","三商美邦人壽保險三商美邦人壽",8178,"三商美邦人壽保險",null,null,null,null,null,null,null,null,null,null,{"$f":"IFERROR(VLOOKUP(K1612,股價!A:B,2,0)*M1612,\"\")","v":""},{"$f":"IF(O1612=\"\",\"\",RANK(O1612,$O$2:$O$1000))","v":""}]
["1321 大洋","王海倫          王海倫",0,"王海倫",null,null,null,null,null,null,null,null,null,null,{"$f":"IFERROR(VLOOKUP(K1613,股價!A:B,2,0)*M1613,\"\")","v":""},{"$f":"IF(O1613=\"\",\"\",RANK(O1613,$O$2:$O$1000))","v":""}]
["1321 大洋","王逸鶴          王逸鶴",89,"王逸鶴",null,null,null,null,null,null,null,null,null,null,{"$f":"IFERROR(VLOOKUP(K1614,股價!A:B,2,0)*M1614,\"\")","v":""},{"$f":"IF(O1614=\"\",\"\",RANK(O1614,$O$2:$O$1000))","v":""}]
["1321 大洋","北訊實業股份有限葉文宏",6797,"北訊實業股份有限公司",null,null,null,null,null,null,null,null,null,null,{"$f":"IFERROR(VLOOKUP(K1615,股價!A:B,2,0)*M1615,\"\")","v":""},{"$f":"IF(O1615=\"\",\"\",RANK(O1615,$O$2:$O$1000))","v":""}]
["1321 大洋","立象興業(股)    朱宗彬",310,"立象興業",null,null,null,null,null,null,null,null,null,null,{"$f":"IFERROR(VLOOKUP(K1616,股價!A:B,2,0)*M1616,\"\")","v":""},{"$f":"IF(O1616=\"\",\"\",RANK(O1616,$O$2:$O$1000))","v":""}]
["1321 大洋","朱宗彬          朱宗彬",25,"朱宗彬",null,null,null,null,null,null,null,null,null,null,{"$f":"IFERROR(VLOOKUP(K1617,股價!A:B,2,0)*M1617,\"\")","v":""},{"$f":"IF(O1617=\"\",\"\",RANK(O1617,$O$2:$O$1000))","v":""}]
["1321 大洋","沈詔斌          沈詔斌",1,"沈詔斌",null,null,null,null,null,null,null,null,null,null,{"$f":"IFERROR(VLOOKUP(K1618,股價!A:B,2,0)*M1618,\"\")","v":""},{"$f":"IF(O1618=\"\",\"\",RANK(O1618,$O$2:$O$1000))","v":""}]
["1321 大洋","旺旺食品(股)    洪永聰",2977,"旺旺食品",null,null,null,null,null,null,null,null,null,null,{"$f":"IFERROR(VLOOKUP(K1619,股價!A:B,2,0)*M1619,\"\")","v":""},{"$f":"IF(O1619=\"\",\"\",RANK(O1619,$O$2:$O$1000))","v":""}]
["1321 大洋","邱俊福          邱俊福",0,"邱俊福",null,null,null,null,null,null,null,null,null,null,{"$f":"IFERROR(VLOOKUP(K1620,股價!A:B,2,0)*M1620,\"\")","v":""},{"$f":"IF(O1620=\"\",\"\",RANK(O1620,$O$2:$O$1000))","v":""}]
["1321 大洋","侯明利          侯明利",0,"侯明利",null,null,null,null,null,null,null,null,null,null,{"$f":"IFERROR(VLOOKUP(K1621,股價!A:B,2,0)*M1621,\"\")","v":""},{"$f":"IF(O1621=\"\",\"\",RANK(O1621,$O$2:$O$1000))","v":""}]
["1321 大洋","洪永聰          洪永聰",50,"洪永聰",null,null,null,null,null,null,null,null,null,null,{"$f":"IFERROR(VLOOKUP(K1622,股價!A:B,2,0)*M1622,\"\")","v":""},{"$f":"IF(O1622=\"\",\"\",RANK(O1622,$O$2:$O$1000))","v":""}]
["1321 大洋","張懿云          張懿云",0,"張懿云",null,null,null,null,null,null,null,null,null,null,{"$f":"IFERROR(VLOOKUP(K1623,股價!A:B,2,0)*M1623,\"\")","v":""},{"$f":"IF(O1623=\"\",\"\",RANK(O1623,$O$2:$O$1000))","v":""}]
["1321 大洋","陳芳福          陳芳福",4767,"陳芳福",null,null,null,null,null,null,null,null,null,null,{"$f":"IFERROR(VLOOKUP(K1624,股價!A:B,2,0)*M1624,\"\")","v":""},{"$f":"IF(O1624=\"\",\"\",RANK(O1624,$O$2:$O$1000))","v":""}]
["1321 大洋","陳彥宏          陳彥宏",4957,"陳彥宏",null,null,null,null,null,null,null,null,null,null,{"$f":"IFERROR(VLOOKUP(K1625,股價!A:B,2,0)*M1625,\"\")","v":""},{"$f":"IF(O1625=\"\",\"\",RANK(O1625,$O$2:$O$1000))","v":""}]
["1321 大洋","陳惟龍          陳惟龍",0,"陳惟龍",null,null,null,null,null,null,null,null,null,null,{"$f":"IFERROR(VLOOKUP(K1626,股價!A:B,2,0)*M1626,\"\")","v":""},{"$f":"IF(O1626=\"\",\"\",RANK(O1626,$O$2:$O$1000))","v":""}]
["1321 大洋","陳欽元          陳欽元",5669,"陳欽元",null,null,null,null,null,null,null,null,null,null,{"$f":"IFERROR(VLOOKUP(K1627,股價!A:B,2,0)*M1627,\"\")","v":""},{"$f":"IF(O1627=\"\",\"\",RANK(O1627,$O$2:$O$1000))","v":""}]
["1321 大洋","陳欽明          陳欽明",4695,"陳欽明",null,null,null,null,null,null,null,null,null,null,{"$f":"IFERROR(VLOOKUP(K1628,股價!A:B,2,0)*M1628,\"\")","v":""},{"$f":"IF(O1628=\"\",\"\",RANK(O1628,$O$2:$O$1000))","v":""}]
["1321 大洋","陳欽雄          陳欽雄",3944,"陳欽雄",null,null,null,null,null,null,null,null,null,null,{"$f":"IFERROR(VLOOKUP(K1629,股價!A:B,2,0)*M1629,\"\")","v":""},{"$f":"IF(O1629=\"\",\"\",RANK(O1629,$O$2:$O$1000))","v":""}]
["1321 大洋","陳欽銓          陳欽銓",4359,"陳欽銓",null,null,null,null,null,null,null,null,null,null,{"$f":"IFERROR(VLOOKUP(K1630,股價!A:B,2,0)*M1630,\"\")","v":""},{"$f":"IF(O1630=\"\",\"\",RANK(O1630,$O$2:$O$1000))","v":""}]
["1321 大洋","義芳化學工業(股)陳欽文",12426,"義芳化學工業",null,null,null,null,null,null,null,null,null,null,{"$f":"IFERROR(VLOOKUP(K1631,股價!A:B,2,0)*M1631,\"\")","v":""},{"$f":"IF(O1631=\"\",\"\",RANK(O1631,$O$2:$O$1000))","v":""}]
["1321 大洋","謝紫雲          謝紫雲",10,"謝紫雲",null,null,null,null,null,null,null,null,null,null,{"$f":"IFERROR(VLOOKUP(K1632,股價!A:B,2,0)*M1632,\"\")","v":""},{"$f":"IF(O1632=\"\",\"\",RANK(O1632,$O$2:$O$1000))","v":""}]
["1321 大洋","簡學禮          簡學禮",0,"簡學禮",null,null,null,null,null,null,null,null,null,null,{"$f":"IFERROR(VLOOKUP(K1633,股價!A:B,2,0)*M1633,\"\")","v":""},{"$f":"IF(O1633=\"\",\"\",RANK(O1633,$O$2:$O$1000))","v":""}]
["1321 大洋","璇揚投資(股)    王海倫",1440,"璇揚投資",null,null,null,null,null,null,null,null,null,null,{"$f":"IFERROR(VLOOKUP(K1634,股價!A:B,2,0)*M1634,\"\")","v":""},{"$f":"IF(O1634=\"\",\"\",RANK(O1634,$O$2:$O$1000))","v":""}]
["1321 大洋","恒致投資(股)    陳育美",5448,"恒致投資",null,null,null,null,null,null,null,null,null,null,{"$f":"IFERROR(VLOOKUP(K1635,股價!A:B,2,0)*M1635,\"\")","v":""},{"$f":"IF(O1635=\"\",\"\",RANK(O1635,$O$2:$O$1000))","v":""}]
["1323 永裕","_大股東合計1",0,null,null,null,null,null,null,null,null,null,null,null,{"$f":"IFERROR(VLOOKUP(K1636,股價!A:B,2,0)*M1636,\"\")","v":""},{"$f":"IF(O1636=\"\",\"\",RANK(O1636,$O$2:$O$1000))","v":""}]
["1323 永裕","_大股東合計2    含沿用資料",23336,null,null,null,null,null,null,null,null,null,null,null,{"$f":"IFERROR(VLOOKUP(K1637,股價!A:B,2,0)*M1637,\"\")","v":""},{"$f":"IF(O1637=\"\",\"\",RANK(O1637,$O$2:$O$1000))","v":""}]
["1323 永裕","_經理人合計",10,null,null,null,null,null,null,null,null,null,null,null,{"$f":"IFERROR(VLOOKUP(K1638,股價!A:B,2,0)*M1638,\"\")","v":""},{"$f":"IF(O1638=\"\",\"\",RANK(O1638,$O$2:$O$1000))","v":""}]
["1323 永裕","_董  事合計",12024,null,null,null,null,null,null,null,null,null,null,null,{"$f":"IFERROR(VLOOKUP(K1639,股價!A:B,2,0)*M1639,\"\")","v":""},{"$f":"IF(O1639=\"\",\"\",RANK(O1639,$O$2:$O$1000))","v":""}]
["1323 永裕","_董監事合計",12024,null,null,null,null,null,null,null,null,null,null,null,{"$f":"IFERROR(VLOOKUP(K1640,股價!A:B,2,0)*M1640,\"\")","v":""},{"$f":"IF(O1640=\"\",\"\",RANK(O1640,$O$2:$O$1000))","v":""}]
["1323 永裕","_監察人合計",0,null,null,null,null,null,null,null,null,null,null,null,{"$f":"IFERROR(VLOOKUP(K1641,股價!A:B,2,0)*M1641,\"\")","v":""},{"$f":"IF(O1641=\"\",\"\",RANK(O1641,$O$2:$O$1000))","v":""}]
["1323 永裕","王奕仁          王奕仁",1161,"王奕仁",null,null,null,null,null,null,null,null,null,null,{"$f":"IFERROR(VLOOKUP(K1642,股價!A:B,2,0)*M1642,\"\")","v":""},{"$f":"IF(O1642=\"\",\"\",RANK(O1642,$O$2:$O$1000))","v":""}]
["1323 永裕","王威程          王威程",4811,"王威程",null,null,null,null,null,null,null,null,null,null,{"$f":"IFERROR(VLOOKUP(K1643,股價!A:B,2,0)*M1643,\"\")","v":""},{"$f":"IF(O1643=\"\",\"\",RANK(O1643,$O$2:$O$1000))","v":""}]
["1323 永裕","王清風          王清風",0,"王清風",null,null,null,null,null,null,null,null,null,null,{"$f":"IFERROR(VLOOKUP(K1644,股價!A:B,2,0)*M1644,\"\")","v":""},{"$f":"IF(O1644=\"\",\"\",RANK(O1644,$O$2:$O$1000))","v":""}]
["1323 永裕","王淑珍          王淑珍",2230,"王淑珍",null,null,null,null,null,null,null,null,null,null,{"$f":"IFERROR(VLOOKUP(K1645,股價!A:B,2,0)*M1645,\"\")","v":""},{"$f":"IF(O1645=\"\",\"\",RANK(O1645,$O$2:$O$1000))","v":""}]
["1323 永裕","王銘添          王銘添",1319,"王銘添",null,null,null,null,null,null,null,null,null,null,{"$f":"IFERROR(VLOOKUP(K1646,股價!A:B,2,0)*M1646,\"\")","v":""},{"$f":"IF(O1646=\"\",\"\",RANK(O1646,$O$2:$O$1000))","v":""}]
["1323 永裕","王燈輝          王燈輝",0,"王燈輝",null,null,null,null,null,null,null,null,null,null,{"$f":"IFERROR(VLOOKUP(K1647,股價!A:B,2,0)*M1647,\"\")","v":""},{"$f":"IF(O1647=\"\",\"\",RANK(O1647,$O$2:$O$1000))","v":""}]
["1323 永裕","永裕文教基金    陳秀蘭",2558,"永裕文教基金會",null,null,null,null,null,null,null,null,null,null,{"$f":"IFERROR(VLOOKUP(K1648,股價!A:B,2,0)*M1648,\"\")","v":""},{"$f":"IF(O1648=\"\",\"\",RANK(O1648,$O$2:$O$1000))","v":""}]
["1323 永裕","吳榮鋒          吳榮鋒",495,"吳榮鋒",null,null,null,null,null,null,null,null,null,null,{"$f":"IFERROR(VLOOKUP(K1649,股價!A:B,2,0)*M1649,\"\")","v":""},{"$f":"IF(O1649=\"\",\"\",RANK(O1649,$O$2:$O$1000))","v":""}]
["1323 永裕","昇慶產業(股)    陳瑞麟",1740,"昇慶產業",null,null,null,null,null,null,null,null,null,null,{"$f":"IFERROR(VLOOKUP(K1650,股價!A:B,2,0)*M1650,\"\")","v":""},{"$f":"IF(O1650=\"\",\"\",RANK(O1650,$O$2:$O$1000))","v":""}]
["1323 永裕","翁鳴谷          翁鳴谷",1,"翁鳴谷",null,null,null,null,null,null,null,null,null,null,{"$f":"IFERROR(VLOOKUP(K1651,股價!A:B,2,0)*M1651,\"\")","v":""},{"$f":"IF(O1651=\"\",\"\",RANK(O1651,$O$2:$O$1000))","v":""}]
["1323 永裕","郭同傑          郭同傑",57,"郭同傑",null,null,null,null,null,null,null,null,null,null,{"$f":"IFERROR(VLOOKUP(K1652,股價!A:B,2,0)*M1652,\"\")","v":""},{"$f":"IF(O1652=\"\",\"\",RANK(O1652,$O$2:$O$1000))","v":""}]
["1323 永裕","郭錦添          郭錦添",22,"郭錦添",null,null,null,null,null,null,null,null,null,null,{"$f":"IFERROR(VLOOKUP(K1653,股價!A:B,2,0)*M1653,\"\")","v":""},{"$f":"IF(O1653=\"\",\"\",RANK(O1653,$O$2:$O$1000))","v":""}]
["1323 永裕","陳建佑          陳建佑",350,"陳建佑",null,null,null,null,null,null,null,null,null,null,{"$f":"IFERROR(VLOOKUP(K1654,股價!A:B,2,0)*M1654,\"\")","v":""},{"$f":"IF(O1654=\"\",\"\",RANK(O1654,$O$2:$O$1000))","v":""}]
["1323 永裕","溫元慶          溫元慶",0,"溫元慶",null,null,null,null,null,null,null,null,null,null,{"$f":"IFERROR(VLOOKUP(K1655,股價!A:B,2,0)*M1655,\"\")","v":""},{"$f":"IF(O1655=\"\",\"\",RANK(O1655,$O$2:$O$1000))","v":""}]
["1323 永裕","葉孟杰          葉孟杰",0,"葉孟杰",null,null,null,null,null,null,null,null,null,null,{"$f":"IFERROR(VLOOKUP(K1656,股價!A:B,2,0)*M1656,\"\")","v":""},{"$f":"IF(O1656=\"\",\"\",RANK(O1656,$O$2:$O$1000))","v":""}]
["1323 永裕","裕上投資股份有限裕上投資股份",3579,"裕上投資股份有限公司",null,null,null,null,null,null,null,null,null,null,{"$f":"IFERROR(VLOOKUP(K1657,股價!A:B,2,0)*M1657,\"\")","v":""},{"$f":"IF(O1657=\"\",\"\",RANK(O1657,$O$2:$O$1000))","v":""}]
["1323 永裕","裕大投資(股)    王燈輝",8586,"裕大投資",null,null,null,null,null,null,null,null,null,null,{"$f":"IFERROR(VLOOKUP(K1658,股價!A:B,2,0)*M1658,\"\")","v":""},{"$f":"IF(O1658=\"\",\"\",RANK(O1658,$O$2:$O$1000))","v":""}]
["1323 永裕","裕永投資股份有限王燈輝",4904,"裕永投資股份有限公司",null,null,null,null,null,null,null,null,null,null,{"$f":"IFERROR(VLOOKUP(K1659,股價!A:B,2,0)*M1659,\"\")","v":""},{"$f":"IF(O1659=\"\",\"\",RANK(O1659,$O$2:$O$1000))","v":""}]
["1323 永裕","漢瑭投資(有)    王婕閔",1324,"漢瑭投資有限公司",null,null,null,null,null,null,null,null,null,null,{"$f":"IFERROR(VLOOKUP(K1660,股價!A:B,2,0)*M1660,\"\")","v":""},{"$f":"IF(O1660=\"\",\"\",RANK(O1660,$O$2:$O$1000))","v":""}]
["1323 永裕","劉忠平          劉忠平",2000,"劉忠平",null,null,null,null,null,null,null,null,null,null,{"$f":"IFERROR(VLOOKUP(K1661,股價!A:B,2,0)*M1661,\"\")","v":""},{"$f":"IF(O1661=\"\",\"\",RANK(O1661,$O$2:$O$1000))","v":""}]
["1323 永裕","蔡崇誠          蔡崇誠",9,"蔡崇誠",null,null,null,null,null,null,null,null,null,null,{"$f":"IFERROR(VLOOKUP(K1662,股價!A:B,2,0)*M1662,\"\")","v":""},{"$f":"IF(O1662=\"\",\"\",RANK(O1662,$O$2:$O$1000))","v":""}]
["1323 永裕","蘇永嘉          蘇永嘉",1,"蘇永嘉",null,null,null,null,null,null,null,null,null,null,{"$f":"IFERROR(VLOOKUP(K1663,股價!A:B,2,0)*M1663,\"\")","v":""},{"$f":"IF(O1663=\"\",\"\",RANK(O1663,$O$2:$O$1000))","v":""}]
["1323 永裕","蘇盟欽          蘇盟欽",223,"蘇盟欽",null,null,null,null,null,null,null,null,null,null,{"$f":"IFERROR(VLOOKUP(K1664,股價!A:B,2,0)*M1664,\"\")","v":""},{"$f":"IF(O1664=\"\",\"\",RANK(O1664,$O$2:$O$1000))","v":""}]
["1324 地球","_大股東合計1",0,null,null,null,null,null,null,null,null,null,null,null,{"$f":"IFERROR(VLOOKUP(K1665,股價!A:B,2,0)*M1665,\"\")","v":""},{"$f":"IF(O1665=\"\",\"\",RANK(O1665,$O$2:$O$1000))","v":""}]
["1324 地球","_大股東合計2    含沿用資料",29549,null,null,null,null,null,null,null,null,null,null,null,{"$f":"IFERROR(VLOOKUP(K1666,股價!A:B,2,0)*M1666,\"\")","v":""},{"$f":"IF(O1666=\"\",\"\",RANK(O1666,$O$2:$O$1000))","v":""}]
["1324 地球","_經理人合計",6601,null,null,null,null,null,null,null,null,null,null,null,{"$f":"IFERROR(VLOOKUP(K1667,股價!A:B,2,0)*M1667,\"\")","v":""},{"$f":"IF(O1667=\"\",\"\",RANK(O1667,$O$2:$O$1000))","v":""}]
["1324 地球","_董  事合計",6051,null,null,null,null,null,null,null,null,null,null,null,{"$f":"IFERROR(VLOOKUP(K1668,股價!A:B,2,0)*M1668,\"\")","v":""},{"$f":"IF(O1668=\"\",\"\",RANK(O1668,$O$2:$O$1000))","v":""}]
["1324 地球","_董監事合計",6051,null,null,null,null,null,null,null,null,null,null,null,{"$f":"IFERROR(VLOOKUP(K1669,股價!A:B,2,0)*M1669,\"\")","v":""},{"$f":"IF(O1669=\"\",\"\",RANK(O1669,$O$2:$O$1000))","v":""}]
["1324 地球","_監察人合計",0,null,null,null,null,null,null,null,null,null,null,null,{"$f":"IFERROR(VLOOKUP(K1670,股價!A:B,2,0)*M1670,\"\")","v":""},{"$f":"IF(O1670=\"\",\"\",RANK(O1670,$O$2:$O$1000))","v":""}]
["1324 地球","大安投資(股)    林周青霞",5954,"大安投資",null,null,null,null,null,null,null,null,null,null,{"$f":"IFERROR(VLOOKUP(K1671,股價!A:B,2,0)*M1671,\"\")","v":""},{"$f":"IF(O1671=\"\",\"\",RANK(O1671,$O$2:$O$1000))","v":""}]
["1324 地球","其鈦投資(股)    宋萬傳",5959,"其鈦投資",null,null,null,null,null,null,null,null,null,null,{"$f":"IFERROR(VLOOKUP(K1672,股價!A:B,2,0)*M1672,\"\")","v":""},{"$f":"IF(O1672=\"\",\"\",RANK(O1672,$O$2:$O$1000))","v":""}]
["1324 地球","官政忠          官政忠",0,"官政忠",null,null,null,null,null,null,null,null,null,null,{"$f":"IFERROR(VLOOKUP(K1673,股價!A:B,2,0)*M1673,\"\")","v":""},{"$f":"IF(O1673=\"\",\"\",RANK(O1673,$O$2:$O$1000))","v":""}]
["1324 地球","金頓投資(有)    張德旭",3043,"金頓投資",null,null,null,null,null,null,null,null,null,null,{"$f":"IFERROR(VLOOKUP(K1674,股價!A:B,2,0)*M1674,\"\")","v":""},{"$f":"IF(O1674=\"\",\"\",RANK(O1674,$O$2:$O$1000))","v":""}]
["1324 地球","張晴            張晴",2280,"張晴",null,null,null,null,null,null,null,null,null,null,{"$f":"IFERROR(VLOOKUP(K1675,股價!A:B,2,0)*M1675,\"\")","v":""},{"$f":"IF(O1675=\"\",\"\",RANK(O1675,$O$2:$O$1000))","v":""}]
["1324 地球","張雅琪          張雅琪",4321,"張雅琪",null,null,null,null,null,null,null,null,null,null,{"$f":"IFERROR(VLOOKUP(K1676,股價!A:B,2,0)*M1676,\"\")","v":""},{"$f":"IF(O1676=\"\",\"\",RANK(O1676,$O$2:$O$1000))","v":""}]
["1324 地球","張德旭          張德旭",463,"張德旭",null,null,null,null,null,null,null,null,null,null,{"$f":"IFERROR(VLOOKUP(K1677,股價!A:B,2,0)*M1677,\"\")","v":""},{"$f":"IF(O1677=\"\",\"\",RANK(O1677,$O$2:$O$1000))","v":""}]
["1324 地球","張德明          張德明",6371,"張德明",null,null,null,null,null,null,null,null,null,null,{"$f":"IFERROR(VLOOKUP(K1678,股價!A:B,2,0)*M1678,\"\")","v":""},{"$f":"IF(O1678=\"\",\"\",RANK(O1678,$O$2:$O$1000))","v":""}]
["1324 地球","張德照          張德照",1930,"張德照",null,null,null,null,null,null,null,null,null,null,{"$f":"IFERROR(VLOOKUP(K1679,股價!A:B,2,0)*M1679,\"\")","v":""},{"$f":"IF(O1679=\"\",\"\",RANK(O1679,$O$2:$O$1000))","v":""}]
["1324 地球","張麗萍          張麗萍",6580,"張麗萍",null,null,null,null,null,null,null,null,null,null,{"$f":"IFERROR(VLOOKUP(K1680,股價!A:B,2,0)*M1680,\"\")","v":""},{"$f":"IF(O1680=\"\",\"\",RANK(O1680,$O$2:$O$1000))","v":""}]
["1324 地球","張騰方          張騰方",1967,"張騰方",null,null,null,null,null,null,null,null,null,null,{"$f":"IFERROR(VLOOKUP(K1681,股價!A:B,2,0)*M1681,\"\")","v":""},{"$f":"IF(O1681=\"\",\"\",RANK(O1681,$O$2:$O$1000))","v":""}]
["1324 地球","鈞鼎投資(股)    張德照",3008,"鈞鼎投資",null,null,null,null,null,null,null,null,null,null,{"$f":"IFERROR(VLOOKUP(K1682,股價!A:B,2,0)*M1682,\"\")","v":""},{"$f":"IF(O1682=\"\",\"\",RANK(O1682,$O$2:$O$1000))","v":""}]
["1324 地球","黃林慶          黃林慶",0,"黃林慶",null,null,null,null,null,null,null,null,null,null,{"$f":"IFERROR(VLOOKUP(K1683,股價!A:B,2,0)*M1683,\"\")","v":""},{"$f":"IF(O1683=\"\",\"\",RANK(O1683,$O$2:$O$1000))","v":""}]
["1324 地球","黃麟明          黃麟明",0,"黃麟明",null,null,null,null,null,null,null,null,null,null,{"$f":"IFERROR(VLOOKUP(K1684,股價!A:B,2,0)*M1684,\"\")","v":""},{"$f":"IF(O1684=\"\",\"\",RANK(O1684,$O$2:$O$1000))","v":""}]
["1324 地球","賴文針          賴文針",0,"賴文針",null,null,null,null,null,null,null,null,null,null,{"$f":"IFERROR(VLOOKUP(K1685,股價!A:B,2,0)*M1685,\"\")","v":""},{"$f":"IF(O1685=\"\",\"\",RANK(O1685,$O$2:$O$1000))","v":""}]
["1324 地球","鐘耀泉          鐘耀泉",2718,"鐘耀泉",null,null,null,null,null,null,null,null,null,null,{"$f":"IFERROR(VLOOKUP(K1686,股價!A:B,2,0)*M1686,\"\")","v":""},{"$f":"IF(O1686=\"\",\"\",RANK(O1686,$O$2:$O$1000))","v":""}]
["1325 恒大","_大股東合計1",0,null,null,null,null,null,null,null,null,null,null,null,{"$f":"IFERROR(VLOOKUP(K1687,股價!A:B,2,0)*M1687,\"\")","v":""},{"$f":"IF(O1687=\"\",\"\",RANK(O1687,$O$2:$O$1000))","v":""}]
["1325 恒大","_大股東合計2    含沿用資料",10867,null,null,null,null,null,null,null,null,null,null,null,{"$f":"IFERROR(VLOOKUP(K1688,股價!A:B,2,0)*M1688,\"\")","v":""},{"$f":"IF(O1688=\"\",\"\",RANK(O1688,$O$2:$O$1000))","v":""}]
["1325 恒大","_經理人合計",3165,null,null,null,null,null,null,null,null,null,null,null,{"$f":"IFERROR(VLOOKUP(K1689,股價!A:B,2,0)*M1689,\"\")","v":""},{"$f":"IF(O1689=\"\",\"\",RANK(O1689,$O$2:$O$1000))","v":""}]
["1325 恒大","_董  事合計",24680,null,null,null,null,null,null,null,null,null,null,null,{"$f":"IFERROR(VLOOKUP(K1690,股價!A:B,2,0)*M1690,\"\")","v":""},{"$f":"IF(O1690=\"\",\"\",RANK(O1690,$O$2:$O$1000))","v":""}]
["1325 恒大","_董監事合計",24680,null,null,null,null,null,null,null,null,null,null,null,{"$f":"IFERROR(VLOOKUP(K1691,股價!A:B,2,0)*M1691,\"\")","v":""},{"$f":"IF(O1691=\"\",\"\",RANK(O1691,$O$2:$O$1000))","v":""}]
["1325 恒大","_監察人合計",0,null,null,null,null,null,null,null,null,null,null,null,{"$f":"IFERROR(VLOOKUP(K1692,股價!A:B,2,0)*M1692,\"\")","v":""},{"$f":"IF(O1692=\"\",\"\",RANK(O1692,$O$2:$O$1000))","v":""}]
["1325 恒大","三幸投資(股)    三幸投資(股)",500,"三幸投資",null,null,null,null,null,null,null,null,null,null,{"$f":"IFERROR(VLOOKUP(K1693,股價!A:B,2,0)*M1693,\"\")","v":""},{"$f":"IF(O1693=\"\",\"\",RANK(O1693,$O$2:$O$1000))","v":""}]
["1325 恒大","吳正明          吳正明",0,"吳正明",null,null,null,null,null,null,null,null,null,null,{"$f":"IFERROR(VLOOKUP(K1694,股價!A:B,2,0)*M1694,\"\")","v":""},{"$f":"IF(O1694=\"\",\"\",RANK(O1694,$O$2:$O$1000))","v":""}]
["1325 恒大","吳明德          吳明德",0,"吳明德",null,null,null,null,null,null,null,null,null,null,{"$f":"IFERROR(VLOOKUP(K1695,股價!A:B,2,0)*M1695,\"\")","v":""},{"$f":"IF(O1695=\"\",\"\",RANK(O1695,$O$2:$O$1000))","v":""}]
["1325 恒大","明倉投資(股)    明倉投資(股)",1218,"明倉投資股份有限公司",null,null,null,null,null,null,null,null,null,null,{"$f":"IFERROR(VLOOKUP(K1696,股價!A:B,2,0)*M1696,\"\")","v":""},{"$f":"IF(O1696=\"\",\"\",RANK(O1696,$O$2:$O$1000))","v":""}]
["1325 恒大","林華            林華",75,"林華",null,null,null,null,null,null,null,null,null,null,{"$f":"IFERROR(VLOOKUP(K1697,股價!A:B,2,0)*M1697,\"\")","v":""},{"$f":"IF(O1697=\"\",\"\",RANK(O1697,$O$2:$O$1000))","v":""}]
["1325 恒大","林榮芳          林榮芳",1225,"林榮芳",null,null,null,null,null,null,null,null,null,null,{"$f":"IFERROR(VLOOKUP(K1698,股價!A:B,2,0)*M1698,\"\")","v":""},{"$f":"IF(O1698=\"\",\"\",RANK(O1698,$O$2:$O$1000))","v":""}]
["1325 恒大","翁啟倫          翁啟倫",460,"翁啟倫",null,null,null,null,null,null,null,null,null,null,{"$f":"IFERROR(VLOOKUP(K1699,股價!A:B,2,0)*M1699,\"\")","v":""},{"$f":"IF(O1699=\"\",\"\",RANK(O1699,$O$2:$O$1000))","v":""}]
["1325 恒大","翁經博          翁經博",580,"翁經博",null,null,null,null,null,null,null,null,null,null,{"$f":"IFERROR(VLOOKUP(K1700,股價!A:B,2,0)*M1700,\"\")","v":""},{"$f":"IF(O1700=\"\",\"\",RANK(O1700,$O$2:$O$1000))","v":""}]
["1325 恒大","高清海          高清海",0,"高清海",null,null,null,null,null,null,null,null,null,null,{"$f":"IFERROR(VLOOKUP(K1701,股價!A:B,2,0)*M1701,\"\")","v":""},{"$f":"IF(O1701=\"\",\"\",RANK(O1701,$O$2:$O$1000))","v":""}]
["1325 恒大","張金蓮          張金蓮",0,"張金蓮",null,null,null,null,null,null,null,null,null,null,{"$f":"IFERROR(VLOOKUP(K1702,股價!A:B,2,0)*M1702,\"\")","v":""},{"$f":"IF(O1702=\"\",\"\",RANK(O1702,$O$2:$O$1000))","v":""}]
["1325 恒大","渣打GMO新興     渣打GMO新興",728,"英商渣打受託保管GMO新興市場基金投資專戶",null,null,null,null,null,null,null,null,null,null,{"$f":"IFERROR(VLOOKUP(K1703,股價!A:B,2,0)*M1703,\"\")","v":""},{"$f":"IF(O1703=\"\",\"\",RANK(O1703,$O$2:$O$1000))","v":""}]
["1325 恒大","渣打平衡管理GMO 渣打平衡管理",618,"渣打託管聖詹姆士地區平衡管理委外GMO投資專戶",null,null,null,null,null,null,null,null,null,null,{"$f":"IFERROR(VLOOKUP(K1704,股價!A:B,2,0)*M1704,\"\")","v":""},{"$f":"IF(O1704=\"\",\"\",RANK(O1704,$O$2:$O$1000))","v":""}]
["1325 恒大","黃明雄          黃明雄",0,"黃明雄",null,null,null,null,null,null,null,null,null,null,{"$f":"IFERROR(VLOOKUP(K1705,股價!A:B,2,0)*M1705,\"\")","v":""},{"$f":"IF(O1705=\"\",\"\",RANK(O1705,$O$2:$O$1000))","v":""}]
["1325 恒大","黃美慧          黃美慧",3165,"黃美慧",null,null,null,null,null,null,null,null,null,null,{"$f":"IFERROR(VLOOKUP(K1706,股價!A:B,2,0)*M1706,\"\")","v":""},{"$f":"IF(O1706=\"\",\"\",RANK(O1706,$O$2:$O$1000))","v":""}]
["1325 恒大","廖淑姬          廖淑姬",0,"廖淑姬",null,null,null,null,null,null,null,null,null,null,{"$f":"IFERROR(VLOOKUP(K1707,股價!A:B,2,0)*M1707,\"\")","v":""},{"$f":"IF(O1707=\"\",\"\",RANK(O1707,$O$2:$O$1000))","v":""}]
["1325 恒大","福琳基金會      福琳基金會",5538,"財團法人福琳工商發展基金會",null,null,null,null,null,null,null,null,null,null,{"$f":"IFERROR(VLOOKUP(K1708,股價!A:B,2,0)*M1708,\"\")","v":""},{"$f":"IF(O1708=\"\",\"\",RANK(O1708,$O$2:$O$1000))","v":""}]
["1325 恒大","臧明倫          臧明倫",0,"臧明倫",null,null,null,null,null,null,null,null,null,null,{"$f":"IFERROR(VLOOKUP(K1709,股價!A:B,2,0)*M1709,\"\")","v":""},{"$f":"IF(O1709=\"\",\"\",RANK(O1709,$O$2:$O$1000))","v":""}]
["1325 恒大","恒大投資(股)    林華",24680,"恒大投資",null,null,null,null,null,null,null,null,null,null,{"$f":"IFERROR(VLOOKUP(K1710,股價!A:B,2,0)*M1710,\"\")","v":""},{"$f":"IF(O1710=\"\",\"\",RANK(O1710,$O$2:$O$1000))","v":""}]
["1325 恒大","恒大投資(股)    高清海",24680,"恒大投資",null,null,null,null,null,null,null,null,null,null,{"$f":"IFERROR(VLOOKUP(K1711,股價!A:B,2,0)*M1711,\"\")","v":""},{"$f":"IF(O1711=\"\",\"\",RANK(O1711,$O$2:$O$1000))","v":""}]
["1325 恒大","恒大投資(股)    黃明雄",24680,"恒大投資",null,null,null,null,null,null,null,null,null,null,{"$f":"IFERROR(VLOOKUP(K1712,股價!A:B,2,0)*M1712,\"\")","v":""},{"$f":"IF(O1712=\"\",\"\",RANK(O1712,$O$2:$O$1000))","v":""}]
["1325 恒大","恒大投資(股)    黃美慧",24680,"恒大投資",null,null,null,null,null,null,null,null,null,null,{"$f":"IFERROR(VLOOKUP(K1713,股價!A:B,2,0)*M1713,\"\")","v":""},{"$f":"IF(O1713=\"\",\"\",RANK(O1713,$O$2:$O$1000))","v":""}]
["1326 台化","_大股東合計1",1089142,null,null,null,null,null,null,null,null,null,null,null,{"$f":"IFERROR(VLOOKUP(K1714,股價!A:B,2,0)*M1714,\"\")","v":""},{"$f":"IF(O1714=\"\",\"\",RANK(O1714,$O$2:$O$1000))","v":""}]
["1326 台化","_大股東合計2    含沿用資料",2281429,null,null,null,null,null,null,null,null,null,null,null,{"$f":"IFERROR(VLOOKUP(K1715,股價!A:B,2,0)*M1715,\"\")","v":""},{"$f":"IF(O1715=\"\",\"\",RANK(O1715,$O$2:$O$1000))","v":""}]
["1326 台化","_經理人合計",22,null,null,null,null,null,null,null,null,null,null,null,{"$f":"IFERROR(VLOOKUP(K1716,股價!A:B,2,0)*M1716,\"\")","v":""},{"$f":"IF(O1716=\"\",\"\",RANK(O1716,$O$2:$O$1000))","v":""}]
["1326 台化","_董  事合計",335432,null,null,null,null,null,null,null,null,null,null,null,{"$f":"IFERROR(VLOOKUP(K1717,股價!A:B,2,0)*M1717,\"\")","v":""},{"$f":"IF(O1717=\"\",\"\",RANK(O1717,$O$2:$O$1000))","v":""}]
["1326 台化","_董監事合計",335432,null,null,null,null,null,null,null,null,null,null,null,{"$f":"IFERROR(VLOOKUP(K1718,股價!A:B,2,0)*M1718,\"\")","v":""},{"$f":"IF(O1718=\"\",\"\",RANK(O1718,$O$2:$O$1000))","v":""}]
["1326 台化","_監察人合計",0,null,null,null,null,null,null,null,null,null,null,null,{"$f":"IFERROR(VLOOKUP(K1719,股價!A:B,2,0)*M1719,\"\")","v":""},{"$f":"IF(O1719=\"\",\"\",RANK(O1719,$O$2:$O$1000))","v":""}]
["1326 台化","方英達          方英達",0,"方英達",null,null,null,null,null,null,null,null,null,null,{"$f":"IFERROR(VLOOKUP(K1720,股價!A:B,2,0)*M1720,\"\")","v":""},{"$f":"IF(O1720=\"\",\"\",RANK(O1720,$O$2:$O$1000))","v":""}]
["1326 台化","王文淵          王文淵",129198,"王文淵",null,null,null,null,null,null,null,null,null,null,{"$f":"IFERROR(VLOOKUP(K1721,股價!A:B,2,0)*M1721,\"\")","v":""},{"$f":"IF(O1721=\"\",\"\",RANK(O1721,$O$2:$O$1000))","v":""}]
["1326 台化","王文祥          王文祥",26776,"王文祥",null,null,null,null,null,null,null,null,null,null,{"$f":"IFERROR(VLOOKUP(K1722,股價!A:B,2,0)*M1722,\"\")","v":""},{"$f":"IF(O1722=\"\",\"\",RANK(O1722,$O$2:$O$1000))","v":""}]
["1326 台化","王文潮          王文潮",16867,"王文潮",null,null,null,null,null,null,null,null,null,null,{"$f":"IFERROR(VLOOKUP(K1723,股價!A:B,2,0)*M1723,\"\")","v":""},{"$f":"IF(O1723=\"\",\"\",RANK(O1723,$O$2:$O$1000))","v":""}]
["1326 台化","王啟州          王啟州",0,"王啟州",null,null,null,null,null,null,null,null,null,null,{"$f":"IFERROR(VLOOKUP(K1724,股價!A:B,2,0)*M1724,\"\")","v":""},{"$f":"IF(O1724=\"\",\"\",RANK(O1724,$O$2:$O$1000))","v":""}]
["1326 台化","王瑞瑜          王瑞瑜",18627,"王瑞瑜",null,null,null,null,null,null,null,null,null,null,{"$f":"IFERROR(VLOOKUP(K1725,股價!A:B,2,0)*M1725,\"\")","v":""},{"$f":"IF(O1725=\"\",\"\",RANK(O1725,$O$2:$O$1000))","v":""}]
["1326 台化","台塑石化(股)    王文祥",48568,"台塑石化",null,null,null,null,null,null,null,null,null,null,{"$f":"IFERROR(VLOOKUP(K1726,股價!A:B,2,0)*M1726,\"\")","v":""},{"$f":"IF(O1726=\"\",\"\",RANK(O1726,$O$2:$O$1000))","v":""}]
["1326 台化","台灣塑膠工業(股)林健男",198744,"台灣塑膠工業",null,null,null,null,null,null,null,null,null,null,{"$f":"IFERROR(VLOOKUP(K1727,股價!A:B,2,0)*M1727,\"\")","v":""},{"$f":"IF(O1727=\"\",\"\",RANK(O1727,$O$2:$O$1000))","v":""}]
["1326 台化","吳亨千          吳亨千",0,"吳亨千",null,null,null,null,null,null,null,null,null,null,{"$f":"IFERROR(VLOOKUP(K1728,股價!A:B,2,0)*M1728,\"\")","v":""},{"$f":"IF(O1728=\"\",\"\",RANK(O1728,$O$2:$O$1000))","v":""}]
["1326 台化","呂文進          呂文進",3,"呂文進",null,null,null,null,null,null,null,null,null,null,{"$f":"IFERROR(VLOOKUP(K1729,股價!A:B,2,0)*M1729,\"\")","v":""},{"$f":"IF(O1729=\"\",\"\",RANK(O1729,$O$2:$O$1000))","v":""}]
["1326 台化","李青芬          李青芬",0,"李青芬",null,null,null,null,null,null,null,null,null,null,{"$f":"IFERROR(VLOOKUP(K1730,股價!A:B,2,0)*M1730,\"\")","v":""},{"$f":"IF(O1730=\"\",\"\",RANK(O1730,$O$2:$O$1000))","v":""}]
["1326 台化","李俊杰          李俊杰",0,"李俊杰",null,null,null,null,null,null,null,null,null,null,{"$f":"IFERROR(VLOOKUP(K1731,股價!A:B,2,0)*M1731,\"\")","v":""},{"$f":"IF(O1731=\"\",\"\",RANK(O1731,$O$2:$O$1000))","v":""}]
["1326 台化","林啟煌          林啟煌",0,"林啟煌",null,null,null,null,null,null,null,null,null,null,{"$f":"IFERROR(VLOOKUP(K1732,股價!A:B,2,0)*M1732,\"\")","v":""},{"$f":"IF(O1732=\"\",\"\",RANK(O1732,$O$2:$O$1000))","v":""}]
["1326 台化","長庚醫療財團法人長庚醫療財團",1089142,"長庚醫療財團法人",null,null,null,null,null,null,null,null,null,null,{"$f":"IFERROR(VLOOKUP(K1733,股價!A:B,2,0)*M1733,\"\")","v":""},{"$f":"IF(O1733=\"\",\"\",RANK(O1733,$O$2:$O$1000))","v":""}]
["1326 台化","南亞塑膠工業(股)王瑞瑜",140520,"南亞塑膠工業",null,null,null,null,null,null,null,null,null,null,{"$f":"IFERROR(VLOOKUP(K1734,股價!A:B,2,0)*M1734,\"\")","v":""},{"$f":"IF(O1734=\"\",\"\",RANK(O1734,$O$2:$O$1000))","v":""}]
["1326 台化","洪福源          洪福源",273,"洪福源",null,null,null,null,null,null,null,null,null,null,{"$f":"IFERROR(VLOOKUP(K1735,股價!A:B,2,0)*M1735,\"\")","v":""},{"$f":"IF(O1735=\"\",\"\",RANK(O1735,$O$2:$O$1000))","v":""}]
["1326 台化","秦氏國際投資(股)Evened Corp.",371939,"秦氏國際投資",null,null,null,null,null,null,null,null,null,null,{"$f":"IFERROR(VLOOKUP(K1736,股價!A:B,2,0)*M1736,\"\")","v":""},{"$f":"IF(O1736=\"\",\"\",RANK(O1736,$O$2:$O$1000))","v":""}]
["1326 台化","張宗遠          張宗遠",0,"張宗遠",null,null,null,null,null,null,null,null,null,null,{"$f":"IFERROR(VLOOKUP(K1737,股價!A:B,2,0)*M1737,\"\")","v":""},{"$f":"IF(O1737=\"\",\"\",RANK(O1737,$O$2:$O$1000))","v":""}]
["1326 台化","莊宏銘          莊宏銘",3,"莊宏銘",null,null,null,null,null,null,null,null,null,null,{"$f":"IFERROR(VLOOKUP(K1738,股價!A:B,2,0)*M1738,\"\")","v":""},{"$f":"IF(O1738=\"\",\"\",RANK(O1738,$O$2:$O$1000))","v":""}]
["1326 台化","陳志銘          陳志銘",10,"陳志銘",null,null,null,null,null,null,null,null,null,null,{"$f":"IFERROR(VLOOKUP(K1739,股價!A:B,2,0)*M1739,\"\")","v":""},{"$f":"IF(O1739=\"\",\"\",RANK(O1739,$O$2:$O$1000))","v":""}]
["1326 台化","陳瑞隆          陳瑞隆",0,"陳瑞隆",null,null,null,null,null,null,null,null,null,null,{"$f":"IFERROR(VLOOKUP(K1740,股價!A:B,2,0)*M1740,\"\")","v":""},{"$f":"IF(O1740=\"\",\"\",RANK(O1740,$O$2:$O$1000))","v":""}]
["1326 台化","富邦人壽保險(股)蔡明興",130301,"富邦人壽保險",null,null,null,null,null,null,null,null,null,null,{"$f":"IFERROR(VLOOKUP(K1741,股價!A:B,2,0)*M1741,\"\")","v":""},{"$f":"IF(O1741=\"\",\"\",RANK(O1741,$O$2:$O$1000))","v":""}]
["1326 台化","渣打託管創世    渣打託管創世",88748,"渣打託管創世資本集團股份有限公司專戶",null,null,null,null,null,null,null,null,null,null,{"$f":"IFERROR(VLOOKUP(K1742,股價!A:B,2,0)*M1742,\"\")","v":""},{"$f":"IF(O1742=\"\",\"\",RANK(O1742,$O$2:$O$1000))","v":""}]
["1326 台化","黃田忠          黃田忠",2,"黃田忠",null,null,null,null,null,null,null,null,null,null,{"$f":"IFERROR(VLOOKUP(K1743,股價!A:B,2,0)*M1743,\"\")","v":""},{"$f":"IF(O1743=\"\",\"\",RANK(O1743,$O$2:$O$1000))","v":""}]
["1326 台化","黃俊銘          黃俊銘",10,"黃俊銘",null,null,null,null,null,null,null,null,null,null,{"$f":"IFERROR(VLOOKUP(K1744,股價!A:B,2,0)*M1744,\"\")","v":""},{"$f":"IF(O1744=\"\",\"\",RANK(O1744,$O$2:$O$1000))","v":""}]
["1326 台化","黃國賢          黃國賢",0,"黃國賢",null,null,null,null,null,null,null,null,null,null,{"$f":"IFERROR(VLOOKUP(K1745,股價!A:B,2,0)*M1745,\"\")","v":""},{"$f":"IF(O1745=\"\",\"\",RANK(O1745,$O$2:$O$1000))","v":""}]
["1326 台化","黃輝珍          黃輝珍",0,"黃輝珍",null,null,null,null,null,null,null,null,null,null,{"$f":"IFERROR(VLOOKUP(K1746,股價!A:B,2,0)*M1746,\"\")","v":""},{"$f":"IF(O1746=\"\",\"\",RANK(O1746,$O$2:$O$1000))","v":""}]
["1326 台化","匯豐肯德電力    匯豐肯德電力",84719,"匯豐銀行託管肯德電力發展",null,null,null,null,null,null,null,null,null,null,{"$f":"IFERROR(VLOOKUP(K1747,股價!A:B,2,0)*M1747,\"\")","v":""},{"$f":"IF(O1747=\"\",\"\",RANK(O1747,$O$2:$O$1000))","v":""}]
["1326 台化","萬順國際投資(股)Landmark Cap",222449,"萬順國際投資",null,null,null,null,null,null,null,null,null,null,{"$f":"IFERROR(VLOOKUP(K1748,股價!A:B,2,0)*M1748,\"\")","v":""},{"$f":"IF(O1748=\"\",\"\",RANK(O1748,$O$2:$O$1000))","v":""}]
["1326 台化","劉佳儒          劉佳儒",0,"劉佳儒",null,null,null,null,null,null,null,null,null,null,{"$f":"IFERROR(VLOOKUP(K1749,股價!A:B,2,0)*M1749,\"\")","v":""},{"$f":"IF(O1749=\"\",\"\",RANK(O1749,$O$2:$O$1000))","v":""}]
["1326 台化","鄭文彥          鄭文彥",0,"鄭文彥",null,null,null,null,null,null,null,null,null,null,{"$f":"IFERROR(VLOOKUP(K1750,股價!A:B,2,0)*M1750,\"\")","v":""},{"$f":"IF(O1750=\"\",\"\",RANK(O1750,$O$2:$O$1000))","v":""}]
["1326 台化","聯合電力發展(股)Cabo de Roca",95387,"聯合電力發展",null,null,null,null,null,null,null,null,null,null,{"$f":"IFERROR(VLOOKUP(K1751,股價!A:B,2,0)*M1751,\"\")","v":""},{"$f":"IF(O1751=\"\",\"\",RANK(O1751,$O$2:$O$1000))","v":""}]
["1326 台化","簡太郎          簡太郎",0,"簡太郎",null,null,null,null,null,null,null,null,null,null,{"$f":"IFERROR(VLOOKUP(K1752,股價!A:B,2,0)*M1752,\"\")","v":""},{"$f":"IF(O1752=\"\",\"\",RANK(O1752,$O$2:$O$1000))","v":""}]
["1326 台化","簡維庚          簡維庚",0,"簡維庚",null,null,null,null,null,null,null,null,null,null,{"$f":"IFERROR(VLOOKUP(K1753,股價!A:B,2,0)*M1753,\"\")","v":""},{"$f":"IF(O1753=\"\",\"\",RANK(O1753,$O$2:$O$1000))","v":""}]
["1326 台化","蘇俊雄          蘇俊雄",0,"蘇俊雄",null,null,null,null,null,null,null,null,null,null,{"$f":"IFERROR(VLOOKUP(K1754,股價!A:B,2,0)*M1754,\"\")","v":""},{"$f":"IF(O1754=\"\",\"\",RANK(O1754,$O$2:$O$1000))","v":""}]
["1336 台翰","_大股東合計1",0,null,null,null,null,null,null,null,null,null,null,null,{"$f":"IFERROR(VLOOKUP(K1755,股價!A:B,2,0)*M1755,\"\")","v":""},{"$f":"IF(O1755=\"\",\"\",RANK(O1755,$O$2:$O$1000))","v":""}]
["1336 台翰","_大股東合計2    含沿用資料",13922,null,null,null,null,null,null,null,null,null,null,null,{"$f":"IFERROR(VLOOKUP(K1756,股價!A:B,2,0)*M1756,\"\")","v":""},{"$f":"IF(O1756=\"\",\"\",RANK(O1756,$O$2:$O$1000))","v":""}]
["1336 台翰","_經理人合計",1213,null,null,null,null,null,null,null,null,null,null,null,{"$f":"IFERROR(VLOOKUP(K1757,股價!A:B,2,0)*M1757,\"\")","v":""},{"$f":"IF(O1757=\"\",\"\",RANK(O1757,$O$2:$O$1000))","v":""}]
["1336 台翰","_董  事合計",23309,null,null,null,null,null,null,null,null,null,null,null,{"$f":"IFERROR(VLOOKUP(K1758,股價!A:B,2,0)*M1758,\"\")","v":""},{"$f":"IF(O1758=\"\",\"\",RANK(O1758,$O$2:$O$1000))","v":""}]
["1336 台翰","_董監事合計",23309,null,null,null,null,null,null,null,null,null,null,null,{"$f":"IFERROR(VLOOKUP(K1759,股價!A:B,2,0)*M1759,\"\")","v":""},{"$f":"IF(O1759=\"\",\"\",RANK(O1759,$O$2:$O$1000))","v":""}]
["1336 台翰","_監察人合計",0,null,null,null,null,null,null,null,null,null,null,null,{"$f":"IFERROR(VLOOKUP(K1760,股價!A:B,2,0)*M1760,\"\")","v":""},{"$f":"IF(O1760=\"\",\"\",RANK(O1760,$O$2:$O$1000))","v":""}]
["1336 台翰","二宮隆義        二宮隆義",259,"二宮隆義",null,null,null,null,null,null,null,null,null,null,{"$f":"IFERROR(VLOOKUP(K1761,股價!A:B,2,0)*M1761,\"\")","v":""},{"$f":"IF(O1761=\"\",\"\",RANK(O1761,$O$2:$O$1000))","v":""}]
["1336 台翰","大華創業投資(股)徐立德",1118,"大華創業投資",null,null,null,null,null,null,null,null,null,null,{"$f":"IFERROR(VLOOKUP(K1762,股價!A:B,2,0)*M1762,\"\")","v":""},{"$f":"IF(O1762=\"\",\"\",RANK(O1762,$O$2:$O$1000))","v":""}]
["1336 台翰","中加投資發展(股)徐立德",1310,"中加投資發展",null,null,null,null,null,null,null,null,null,null,{"$f":"IFERROR(VLOOKUP(K1763,股價!A:B,2,0)*M1763,\"\")","v":""},{"$f":"IF(O1763=\"\",\"\",RANK(O1763,$O$2:$O$1000))","v":""}]
["1336 台翰","余國強          余國強",900,"余國強",null,null,null,null,null,null,null,null,null,null,{"$f":"IFERROR(VLOOKUP(K1764,股價!A:B,2,0)*M1764,\"\")","v":""},{"$f":"IF(O1764=\"\",\"\",RANK(O1764,$O$2:$O$1000))","v":""}]
["1336 台翰","李嘉和          李嘉和",0,"李嘉和",null,null,null,null,null,null,null,null,null,null,{"$f":"IFERROR(VLOOKUP(K1765,股價!A:B,2,0)*M1765,\"\")","v":""},{"$f":"IF(O1765=\"\",\"\",RANK(O1765,$O$2:$O$1000))","v":""}]
["1336 台翰","周永彬          周永彬",2198,"周永彬",null,null,null,null,null,null,null,null,null,null,{"$f":"IFERROR(VLOOKUP(K1766,股價!A:B,2,0)*M1766,\"\")","v":""},{"$f":"IF(O1766=\"\",\"\",RANK(O1766,$O$2:$O$1000))","v":""}]
["1336 台翰","林俊儀          林俊儀",0,"林俊儀",null,null,null,null,null,null,null,null,null,null,{"$f":"IFERROR(VLOOKUP(K1767,股價!A:B,2,0)*M1767,\"\")","v":""},{"$f":"IF(O1767=\"\",\"\",RANK(O1767,$O$2:$O$1000))","v":""}]
["1336 台翰","宣德科技(股)    李嘉和",22599,"宣德科技",null,null,null,null,null,null,null,null,null,null,{"$f":"IFERROR(VLOOKUP(K1768,股價!A:B,2,0)*M1768,\"\")","v":""},{"$f":"IF(O1768=\"\",\"\",RANK(O1768,$O$2:$O$1000))","v":""}]
["1336 台翰","宣德科技(股)    張誌仁",22599,"宣德科技",null,null,null,null,null,null,null,null,null,null,{"$f":"IFERROR(VLOOKUP(K1769,股價!A:B,2,0)*M1769,\"\")","v":""},{"$f":"IF(O1769=\"\",\"\",RANK(O1769,$O$2:$O$1000))","v":""}]
["1336 台翰","宣德科技(股)    蔡鎮隆",22599,"宣德科技",null,null,null,null,null,null,null,null,null,null,{"$f":"IFERROR(VLOOKUP(K1770,股價!A:B,2,0)*M1770,\"\")","v":""},{"$f":"IF(O1770=\"\",\"\",RANK(O1770,$O$2:$O$1000))","v":""}]
["1336 台翰","昱廣投資(有)    楊劍平",3202,"昱廣投資",null,null,null,null,null,null,null,null,null,null,{"$f":"IFERROR(VLOOKUP(K1771,股價!A:B,2,0)*M1771,\"\")","v":""},{"$f":"IF(O1771=\"\",\"\",RANK(O1771,$O$2:$O$1000))","v":""}]
["1336 台翰","張誌仁          張誌仁",0,"張誌仁",null,null,null,null,null,null,null,null,null,null,{"$f":"IFERROR(VLOOKUP(K1772,股價!A:B,2,0)*M1772,\"\")","v":""},{"$f":"IF(O1772=\"\",\"\",RANK(O1772,$O$2:$O$1000))","v":""}]
["1336 台翰","莊偉民          莊偉民",0,"莊偉民",null,null,null,null,null,null,null,null,null,null,{"$f":"IFERROR(VLOOKUP(K1773,股價!A:B,2,0)*M1773,\"\")","v":""},{"$f":"IF(O1773=\"\",\"\",RANK(O1773,$O$2:$O$1000))","v":""}]
["1336 台翰","許月雲          許月雲",1355,"許月雲",null,null,null,null,null,null,null,null,null,null,{"$f":"IFERROR(VLOOKUP(K1774,股價!A:B,2,0)*M1774,\"\")","v":""},{"$f":"IF(O1774=\"\",\"\",RANK(O1774,$O$2:$O$1000))","v":""}]
["1336 台翰","陳正文          陳正文",0,"陳正文",null,null,null,null,null,null,null,null,null,null,{"$f":"IFERROR(VLOOKUP(K1775,股價!A:B,2,0)*M1775,\"\")","v":""},{"$f":"IF(O1775=\"\",\"\",RANK(O1775,$O$2:$O$1000))","v":""}]
["1336 台翰","陳怡萍          陳怡萍",40,"陳怡萍",null,null,null,null,null,null,null,null,null,null,{"$f":"IFERROR(VLOOKUP(K1776,股價!A:B,2,0)*M1776,\"\")","v":""},{"$f":"IF(O1776=\"\",\"\",RANK(O1776,$O$2:$O$1000))","v":""}]
["1336 台翰","陳金鐘          陳金鐘",112,"陳金鐘",null,null,null,null,null,null,null,null,null,null,{"$f":"IFERROR(VLOOKUP(K1777,股價!A:B,2,0)*M1777,\"\")","v":""},{"$f":"IF(O1777=\"\",\"\",RANK(O1777,$O$2:$O$1000))","v":""}]
["1336 台翰","陳泰正          陳泰正",1749,"陳泰正",null,null,null,null,null,null,null,null,null,null,{"$f":"IFERROR(VLOOKUP(K1778,股價!A:B,2,0)*M1778,\"\")","v":""},{"$f":"IF(O1778=\"\",\"\",RANK(O1778,$O$2:$O$1000))","v":""}]
["1336 台翰","黃小凌          黃小凌",37,"黃小凌",null,null,null,null,null,null,null,null,null,null,{"$f":"IFERROR(VLOOKUP(K1779,股價!A:B,2,0)*M1779,\"\")","v":""},{"$f":"IF(O1779=\"\",\"\",RANK(O1779,$O$2:$O$1000))","v":""}]
["1336 台翰","楊劍平          楊劍平",670,"楊劍平",null,null,null,null,null,null,null,null,null,null,{"$f":"IFERROR(VLOOKUP(K1780,股價!A:B,2,0)*M1780,\"\")","v":""},{"$f":"IF(O1780=\"\",\"\",RANK(O1780,$O$2:$O$1000))","v":""}]
["1336 台翰","蔡鎮隆          蔡鎮隆",805,"蔡鎮隆",null,null,null,null,null,null,null,null,null,null,{"$f":"IFERROR(VLOOKUP(K1781,股價!A:B,2,0)*M1781,\"\")","v":""},{"$f":"IF(O1781=\"\",\"\",RANK(O1781,$O$2:$O$1000))","v":""}]
["1336 台翰","樹東企業(股)    蔡邵宜",1000,"樹東企業",null,null,null,null,null,null,null,null,null,null,{"$f":"IFERROR(VLOOKUP(K1782,股價!A:B,2,0)*M1782,\"\")","v":""},{"$f":"IF(O1782=\"\",\"\",RANK(O1782,$O$2:$O$1000))","v":""}]
["1336 台翰","鑫銨投資(有)    鑫銨投資(有)",10,"鑫銨投資有限公司",null,null,null,null,null,null,null,null,null,null,{"$f":"IFERROR(VLOOKUP(K1783,股價!A:B,2,0)*M1783,\"\")","v":""},{"$f":"IF(O1783=\"\",\"\",RANK(O1783,$O$2:$O$1000))","v":""}]
["1336 台翰","鑫鋒投資(有)    鑫鋒投資(有)",1090,"鑫鋒投資有限公司",null,null,null,null,null,null,null,null,null,null,{"$f":"IFERROR(VLOOKUP(K1784,股價!A:B,2,0)*M1784,\"\")","v":""},{"$f":"IF(O1784=\"\",\"\",RANK(O1784,$O$2:$O$1000))","v":""}]
["1337 再生-KY","Ding Holding(有)丁金礦",38888,"Ding Holding Limited",null,null,null,null,null,null,null,null,null,null,{"$f":"IFERROR(VLOOKUP(K1785,股價!A:B,2,0)*M1785,\"\")","v":""},{"$f":"IF(O1785=\"\",\"\",RANK(O1785,$O$2:$O$1000))","v":""}]
["1337 再生-KY","_大股東合計1",0,null,null,null,null,null,null,null,null,null,null,null,{"$f":"IFERROR(VLOOKUP(K1786,股價!A:B,2,0)*M1786,\"\")","v":""},{"$f":"IF(O1786=\"\",\"\",RANK(O1786,$O$2:$O$1000))","v":""}]
["1337 再生-KY","_大股東合計2    含沿用資料",40037,null,null,null,null,null,null,null,null,null,null,null,{"$f":"IFERROR(VLOOKUP(K1787,股價!A:B,2,0)*M1787,\"\")","v":""},{"$f":"IF(O1787=\"\",\"\",RANK(O1787,$O$2:$O$1000))","v":""}]
["1337 再生-KY","_經理人合計",1,null,null,null,null,null,null,null,null,null,null,null,{"$f":"IFERROR(VLOOKUP(K1788,股價!A:B,2,0)*M1788,\"\")","v":""},{"$f":"IF(O1788=\"\",\"\",RANK(O1788,$O$2:$O$1000))","v":""}]
["1337 再生-KY","_董  事合計",38888,null,null,null,null,null,null,null,null,null,null,null,{"$f":"IFERROR(VLOOKUP(K1789,股價!A:B,2,0)*M1789,\"\")","v":""},{"$f":"IF(O1789=\"\",\"\",RANK(O1789,$O$2:$O$1000))","v":""}]
["1337 再生-KY","_董監事合計",38888,null,null,null,null,null,null,null,null,null,null,null,{"$f":"IFERROR(VLOOKUP(K1790,股價!A:B,2,0)*M1790,\"\")","v":""},{"$f":"IF(O1790=\"\",\"\",RANK(O1790,$O$2:$O$1000))","v":""}]
["1337 再生-KY","_監察人合計",0,null,null,null,null,null,null,null,null,null,null,null,{"$f":"IFERROR(VLOOKUP(K1791,股價!A:B,2,0)*M1791,\"\")","v":""},{"$f":"IF(O1791=\"\",\"\",RANK(O1791,$O$2:$O$1000))","v":""}]
["1337 再生-KY","丁志猛          丁志猛",0,"丁志猛",null,null,null,null,null,null,null,null,null,null,{"$f":"IFERROR(VLOOKUP(K1792,股價!A:B,2,0)*M1792,\"\")","v":""},{"$f":"IF(O1792=\"\",\"\",RANK(O1792,$O$2:$O$1000))","v":""}]
["1337 再生-KY","丁金山          丁金山",0,"丁金山",null,null,null,null,null,null,null,null,null,null,{"$f":"IFERROR(VLOOKUP(K1793,股價!A:B,2,0)*M1793,\"\")","v":""},{"$f":"IF(O1793=\"\",\"\",RANK(O1793,$O$2:$O$1000))","v":""}]
["1337 再生-KY","丁金造          丁金造",15993,"丁金造",null,null,null,null,null,null,null,null,null,null,{"$f":"IFERROR(VLOOKUP(K1794,股價!A:B,2,0)*M1794,\"\")","v":""},{"$f":"IF(O1794=\"\",\"\",RANK(O1794,$O$2:$O$1000))","v":""}]
["1337 再生-KY","丁金礦          丁金礦",0,"丁金礦",null,null,null,null,null,null,null,null,null,null,{"$f":"IFERROR(VLOOKUP(K1795,股價!A:B,2,0)*M1795,\"\")","v":""},{"$f":"IF(O1795=\"\",\"\",RANK(O1795,$O$2:$O$1000))","v":""}]
["1337 再生-KY","王維民          王維民",0,"王維民",null,null,null,null,null,null,null,null,null,null,{"$f":"IFERROR(VLOOKUP(K1796,股價!A:B,2,0)*M1796,\"\")","v":""},{"$f":"IF(O1796=\"\",\"\",RANK(O1796,$O$2:$O$1000))","v":""}]
["1337 再生-KY","李俊德          李俊德",0,"李俊德",null,null,null,null,null,null,null,null,null,null,{"$f":"IFERROR(VLOOKUP(K1797,股價!A:B,2,0)*M1797,\"\")","v":""},{"$f":"IF(O1797=\"\",\"\",RANK(O1797,$O$2:$O$1000))","v":""}]
["1337 再生-KY","李璠            李璠",0,"李璠",null,null,null,null,null,null,null,null,null,null,{"$f":"IFERROR(VLOOKUP(K1798,股價!A:B,2,0)*M1798,\"\")","v":""},{"$f":"IF(O1798=\"\",\"\",RANK(O1798,$O$2:$O$1000))","v":""}]
["1337 再生-KY","林高木          林高木",1500,"林高木",null,null,null,null,null,null,null,null,null,null,{"$f":"IFERROR(VLOOKUP(K1799,股價!A:B,2,0)*M1799,\"\")","v":""},{"$f":"IF(O1799=\"\",\"\",RANK(O1799,$O$2:$O$1000))","v":""}]
["1337 再生-KY","徐世傑          徐世傑",1480,"徐世傑",null,null,null,null,null,null,null,null,null,null,{"$f":"IFERROR(VLOOKUP(K1800,股價!A:B,2,0)*M1800,\"\")","v":""},{"$f":"IF(O1800=\"\",\"\",RANK(O1800,$O$2:$O$1000))","v":""}]
["1337 再生-KY","徐航健          徐航健",2568,"徐航健",null,null,null,null,null,null,null,null,null,null,{"$f":"IFERROR(VLOOKUP(K1801,股價!A:B,2,0)*M1801,\"\")","v":""},{"$f":"IF(O1801=\"\",\"\",RANK(O1801,$O$2:$O$1000))","v":""}]
["1337 再生-KY","張輝群          張輝群",0,"張輝群",null,null,null,null,null,null,null,null,null,null,{"$f":"IFERROR(VLOOKUP(K1802,股價!A:B,2,0)*M1802,\"\")","v":""},{"$f":"IF(O1802=\"\",\"\",RANK(O1802,$O$2:$O$1000))","v":""}]
["1337 再生-KY","張鐸鐘          張鐸鐘",0,"張鐸鐘",null,null,null,null,null,null,null,null,null,null,{"$f":"IFERROR(VLOOKUP(K1803,股價!A:B,2,0)*M1803,\"\")","v":""},{"$f":"IF(O1803=\"\",\"\",RANK(O1803,$O$2:$O$1000))","v":""}]
["1337 再生-KY","郭廷群          郭廷群",1952,"郭廷群",null,null,null,null,null,null,null,null,null,null,{"$f":"IFERROR(VLOOKUP(K1804,股價!A:B,2,0)*M1804,\"\")","v":""},{"$f":"IF(O1804=\"\",\"\",RANK(O1804,$O$2:$O$1000))","v":""}]
["1337 再生-KY","曾明秀          曾明秀",2232,"曾明秀",null,null,null,null,null,null,null,null,null,null,{"$f":"IFERROR(VLOOKUP(K1805,股價!A:B,2,0)*M1805,\"\")","v":""},{"$f":"IF(O1805=\"\",\"\",RANK(O1805,$O$2:$O$1000))","v":""}]
["1337 再生-KY","渣打託管總價    渣打託管總價",1688,"渣打託管總價基金",null,null,null,null,null,null,null,null,null,null,{"$f":"IFERROR(VLOOKUP(K1806,股價!A:B,2,0)*M1806,\"\")","v":""},{"$f":"IF(O1806=\"\",\"\",RANK(O1806,$O$2:$O$1000))","v":""}]
["1337 再生-KY","廖正品          廖正品",0,"廖正品",null,null,null,null,null,null,null,null,null,null,{"$f":"IFERROR(VLOOKUP(K1807,股價!A:B,2,0)*M1807,\"\")","v":""},{"$f":"IF(O1807=\"\",\"\",RANK(O1807,$O$2:$O$1000))","v":""}]
["1337 再生-KY","歐淑卿          歐淑卿",6054,"歐淑卿",null,null,null,null,null,null,null,null,null,null,{"$f":"IFERROR(VLOOKUP(K1808,股價!A:B,2,0)*M1808,\"\")","v":""},{"$f":"IF(O1808=\"\",\"\",RANK(O1808,$O$2:$O$1000))","v":""}]
["1337 再生-KY","鄭金鴻          鄭金鴻",6570,"鄭金鴻",null,null,null,null,null,null,null,null,null,null,{"$f":"IFERROR(VLOOKUP(K1809,股價!A:B,2,0)*M1809,\"\")","v":""},{"$f":"IF(O1809=\"\",\"\",RANK(O1809,$O$2:$O$1000))","v":""}]
["1337 再生-KY","薛又瑋          薛又瑋",1,"薛又瑋",null,null,null,null,null,null,null,null,null,null,{"$f":"IFERROR(VLOOKUP(K1810,股價!A:B,2,0)*M1810,\"\")","v":""},{"$f":"IF(O1810=\"\",\"\",RANK(O1810,$O$2:$O$1000))","v":""}]
["1338 廣華-KY","_大股東合計1",0,null,null,null,null,null,null,null,null,null,null,null,{"$f":"IFERROR(VLOOKUP(K1811,股價!A:B,2,0)*M1811,\"\")","v":""},{"$f":"IF(O1811=\"\",\"\",RANK(O1811,$O$2:$O$1000))","v":""}]
["1338 廣華-KY","_大股東合計2    含沿用資料",16181,null,null,null,null,null,null,null,null,null,null,null,{"$f":"IFERROR(VLOOKUP(K1812,股價!A:B,2,0)*M1812,\"\")","v":""},{"$f":"IF(O1812=\"\",\"\",RANK(O1812,$O$2:$O$1000))","v":""}]
["1338 廣華-KY","_經理人合計",767,null,null,null,null,null,null,null,null,null,null,null,{"$f":"IFERROR(VLOOKUP(K1813,股價!A:B,2,0)*M1813,\"\")","v":""},{"$f":"IF(O1813=\"\",\"\",RANK(O1813,$O$2:$O$1000))","v":""}]
["1338 廣華-KY","_董  事合計",14498,null,null,null,null,null,null,null,null,null,null,null,{"$f":"IFERROR(VLOOKUP(K1814,股價!A:B,2,0)*M1814,\"\")","v":""},{"$f":"IF(O1814=\"\",\"\",RANK(O1814,$O$2:$O$1000))","v":""}]
["1338 廣華-KY","_董監事合計",14498,null,null,null,null,null,null,null,null,null,null,null,{"$f":"IFERROR(VLOOKUP(K1815,股價!A:B,2,0)*M1815,\"\")","v":""},{"$f":"IF(O1815=\"\",\"\",RANK(O1815,$O$2:$O$1000))","v":""}]
["1338 廣華-KY","_監察人合計",0,null,null,null,null,null,null,null,null,null,null,null,{"$f":"IFERROR(VLOOKUP(K1816,股價!A:B,2,0)*M1816,\"\")","v":""},{"$f":"IF(O1816=\"\",\"\",RANK(O1816,$O$2:$O$1000))","v":""}]
["1338 廣華-KY","孔祥旭          孔祥旭",0,"孔祥旭",null,null,null,null,null,null,null,null,null,null,{"$f":"IFERROR(VLOOKUP(K1817,股價!A:B,2,0)*M1817,\"\")","v":""},{"$f":"IF(O1817=\"\",\"\",RANK(O1817,$O$2:$O$1000))","v":""}]
["1338 廣華-KY","王曉軍          王曉軍",0,"王曉軍",null,null,null,null,null,null,null,null,null,null,{"$f":"IFERROR(VLOOKUP(K1818,股價!A:B,2,0)*M1818,\"\")","v":""},{"$f":"IF(O1818=\"\",\"\",RANK(O1818,$O$2:$O$1000))","v":""}]
["1338 廣華-KY","古明浚          古明浚",0,"古明浚",null,null,null,null,null,null,null,null,null,null,{"$f":"IFERROR(VLOOKUP(K1819,股價!A:B,2,0)*M1819,\"\")","v":""},{"$f":"IF(O1819=\"\",\"\",RANK(O1819,$O$2:$O$1000))","v":""}]
["1338 廣華-KY","市川秀幸        市川秀幸",0,"市川秀幸",null,null,null,null,null,null,null,null,null,null,{"$f":"IFERROR(VLOOKUP(K1820,股價!A:B,2,0)*M1820,\"\")","v":""},{"$f":"IF(O1820=\"\",\"\",RANK(O1820,$O$2:$O$1000))","v":""}]
["1338 廣華-KY","全球人壽保險(股)全球人壽保險",1320,"全球人壽保險",null,null,null,null,null,null,null,null,null,null,{"$f":"IFERROR(VLOOKUP(K1821,股價!A:B,2,0)*M1821,\"\")","v":""},{"$f":"IF(O1821=\"\",\"\",RANK(O1821,$O$2:$O$1000))","v":""}]
["1338 廣華-KY","余澤民          余澤民",13888,"余澤民",null,null,null,null,null,null,null,null,null,null,{"$f":"IFERROR(VLOOKUP(K1822,股價!A:B,2,0)*M1822,\"\")","v":""},{"$f":"IF(O1822=\"\",\"\",RANK(O1822,$O$2:$O$1000))","v":""}]
["1338 廣華-KY","利得升集團(有)  利得升集團(",2719,"利得升集團",null,null,null,null,null,null,null,null,null,null,{"$f":"IFERROR(VLOOKUP(K1823,股價!A:B,2,0)*M1823,\"\")","v":""},{"$f":"IF(O1823=\"\",\"\",RANK(O1823,$O$2:$O$1000))","v":""}]
["1338 廣華-KY","沈朝俊          沈朝俊",0,"沈朝俊",null,null,null,null,null,null,null,null,null,null,{"$f":"IFERROR(VLOOKUP(K1824,股價!A:B,2,0)*M1824,\"\")","v":""},{"$f":"IF(O1824=\"\",\"\",RANK(O1824,$O$2:$O$1000))","v":""}]
["1338 廣華-KY","林昇聖          林昇聖",0,"林昇聖",null,null,null,null,null,null,null,null,null,null,{"$f":"IFERROR(VLOOKUP(K1825,股價!A:B,2,0)*M1825,\"\")","v":""},{"$f":"IF(O1825=\"\",\"\",RANK(O1825,$O$2:$O$1000))","v":""}]
["1338 廣華-KY","林梅英          林梅英",1351,"林梅英",null,null,null,null,null,null,null,null,null,null,{"$f":"IFERROR(VLOOKUP(K1826,股價!A:B,2,0)*M1826,\"\")","v":""},{"$f":"IF(O1826=\"\",\"\",RANK(O1826,$O$2:$O$1000))","v":""}]
["1338 廣華-KY","林添發          林添發",935,"林添發",null,null,null,null,null,null,null,null,null,null,{"$f":"IFERROR(VLOOKUP(K1827,股價!A:B,2,0)*M1827,\"\")","v":""},{"$f":"IF(O1827=\"\",\"\",RANK(O1827,$O$2:$O$1000))","v":""}]
["1338 廣華-KY","昭輝實業(股)    昭輝實業(股)",1298,"昭輝實業",null,null,null,null,null,null,null,null,null,null,{"$f":"IFERROR(VLOOKUP(K1828,股價!A:B,2,0)*M1828,\"\")","v":""},{"$f":"IF(O1828=\"\",\"\",RANK(O1828,$O$2:$O$1000))","v":""}]
["1338 廣華-KY","張家祥          張家祥",581,"張家祥",null,null,null,null,null,null,null,null,null,null,{"$f":"IFERROR(VLOOKUP(K1829,股價!A:B,2,0)*M1829,\"\")","v":""},{"$f":"IF(O1829=\"\",\"\",RANK(O1829,$O$2:$O$1000))","v":""}]
["1338 廣華-KY","莊吳釧          莊吳釧",746,"莊吳釧",null,null,null,null,null,null,null,null,null,null,{"$f":"IFERROR(VLOOKUP(K1830,股價!A:B,2,0)*M1830,\"\")","v":""},{"$f":"IF(O1830=\"\",\"\",RANK(O1830,$O$2:$O$1000))","v":""}]
["1338 廣華-KY","陳乃榮          陳乃榮",0,"陳乃榮",null,null,null,null,null,null,null,null,null,null,{"$f":"IFERROR(VLOOKUP(K1831,股價!A:B,2,0)*M1831,\"\")","v":""},{"$f":"IF(O1831=\"\",\"\",RANK(O1831,$O$2:$O$1000))","v":""}]
["1338 廣華-KY","陳瑞昇          陳瑞昇",0,"陳瑞昇",null,null,null,null,null,null,null,null,null,null,{"$f":"IFERROR(VLOOKUP(K1832,股價!A:B,2,0)*M1832,\"\")","v":""},{"$f":"IF(O1832=\"\",\"\",RANK(O1832,$O$2:$O$1000))","v":""}]
["1338 廣華-KY","富邦人壽保險(股)富邦人壽保險",1725,"富邦人壽保險",null,null,null,null,null,null,null,null,null,null,{"$f":"IFERROR(VLOOKUP(K1833,股價!A:B,2,0)*M1833,\"\")","v":""},{"$f":"IF(O1833=\"\",\"\",RANK(O1833,$O$2:$O$1000))","v":""}]
["1338 廣華-KY","程惠敏          程惠敏",4696,"程惠敏",null,null,null,null,null,null,null,null,null,null,{"$f":"IFERROR(VLOOKUP(K1834,股價!A:B,2,0)*M1834,\"\")","v":""},{"$f":"IF(O1834=\"\",\"\",RANK(O1834,$O$2:$O$1000))","v":""}]
["1338 廣華-KY","黃正園          黃正園",1240,"黃正園",null,null,null,null,null,null,null,null,null,null,{"$f":"IFERROR(VLOOKUP(K1835,股價!A:B,2,0)*M1835,\"\")","v":""},{"$f":"IF(O1835=\"\",\"\",RANK(O1835,$O$2:$O$1000))","v":""}]
["1338 廣華-KY","黃宗元          黃宗元",897,"黃宗元",null,null,null,null,null,null,null,null,null,null,{"$f":"IFERROR(VLOOKUP(K1836,股價!A:B,2,0)*M1836,\"\")","v":""},{"$f":"IF(O1836=\"\",\"\",RANK(O1836,$O$2:$O$1000))","v":""}]
["1338 廣華-KY","黃建中          黃建中",29,"黃建中",null,null,null,null,null,null,null,null,null,null,{"$f":"IFERROR(VLOOKUP(K1837,股價!A:B,2,0)*M1837,\"\")","v":""},{"$f":"IF(O1837=\"\",\"\",RANK(O1837,$O$2:$O$1000))","v":""}]
["1338 廣華-KY","黃盛昌          黃盛昌",21,"黃盛昌",null,null,null,null,null,null,null,null,null,null,{"$f":"IFERROR(VLOOKUP(K1838,股價!A:B,2,0)*M1838,\"\")","v":""},{"$f":"IF(O1838=\"\",\"\",RANK(O1838,$O$2:$O$1000))","v":""}]
["1338 廣華-KY","歐陽弘          歐陽弘",0,"歐陽弘",null,null,null,null,null,null,null,null,null,null,{"$f":"IFERROR(VLOOKUP(K1839,股價!A:B,2,0)*M1839,\"\")","v":""},{"$f":"IF(O1839=\"\",\"\",RANK(O1839,$O$2:$O$1000))","v":""}]
["1338 廣華-KY","羅財敬          羅財敬",0,"羅財敬",null,null,null,null,null,null,null,null,null,null,{"$f":"IFERROR(VLOOKUP(K1840,股價!A:B,2,0)*M1840,\"\")","v":""},{"$f":"IF(O1840=\"\",\"\",RANK(O1840,$O$2:$O$1000))","v":""}]
["1339 昭輝","_大股東合計1",1098,null,null,null,null,null,null,null,null,null,null,null,{"$f":"IFERROR(VLOOKUP(K1841,股價!A:B,2,0)*M1841,\"\")","v":""},{"$f":"IF(O1841=\"\",\"\",RANK(O1841,$O$2:$O$1000))","v":""}]
["1339 昭輝","_大股東合計2    含沿用資料",15519,null,null,null,null,null,null,null,null,null,null,null,{"$f":"IFERROR(VLOOKUP(K1842,股價!A:B,2,0)*M1842,\"\")","v":""},{"$f":"IF(O1842=\"\",\"\",RANK(O1842,$O$2:$O$1000))","v":""}]
["1339 昭輝","_經理人合計",1388,null,null,null,null,null,null,null,null,null,null,null,{"$f":"IFERROR(VLOOKUP(K1843,股價!A:B,2,0)*M1843,\"\")","v":""},{"$f":"IF(O1843=\"\",\"\",RANK(O1843,$O$2:$O$1000))","v":""}]
["1339 昭輝","_董  事合計",32529,null,null,null,null,null,null,null,null,null,null,null,{"$f":"IFERROR(VLOOKUP(K1844,股價!A:B,2,0)*M1844,\"\")","v":""},{"$f":"IF(O1844=\"\",\"\",RANK(O1844,$O$2:$O$1000))","v":""}]
["1339 昭輝","_董監事合計",32529,null,null,null,null,null,null,null,null,null,null,null,{"$f":"IFERROR(VLOOKUP(K1845,股價!A:B,2,0)*M1845,\"\")","v":""},{"$f":"IF(O1845=\"\",\"\",RANK(O1845,$O$2:$O$1000))","v":""}]
["1339 昭輝","_監察人合計",0,null,null,null,null,null,null,null,null,null,null,null,{"$f":"IFERROR(VLOOKUP(K1846,股價!A:B,2,0)*M1846,\"\")","v":""},{"$f":"IF(O1846=\"\",\"\",RANK(O1846,$O$2:$O$1000))","v":""}]
["1339 昭輝","大群國際(股)    林睿澤",1173,"大群國際",null,null,null,null,null,null,null,null,null,null,{"$f":"IFERROR(VLOOKUP(K1847,股價!A:B,2,0)*M1847,\"\")","v":""},{"$f":"IF(O1847=\"\",\"\",RANK(O1847,$O$2:$O$1000))","v":""}]
["1339 昭輝","子群國際(股)    黃若甯",1234,"子群國際",null,null,null,null,null,null,null,null,null,null,{"$f":"IFERROR(VLOOKUP(K1848,股價!A:B,2,0)*M1848,\"\")","v":""},{"$f":"IF(O1848=\"\",\"\",RANK(O1848,$O$2:$O$1000))","v":""}]
["1339 昭輝","田介昌          田介昌",0,"田介昌",null,null,null,null,null,null,null,null,null,null,{"$f":"IFERROR(VLOOKUP(K1849,股價!A:B,2,0)*M1849,\"\")","v":""},{"$f":"IF(O1849=\"\",\"\",RANK(O1849,$O$2:$O$1000))","v":""}]
["1339 昭輝","禾翰投資(股)    林昊辰",7587,"禾翰投資",null,null,null,null,null,null,null,null,null,null,{"$f":"IFERROR(VLOOKUP(K1850,股價!A:B,2,0)*M1850,\"\")","v":""},{"$f":"IF(O1850=\"\",\"\",RANK(O1850,$O$2:$O$1000))","v":""}]
["1339 昭輝","宏願投資(有)    宏願投資(有)",1262,"宏願投資",null,null,null,null,null,null,null,null,null,null,{"$f":"IFERROR(VLOOKUP(K1851,股價!A:B,2,0)*M1851,\"\")","v":""},{"$f":"IF(O1851=\"\",\"\",RANK(O1851,$O$2:$O$1000))","v":""}]
["1339 昭輝","昊群投資開發(股)林詩芸",11791,"昊群投資開發",null,null,null,null,null,null,null,null,null,null,{"$f":"IFERROR(VLOOKUP(K1852,股價!A:B,2,0)*M1852,\"\")","v":""},{"$f":"IF(O1852=\"\",\"\",RANK(O1852,$O$2:$O$1000))","v":""}]
["1339 昭輝","林宜宏          林宜宏",1307,"林宜宏",null,null,null,null,null,null,null,null,null,null,{"$f":"IFERROR(VLOOKUP(K1853,股價!A:B,2,0)*M1853,\"\")","v":""},{"$f":"IF(O1853=\"\",\"\",RANK(O1853,$O$2:$O$1000))","v":""}]
["1339 昭輝","林昊辰          林昊辰",1194,"林昊辰",null,null,null,null,null,null,null,null,null,null,{"$f":"IFERROR(VLOOKUP(K1854,股價!A:B,2,0)*M1854,\"\")","v":""},{"$f":"IF(O1854=\"\",\"\",RANK(O1854,$O$2:$O$1000))","v":""}]
["1339 昭輝","林詩芸          林詩芸",1098,"林詩芸",null,null,null,null,null,null,null,null,null,null,{"$f":"IFERROR(VLOOKUP(K1855,股價!A:B,2,0)*M1855,\"\")","v":""},{"$f":"IF(O1855=\"\",\"\",RANK(O1855,$O$2:$O$1000))","v":""}]
["1339 昭輝","林睿澤          林睿澤",1373,"林睿澤",null,null,null,null,null,null,null,null,null,null,{"$f":"IFERROR(VLOOKUP(K1856,股價!A:B,2,0)*M1856,\"\")","v":""},{"$f":"IF(O1856=\"\",\"\",RANK(O1856,$O$2:$O$1000))","v":""}]
["1339 昭輝","松群投資開發(股)劉淑梅",10731,"松群投資開發",null,null,null,null,null,null,null,null,null,null,{"$f":"IFERROR(VLOOKUP(K1857,股價!A:B,2,0)*M1857,\"\")","v":""},{"$f":"IF(O1857=\"\",\"\",RANK(O1857,$O$2:$O$1000))","v":""}]
["1339 昭輝","皇凱投資(有)    皇凱投資(有)",5792,"皇凱投資",null,null,null,null,null,null,null,null,null,null,{"$f":"IFERROR(VLOOKUP(K1858,股價!A:B,2,0)*M1858,\"\")","v":""},{"$f":"IF(O1858=\"\",\"\",RANK(O1858,$O$2:$O$1000))","v":""}]
["1339 昭輝","張國華          張國華",0,"張國華",null,null,null,null,null,null,null,null,null,null,{"$f":"IFERROR(VLOOKUP(K1859,股價!A:B,2,0)*M1859,\"\")","v":""},{"$f":"IF(O1859=\"\",\"\",RANK(O1859,$O$2:$O$1000))","v":""}]
["1339 昭輝","郭金鳳          郭金鳳",13,"郭金鳳",null,null,null,null,null,null,null,null,null,null,{"$f":"IFERROR(VLOOKUP(K1860,股價!A:B,2,0)*M1860,\"\")","v":""},{"$f":"IF(O1860=\"\",\"\",RANK(O1860,$O$2:$O$1000))","v":""}]
["1339 昭輝","陳家榮          陳家榮",0,"陳家榮",null,null,null,null,null,null,null,null,null,null,{"$f":"IFERROR(VLOOKUP(K1861,股價!A:B,2,0)*M1861,\"\")","v":""},{"$f":"IF(O1861=\"\",\"\",RANK(O1861,$O$2:$O$1000))","v":""}]
["1339 昭輝","黃若甯          黃若甯",0,"黃若甯",null,null,null,null,null,null,null,null,null,null,{"$f":"IFERROR(VLOOKUP(K1862,股價!A:B,2,0)*M1862,\"\")","v":""},{"$f":"IF(O1862=\"\",\"\",RANK(O1862,$O$2:$O$1000))","v":""}]
["1339 昭輝","黃鴻隆          黃鴻隆",0,"黃鴻隆",null,null,null,null,null,null,null,null,null,null,{"$f":"IFERROR(VLOOKUP(K1863,股價!A:B,2,0)*M1863,\"\")","v":""},{"$f":"IF(O1863=\"\",\"\",RANK(O1863,$O$2:$O$1000))","v":""}]
["1339 昭輝","劉淑梅          劉淑梅",15,"劉淑梅",null,null,null,null,null,null,null,null,null,null,{"$f":"IFERROR(VLOOKUP(K1864,股價!A:B,2,0)*M1864,\"\")","v":""},{"$f":"IF(O1864=\"\",\"\",RANK(O1864,$O$2:$O$1000))","v":""}]
["1339 昭輝","儒翰投資(有)    儒翰投資(有)",5964,"儒翰投資",null,null,null,null,null,null,null,null,null,null,{"$f":"IFERROR(VLOOKUP(K1865,股價!A:B,2,0)*M1865,\"\")","v":""},{"$f":"IF(O1865=\"\",\"\",RANK(O1865,$O$2:$O$1000))","v":""}]
["1339 昭輝","謝龍發          謝龍發",0,"謝龍發",null,null,null,null,null,null,null,null,null,null,{"$f":"IFERROR(VLOOKUP(K1866,股價!A:B,2,0)*M1866,\"\")","v":""},{"$f":"IF(O1866=\"\",\"\",RANK(O1866,$O$2:$O$1000))","v":""}]
["1340 勝悅-KY","_大股東合計1",0,null,null,null,null,null,null,null,null,null,null,null,{"$f":"IFERROR(VLOOKUP(K1867,股價!A:B,2,0)*M1867,\"\")","v":""},{"$f":"IF(O1867=\"\",\"\",RANK(O1867,$O$2:$O$1000))","v":""}]
["1340 勝悅-KY","_大股東合計2    含沿用資料",46571,null,null,null,null,null,null,null,null,null,null,null,{"$f":"IFERROR(VLOOKUP(K1868,股價!A:B,2,0)*M1868,\"\")","v":""},{"$f":"IF(O1868=\"\",\"\",RANK(O1868,$O$2:$O$1000))","v":""}]
["1340 勝悅-KY","_經理人合計",0,null,null,null,null,null,null,null,null,null,null,null,{"$f":"IFERROR(VLOOKUP(K1869,股價!A:B,2,0)*M1869,\"\")","v":""},{"$f":"IF(O1869=\"\",\"\",RANK(O1869,$O$2:$O$1000))","v":""}]
["1340 勝悅-KY","_董  事合計",0,null,null,null,null,null,null,null,null,null,null,null,{"$f":"IFERROR(VLOOKUP(K1870,股價!A:B,2,0)*M1870,\"\")","v":""},{"$f":"IF(O1870=\"\",\"\",RANK(O1870,$O$2:$O$1000))","v":""}]
["1340 勝悅-KY","_董監事合計",0,null,null,null,null,null,null,null,null,null,null,null,{"$f":"IFERROR(VLOOKUP(K1871,股價!A:B,2,0)*M1871,\"\")","v":""},{"$f":"IF(O1871=\"\",\"\",RANK(O1871,$O$2:$O$1000))","v":""}]
["1340 勝悅-KY","_監察人合計",0,null,null,null,null,null,null,null,null,null,null,null,{"$f":"IFERROR(VLOOKUP(K1872,股價!A:B,2,0)*M1872,\"\")","v":""},{"$f":"IF(O1872=\"\",\"\",RANK(O1872,$O$2:$O$1000))","v":""}]
["1340 勝悅-KY","大通摩根證券    大通摩根證券",610,"美商摩根大通銀行台北分行受託保管JP摩根證券",null,null,null,null,null,null,null,null,null,null,{"$f":"IFERROR(VLOOKUP(K1873,股價!A:B,2,0)*M1873,\"\")","v":""},{"$f":"IF(O1873=\"\",\"\",RANK(O1873,$O$2:$O$1000))","v":""}]
["1340 勝悅-KY","王文苓          王文苓",7775,"王文苓",null,null,null,null,null,null,null,null,null,null,{"$f":"IFERROR(VLOOKUP(K1874,股價!A:B,2,0)*M1874,\"\")","v":""},{"$f":"IF(O1874=\"\",\"\",RANK(O1874,$O$2:$O$1000))","v":""}]
["1340 勝悅-KY","成悅投資(股)    成悅投資(股)",27501,"成悅投資",null,null,null,null,null,null,null,null,null,null,{"$f":"IFERROR(VLOOKUP(K1875,股價!A:B,2,0)*M1875,\"\")","v":""},{"$f":"IF(O1875=\"\",\"\",RANK(O1875,$O$2:$O$1000))","v":""}]
["1340 勝悅-KY","朱陳一慧        朱陳一慧",2550,"朱陳一慧",null,null,null,null,null,null,null,null,null,null,{"$f":"IFERROR(VLOOKUP(K1876,股價!A:B,2,0)*M1876,\"\")","v":""},{"$f":"IF(O1876=\"\",\"\",RANK(O1876,$O$2:$O$1000))","v":""}]
["1340 勝悅-KY","百成投資(股)    百成投資(股)",766,"百成投資",null,null,null,null,null,null,null,null,null,null,{"$f":"IFERROR(VLOOKUP(K1877,股價!A:B,2,0)*M1877,\"\")","v":""},{"$f":"IF(O1877=\"\",\"\",RANK(O1877,$O$2:$O$1000))","v":""}]
["1340 勝悅-KY","昌興投資(股)    昌興投資(股)",3029,"昌興投資",null,null,null,null,null,null,null,null,null,null,{"$f":"IFERROR(VLOOKUP(K1878,股價!A:B,2,0)*M1878,\"\")","v":""},{"$f":"IF(O1878=\"\",\"\",RANK(O1878,$O$2:$O$1000))","v":""}]
["1340 勝悅-KY","林世勳          林世勳",0,"林世勳",null,null,null,null,null,null,null,null,null,null,{"$f":"IFERROR(VLOOKUP(K1879,股價!A:B,2,0)*M1879,\"\")","v":""},{"$f":"IF(O1879=\"\",\"\",RANK(O1879,$O$2:$O$1000))","v":""}]
["1340 勝悅-KY","林志龍          林志龍",1700,"林志龍",null,null,null,null,null,null,null,null,null,null,{"$f":"IFERROR(VLOOKUP(K1880,股價!A:B,2,0)*M1880,\"\")","v":""},{"$f":"IF(O1880=\"\",\"\",RANK(O1880,$O$2:$O$1000))","v":""}]
["1340 勝悅-KY","林建煌          林建煌",0,"林建煌",null,null,null,null,null,null,null,null,null,null,{"$f":"IFERROR(VLOOKUP(K1881,股價!A:B,2,0)*M1881,\"\")","v":""},{"$f":"IF(O1881=\"\",\"\",RANK(O1881,$O$2:$O$1000))","v":""}]
["1340 勝悅-KY","林振祥          林振祥",0,"林振祥",null,null,null,null,null,null,null,null,null,null,{"$f":"IFERROR(VLOOKUP(K1882,股價!A:B,2,0)*M1882,\"\")","v":""},{"$f":"IF(O1882=\"\",\"\",RANK(O1882,$O$2:$O$1000))","v":""}]
["1340 勝悅-KY","徐瑞霞          徐瑞霞",0,"徐瑞霞",null,null,null,null,null,null,null,null,null,null,{"$f":"IFERROR(VLOOKUP(K1883,股價!A:B,2,0)*M1883,\"\")","v":""},{"$f":"IF(O1883=\"\",\"\",RANK(O1883,$O$2:$O$1000))","v":""}]
["1340 勝悅-KY","張昱祥          張昱祥",677,"張昱祥",null,null,null,null,null,null,null,null,null,null,{"$f":"IFERROR(VLOOKUP(K1884,股價!A:B,2,0)*M1884,\"\")","v":""},{"$f":"IF(O1884=\"\",\"\",RANK(O1884,$O$2:$O$1000))","v":""}]
["1340 勝悅-KY","莊國清          莊國清",0,"莊國清",null,null,null,null,null,null,null,null,null,null,{"$f":"IFERROR(VLOOKUP(K1885,股價!A:B,2,0)*M1885,\"\")","v":""},{"$f":"IF(O1885=\"\",\"\",RANK(O1885,$O$2:$O$1000))","v":""}]
["1340 勝悅-KY","莊輝煌          莊輝煌",0,"莊輝煌",null,null,null,null,null,null,null,null,null,null,{"$f":"IFERROR(VLOOKUP(K1886,股價!A:B,2,0)*M1886,\"\")","v":""},{"$f":"IF(O1886=\"\",\"\",RANK(O1886,$O$2:$O$1000))","v":""}]
["1340 勝悅-KY","陳筆政          陳筆政",850,"陳筆政",null,null,null,null,null,null,null,null,null,null,{"$f":"IFERROR(VLOOKUP(K1887,股價!A:B,2,0)*M1887,\"\")","v":""},{"$f":"IF(O1887=\"\",\"\",RANK(O1887,$O$2:$O$1000))","v":""}]
["1340 勝悅-KY","陳圖炎          陳圖炎",0,"陳圖炎",null,null,null,null,null,null,null,null,null,null,{"$f":"IFERROR(VLOOKUP(K1888,股價!A:B,2,0)*M1888,\"\")","v":""},{"$f":"IF(O1888=\"\",\"\",RANK(O1888,$O$2:$O$1000))","v":""}]
["1340 勝悅-KY","蔡政哲          蔡政哲",1113,"蔡政哲",null,null,null,null,null,null,null,null,null,null,{"$f":"IFERROR(VLOOKUP(K1889,股價!A:B,2,0)*M1889,\"\")","v":""},{"$f":"IF(O1889=\"\",\"\",RANK(O1889,$O$2:$O$1000))","v":""}]
["1341 富林-KY","Asia Dynamic(股)黃啟豪",2060,"Asia Dynamic Worldwide Corp.",null,null,null,null,null,null,null,null,null,null,{"$f":"IFERROR(VLOOKUP(K1890,股價!A:B,2,0)*M1890,\"\")","v":""},{"$f":"IF(O1890=\"\",\"\",RANK(O1890,$O$2:$O$1000))","v":""}]
["1341 富林-KY","Brilliant Ch(有)林宜豐",1306,"Brilliant Choice Investment Limited",null,null,null,null,null,null,null,null,null,null,{"$f":"IFERROR(VLOOKUP(K1891,股價!A:B,2,0)*M1891,\"\")","v":""},{"$f":"IF(O1891=\"\",\"\",RANK(O1891,$O$2:$O$1000))","v":""}]
["1341 富林-KY","Full Young G(股)Full Young G",6568,"Full Young Group Inc.",null,null,null,null,null,null,null,null,null,null,{"$f":"IFERROR(VLOOKUP(K1892,股價!A:B,2,0)*M1892,\"\")","v":""},{"$f":"IF(O1892=\"\",\"\",RANK(O1892,$O$2:$O$1000))","v":""}]
["1341 富林-KY","Leap Melody(股) 黃啟銘",2060,"Leap Melody Worldwide Corp.",null,null,null,null,null,null,null,null,null,null,{"$f":"IFERROR(VLOOKUP(K1893,股價!A:B,2,0)*M1893,\"\")","v":""},{"$f":"IF(O1893=\"\",\"\",RANK(O1893,$O$2:$O$1000))","v":""}]
["1341 富林-KY","Max Power Gl(股)黃加龍",824,"Max Power Global Inc.",null,null,null,null,null,null,null,null,null,null,{"$f":"IFERROR(VLOOKUP(K1894,股價!A:B,2,0)*M1894,\"\")","v":""},{"$f":"IF(O1894=\"\",\"\",RANK(O1894,$O$2:$O$1000))","v":""}]
["1341 富林-KY","Sinorise Cor(股)林甘霖",1639,"Sinorise Corporation",null,null,null,null,null,null,null,null,null,null,{"$f":"IFERROR(VLOOKUP(K1895,股價!A:B,2,0)*M1895,\"\")","v":""},{"$f":"IF(O1895=\"\",\"\",RANK(O1895,$O$2:$O$1000))","v":""}]
["1341 富林-KY","Smart Choice(股)林凱陵",1306,"Smart Choice International Corp.",null,null,null,null,null,null,null,null,null,null,{"$f":"IFERROR(VLOOKUP(K1896,股價!A:B,2,0)*M1896,\"\")","v":""},{"$f":"IF(O1896=\"\",\"\",RANK(O1896,$O$2:$O$1000))","v":""}]
["1341 富林-KY","Superb Sheen(股)林詠潔",1306,"Superb Sheen Holdings Limited",null,null,null,null,null,null,null,null,null,null,{"$f":"IFERROR(VLOOKUP(K1897,股價!A:B,2,0)*M1897,\"\")","v":""},{"$f":"IF(O1897=\"\",\"\",RANK(O1897,$O$2:$O$1000))","v":""}]
["1341 富林-KY","Travel Inter(股)Travel Inter",15881,"Travel International Corp.",null,null,null,null,null,null,null,null,null,null,{"$f":"IFERROR(VLOOKUP(K1898,股價!A:B,2,0)*M1898,\"\")","v":""},{"$f":"IF(O1898=\"\",\"\",RANK(O1898,$O$2:$O$1000))","v":""}]
["1341 富林-KY","_大股東合計1",6568,null,null,null,null,null,null,null,null,null,null,null,{"$f":"IFERROR(VLOOKUP(K1899,股價!A:B,2,0)*M1899,\"\")","v":""},{"$f":"IF(O1899=\"\",\"\",RANK(O1899,$O$2:$O$1000))","v":""}]
["1341 富林-KY","_大股東合計2    含沿用資料",41799,null,null,null,null,null,null,null,null,null,null,null,{"$f":"IFERROR(VLOOKUP(K1900,股價!A:B,2,0)*M1900,\"\")","v":""},{"$f":"IF(O1900=\"\",\"\",RANK(O1900,$O$2:$O$1000))","v":""}]
["1341 富林-KY","_經理人合計",617,null,null,null,null,null,null,null,null,null,null,null,{"$f":"IFERROR(VLOOKUP(K1901,股價!A:B,2,0)*M1901,\"\")","v":""},{"$f":"IF(O1901=\"\",\"\",RANK(O1901,$O$2:$O$1000))","v":""}]
["1341 富林-KY","_董  事合計",831,null,null,null,null,null,null,null,null,null,null,null,{"$f":"IFERROR(VLOOKUP(K1902,股價!A:B,2,0)*M1902,\"\")","v":""},{"$f":"IF(O1902=\"\",\"\",RANK(O1902,$O$2:$O$1000))","v":""}]
["1341 富林-KY","_董監事合計",831,null,null,null,null,null,null,null,null,null,null,null,{"$f":"IFERROR(VLOOKUP(K1903,股價!A:B,2,0)*M1903,\"\")","v":""},{"$f":"IF(O1903=\"\",\"\",RANK(O1903,$O$2:$O$1000))","v":""}]
["1341 富林-KY","_監察人合計",0,null,null,null,null,null,null,null,null,null,null,null,{"$f":"IFERROR(VLOOKUP(K1904,股價!A:B,2,0)*M1904,\"\")","v":""},{"$f":"IF(O1904=\"\",\"\",RANK(O1904,$O$2:$O$1000))","v":""}]
["1341 富林-KY","天喜興業(股)    天喜興業(股)",8849,"天喜興業",null,null,null,null,null,null,null,null,null,null,{"$f":"IFERROR(VLOOKUP(K1905,股價!A:B,2,0)*M1905,\"\")","v":""},{"$f":"IF(O1905=\"\",\"\",RANK(O1905,$O$2:$O$1000))","v":""}]
["1341 富林-KY","王金山          王金山",0,"王金山",null,null,null,null,null,null,null,null,null,null,{"$f":"IFERROR(VLOOKUP(K1906,股價!A:B,2,0)*M1906,\"\")","v":""},{"$f":"IF(O1906=\"\",\"\",RANK(O1906,$O$2:$O$1000))","v":""}]
["1341 富林-KY","王源林          王源林",432,"王源林",null,null,null,null,null,null,null,null,null,null,{"$f":"IFERROR(VLOOKUP(K1907,股價!A:B,2,0)*M1907,\"\")","v":""},{"$f":"IF(O1907=\"\",\"\",RANK(O1907,$O$2:$O$1000))","v":""}]
["1341 富林-KY","李宏文          李宏文",0,"李宏文",null,null,null,null,null,null,null,null,null,null,{"$f":"IFERROR(VLOOKUP(K1908,股價!A:B,2,0)*M1908,\"\")","v":""},{"$f":"IF(O1908=\"\",\"\",RANK(O1908,$O$2:$O$1000))","v":""}]
["1341 富林-KY","邱文輝          邱文輝",70,"邱文輝",null,null,null,null,null,null,null,null,null,null,{"$f":"IFERROR(VLOOKUP(K1909,股價!A:B,2,0)*M1909,\"\")","v":""},{"$f":"IF(O1909=\"\",\"\",RANK(O1909,$O$2:$O$1000))","v":""}]
["1341 富林-KY","張清涼          張清涼",34,"張清涼",null,null,null,null,null,null,null,null,null,null,{"$f":"IFERROR(VLOOKUP(K1910,股價!A:B,2,0)*M1910,\"\")","v":""},{"$f":"IF(O1910=\"\",\"\",RANK(O1910,$O$2:$O$1000))","v":""}]
["1341 富林-KY","許乃仁          許乃仁",583,"許乃仁",null,null,null,null,null,null,null,null,null,null,{"$f":"IFERROR(VLOOKUP(K1911,股價!A:B,2,0)*M1911,\"\")","v":""},{"$f":"IF(O1911=\"\",\"\",RANK(O1911,$O$2:$O$1000))","v":""}]
["1341 富林-KY","陳肇隆          陳肇隆",0,"陳肇隆",null,null,null,null,null,null,null,null,null,null,{"$f":"IFERROR(VLOOKUP(K1912,股價!A:B,2,0)*M1912,\"\")","v":""},{"$f":"IF(O1912=\"\",\"\",RANK(O1912,$O$2:$O$1000))","v":""}]
["1341 富林-KY","黃政烘          黃政烘",329,"黃政烘",null,null,null,null,null,null,null,null,null,null,{"$f":"IFERROR(VLOOKUP(K1913,股價!A:B,2,0)*M1913,\"\")","v":""},{"$f":"IF(O1913=\"\",\"\",RANK(O1913,$O$2:$O$1000))","v":""}]
["1341 富林-KY","劉傳生          劉傳生",0,"劉傳生",null,null,null,null,null,null,null,null,null,null,{"$f":"IFERROR(VLOOKUP(K1914,股價!A:B,2,0)*M1914,\"\")","v":""},{"$f":"IF(O1914=\"\",\"\",RANK(O1914,$O$2:$O$1000))","v":""}]
["1341 富林-KY","蔡憲唐          蔡憲唐",0,"蔡憲唐",null,null,null,null,null,null,null,null,null,null,{"$f":"IFERROR(VLOOKUP(K1915,股價!A:B,2,0)*M1915,\"\")","v":""},{"$f":"IF(O1915=\"\",\"\",RANK(O1915,$O$2:$O$1000))","v":""}]
["1342 八貫","BEMIS ASSOCI(有)BEMIS ASSOCI",11761,"BEMIS ASSOCIATES UK LIMITED",null,null,null,null,null,null,null,null,null,null,{"$f":"IFERROR(VLOOKUP(K1916,股價!A:B,2,0)*M1916,\"\")","v":""},{"$f":"IF(O1916=\"\",\"\",RANK(O1916,$O$2:$O$1000))","v":""}]
["1342 八貫","STEPHEN WEND    STEPHEN WEND",0,"STEPHEN WENDELL HOWARD",null,null,null,null,null,null,null,null,null,null,{"$f":"IFERROR(VLOOKUP(K1917,股價!A:B,2,0)*M1917,\"\")","v":""},{"$f":"IF(O1917=\"\",\"\",RANK(O1917,$O$2:$O$1000))","v":""}]
["1342 八貫","Surpassing I(股)Surpassing I",13525,"Surpassing International Holdings Ltd.",null,null,null,null,null,null,null,null,null,null,{"$f":"IFERROR(VLOOKUP(K1918,股價!A:B,2,0)*M1918,\"\")","v":""},{"$f":"IF(O1918=\"\",\"\",RANK(O1918,$O$2:$O$1000))","v":""}]
["1342 八貫","Winter Holdi(股)Philippe Win",3252,"Winter Holding AG",null,null,null,null,null,null,null,null,null,null,{"$f":"IFERROR(VLOOKUP(K1919,股價!A:B,2,0)*M1919,\"\")","v":""},{"$f":"IF(O1919=\"\",\"\",RANK(O1919,$O$2:$O$1000))","v":""}]
["1342 八貫","Xylary Devel(股)Xylary Devel",4641,"Xylary Develop Group Ltd.",null,null,null,null,null,null,null,null,null,null,{"$f":"IFERROR(VLOOKUP(K1920,股價!A:B,2,0)*M1920,\"\")","v":""},{"$f":"IF(O1920=\"\",\"\",RANK(O1920,$O$2:$O$1000))","v":""}]
["1342 八貫","_大股東合計1",11761,null,null,null,null,null,null,null,null,null,null,null,{"$f":"IFERROR(VLOOKUP(K1921,股價!A:B,2,0)*M1921,\"\")","v":""},{"$f":"IF(O1921=\"\",\"\",RANK(O1921,$O$2:$O$1000))","v":""}]
["1342 八貫","_大股東合計2    含沿用資料",39911,null,null,null,null,null,null,null,null,null,null,null,{"$f":"IFERROR(VLOOKUP(K1922,股價!A:B,2,0)*M1922,\"\")","v":""},{"$f":"IF(O1922=\"\",\"\",RANK(O1922,$O$2:$O$1000))","v":""}]
["1342 八貫","_經理人合計",1842,null,null,null,null,null,null,null,null,null,null,null,{"$f":"IFERROR(VLOOKUP(K1923,股價!A:B,2,0)*M1923,\"\")","v":""},{"$f":"IF(O1923=\"\",\"\",RANK(O1923,$O$2:$O$1000))","v":""}]
["1342 八貫","_董  事合計",12151,null,null,null,null,null,null,null,null,null,null,null,{"$f":"IFERROR(VLOOKUP(K1924,股價!A:B,2,0)*M1924,\"\")","v":""},{"$f":"IF(O1924=\"\",\"\",RANK(O1924,$O$2:$O$1000))","v":""}]
["1342 八貫","_董監事合計",12151,null,null,null,null,null,null,null,null,null,null,null,{"$f":"IFERROR(VLOOKUP(K1925,股價!A:B,2,0)*M1925,\"\")","v":""},{"$f":"IF(O1925=\"\",\"\",RANK(O1925,$O$2:$O$1000))","v":""}]
["1342 八貫","_監察人合計",0,null,null,null,null,null,null,null,null,null,null,null,{"$f":"IFERROR(VLOOKUP(K1926,股價!A:B,2,0)*M1926,\"\")","v":""},{"$f":"IF(O1926=\"\",\"\",RANK(O1926,$O$2:$O$1000))","v":""}]
["1342 八貫","李宏毅          李宏毅",962,"李宏毅",null,null,null,null,null,null,null,null,null,null,{"$f":"IFERROR(VLOOKUP(K1927,股價!A:B,2,0)*M1927,\"\")","v":""},{"$f":"IF(O1927=\"\",\"\",RANK(O1927,$O$2:$O$1000))","v":""}]
["1342 八貫","李浩成          李浩成",222,"李浩成",null,null,null,null,null,null,null,null,null,null,{"$f":"IFERROR(VLOOKUP(K1928,股價!A:B,2,0)*M1928,\"\")","v":""},{"$f":"IF(O1928=\"\",\"\",RANK(O1928,$O$2:$O$1000))","v":""}]
["1342 八貫","定丞投資(股)    定丞投資(股)",145,"定丞投資",null,null,null,null,null,null,null,null,null,null,{"$f":"IFERROR(VLOOKUP(K1929,股價!A:B,2,0)*M1929,\"\")","v":""},{"$f":"IF(O1929=\"\",\"\",RANK(O1929,$O$2:$O$1000))","v":""}]
["1342 八貫","林正宏          林正宏",628,"林正宏",null,null,null,null,null,null,null,null,null,null,{"$f":"IFERROR(VLOOKUP(K1930,股價!A:B,2,0)*M1930,\"\")","v":""},{"$f":"IF(O1930=\"\",\"\",RANK(O1930,$O$2:$O$1000))","v":""}]
["1342 八貫","施新川          施新川",0,"施新川",null,null,null,null,null,null,null,null,null,null,{"$f":"IFERROR(VLOOKUP(K1931,股價!A:B,2,0)*M1931,\"\")","v":""},{"$f":"IF(O1931=\"\",\"\",RANK(O1931,$O$2:$O$1000))","v":""}]
["1342 八貫","施麗芬          施麗芬",135,"施麗芬",null,null,null,null,null,null,null,null,null,null,{"$f":"IFERROR(VLOOKUP(K1932,股價!A:B,2,0)*M1932,\"\")","v":""},{"$f":"IF(O1932=\"\",\"\",RANK(O1932,$O$2:$O$1000))","v":""}]
["1342 八貫","虹熹投資(股)    虹熹投資(股)",4962,"虹熹投資",null,null,null,null,null,null,null,null,null,null,{"$f":"IFERROR(VLOOKUP(K1933,股價!A:B,2,0)*M1933,\"\")","v":""},{"$f":"IF(O1933=\"\",\"\",RANK(O1933,$O$2:$O$1000))","v":""}]
["1342 八貫","徐光輝          徐光輝",0,"徐光輝",null,null,null,null,null,null,null,null,null,null,{"$f":"IFERROR(VLOOKUP(K1934,股價!A:B,2,0)*M1934,\"\")","v":""},{"$f":"IF(O1934=\"\",\"\",RANK(O1934,$O$2:$O$1000))","v":""}]
["1342 八貫","黃聖凱          黃聖凱",490,"黃聖凱",null,null,null,null,null,null,null,null,null,null,{"$f":"IFERROR(VLOOKUP(K1935,股價!A:B,2,0)*M1935,\"\")","v":""},{"$f":"IF(O1935=\"\",\"\",RANK(O1935,$O$2:$O$1000))","v":""}]
["1342 八貫","劉一辰          劉一辰",571,"劉一辰",null,null,null,null,null,null,null,null,null,null,{"$f":"IFERROR(VLOOKUP(K1936,股價!A:B,2,0)*M1936,\"\")","v":""},{"$f":"IF(O1936=\"\",\"\",RANK(O1936,$O$2:$O$1000))","v":""}]
["1342 八貫","劉宗熹          劉宗熹",12151,"劉宗熹",null,null,null,null,null,null,null,null,null,null,{"$f":"IFERROR(VLOOKUP(K1937,股價!A:B,2,0)*M1937,\"\")","v":""},{"$f":"IF(O1937=\"\",\"\",RANK(O1937,$O$2:$O$1000))","v":""}]
["1342 八貫","劉昱辰          劉昱辰",571,"劉昱辰",null,null,null,null,null,null,null,null,null,null,{"$f":"IFERROR(VLOOKUP(K1938,股價!A:B,2,0)*M1938,\"\")","v":""},{"$f":"IF(O1938=\"\",\"\",RANK(O1938,$O$2:$O$1000))","v":""}]
["1342 八貫","潘憲            潘憲",0,"潘憲",null,null,null,null,null,null,null,null,null,null,{"$f":"IFERROR(VLOOKUP(K1939,股價!A:B,2,0)*M1939,\"\")","v":""},{"$f":"IF(O1939=\"\",\"\",RANK(O1939,$O$2:$O$1000))","v":""}]
["1342 八貫","鄭惠姈          鄭惠姈",33,"鄭惠姈",null,null,null,null,null,null,null,null,null,null,{"$f":"IFERROR(VLOOKUP(K1940,股價!A:B,2,0)*M1940,\"\")","v":""},{"$f":"IF(O1940=\"\",\"\",RANK(O1940,$O$2:$O$1000))","v":""}]
["1342 八貫","蕭宇喬          蕭宇喬",0,"蕭宇喬",null,null,null,null,null,null,null,null,null,null,{"$f":"IFERROR(VLOOKUP(K1941,股價!A:B,2,0)*M1941,\"\")","v":""},{"$f":"IF(O1941=\"\",\"\",RANK(O1941,$O$2:$O$1000))","v":""}]
["1402 遠東新","_大股東合計1",0,null,null,null,null,null,null,null,null,null,null,null,{"$f":"IFERROR(VLOOKUP(K1942,股價!A:B,2,0)*M1942,\"\")","v":""},{"$f":"IF(O1942=\"\",\"\",RANK(O1942,$O$2:$O$1000))","v":""}]
["1402 遠東新","_大股東合計2    含沿用資料",1150958,null,null,null,null,null,null,null,null,null,null,null,{"$f":"IFERROR(VLOOKUP(K1943,股價!A:B,2,0)*M1943,\"\")","v":""},{"$f":"IF(O1943=\"\",\"\",RANK(O1943,$O$2:$O$1000))","v":""}]
["1402 遠東新","_經理人合計",467,null,null,null,null,null,null,null,null,null,null,null,{"$f":"IFERROR(VLOOKUP(K1944,股價!A:B,2,0)*M1944,\"\")","v":""},{"$f":"IF(O1944=\"\",\"\",RANK(O1944,$O$2:$O$1000))","v":""}]
["1402 遠東新","_董  事合計",1448789,null,null,null,null,null,null,null,null,null,null,null,{"$f":"IFERROR(VLOOKUP(K1945,股價!A:B,2,0)*M1945,\"\")","v":""},{"$f":"IF(O1945=\"\",\"\",RANK(O1945,$O$2:$O$1000))","v":""}]
["1402 遠東新","_董監事合計",1448789,null,null,null,null,null,null,null,null,null,null,null,{"$f":"IFERROR(VLOOKUP(K1946,股價!A:B,2,0)*M1946,\"\")","v":""},{"$f":"IF(O1946=\"\",\"\",RANK(O1946,$O$2:$O$1000))","v":""}]
["1402 遠東新","_監察人合計",0,null,null,null,null,null,null,null,null,null,null,null,{"$f":"IFERROR(VLOOKUP(K1947,股價!A:B,2,0)*M1947,\"\")","v":""},{"$f":"IF(O1947=\"\",\"\",RANK(O1947,$O$2:$O$1000))","v":""}]
["1402 遠東新","中華郵政(股)    吳宏謀",83682,"中華郵政",null,null,null,null,null,null,null,null,null,null,{"$f":"IFERROR(VLOOKUP(K1948,股價!A:B,2,0)*M1948,\"\")","v":""},{"$f":"IF(O1948=\"\",\"\",RANK(O1948,$O$2:$O$1000))","v":""}]
["1402 遠東新","王孝一          王孝一",395,"王孝一",null,null,null,null,null,null,null,null,null,null,{"$f":"IFERROR(VLOOKUP(K1949,股價!A:B,2,0)*M1949,\"\")","v":""},{"$f":"IF(O1949=\"\",\"\",RANK(O1949,$O$2:$O$1000))","v":""}]
["1402 遠東新","王健誠          王健誠",7,"王健誠",null,null,null,null,null,null,null,null,null,null,{"$f":"IFERROR(VLOOKUP(K1950,股價!A:B,2,0)*M1950,\"\")","v":""},{"$f":"IF(O1950=\"\",\"\",RANK(O1950,$O$2:$O$1000))","v":""}]
["1402 遠東新","王敏昆          王敏昆",0,"王敏昆",null,null,null,null,null,null,null,null,null,null,{"$f":"IFERROR(VLOOKUP(K1951,股價!A:B,2,0)*M1951,\"\")","v":""},{"$f":"IF(O1951=\"\",\"\",RANK(O1951,$O$2:$O$1000))","v":""}]
["1402 遠東新","台新國泰ESG     台新國泰ESG",71370,"臺新國際商業銀行股份有限公司受託保管國泰臺灣高股息傘型證券投資信託基金之臺灣ESG永續高股息ETF證券投資",null,null,null,null,null,null,null,null,null,null,{"$f":"IFERROR(VLOOKUP(K1952,股價!A:B,2,0)*M1952,\"\")","v":""},{"$f":"IF(O1952=\"\",\"\",RANK(O1952,$O$2:$O$1000))","v":""}]
["1402 遠東新","田煥達          田煥達",1,"田煥達",null,null,null,null,null,null,null,null,null,null,{"$f":"IFERROR(VLOOKUP(K1953,股價!A:B,2,0)*M1953,\"\")","v":""},{"$f":"IF(O1953=\"\",\"\",RANK(O1953,$O$2:$O$1000))","v":""}]
["1402 遠東新","吳信儀          吳信儀",0,"吳信儀",null,null,null,null,null,null,null,null,null,null,{"$f":"IFERROR(VLOOKUP(K1954,股價!A:B,2,0)*M1954,\"\")","v":""},{"$f":"IF(O1954=\"\",\"\",RANK(O1954,$O$2:$O$1000))","v":""}]
["1402 遠東新","吳高山          吳高山",1,"吳高山",null,null,null,null,null,null,null,null,null,null,{"$f":"IFERROR(VLOOKUP(K1955,股價!A:B,2,0)*M1955,\"\")","v":""},{"$f":"IF(O1955=\"\",\"\",RANK(O1955,$O$2:$O$1000))","v":""}]
["1402 遠東新","吳敏成          吳敏成",0,"吳敏成",null,null,null,null,null,null,null,null,null,null,{"$f":"IFERROR(VLOOKUP(K1956,股價!A:B,2,0)*M1956,\"\")","v":""},{"$f":"IF(O1956=\"\",\"\",RANK(O1956,$O$2:$O$1000))","v":""}]
["1402 遠東新","吳謨吉          吳謨吉",18,"吳謨吉",null,null,null,null,null,null,null,null,null,null,{"$f":"IFERROR(VLOOKUP(K1957,股價!A:B,2,0)*M1957,\"\")","v":""},{"$f":"IF(O1957=\"\",\"\",RANK(O1957,$O$2:$O$1000))","v":""}]
["1402 遠東新","吳麗香          吳麗香",0,"吳麗香",null,null,null,null,null,null,null,null,null,null,{"$f":"IFERROR(VLOOKUP(K1958,股價!A:B,2,0)*M1958,\"\")","v":""},{"$f":"IF(O1958=\"\",\"\",RANK(O1958,$O$2:$O$1000))","v":""}]
["1402 遠東新","李弘暉          李弘暉",0,"李弘暉",null,null,null,null,null,null,null,null,null,null,{"$f":"IFERROR(VLOOKUP(K1959,股價!A:B,2,0)*M1959,\"\")","v":""},{"$f":"IF(O1959=\"\",\"\",RANK(O1959,$O$2:$O$1000))","v":""}]
["1402 遠東新","李光燾          李光燾",0,"李光燾",null,null,null,null,null,null,null,null,null,null,{"$f":"IFERROR(VLOOKUP(K1960,股價!A:B,2,0)*M1960,\"\")","v":""},{"$f":"IF(O1960=\"\",\"\",RANK(O1960,$O$2:$O$1000))","v":""}]
["1402 遠東新","李冠軍          李冠軍",303,"李冠軍",null,null,null,null,null,null,null,null,null,null,{"$f":"IFERROR(VLOOKUP(K1961,股價!A:B,2,0)*M1961,\"\")","v":""},{"$f":"IF(O1961=\"\",\"\",RANK(O1961,$O$2:$O$1000))","v":""}]
["1402 遠東新","李源珍          李源珍",0,"李源珍",null,null,null,null,null,null,null,null,null,null,{"$f":"IFERROR(VLOOKUP(K1962,股價!A:B,2,0)*M1962,\"\")","v":""},{"$f":"IF(O1962=\"\",\"\",RANK(O1962,$O$2:$O$1000))","v":""}]
["1402 遠東新","李鍾熙          李鍾熙",0,"李鍾熙",null,null,null,null,null,null,null,null,null,null,{"$f":"IFERROR(VLOOKUP(K1963,股價!A:B,2,0)*M1963,\"\")","v":""},{"$f":"IF(O1963=\"\",\"\",RANK(O1963,$O$2:$O$1000))","v":""}]
["1402 遠東新","沙益民          沙益民",1,"沙益民",null,null,null,null,null,null,null,null,null,null,{"$f":"IFERROR(VLOOKUP(K1964,股價!A:B,2,0)*M1964,\"\")","v":""},{"$f":"IF(O1964=\"\",\"\",RANK(O1964,$O$2:$O$1000))","v":""}]
["1402 遠東新","汪志益          汪志益",0,"汪志益",null,null,null,null,null,null,null,null,null,null,{"$f":"IFERROR(VLOOKUP(K1965,股價!A:B,2,0)*M1965,\"\")","v":""},{"$f":"IF(O1965=\"\",\"\",RANK(O1965,$O$2:$O$1000))","v":""}]
["1402 遠東新","汪承雯          汪承雯",0,"汪承雯",null,null,null,null,null,null,null,null,null,null,{"$f":"IFERROR(VLOOKUP(K1966,股價!A:B,2,0)*M1966,\"\")","v":""},{"$f":"IF(O1966=\"\",\"\",RANK(O1966,$O$2:$O$1000))","v":""}]
["1402 遠東新","私立元智大學    徐旭東",146570,"私立元智大學",null,null,null,null,null,null,null,null,null,null,{"$f":"IFERROR(VLOOKUP(K1967,股價!A:B,2,0)*M1967,\"\")","v":""},{"$f":"IF(O1967=\"\",\"\",RANK(O1967,$O$2:$O$1000))","v":""}]
["1402 遠東新","亞東學校財團法人徐旭東",257652,"亞東學校財團法人亞東科技大學",null,null,null,null,null,null,null,null,null,null,{"$f":"IFERROR(VLOOKUP(K1968,股價!A:B,2,0)*M1968,\"\")","v":""},{"$f":"IF(O1968=\"\",\"\",RANK(O1968,$O$2:$O$1000))","v":""}]
["1402 遠東新","亞洲水泥(股)    王孝一",1272277,"亞洲水泥",null,null,null,null,null,null,null,null,null,null,{"$f":"IFERROR(VLOOKUP(K1969,股價!A:B,2,0)*M1969,\"\")","v":""},{"$f":"IF(O1969=\"\",\"\",RANK(O1969,$O$2:$O$1000))","v":""}]
["1402 遠東新","亞洲水泥(股)    席家宜",1272277,"亞洲水泥",null,null,null,null,null,null,null,null,null,null,{"$f":"IFERROR(VLOOKUP(K1970,股價!A:B,2,0)*M1970,\"\")","v":""},{"$f":"IF(O1970=\"\",\"\",RANK(O1970,$O$2:$O$1000))","v":""}]
["1402 遠東新","亞洲水泥(股)    徐旭平",1272277,"亞洲水泥",null,null,null,null,null,null,null,null,null,null,{"$f":"IFERROR(VLOOKUP(K1971,股價!A:B,2,0)*M1971,\"\")","v":""},{"$f":"IF(O1971=\"\",\"\",RANK(O1971,$O$2:$O$1000))","v":""}]
["1402 遠東新","亞洲水泥(股)    徐國安",1272277,"亞洲水泥",null,null,null,null,null,null,null,null,null,null,{"$f":"IFERROR(VLOOKUP(K1972,股價!A:B,2,0)*M1972,\"\")","v":""},{"$f":"IF(O1972=\"\",\"\",RANK(O1972,$O$2:$O$1000))","v":""}]
["1402 遠東新","林俊佑          林俊佑",0,"林俊佑",null,null,null,null,null,null,null,null,null,null,{"$f":"IFERROR(VLOOKUP(K1973,股價!A:B,2,0)*M1973,\"\")","v":""},{"$f":"IF(O1973=\"\",\"\",RANK(O1973,$O$2:$O$1000))","v":""}]
["1402 遠東新","林偉仁          林偉仁",0,"林偉仁",null,null,null,null,null,null,null,null,null,null,{"$f":"IFERROR(VLOOKUP(K1974,股價!A:B,2,0)*M1974,\"\")","v":""},{"$f":"IF(O1974=\"\",\"\",RANK(O1974,$O$2:$O$1000))","v":""}]
["1402 遠東新","林煜盛          林煜盛",0,"林煜盛",null,null,null,null,null,null,null,null,null,null,{"$f":"IFERROR(VLOOKUP(K1975,股價!A:B,2,0)*M1975,\"\")","v":""},{"$f":"IF(O1975=\"\",\"\",RANK(O1975,$O$2:$O$1000))","v":""}]
["1402 遠東新","南山人壽保險(股)陳棠",132412,"南山人壽保險",null,null,null,null,null,null,null,null,null,null,{"$f":"IFERROR(VLOOKUP(K1976,股價!A:B,2,0)*M1976,\"\")","v":""},{"$f":"IF(O1976=\"\",\"\",RANK(O1976,$O$2:$O$1000))","v":""}]
["1402 遠東新","柯承恩          柯承恩",0,"柯承恩",null,null,null,null,null,null,null,null,null,null,{"$f":"IFERROR(VLOOKUP(K1977,股價!A:B,2,0)*M1977,\"\")","v":""},{"$f":"IF(O1977=\"\",\"\",RANK(O1977,$O$2:$O$1000))","v":""}]
["1402 遠東新","紀炳煌          紀炳煌",1,"紀炳煌",null,null,null,null,null,null,null,null,null,null,{"$f":"IFERROR(VLOOKUP(K1978,股價!A:B,2,0)*M1978,\"\")","v":""},{"$f":"IF(O1978=\"\",\"\",RANK(O1978,$O$2:$O$1000))","v":""}]
["1402 遠東新","范欽智          范欽智",6,"范欽智",null,null,null,null,null,null,null,null,null,null,{"$f":"IFERROR(VLOOKUP(K1979,股價!A:B,2,0)*M1979,\"\")","v":""},{"$f":"IF(O1979=\"\",\"\",RANK(O1979,$O$2:$O$1000))","v":""}]
["1402 遠東新","席家宜          席家宜",1483,"席家宜",null,null,null,null,null,null,null,null,null,null,{"$f":"IFERROR(VLOOKUP(K1980,股價!A:B,2,0)*M1980,\"\")","v":""},{"$f":"IF(O1980=\"\",\"\",RANK(O1980,$O$2:$O$1000))","v":""}]
["1402 遠東新","徐元智基金      李光燾",183141,"徐元智先生紀念基金會",null,null,null,null,null,null,null,null,null,null,{"$f":"IFERROR(VLOOKUP(K1981,股價!A:B,2,0)*M1981,\"\")","v":""},{"$f":"IF(O1981=\"\",\"\",RANK(O1981,$O$2:$O$1000))","v":""}]
["1402 遠東新","徐元智醫藥      徐旭東",193310,"財團法人徐元智先生醫藥基金會",null,null,null,null,null,null,null,null,null,null,{"$f":"IFERROR(VLOOKUP(K1982,股價!A:B,2,0)*M1982,\"\")","v":""},{"$f":"IF(O1982=\"\",\"\",RANK(O1982,$O$2:$O$1000))","v":""}]
["1402 遠東新","徐旭平          徐旭平",60269,"徐旭平",null,null,null,null,null,null,null,null,null,null,{"$f":"IFERROR(VLOOKUP(K1983,股價!A:B,2,0)*M1983,\"\")","v":""},{"$f":"IF(O1983=\"\",\"\",RANK(O1983,$O$2:$O$1000))","v":""}]
["1402 遠東新","徐旭東          徐旭東",91749,"徐旭東",null,null,null,null,null,null,null,null,null,null,{"$f":"IFERROR(VLOOKUP(K1984,股價!A:B,2,0)*M1984,\"\")","v":""},{"$f":"IF(O1984=\"\",\"\",RANK(O1984,$O$2:$O$1000))","v":""}]
["1402 遠東新","徐廷威          徐廷威",0,"徐廷威",null,null,null,null,null,null,null,null,null,null,{"$f":"IFERROR(VLOOKUP(K1985,股價!A:B,2,0)*M1985,\"\")","v":""},{"$f":"IF(O1985=\"\",\"\",RANK(O1985,$O$2:$O$1000))","v":""}]
["1402 遠東新","徐國安          徐國安",0,"徐國安",null,null,null,null,null,null,null,null,null,null,{"$f":"IFERROR(VLOOKUP(K1986,股價!A:B,2,0)*M1986,\"\")","v":""},{"$f":"IF(O1986=\"\",\"\",RANK(O1986,$O$2:$O$1000))","v":""}]
["1402 遠東新","徐國梅          徐國梅",0,"徐國梅",null,null,null,null,null,null,null,null,null,null,{"$f":"IFERROR(VLOOKUP(K1987,股價!A:B,2,0)*M1987,\"\")","v":""},{"$f":"IF(O1987=\"\",\"\",RANK(O1987,$O$2:$O$1000))","v":""}]
["1402 遠東新","徐荷芳          徐荷芳",19698,"徐荷芳",null,null,null,null,null,null,null,null,null,null,{"$f":"IFERROR(VLOOKUP(K1988,股價!A:B,2,0)*M1988,\"\")","v":""},{"$f":"IF(O1988=\"\",\"\",RANK(O1988,$O$2:$O$1000))","v":""}]
["1402 遠東新","袁譽潔          袁譽潔",0,"袁譽潔",null,null,null,null,null,null,null,null,null,null,{"$f":"IFERROR(VLOOKUP(K1989,股價!A:B,2,0)*M1989,\"\")","v":""},{"$f":"IF(O1989=\"\",\"\",RANK(O1989,$O$2:$O$1000))","v":""}]
["1402 遠東新","婁祖麒          婁祖麒",0,"婁祖麒",null,null,null,null,null,null,null,null,null,null,{"$f":"IFERROR(VLOOKUP(K1990,股價!A:B,2,0)*M1990,\"\")","v":""},{"$f":"IF(O1990=\"\",\"\",RANK(O1990,$O$2:$O$1000))","v":""}]
["1402 遠東新","張(火育)麟      張(火育)麟",0,"張(火育)麟",null,null,null,null,null,null,null,null,null,null,{"$f":"IFERROR(VLOOKUP(K1991,股價!A:B,2,0)*M1991,\"\")","v":""},{"$f":"IF(O1991=\"\",\"\",RANK(O1991,$O$2:$O$1000))","v":""}]
["1402 遠東新","張丙秋          張丙秋",0,"張丙秋",null,null,null,null,null,null,null,null,null,null,{"$f":"IFERROR(VLOOKUP(K1992,股價!A:B,2,0)*M1992,\"\")","v":""},{"$f":"IF(O1992=\"\",\"\",RANK(O1992,$O$2:$O$1000))","v":""}]
["1402 遠東新","張明德          張明德",0,"張明德",null,null,null,null,null,null,null,null,null,null,{"$f":"IFERROR(VLOOKUP(K1993,股價!A:B,2,0)*M1993,\"\")","v":""},{"$f":"IF(O1993=\"\",\"\",RANK(O1993,$O$2:$O$1000))","v":""}]
["1402 遠東新","張根源          張根源",0,"張根源",null,null,null,null,null,null,null,null,null,null,{"$f":"IFERROR(VLOOKUP(K1994,股價!A:B,2,0)*M1994,\"\")","v":""},{"$f":"IF(O1994=\"\",\"\",RANK(O1994,$O$2:$O$1000))","v":""}]
["1402 遠東新","張燦金          張燦金",2,"張燦金",null,null,null,null,null,null,null,null,null,null,{"$f":"IFERROR(VLOOKUP(K1995,股價!A:B,2,0)*M1995,\"\")","v":""},{"$f":"IF(O1995=\"\",\"\",RANK(O1995,$O$2:$O$1000))","v":""}]
["1402 遠東新","張耀聰          張耀聰",0,"張耀聰",null,null,null,null,null,null,null,null,null,null,{"$f":"IFERROR(VLOOKUP(K1996,股價!A:B,2,0)*M1996,\"\")","v":""},{"$f":"IF(O1996=\"\",\"\",RANK(O1996,$O$2:$O$1000))","v":""}]
["1402 遠東新","許良維          許良維",0,"許良維",null,null,null,null,null,null,null,null,null,null,{"$f":"IFERROR(VLOOKUP(K1997,股價!A:B,2,0)*M1997,\"\")","v":""},{"$f":"IF(O1997=\"\",\"\",RANK(O1997,$O$2:$O$1000))","v":""}]
["1402 遠東新","許穎芬          許穎芬",0,"許穎芬",null,null,null,null,null,null,null,null,null,null,{"$f":"IFERROR(VLOOKUP(K1998,股價!A:B,2,0)*M1998,\"\")","v":""},{"$f":"IF(O1998=\"\",\"\",RANK(O1998,$O$2:$O$1000))","v":""}]
["1402 遠東新","郭奕中          郭奕中",0,"郭奕中",null,null,null,null,null,null,null,null,null,null,{"$f":"IFERROR(VLOOKUP(K1999,股價!A:B,2,0)*M1999,\"\")","v":""},{"$f":"IF(O1999=\"\",\"\",RANK(O1999,$O$2:$O$1000))","v":""}]
["1402 遠東新","陳月花          陳月花",0,"陳月花",null,null,null,null,null,null,null,null,null,null,{"$f":"IFERROR(VLOOKUP(K2000,股價!A:B,2,0)*M2000,\"\")","v":""},{"$f":"IF(O2000=\"\",\"\",RANK(O2000,$O$2:$O$1000))","v":""}]
["1402 遠東新","劉邦錦          劉邦錦",0,"劉邦錦",null,null,null,null,null,null,null,null,null,null,{"$f":"IFERROR(VLOOKUP(K2022,股價!A:B,2,0)*M2022,\"\")","v":""},{"$f":"IF(O2022=\"\",\"\",RANK(O2022,$O$2:$O$1000))","v":""}]
["1409 新纖","東麗株式會社(股)東麗株式會社",35629,"東麗株式會社",null,null,null,null,null,null,null,null,null,null,{"$f":"IFERROR(VLOOKUP(K2049,股價!A:B,2,0)*M2049,\"\")","v":""},{"$f":"IF(O2049=\"\",\"\",RANK(O2049,$O$2:$O$1000))","v":""}]
["1409 新纖","許昭榕          許昭榕",141,"許昭榕",null,null,null,null,null,null,null,null,null,null,{"$f":"IFERROR(VLOOKUP(K2059,股價!A:B,2,0)*M2059,\"\")","v":""},{"$f":"IF(O2059=\"\",\"\",RANK(O2059,$O$2:$O$1000))","v":""}]
["1410 南染","_大股東合計2    含沿用資料",26343,null,null,null,null,null,null,null,null,null,null,null,{"$f":"IFERROR(VLOOKUP(K2085,股價!A:B,2,0)*M2085,\"\")","v":""},{"$f":"IF(O2085=\"\",\"\",RANK(O2085,$O$2:$O$1000))","v":""}]
["1413 宏洲","黃偉基          黃偉基",0,"黃偉基",null,null,null,null,null,null,null,null,null,null,{"$f":"IFERROR(VLOOKUP(K2133,股價!A:B,2,0)*M2133,\"\")","v":""},{"$f":"IF(O2133=\"\",\"\",RANK(O2133,$O$2:$O$1000))","v":""}]
["1414 東和","裕順投資開發(股)蔡淑櫻",28001,"裕順投資開發股份有限公司",null,null,null,null,null,null,null,null,null,null,{"$f":"IFERROR(VLOOKUP(K2156,股價!A:B,2,0)*M2156,\"\")","v":""},{"$f":"IF(O2156=\"\",\"\",RANK(O2156,$O$2:$O$1000))","v":""}]
["1416 廣豐","_經理人合計",4,null,null,null,null,null,null,null,null,null,null,null,{"$f":"IFERROR(VLOOKUP(K2169,股價!A:B,2,0)*M2169,\"\")","v":""},{"$f":"IF(O2169=\"\",\"\",RANK(O2169,$O$2:$O$1000))","v":""}]
["1416 廣豐","瀚豐投資(有)    陳正德",1306,"瀚豐投資",null,null,null,null,null,null,null,null,null,null,{"$f":"IFERROR(VLOOKUP(K2193,股價!A:B,2,0)*M2193,\"\")","v":""},{"$f":"IF(O2193=\"\",\"\",RANK(O2193,$O$2:$O$1000))","v":""}]
["1418 東華","中菱(股)        林河輝",20850,"中菱",null,null,null,null,null,null,null,null,null,null,{"$f":"IFERROR(VLOOKUP(K2232,股價!A:B,2,0)*M2232,\"\")","v":""},{"$f":"IF(O2232=\"\",\"\",RANK(O2232,$O$2:$O$1000))","v":""}]
["1419 新紡","_大股東合計2    含沿用資料",130578,null,null,null,null,null,null,null,null,null,null,null,{"$f":"IFERROR(VLOOKUP(K2253,股價!A:B,2,0)*M2253,\"\")","v":""},{"$f":"IF(O2253=\"\",\"\",RANK(O2253,$O$2:$O$1000))","v":""}]
["1423 利華","_董  事合計",35811,null,null,null,null,null,null,null,null,null,null,null,{"$f":"IFERROR(VLOOKUP(K2290,股價!A:B,2,0)*M2290,\"\")","v":""},{"$f":"IF(O2290=\"\",\"\",RANK(O2290,$O$2:$O$1000))","v":""}]
["1432 大魯閣","_董  事合計",10007,null,null,null,null,null,null,null,null,null,null,null,{"$f":"IFERROR(VLOOKUP(K2316,股價!A:B,2,0)*M2316,\"\")","v":""},{"$f":"IF(O2316=\"\",\"\",RANK(O2316,$O$2:$O$1000))","v":""}]
["1432 大魯閣","李宜荃          李宜荃",0,"李宜荃",null,null,null,null,null,null,null,null,null,null,{"$f":"IFERROR(VLOOKUP(K2327,股價!A:B,2,0)*M2327,\"\")","v":""},{"$f":"IF(O2327=\"\",\"\",RANK(O2327,$O$2:$O$1000))","v":""}]
["1434 福懋","李建寬          李建寬",0,"李建寬",null,null,null,null,null,null,null,null,null,null,{"$f":"IFERROR(VLOOKUP(K2357,股價!A:B,2,0)*M2357,\"\")","v":""},{"$f":"IF(O2357=\"\",\"\",RANK(O2357,$O$2:$O$1000))","v":""}]
["1434 福懋","賴敏雄          賴敏雄",37953,"賴敏雄",null,null,null,null,null,null,null,null,null,null,{"$f":"IFERROR(VLOOKUP(K2373,股價!A:B,2,0)*M2373,\"\")","v":""},{"$f":"IF(O2373=\"\",\"\",RANK(O2373,$O$2:$O$1000))","v":""}]
["1436 華友聯","張柔遠          張柔遠",0,"張柔遠",null,null,null,null,null,null,null,null,null,null,{"$f":"IFERROR(VLOOKUP(K2424,股價!A:B,2,0)*M2424,\"\")","v":""},{"$f":"IF(O2424=\"\",\"\",RANK(O2424,$O$2:$O$1000))","v":""}]
["1437 勤益控","_大股東合計1",32290,null,null,null,null,null,null,null,null,null,null,null,{"$f":"IFERROR(VLOOKUP(K2436,股價!A:B,2,0)*M2436,\"\")","v":""},{"$f":"IF(O2436=\"\",\"\",RANK(O2436,$O$2:$O$1000))","v":""}]
["1437 勤益控","顧立楷          顧立楷",4404,"顧立楷",null,null,null,null,null,null,null,null,null,null,{"$f":"IFERROR(VLOOKUP(K2461,股價!A:B,2,0)*M2461,\"\")","v":""},{"$f":"IF(O2461=\"\",\"\",RANK(O2461,$O$2:$O$1000))","v":""}]
["1439 雋揚","威力國際開發(股)威力國際開發",1501,"威力國際開發",null,null,null,null,null,null,null,null,null,null,{"$f":"IFERROR(VLOOKUP(K2504,股價!A:B,2,0)*M2504,\"\")","v":""},{"$f":"IF(O2504=\"\",\"\",RANK(O2504,$O$2:$O$1000))","v":""}]
["1439 雋揚","羅健彰          羅健彰",0,"羅健彰",null,null,null,null,null,null,null,null,null,null,{"$f":"IFERROR(VLOOKUP(K2520,股價!A:B,2,0)*M2520,\"\")","v":""},{"$f":"IF(O2520=\"\",\"\",RANK(O2520,$O$2:$O$1000))","v":""}]
["1440 南紡","莊景堯          莊景堯",0,"莊景堯",null,null,null,null,null,null,null,null,null,null,{"$f":"IFERROR(VLOOKUP(K2558,股價!A:B,2,0)*M2558,\"\")","v":""},{"$f":"IF(O2558=\"\",\"\",RANK(O2558,$O$2:$O$1000))","v":""}]
["1441 大東","林文仲          林文仲",0,"林文仲",null,null,null,null,null,null,null,null,null,null,{"$f":"IFERROR(VLOOKUP(K2583,股價!A:B,2,0)*M2583,\"\")","v":""},{"$f":"IF(O2583=\"\",\"\",RANK(O2583,$O$2:$O$1000))","v":""}]
["1442 名軒","_大股東合計1",0,null,null,null,null,null,null,null,null,null,null,null,{"$f":"IFERROR(VLOOKUP(K2595,股價!A:B,2,0)*M2595,\"\")","v":""},{"$f":"IF(O2595=\"\",\"\",RANK(O2595,$O$2:$O$1000))","v":""}]
["1443 立益物流","_經理人合計",0,null,null,null,null,null,null,null,null,null,null,null,{"$f":"IFERROR(VLOOKUP(K2624,股價!A:B,2,0)*M2624,\"\")","v":""},{"$f":"IF(O2624=\"\",\"\",RANK(O2624,$O$2:$O$1000))","v":""}]
["1443 立益物流","蘇廷魁          蘇廷魁",2739,"蘇廷魁",null,null,null,null,null,null,null,null,null,null,{"$f":"IFERROR(VLOOKUP(K2640,股價!A:B,2,0)*M2640,\"\")","v":""},{"$f":"IF(O2640=\"\",\"\",RANK(O2640,$O$2:$O$1000))","v":""}]
["1444 力麗","許茂祺          許茂祺",15,"許茂祺",null,null,null,null,null,null,null,null,null,null,{"$f":"IFERROR(VLOOKUP(K2666,股價!A:B,2,0)*M2666,\"\")","v":""},{"$f":"IF(O2666=\"\",\"\",RANK(O2666,$O$2:$O$1000))","v":""}]
["1445 大宇","楊任凱          楊任凱",65,"楊任凱",null,null,null,null,null,null,null,null,null,null,{"$f":"IFERROR(VLOOKUP(K2708,股價!A:B,2,0)*M2708,\"\")","v":""},{"$f":"IF(O2708=\"\",\"\",RANK(O2708,$O$2:$O$1000))","v":""}]
["1446 宏和","張金堅          張金堅",0,"張金堅",null,null,null,null,null,null,null,null,null,null,{"$f":"IFERROR(VLOOKUP(K2729,股價!A:B,2,0)*M2729,\"\")","v":""},{"$f":"IF(O2729=\"\",\"\",RANK(O2729,$O$2:$O$1000))","v":""}]
["1447 力鵬","順煜投資(股)    郭可中",11991,"順煜投資",null,null,null,null,null,null,null,null,null,null,{"$f":"IFERROR(VLOOKUP(K2771,股價!A:B,2,0)*M2771,\"\")","v":""},{"$f":"IF(O2771=\"\",\"\",RANK(O2771,$O$2:$O$1000))","v":""}]
["1449 佳和","佳得紡織(股)    蔡奇修",4305,"佳得紡織",null,null,null,null,null,null,null,null,null,null,{"$f":"IFERROR(VLOOKUP(K2787,股價!A:B,2,0)*M2787,\"\")","v":""},{"$f":"IF(O2787=\"\",\"\",RANK(O2787,$O$2:$O$1000))","v":""}]
["1449 佳和","陳金檃          陳金檃",1652,"陳金檃",null,null,null,null,null,null,null,null,null,null,{"$f":"IFERROR(VLOOKUP(K2800,股價!A:B,2,0)*M2800,\"\")","v":""},{"$f":"IF(O2800=\"\",\"\",RANK(O2800,$O$2:$O$1000))","v":""}]
["1451 年興","詹文雄          詹文雄",0,"詹文雄",null,null,null,null,null,null,null,null,null,null,{"$f":"IFERROR(VLOOKUP(K2828,股價!A:B,2,0)*M2828,\"\")","v":""},{"$f":"IF(O2828=\"\",\"\",RANK(O2828,$O$2:$O$1000))","v":""}]
["1453 大將","大維投資(股)    林淑鈴",10247,"大維投資",null,null,null,null,null,null,null,null,null,null,{"$f":"IFERROR(VLOOKUP(K2863,股價!A:B,2,0)*M2863,\"\")","v":""},{"$f":"IF(O2863=\"\",\"\",RANK(O2863,$O$2:$O$1000))","v":""}]
["1454 台富","洪振輝          洪振輝",3839,"洪振輝",null,null,null,null,null,null,null,null,null,null,{"$f":"IFERROR(VLOOKUP(K2891,股價!A:B,2,0)*M2891,\"\")","v":""},{"$f":"IF(O2891=\"\",\"\",RANK(O2891,$O$2:$O$1000))","v":""}]
["1455 集盛","_董監事合計",117296,null,null,null,null,null,null,null,null,null,null,null,{"$f":"IFERROR(VLOOKUP(K2912,股價!A:B,2,0)*M2912,\"\")","v":""},{"$f":"IF(O2912=\"\",\"\",RANK(O2912,$O$2:$O$1000))","v":""}]
["1455 集盛","顏仲梓          顏仲梓",0,"顏仲梓",null,null,null,null,null,null,null,null,null,null,{"$f":"IFERROR(VLOOKUP(K2934,股價!A:B,2,0)*M2934,\"\")","v":""},{"$f":"IF(O2934=\"\",\"\",RANK(O2934,$O$2:$O$1000))","v":""}]
["1457 宜進","_董監事合計",30037,null,null,null,null,null,null,null,null,null,null,null,{"$f":"IFERROR(VLOOKUP(K2975,股價!A:B,2,0)*M2975,\"\")","v":""},{"$f":"IF(O2975=\"\",\"\",RANK(O2975,$O$2:$O$1000))","v":""}]
["1459 聯發","_經理人合計",2345,null,null,null,null,null,null,null,null,null,null,null,{"$f":"IFERROR(VLOOKUP(K2997,股價!A:B,2,0)*M2997,\"\")","v":""},{"$f":"IF(O2997=\"\",\"\",RANK(O2997,$O$2:$O$1000))","v":""}]
["1459 聯發","葉泉成          葉泉成",4331,"葉泉成",null,null,null,null,null,null,null,null,null,null,{"$f":"IFERROR(VLOOKUP(K3011,股價!A:B,2,0)*M3011,\"\")","v":""},{"$f":"IF(O3011=\"\",\"\",RANK(O3011,$O$2:$O$1000))","v":""}]
["1460 宏遠","葉文欽          葉文欽",324,"葉文欽",null,null,null,null,null,null,null,null,null,null,{"$f":"IFERROR(VLOOKUP(K3059,股價!A:B,2,0)*M3059,\"\")","v":""},{"$f":"IF(O3059=\"\",\"\",RANK(O3059,$O$2:$O$1000))","v":""}]
["1460 宏遠","遠鼎投資(股)    向文桂",164614,"遠鼎投資",null,null,null,null,null,null,null,null,null,null,{"$f":"IFERROR(VLOOKUP(K3068,股價!A:B,2,0)*M3068,\"\")","v":""},{"$f":"IF(O3068=\"\",\"\",RANK(O3068,$O$2:$O$1000))","v":""}]
["1463 強盛","陳玉進          陳玉進",2142,"陳玉進",null,null,null,null,null,null,null,null,null,null,{"$f":"IFERROR(VLOOKUP(K3095,股價!A:B,2,0)*M3095,\"\")","v":""},{"$f":"IF(O3095=\"\",\"\",RANK(O3095,$O$2:$O$1000))","v":""}]
["1464 得力","盧明智          盧明智",0,"盧明智",null,null,null,null,null,null,null,null,null,null,{"$f":"IFERROR(VLOOKUP(K3131,股價!A:B,2,0)*M3131,\"\")","v":""},{"$f":"IF(O3131=\"\",\"\",RANK(O3131,$O$2:$O$1000))","v":""}]
["1466 聚隆","_董  事合計",23372,null,null,null,null,null,null,null,null,null,null,null,{"$f":"IFERROR(VLOOKUP(K3158,股價!A:B,2,0)*M3158,\"\")","v":""},{"$f":"IF(O3158=\"\",\"\",RANK(O3158,$O$2:$O$1000))","v":""}]
["1466 聚隆","陳萬鐘          陳萬鐘",0,"陳萬鐘",null,null,null,null,null,null,null,null,null,null,{"$f":"IFERROR(VLOOKUP(K3179,股價!A:B,2,0)*M3179,\"\")","v":""},{"$f":"IF(O3179=\"\",\"\",RANK(O3179,$O$2:$O$1000))","v":""}]
["1467 南緯","郭獻玉          郭獻玉",23680,"郭獻玉",null,null,null,null,null,null,null,null,null,null,{"$f":"IFERROR(VLOOKUP(K3202,股價!A:B,2,0)*M3202,\"\")","v":""},{"$f":"IF(O3202=\"\",\"\",RANK(O3202,$O$2:$O$1000))","v":""}]
["1470 大統新創","_董  事合計",18547,null,null,null,null,null,null,null,null,null,null,null,{"$f":"IFERROR(VLOOKUP(K3242,股價!A:B,2,0)*M3242,\"\")","v":""},{"$f":"IF(O3242=\"\",\"\",RANK(O3242,$O$2:$O$1000))","v":""}]
["1471 首利","_經理人合計",0,null,null,null,null,null,null,null,null,null,null,null,{"$f":"IFERROR(VLOOKUP(K3269,股價!A:B,2,0)*M3269,\"\")","v":""},{"$f":"IF(O3269=\"\",\"\",RANK(O3269,$O$2:$O$1000))","v":""}]
["1471 首利","林蕙芬          林蕙芬",1470,"林蕙芬",null,null,null,null,null,null,null,null,null,null,{"$f":"IFERROR(VLOOKUP(K3278,股價!A:B,2,0)*M3278,\"\")","v":""},{"$f":"IF(O3278=\"\",\"\",RANK(O3278,$O$2:$O$1000))","v":""}]
["1473 台南","台揚投資(股)    謝幼琴",1188,"台揚投資",null,null,null,null,null,null,null,null,null,null,{"$f":"IFERROR(VLOOKUP(K3326,股價!A:B,2,0)*M3326,\"\")","v":""},{"$f":"IF(O3326=\"\",\"\",RANK(O3326,$O$2:$O$1000))","v":""}]
["1473 台南","保羅投資(股)    劉禹利",4703,"保羅投資",null,null,null,null,null,null,null,null,null,null,{"$f":"IFERROR(VLOOKUP(K3336,股價!A:B,2,0)*M3336,\"\")","v":""},{"$f":"IF(O3336=\"\",\"\",RANK(O3336,$O$2:$O$1000))","v":""}]
["1474 弘裕","洪錦昌          洪錦昌",503,"洪錦昌",null,null,null,null,null,null,null,null,null,null,{"$f":"IFERROR(VLOOKUP(K3362,股價!A:B,2,0)*M3362,\"\")","v":""},{"$f":"IF(O3362=\"\",\"\",RANK(O3362,$O$2:$O$1000))","v":""}]
["1476 儒鴻","尤政平          尤政平",0,"尤政平",null,null,null,null,null,null,null,null,null,null,{"$f":"IFERROR(VLOOKUP(K3410,股價!A:B,2,0)*M3410,\"\")","v":""},{"$f":"IF(O3410=\"\",\"\",RANK(O3410,$O$2:$O$1000))","v":""}]
["1476 儒鴻","黃國昌          黃國昌",4,"黃國昌",null,null,null,null,null,null,null,null,null,null,{"$f":"IFERROR(VLOOKUP(K3433,股價!A:B,2,0)*M3433,\"\")","v":""},{"$f":"IF(O3433=\"\",\"\",RANK(O3433,$O$2:$O$1000))","v":""}]
["1476 儒鴻","砮丹(股)        砮丹(股)",14000,"砮丹股份有限公司",null,null,null,null,null,null,null,null,null,null,{"$f":"IFERROR(VLOOKUP(K3446,股價!A:B,2,0)*M3446,\"\")","v":""},{"$f":"IF(O3446=\"\",\"\",RANK(O3446,$O$2:$O$1000))","v":""}]
["1477 聚陽","南山人壽保險(股)南山人壽保險",10118,"南山人壽保險",null,null,null,null,null,null,null,null,null,null,{"$f":"IFERROR(VLOOKUP(K3470,股價!A:B,2,0)*M3470,\"\")","v":""},{"$f":"IF(O3470=\"\",\"\",RANK(O3470,$O$2:$O$1000))","v":""}]
["1503 士電","王百淞          王百淞",0,"王百淞",null,null,null,null,null,null,null,null,null,null,{"$f":"IFERROR(VLOOKUP(K3509,股價!A:B,2,0)*M3509,\"\")","v":""},{"$f":"IF(O3509=\"\",\"\",RANK(O3509,$O$2:$O$1000))","v":""}]
["1503 士電","花旗台第一證    花旗台第一證",12166,"花旗(台灣)商業銀行受託保管第一證券(香港)有限公司簽證券(香港)代理人有限公司投資專戶",null,null,null,null,null,null,null,null,null,null,{"$f":"IFERROR(VLOOKUP(K3530,股價!A:B,2,0)*M3530,\"\")","v":""},{"$f":"IF(O3530=\"\",\"\",RANK(O3530,$O$2:$O$1000))","v":""}]
["1504 東元","東光投資(股)    邱純枝",31991,"東光投資",null,null,null,null,null,null,null,null,null,null,{"$f":"IFERROR(VLOOKUP(K3567,股價!A:B,2,0)*M3567,\"\")","v":""},{"$f":"IF(O3567=\"\",\"\",RANK(O3567,$O$2:$O$1000))","v":""}]
["1506 正道","_經理人合計",250,null,null,null,null,null,null,null,null,null,null,null,{"$f":"IFERROR(VLOOKUP(K3593,股價!A:B,2,0)*M3593,\"\")","v":""},{"$f":"IF(O3593=\"\",\"\",RANK(O3593,$O$2:$O$1000))","v":""}]
["1506 正道","御寶系統廚櫃(股)林芸蔓",16000,"御寶系統廚櫃股份有限公司",null,null,null,null,null,null,null,null,null,null,{"$f":"IFERROR(VLOOKUP(K3608,股價!A:B,2,0)*M3608,\"\")","v":""},{"$f":"IF(O3608=\"\",\"\",RANK(O3608,$O$2:$O$1000))","v":""}]
["1512 瑞利","吳振華          吳振華",1441,"吳振華",null,null,null,null,null,null,null,null,null,null,{"$f":"IFERROR(VLOOKUP(K3629,股價!A:B,2,0)*M3629,\"\")","v":""},{"$f":"IF(O3629=\"\",\"\",RANK(O3629,$O$2:$O$1000))","v":""}]
["1513 中興電","_董  事合計",47447,null,null,null,null,null,null,null,null,null,null,null,{"$f":"IFERROR(VLOOKUP(K3650,股價!A:B,2,0)*M3650,\"\")","v":""},{"$f":"IF(O3650=\"\",\"\",RANK(O3650,$O$2:$O$1000))","v":""}]
["1514 亞力","陳明生          陳明生",5348,"陳明生",null,null,null,null,null,null,null,null,null,null,{"$f":"IFERROR(VLOOKUP(K3701,股價!A:B,2,0)*M3701,\"\")","v":""},{"$f":"IF(O3701=\"\",\"\",RANK(O3701,$O$2:$O$1000))","v":""}]
["1515 力山","_經理人合計",281,null,null,null,null,null,null,null,null,null,null,null,{"$f":"IFERROR(VLOOKUP(K3713,股價!A:B,2,0)*M3713,\"\")","v":""},{"$f":"IF(O3713=\"\",\"\",RANK(O3713,$O$2:$O$1000))","v":""}]
["1515 力山","馮旭暉          馮旭暉",5,"馮旭暉",null,null,null,null,null,null,null,null,null,null,{"$f":"IFERROR(VLOOKUP(K3742,股價!A:B,2,0)*M3742,\"\")","v":""},{"$f":"IF(O3742=\"\",\"\",RANK(O3742,$O$2:$O$1000))","v":""}]
["1516 川飛","涂椽義          涂椽義",0,"涂椽義",null,null,null,null,null,null,null,null,null,null,{"$f":"IFERROR(VLOOKUP(K3776,股價!A:B,2,0)*M3776,\"\")","v":""},{"$f":"IF(O3776=\"\",\"\",RANK(O3776,$O$2:$O$1000))","v":""}]
["1517 利奇","賴俊宏          賴俊宏",1399,"賴俊宏",null,null,null,null,null,null,null,null,null,null,{"$f":"IFERROR(VLOOKUP(K3797,股價!A:B,2,0)*M3797,\"\")","v":""},{"$f":"IF(O3797=\"\",\"\",RANK(O3797,$O$2:$O$1000))","v":""}]
["1519 華城","孫士明          孫士明",144,"孫士明",null,null,null,null,null,null,null,null,null,null,{"$f":"IFERROR(VLOOKUP(K3813,股價!A:B,2,0)*M3813,\"\")","v":""},{"$f":"IF(O3813=\"\",\"\",RANK(O3813,$O$2:$O$1000))","v":""}]
["1521 大億","鼎丸投資興業(股)吳俊億",10,"鼎丸投資興業股份有限公司",null,null,null,null,null,null,null,null,null,null,{"$f":"IFERROR(VLOOKUP(K3860,股價!A:B,2,0)*M3860,\"\")","v":""},{"$f":"IF(O3860=\"\",\"\",RANK(O3860,$O$2:$O$1000))","v":""}]
["1522 堤維西","吳俊佶          吳俊佶",824,"吳俊佶",null,null,null,null,null,null,null,null,null,null,{"$f":"IFERROR(VLOOKUP(K3876,股價!A:B,2,0)*M3876,\"\")","v":""},{"$f":"IF(O3876=\"\",\"\",RANK(O3876,$O$2:$O$1000))","v":""}]
["1524 耿鼎","_大股東合計1",0,null,null,null,null,null,null,null,null,null,null,null,{"$f":"IFERROR(VLOOKUP(K3896,股價!A:B,2,0)*M3896,\"\")","v":""},{"$f":"IF(O3896=\"\",\"\",RANK(O3896,$O$2:$O$1000))","v":""}]
["1524 耿鼎","陳健榮          陳健榮",0,"陳健榮",null,null,null,null,null,null,null,null,null,null,{"$f":"IFERROR(VLOOKUP(K3917,股價!A:B,2,0)*M3917,\"\")","v":""},{"$f":"IF(O3917=\"\",\"\",RANK(O3917,$O$2:$O$1000))","v":""}]
["1525 江申","曾鑫城          曾鑫城",0,"曾鑫城",null,null,null,null,null,null,null,null,null,null,{"$f":"IFERROR(VLOOKUP(K3947,股價!A:B,2,0)*M3947,\"\")","v":""},{"$f":"IF(O3947=\"\",\"\",RANK(O3947,$O$2:$O$1000))","v":""}]
["1526 日馳","葉永禎          葉永禎",31,"葉永禎",null,null,null,null,null,null,null,null,null,null,{"$f":"IFERROR(VLOOKUP(K3980,股價!A:B,2,0)*M3980,\"\")","v":""},{"$f":"IF(O3980=\"\",\"\",RANK(O3980,$O$2:$O$1000))","v":""}]
["1528 恩德","_大股東合計1",44694,null,null,null,null,null,null,null,null,null,null,null,{"$f":"IFERROR(VLOOKUP(K4010,股價!A:B,2,0)*M4010,\"\")","v":""},{"$f":"IF(O4010=\"\",\"\",RANK(O4010,$O$2:$O$1000))","v":""}]
["1529 樂事綠能","_大股東合計2    含沿用資料",42692,null,null,null,null,null,null,null,null,null,null,null,{"$f":"IFERROR(VLOOKUP(K4043,股價!A:B,2,0)*M4043,\"\")","v":""},{"$f":"IF(O4043=\"\",\"\",RANK(O4043,$O$2:$O$1000))","v":""}]
["1529 樂事綠能","楊東翰          楊東翰",0,"楊東翰",null,null,null,null,null,null,null,null,null,null,{"$f":"IFERROR(VLOOKUP(K4064,股價!A:B,2,0)*M4064,\"\")","v":""},{"$f":"IF(O4064=\"\",\"\",RANK(O4064,$O$2:$O$1000))","v":""}]
["1530 亞崴","弘聚精機股份有限楊德華",722,"弘聚精機股份有限公司",null,null,null,null,null,null,null,null,null,null,{"$f":"IFERROR(VLOOKUP(K4081,股價!A:B,2,0)*M4081,\"\")","v":""},{"$f":"IF(O4081=\"\",\"\",RANK(O4081,$O$2:$O$1000))","v":""}]
["1532 勤美","_大股東合計1",0,null,null,null,null,null,null,null,null,null,null,null,{"$f":"IFERROR(VLOOKUP(K4127,股價!A:B,2,0)*M4127,\"\")","v":""},{"$f":"IF(O4127=\"\",\"\",RANK(O4127,$O$2:$O$1000))","v":""}]
["1532 勤美","林榮春          林榮春",0,"林榮春",null,null,null,null,null,null,null,null,null,null,{"$f":"IFERROR(VLOOKUP(K4144,股價!A:B,2,0)*M4144,\"\")","v":""},{"$f":"IF(O4144=\"\",\"\",RANK(O4144,$O$2:$O$1000))","v":""}]
["1533 車王電","_董監事合計",32835,null,null,null,null,null,null,null,null,null,null,null,{"$f":"IFERROR(VLOOKUP(K4168,股價!A:B,2,0)*M4168,\"\")","v":""},{"$f":"IF(O4168=\"\",\"\",RANK(O4168,$O$2:$O$1000))","v":""}]
["1533 車王電","蔡裕棟          蔡裕棟",3848,"蔡裕棟",null,null,null,null,null,null,null,null,null,null,{"$f":"IFERROR(VLOOKUP(K4184,股價!A:B,2,0)*M4184,\"\")","v":""},{"$f":"IF(O4184=\"\",\"\",RANK(O4184,$O$2:$O$1000))","v":""}]
["1535 中宇","莊雅閔          莊雅閔",0,"莊雅閔",null,null,null,null,null,null,null,null,null,null,{"$f":"IFERROR(VLOOKUP(K4215,股價!A:B,2,0)*M4215,\"\")","v":""},{"$f":"IF(O4215=\"\",\"\",RANK(O4215,$O$2:$O$1000))","v":""}]
["1536 和大","孫承志          孫承志",12,"孫承志",null,null,null,null,null,null,null,null,null,null,{"$f":"IFERROR(VLOOKUP(K4247,股價!A:B,2,0)*M4247,\"\")","v":""},{"$f":"IF(O4247=\"\",\"\",RANK(O4247,$O$2:$O$1000))","v":""}]
["1537 廣隆","茂隆投資(股)    陳守信",1884,"茂隆投資",null,null,null,null,null,null,null,null,null,null,{"$f":"IFERROR(VLOOKUP(K4278,股價!A:B,2,0)*M4278,\"\")","v":""},{"$f":"IF(O4278=\"\",\"\",RANK(O4278,$O$2:$O$1000))","v":""}]
["1537 廣隆","銘忠投資股份有限銘忠投資股份",2998,"銘忠投資股份有限公司",null,null,null,null,null,null,null,null,null,null,{"$f":"IFERROR(VLOOKUP(K4288,股價!A:B,2,0)*M4288,\"\")","v":""},{"$f":"IF(O4288=\"\",\"\",RANK(O4288,$O$2:$O$1000))","v":""}]
["1539 巨庭","帥澤安          帥澤安",0,"帥澤安",null,null,null,null,null,null,null,null,null,null,{"$f":"IFERROR(VLOOKUP(K4331,股價!A:B,2,0)*M4331,\"\")","v":""},{"$f":"IF(O4331=\"\",\"\",RANK(O4331,$O$2:$O$1000))","v":""}]
["1539 巨庭","恒利投資(有)    莊東鈐",3224,"恒利投資",null,null,null,null,null,null,null,null,null,null,{"$f":"IFERROR(VLOOKUP(K4349,股價!A:B,2,0)*M4349,\"\")","v":""},{"$f":"IF(O4349=\"\",\"\",RANK(O4349,$O$2:$O$1000))","v":""}]
["1540 喬福","蔡錦祥          蔡錦祥",128,"蔡錦祥",null,null,null,null,null,null,null,null,null,null,{"$f":"IFERROR(VLOOKUP(K4372,股價!A:B,2,0)*M4372,\"\")","v":""},{"$f":"IF(O4372=\"\",\"\",RANK(O4372,$O$2:$O$1000))","v":""}]
["1558 伸興","唐明良          唐明良",0,"唐明良",null,null,null,null,null,null,null,null,null,null,{"$f":"IFERROR(VLOOKUP(K4412,股價!A:B,2,0)*M4412,\"\")","v":""},{"$f":"IF(O4412=\"\",\"\",RANK(O4412,$O$2:$O$1000))","v":""}]
["1560 中砂","利和投資(股)    白景中",2471,"利和投資",null,null,null,null,null,null,null,null,null,null,{"$f":"IFERROR(VLOOKUP(K4435,股價!A:B,2,0)*M4435,\"\")","v":""},{"$f":"IF(O4435=\"\",\"\",RANK(O4435,$O$2:$O$1000))","v":""}]
["1560 中砂","鄧建中          鄧建中",50,"鄧建中",null,null,null,null,null,null,null,null,null,null,{"$f":"IFERROR(VLOOKUP(K4451,股價!A:B,2,0)*M4451,\"\")","v":""},{"$f":"IF(O4451=\"\",\"\",RANK(O4451,$O$2:$O$1000))","v":""}]
["1568 倉佑","_董  事合計",19490,null,null,null,null,null,null,null,null,null,null,null,{"$f":"IFERROR(VLOOKUP(K4483,股價!A:B,2,0)*M4483,\"\")","v":""},{"$f":"IF(O4483=\"\",\"\",RANK(O4483,$O$2:$O$1000))","v":""}]
["1569 濱川","京慧投資(股)    蕭翠慧",2998,"京慧投資",null,null,null,null,null,null,null,null,null,null,{"$f":"IFERROR(VLOOKUP(K4519,股價!A:B,2,0)*M4519,\"\")","v":""},{"$f":"IF(O4519=\"\",\"\",RANK(O4519,$O$2:$O$1000))","v":""}]
["1570 力肯","吳曼群          吳曼群",0,"吳曼群",null,null,null,null,null,null,null,null,null,null,{"$f":"IFERROR(VLOOKUP(K4546,股價!A:B,2,0)*M4546,\"\")","v":""},{"$f":"IF(O4546=\"\",\"\",RANK(O4546,$O$2:$O$1000))","v":""}]
["1570 力肯","陳建元          陳建元",0,"陳建元",null,null,null,null,null,null,null,null,null,null,{"$f":"IFERROR(VLOOKUP(K4555,股價!A:B,2,0)*M4555,\"\")","v":""},{"$f":"IF(O4555=\"\",\"\",RANK(O4555,$O$2:$O$1000))","v":""}]
["1582 信錦","包金昌          包金昌",0,"包金昌",null,null,null,null,null,null,null,null,null,null,{"$f":"IFERROR(VLOOKUP(K4598,股價!A:B,2,0)*M4598,\"\")","v":""},{"$f":"IF(O4598=\"\",\"\",RANK(O4598,$O$2:$O$1000))","v":""}]
["1582 信錦","劉文鎮          劉文鎮",0,"劉文鎮",null,null,null,null,null,null,null,null,null,null,{"$f":"IFERROR(VLOOKUP(K4617,股價!A:B,2,0)*M4617,\"\")","v":""},{"$f":"IF(O4617=\"\",\"\",RANK(O4617,$O$2:$O$1000))","v":""}]
["1583 程泰","郁恩投資(有)    郁恩投資(有)",7097,"郁恩投資",null,null,null,null,null,null,null,null,null,null,{"$f":"IFERROR(VLOOKUP(K4639,股價!A:B,2,0)*M4639,\"\")","v":""},{"$f":"IF(O4639=\"\",\"\",RANK(O4639,$O$2:$O$1000))","v":""}]
["1584 精剛","蔡秦興          蔡秦興",3643,"蔡秦興",null,null,null,null,null,null,null,null,null,null,{"$f":"IFERROR(VLOOKUP(K4682,股價!A:B,2,0)*M4682,\"\")","v":""},{"$f":"IF(O4682=\"\",\"\",RANK(O4682,$O$2:$O$1000))","v":""}]
["1586 和勤","_董  事合計",16891,null,null,null,null,null,null,null,null,null,null,null,{"$f":"IFERROR(VLOOKUP(K4688,股價!A:B,2,0)*M4688,\"\")","v":""},{"$f":"IF(O4688=\"\",\"\",RANK(O4688,$O$2:$O$1000))","v":""}]
["1587 吉茂","吳李麥          吳李麥",938,"吳李麥",null,null,null,null,null,null,null,null,null,null,{"$f":"IFERROR(VLOOKUP(K4723,股價!A:B,2,0)*M4723,\"\")","v":""},{"$f":"IF(O4723=\"\",\"\",RANK(O4723,$O$2:$O$1000))","v":""}]
["1589 永冠-KY","江束甘          江束甘",0,"江束甘",null,null,null,null,null,null,null,null,null,null,{"$f":"IFERROR(VLOOKUP(K4751,股價!A:B,2,0)*M4751,\"\")","v":""},{"$f":"IF(O4751=\"\",\"\",RANK(O4751,$O$2:$O$1000))","v":""}]
["1590 亞德客-KY","王世忠          王世忠",0,"王世忠",null,null,null,null,null,null,null,null,null,null,{"$f":"IFERROR(VLOOKUP(K4786,股價!A:B,2,0)*M4786,\"\")","v":""},{"$f":"IF(O4786=\"\",\"\",RANK(O4786,$O$2:$O$1000))","v":""}]
["1591 駿吉-KY","_大股東合計2    含沿用資料",9918,null,null,null,null,null,null,null,null,null,null,null,{"$f":"IFERROR(VLOOKUP(K4802,股價!A:B,2,0)*M4802,\"\")","v":""},{"$f":"IF(O4802=\"\",\"\",RANK(O4802,$O$2:$O$1000))","v":""}]
["1591 駿吉-KY","廖萬隆          廖萬隆",1694,"廖萬隆",null,null,null,null,null,null,null,null,null,null,{"$f":"IFERROR(VLOOKUP(K4822,股價!A:B,2,0)*M4822,\"\")","v":""},{"$f":"IF(O4822=\"\",\"\",RANK(O4822,$O$2:$O$1000))","v":""}]
["1595 川寶","楊嘉銘          楊嘉銘",0,"楊嘉銘",null,null,null,null,null,null,null,null,null,null,{"$f":"IFERROR(VLOOKUP(K4870,股價!A:B,2,0)*M4870,\"\")","v":""},{"$f":"IF(O4870=\"\",\"\",RANK(O4870,$O$2:$O$1000))","v":""}]
["1597 直得","王昌豐          王昌豐",1504,"王昌豐",null,null,null,null,null,null,null,null,null,null,{"$f":"IFERROR(VLOOKUP(K4885,股價!A:B,2,0)*M4885,\"\")","v":""},{"$f":"IF(O4885=\"\",\"\",RANK(O4885,$O$2:$O$1000))","v":""}]
["1598 岱宇","_監察人合計",0,null,null,null,null,null,null,null,null,null,null,null,{"$f":"IFERROR(VLOOKUP(K4906,股價!A:B,2,0)*M4906,\"\")","v":""},{"$f":"IF(O4906=\"\",\"\",RANK(O4906,$O$2:$O$1000))","v":""}]
["1599 宏佳騰","王文來          王文來",0,"王文來",null,null,null,null,null,null,null,null,null,null,{"$f":"IFERROR(VLOOKUP(K4949,股價!A:B,2,0)*M4949,\"\")","v":""},{"$f":"IF(O4949=\"\",\"\",RANK(O4949,$O$2:$O$1000))","v":""}]
["1599 宏佳騰","建和投資(股)    鍾進生",3651,"建和投資",null,null,null,null,null,null,null,null,null,null,{"$f":"IFERROR(VLOOKUP(K4956,股價!A:B,2,0)*M4956,\"\")","v":""},{"$f":"IF(O4956=\"\",\"\",RANK(O4956,$O$2:$O$1000))","v":""}]
["1604 聲寶","_大股東合計1",0,null,null,null,null,null,null,null,null,null,null,null,{"$f":"IFERROR(VLOOKUP(K4990,股價!A:B,2,0)*M4990,\"\")","v":""},{"$f":"IF(O4990=\"\",\"\",RANK(O4990,$O$2:$O$1000))","v":""}]
["1605 華新","_大股東合計2    含沿用資料",1113971,null,null,null,null,null,null,null,null,null,null,null,{"$f":"IFERROR(VLOOKUP(K5019,股價!A:B,2,0)*M5019,\"\")","v":""},{"$f":"IF(O5019=\"\",\"\",RANK(O5019,$O$2:$O$1000))","v":""}]
["1608 華榮","_董  事合計",212501,null,null,null,null,null,null,null,null,null,null,null,{"$f":"IFERROR(VLOOKUP(K5053,股價!A:B,2,0)*M5053,\"\")","v":""},{"$f":"IF(O5053=\"\",\"\",RANK(O5053,$O$2:$O$1000))","v":""}]
["1608 華榮","徐守安          徐守安",0,"徐守安",null,null,null,null,null,null,null,null,null,null,{"$f":"IFERROR(VLOOKUP(K5074,股價!A:B,2,0)*M5074,\"\")","v":""},{"$f":"IF(O5074=\"\",\"\",RANK(O5074,$O$2:$O$1000))","v":""}]
["1609 大亞","_大股東合計2    含沿用資料",68983,null,null,null,null,null,null,null,null,null,null,null,{"$f":"IFERROR(VLOOKUP(K5090,股價!A:B,2,0)*M5090,\"\")","v":""},{"$f":"IF(O5090=\"\",\"\",RANK(O5090,$O$2:$O$1000))","v":""}]
["1611 中電","巫國想          巫國想",476,"巫國想",null,null,null,null,null,null,null,null,null,null,{"$f":"IFERROR(VLOOKUP(K5137,股價!A:B,2,0)*M5137,\"\")","v":""},{"$f":"IF(O5137=\"\",\"\",RANK(O5137,$O$2:$O$1000))","v":""}]
["1611 中電","劉建志          劉建志",0,"劉建志",null,null,null,null,null,null,null,null,null,null,{"$f":"IFERROR(VLOOKUP(K5153,股價!A:B,2,0)*M5153,\"\")","v":""},{"$f":"IF(O5153=\"\",\"\",RANK(O5153,$O$2:$O$1000))","v":""}]
["1612 宏泰","陳良驊          陳良驊",22884,"陳良驊",null,null,null,null,null,null,null,null,null,null,{"$f":"IFERROR(VLOOKUP(K5173,股價!A:B,2,0)*M5173,\"\")","v":""},{"$f":"IF(O5173=\"\",\"\",RANK(O5173,$O$2:$O$1000))","v":""}]
["1614 三洋電","市立志松社福    李文琳",1458,"台北市立志松社會福利事業基金會",null,null,null,null,null,null,null,null,null,null,{"$f":"IFERROR(VLOOKUP(K5194,股價!A:B,2,0)*M5194,\"\")","v":""},{"$f":"IF(O5194=\"\",\"\",RANK(O5194,$O$2:$O$1000))","v":""}]
["1615 大山","_大股東合計2    含沿用資料",53753,null,null,null,null,null,null,null,null,null,null,null,{"$f":"IFERROR(VLOOKUP(K5224,股價!A:B,2,0)*M5224,\"\")","v":""},{"$f":"IF(O5224=\"\",\"\",RANK(O5224,$O$2:$O$1000))","v":""}]
["1616 億泰","_監察人合計",0,null,null,null,null,null,null,null,null,null,null,null,{"$f":"IFERROR(VLOOKUP(K5257,股價!A:B,2,0)*M5257,\"\")","v":""},{"$f":"IF(O5257=\"\",\"\",RANK(O5257,$O$2:$O$1000))","v":""}]
["1617 榮星","長谷川繁幸      長谷川繁幸",0,"長谷川繁幸",null,null,null,null,null,null,null,null,null,null,{"$f":"IFERROR(VLOOKUP(K5291,股價!A:B,2,0)*M5291,\"\")","v":""},{"$f":"IF(O5291=\"\",\"\",RANK(O5291,$O$2:$O$1000))","v":""}]
["1618 合機","徐淑俐          徐淑俐",2087,"徐淑俐",null,null,null,null,null,null,null,null,null,null,{"$f":"IFERROR(VLOOKUP(K5320,股價!A:B,2,0)*M5320,\"\")","v":""},{"$f":"IF(O5320=\"\",\"\",RANK(O5320,$O$2:$O$1000))","v":""}]
["1626 艾美特-KY","_大股東合計2    含沿用資料",22877,null,null,null,null,null,null,null,null,null,null,null,{"$f":"IFERROR(VLOOKUP(K5341,股價!A:B,2,0)*M5341,\"\")","v":""},{"$f":"IF(O5341=\"\",\"\",RANK(O5341,$O$2:$O$1000))","v":""}]
["1626 艾美特-KY","黃清樹          黃清樹",1814,"黃清樹",null,null,null,null,null,null,null,null,null,null,{"$f":"IFERROR(VLOOKUP(K5358,股價!A:B,2,0)*M5358,\"\")","v":""},{"$f":"IF(O5358=\"\",\"\",RANK(O5358,$O$2:$O$1000))","v":""}]
["1702 南僑","周明芬          周明芬",9,"周明芬",null,null,null,null,null,null,null,null,null,null,{"$f":"IFERROR(VLOOKUP(K5404,股價!A:B,2,0)*M5404,\"\")","v":""},{"$f":"IF(O5404=\"\",\"\",RANK(O5404,$O$2:$O$1000))","v":""}]
["1702 南僑","譚玉紅          譚玉紅",0,"譚玉紅",null,null,null,null,null,null,null,null,null,null,{"$f":"IFERROR(VLOOKUP(K5425,股價!A:B,2,0)*M5425,\"\")","v":""},{"$f":"IF(O5425=\"\",\"\",RANK(O5425,$O$2:$O$1000))","v":""}]
["1707 葡萄王","高秀玲          高秀玲",0,"高秀玲",null,null,null,null,null,null,null,null,null,null,{"$f":"IFERROR(VLOOKUP(K5440,股價!A:B,2,0)*M5440,\"\")","v":""},{"$f":"IF(O5440=\"\",\"\",RANK(O5440,$O$2:$O$1000))","v":""}]
["1708 東鹼","_經理人合計",298,null,null,null,null,null,null,null,null,null,null,null,{"$f":"IFERROR(VLOOKUP(K5461,股價!A:B,2,0)*M5461,\"\")","v":""},{"$f":"IF(O5461=\"\",\"\",RANK(O5461,$O$2:$O$1000))","v":""}]
["1708 東鹼","陳開元          陳開元",0,"陳開元",null,null,null,null,null,null,null,null,null,null,{"$f":"IFERROR(VLOOKUP(K5492,股價!A:B,2,0)*M5492,\"\")","v":""},{"$f":"IF(O5492=\"\",\"\",RANK(O5492,$O$2:$O$1000))","v":""}]
["1709 和益","許麗慧          許麗慧",103,"許麗慧",null,null,null,null,null,null,null,null,null,null,{"$f":"IFERROR(VLOOKUP(K5524,股價!A:B,2,0)*M5524,\"\")","v":""},{"$f":"IF(O5524=\"\",\"\",RANK(O5524,$O$2:$O$1000))","v":""}]
["1710 東聯","亞洲水泥(股)    徐旭東",63767,"亞洲水泥",null,null,null,null,null,null,null,null,null,null,{"$f":"IFERROR(VLOOKUP(K5559,股價!A:B,2,0)*M5559,\"\")","v":""},{"$f":"IF(O5559=\"\",\"\",RANK(O5559,$O$2:$O$1000))","v":""}]
["1710 東聯","鄭澄宇          鄭澄宇",1,"鄭澄宇",null,null,null,null,null,null,null,null,null,null,{"$f":"IFERROR(VLOOKUP(K5587,股價!A:B,2,0)*M5587,\"\")","v":""},{"$f":"IF(O5587=\"\",\"\",RANK(O5587,$O$2:$O$1000))","v":""}]
["1711 永光","李明文          李明文",0,"李明文",null,null,null,null,null,null,null,null,null,null,{"$f":"IFERROR(VLOOKUP(K5608,股價!A:B,2,0)*M5608,\"\")","v":""},{"$f":"IF(O5608=\"\",\"\",RANK(O5608,$O$2:$O$1000))","v":""}]
["1711 永光","黃宗文          黃宗文",10,"黃宗文",null,null,null,null,null,null,null,null,null,null,{"$f":"IFERROR(VLOOKUP(K5630,股價!A:B,2,0)*M5630,\"\")","v":""},{"$f":"IF(O5630=\"\",\"\",RANK(O5630,$O$2:$O$1000))","v":""}]
["1712 興農","楊仁佑          楊仁佑",2101,"楊仁佑",null,null,null,null,null,null,null,null,null,null,{"$f":"IFERROR(VLOOKUP(K5671,股價!A:B,2,0)*M5671,\"\")","v":""},{"$f":"IF(O5671=\"\",\"\",RANK(O5671,$O$2:$O$1000))","v":""}]
["1713 國化","秩成興業(有)    秩成興業(有)",40,"秩成興業有限公司",null,null,null,null,null,null,null,null,null,null,{"$f":"IFERROR(VLOOKUP(K5693,股價!A:B,2,0)*M5693,\"\")","v":""},{"$f":"IF(O5693=\"\",\"\",RANK(O5693,$O$2:$O$1000))","v":""}]
["1714 和桐","_董監事合計",101784,null,null,null,null,null,null,null,null,null,null,null,{"$f":"IFERROR(VLOOKUP(K5707,股價!A:B,2,0)*M5707,\"\")","v":""},{"$f":"IF(O5707=\"\",\"\",RANK(O5707,$O$2:$O$1000))","v":""}]
["1714 和桐","摩根梵市場股    摩根梵市場股",12634,"美商摩根大通銀行台北分行受託保管梵加德集團公司經理之梵加德新興市場股票指數基金投資專戶",null,null,null,null,null,null,null,null,null,null,{"$f":"IFERROR(VLOOKUP(K5728,股價!A:B,2,0)*M5728,\"\")","v":""},{"$f":"IF(O5728=\"\",\"\",RANK(O5728,$O$2:$O$1000))","v":""}]
["1717 長興","華陽企業(股)    李尚衡",18991,"華陽企業",null,null,null,null,null,null,null,null,null,null,{"$f":"IFERROR(VLOOKUP(K5764,股價!A:B,2,0)*M5764,\"\")","v":""},{"$f":"IF(O5764=\"\",\"\",RANK(O5764,$O$2:$O$1000))","v":""}]
["1718 中纖","吳宏揚          吳宏揚",0,"吳宏揚",null,null,null,null,null,null,null,null,null,null,{"$f":"IFERROR(VLOOKUP(K5791,股價!A:B,2,0)*M5791,\"\")","v":""},{"$f":"IF(O5791=\"\",\"\",RANK(O5791,$O$2:$O$1000))","v":""}]
["1720 生達","黃炳欽          黃炳欽",0,"黃炳欽",null,null,null,null,null,null,null,null,null,null,{"$f":"IFERROR(VLOOKUP(K5827,股價!A:B,2,0)*M5827,\"\")","v":""},{"$f":"IF(O5827=\"\",\"\",RANK(O5827,$O$2:$O$1000))","v":""}]
["1721 三晃","黃亭棣          黃亭棣",3,"黃亭棣",null,null,null,null,null,null,null,null,null,null,{"$f":"IFERROR(VLOOKUP(K5854,股價!A:B,2,0)*M5854,\"\")","v":""},{"$f":"IF(O5854=\"\",\"\",RANK(O5854,$O$2:$O$1000))","v":""}]
["1722 台肥","行政院農業委員會范美玲",235886,"行政院農業委員會",null,null,null,null,null,null,null,null,null,null,{"$f":"IFERROR(VLOOKUP(K5875,股價!A:B,2,0)*M5875,\"\")","v":""},{"$f":"IF(O5875=\"\",\"\",RANK(O5875,$O$2:$O$1000))","v":""}]
["1723 中碳","_經理人合計",41,null,null,null,null,null,null,null,null,null,null,null,{"$f":"IFERROR(VLOOKUP(K5898,股價!A:B,2,0)*M5898,\"\")","v":""},{"$f":"IF(O5898=\"\",\"\",RANK(O5898,$O$2:$O$1000))","v":""}]
["1723 中碳","王錫欽          王錫欽",0,"王錫欽",null,null,null,null,null,null,null,null,null,null,{"$f":"IFERROR(VLOOKUP(K5911,股價!A:B,2,0)*M5911,\"\")","v":""},{"$f":"IF(O5911=\"\",\"\",RANK(O5911,$O$2:$O$1000))","v":""}]
["1725 元禎","鴻仁投資(股)    簡信男",1486,"鴻仁投資",null,null,null,null,null,null,null,null,null,null,{"$f":"IFERROR(VLOOKUP(K5961,股價!A:B,2,0)*M5961,\"\")","v":""},{"$f":"IF(O5961=\"\",\"\",RANK(O5961,$O$2:$O$1000))","v":""}]
["1726 永記","張德仁          張德仁",11530,"張德仁",null,null,null,null,null,null,null,null,null,null,{"$f":"IFERROR(VLOOKUP(K5979,股價!A:B,2,0)*M5979,\"\")","v":""},{"$f":"IF(O5979=\"\",\"\",RANK(O5979,$O$2:$O$1000))","v":""}]
["1727 中華化","_經理人合計",5794,null,null,null,null,null,null,null,null,null,null,null,{"$f":"IFERROR(VLOOKUP(K5995,股價!A:B,2,0)*M5995,\"\")","v":""},{"$f":"IF(O5995=\"\",\"\",RANK(O5995,$O$2:$O$1000))","v":""}]
["1730 花仙子","十大投資(有)    王瀅婷",5714,"十大投資",null,null,null,null,null,null,null,null,null,null,{"$f":"IFERROR(VLOOKUP(K6032,股價!A:B,2,0)*M6032,\"\")","v":""},{"$f":"IF(O6032=\"\",\"\",RANK(O6032,$O$2:$O$1000))","v":""}]
["1731 美吾華","_董  事合計",46991,null,null,null,null,null,null,null,null,null,null,null,{"$f":"IFERROR(VLOOKUP(K6058,股價!A:B,2,0)*M6058,\"\")","v":""},{"$f":"IF(O6058=\"\",\"\",RANK(O6058,$O$2:$O$1000))","v":""}]
["1731 美吾華","誠心投資(股)    李成家",3137,"誠心投資",null,null,null,null,null,null,null,null,null,null,{"$f":"IFERROR(VLOOKUP(K6079,股價!A:B,2,0)*M6079,\"\")","v":""},{"$f":"IF(O6079=\"\",\"\",RANK(O6079,$O$2:$O$1000))","v":""}]
["1732 毛寶","泛洋投資(股)    吳瑞華",6791,"泛洋投資",null,null,null,null,null,null,null,null,null,null,{"$f":"IFERROR(VLOOKUP(K6103,股價!A:B,2,0)*M6103,\"\")","v":""},{"$f":"IF(O6103=\"\",\"\",RANK(O6103,$O$2:$O$1000))","v":""}]
["1734 杏輝","_大股東合計2    含沿用資料",8798,null,null,null,null,null,null,null,null,null,null,null,{"$f":"IFERROR(VLOOKUP(K6142,股價!A:B,2,0)*M6142,\"\")","v":""},{"$f":"IF(O6142=\"\",\"\",RANK(O6142,$O$2:$O$1000))","v":""}]
["1734 杏輝","陳至孝          陳至孝",7,"陳至孝",null,null,null,null,null,null,null,null,null,null,{"$f":"IFERROR(VLOOKUP(K6166,股價!A:B,2,0)*M6166,\"\")","v":""},{"$f":"IF(O6166=\"\",\"\",RANK(O6166,$O$2:$O$1000))","v":""}]
["1735 日勝化","_監察人合計",0,null,null,null,null,null,null,null,null,null,null,null,{"$f":"IFERROR(VLOOKUP(K6183,股價!A:B,2,0)*M6183,\"\")","v":""},{"$f":"IF(O6183=\"\",\"\",RANK(O6183,$O$2:$O$1000))","v":""}]
["1736 喬山","陳志興          陳志興",0,"陳志興",null,null,null,null,null,null,null,null,null,null,{"$f":"IFERROR(VLOOKUP(K6226,股價!A:B,2,0)*M6226,\"\")","v":""},{"$f":"IF(O6226=\"\",\"\",RANK(O6226,$O$2:$O$1000))","v":""}]
["1736 喬山","潘炳志          潘炳志",23,"潘炳志",null,null,null,null,null,null,null,null,null,null,{"$f":"IFERROR(VLOOKUP(K6237,股價!A:B,2,0)*M6237,\"\")","v":""},{"$f":"IF(O6237=\"\",\"\",RANK(O6237,$O$2:$O$1000))","v":""}]
["1737 臺鹽","泰峰興企業(股)  易珊文",1966,"泰峰興企業股份有限公司",null,null,null,null,null,null,null,null,null,null,{"$f":"IFERROR(VLOOKUP(K6262,股價!A:B,2,0)*M6262,\"\")","v":""},{"$f":"IF(O6262=\"\",\"\",RANK(O6262,$O$2:$O$1000))","v":""}]
["1742 台蠟","福祿壽園區(股)  福祿壽園區(",2298,"福祿壽園區",null,null,null,null,null,null,null,null,null,null,{"$f":"IFERROR(VLOOKUP(K6300,股價!A:B,2,0)*M6300,\"\")","v":""},{"$f":"IF(O6300=\"\",\"\",RANK(O6300,$O$2:$O$1000))","v":""}]
["1752 南光","蔡文泳          蔡文泳",18,"蔡文泳",null,null,null,null,null,null,null,null,null,null,{"$f":"IFERROR(VLOOKUP(K6330,股價!A:B,2,0)*M6330,\"\")","v":""},{"$f":"IF(O6330=\"\",\"\",RANK(O6330,$O$2:$O$1000))","v":""}]
["1760 寶齡富錦","李國豐          李國豐",3511,"李國豐",null,null,null,null,null,null,null,null,null,null,{"$f":"IFERROR(VLOOKUP(K6346,股價!A:B,2,0)*M6346,\"\")","v":""},{"$f":"IF(O6346=\"\",\"\",RANK(O6346,$O$2:$O$1000))","v":""}]
["1762 中化生","_大股東合計2    含沿用資料",9628,null,null,null,null,null,null,null,null,null,null,null,{"$f":"IFERROR(VLOOKUP(K6371,股價!A:B,2,0)*M6371,\"\")","v":""},{"$f":"IF(O6371=\"\",\"\",RANK(O6371,$O$2:$O$1000))","v":""}]
["1773 勝一","王敦弘          王敦弘",488,"王敦弘",null,null,null,null,null,null,null,null,null,null,{"$f":"IFERROR(VLOOKUP(K6409,股價!A:B,2,0)*M6409,\"\")","v":""},{"$f":"IF(O6409=\"\",\"\",RANK(O6409,$O$2:$O$1000))","v":""}]
["1776 展宇","宏德明投資(股)  宏德明投資(",680,"宏德明投資",null,null,null,null,null,null,null,null,null,null,{"$f":"IFERROR(VLOOKUP(K6434,股價!A:B,2,0)*M6434,\"\")","v":""},{"$f":"IF(O6434=\"\",\"\",RANK(O6434,$O$2:$O$1000))","v":""}]
["1776 展宇","劉建宏          劉建宏",1625,"劉建宏",null,null,null,null,null,null,null,null,null,null,{"$f":"IFERROR(VLOOKUP(K6450,股價!A:B,2,0)*M6450,\"\")","v":""},{"$f":"IF(O6450=\"\",\"\",RANK(O6450,$O$2:$O$1000))","v":""}]
["1781 合世","李淑芬          李淑芬",169,"李淑芬",null,null,null,null,null,null,null,null,null,null,{"$f":"IFERROR(VLOOKUP(K6493,股價!A:B,2,0)*M6493,\"\")","v":""},{"$f":"IF(O6493=\"\",\"\",RANK(O6493,$O$2:$O$1000))","v":""}]
["1783 和康生","_大股東合計1",0,null,null,null,null,null,null,null,null,null,null,null,{"$f":"IFERROR(VLOOKUP(K6505,股價!A:B,2,0)*M6505,\"\")","v":""},{"$f":"IF(O6505=\"\",\"\",RANK(O6505,$O$2:$O$1000))","v":""}]
["1783 和康生","賴柏宏          賴柏宏",82,"賴柏宏",null,null,null,null,null,null,null,null,null,null,{"$f":"IFERROR(VLOOKUP(K6534,股價!A:B,2,0)*M6534,\"\")","v":""},{"$f":"IF(O6534=\"\",\"\",RANK(O6534,$O$2:$O$1000))","v":""}]
["1785 光洋科","_董  事合計",56047,null,null,null,null,null,null,null,null,null,null,null,{"$f":"IFERROR(VLOOKUP(K6568,股價!A:B,2,0)*M6568,\"\")","v":""},{"$f":"IF(O6568=\"\",\"\",RANK(O6568,$O$2:$O$1000))","v":""}]
["1786 科妍","_董  事合計",8935,null,null,null,null,null,null,null,null,null,null,null,{"$f":"IFERROR(VLOOKUP(K6597,股價!A:B,2,0)*M6597,\"\")","v":""},{"$f":"IF(O6597=\"\",\"\",RANK(O6597,$O$2:$O$1000))","v":""}]
["1786 科妍","蔡侑蓁          蔡侑蓁",30,"蔡侑蓁",null,null,null,null,null,null,null,null,null,null,{"$f":"IFERROR(VLOOKUP(K6613,股價!A:B,2,0)*M6613,\"\")","v":""},{"$f":"IF(O6613=\"\",\"\",RANK(O6613,$O$2:$O$1000))","v":""}]
["1788 杏昌","莊千又          莊千又",0,"莊千又",null,null,null,null,null,null,null,null,null,null,{"$f":"IFERROR(VLOOKUP(K6639,股價!A:B,2,0)*M6639,\"\")","v":""},{"$f":"IF(O6639=\"\",\"\",RANK(O6639,$O$2:$O$1000))","v":""}]
["1789 神隆","張正平          張正平",0,"張正平",null,null,null,null,null,null,null,null,null,null,{"$f":"IFERROR(VLOOKUP(K6681,股價!A:B,2,0)*M6681,\"\")","v":""},{"$f":"IF(O6681=\"\",\"\",RANK(O6681,$O$2:$O$1000))","v":""}]
["1789 神隆","楊雅博          楊雅博",0,"楊雅博",null,null,null,null,null,null,null,null,null,null,{"$f":"IFERROR(VLOOKUP(K6702,股價!A:B,2,0)*M6702,\"\")","v":""},{"$f":"IF(O6702=\"\",\"\",RANK(O6702,$O$2:$O$1000))","v":""}]
["1795 美時","Manish Chawl    Manish Chawl",5,"Manish Chawla",null,null,null,null,null,null,null,null,null,null,{"$f":"IFERROR(VLOOKUP(K6717,股價!A:B,2,0)*M6717,\"\")","v":""},{"$f":"IF(O6717=\"\",\"\",RANK(O6717,$O$2:$O$1000))","v":""}]
["1795 美時","沈燁            沈燁",4,"沈燁",null,null,null,null,null,null,null,null,null,null,{"$f":"IFERROR(VLOOKUP(K6738,股價!A:B,2,0)*M6738,\"\")","v":""},{"$f":"IF(O6738=\"\",\"\",RANK(O6738,$O$2:$O$1000))","v":""}]
["1799 易威","張志成          張志成",0,"張志成",null,null,null,null,null,null,null,null,null,null,{"$f":"IFERROR(VLOOKUP(K6773,股價!A:B,2,0)*M6773,\"\")","v":""},{"$f":"IF(O6773=\"\",\"\",RANK(O6773,$O$2:$O$1000))","v":""}]
["1802 台玻","林伯實          林伯實",14898,"林伯實",null,null,null,null,null,null,null,null,null,null,{"$f":"IFERROR(VLOOKUP(K6801,股價!A:B,2,0)*M6801,\"\")","v":""},{"$f":"IF(O6801=\"\",\"\",RANK(O6801,$O$2:$O$1000))","v":""}]
["1805 寶徠","陳俊良          陳俊良",0,"陳俊良",null,null,null,null,null,null,null,null,null,null,{"$f":"IFERROR(VLOOKUP(K6836,股價!A:B,2,0)*M6836,\"\")","v":""},{"$f":"IF(O6836=\"\",\"\",RANK(O6836,$O$2:$O$1000))","v":""}]
["1806 冠軍","林和村          林和村",2997,"林和村",null,null,null,null,null,null,null,null,null,null,{"$f":"IFERROR(VLOOKUP(K6864,股價!A:B,2,0)*M6864,\"\")","v":""},{"$f":"IF(O6864=\"\",\"\",RANK(O6864,$O$2:$O$1000))","v":""}]
["1808 潤隆","_大股東合計2    含沿用資料",221256,null,null,null,null,null,null,null,null,null,null,null,{"$f":"IFERROR(VLOOKUP(K6885,股價!A:B,2,0)*M6885,\"\")","v":""},{"$f":"IF(O6885=\"\",\"\",RANK(O6885,$O$2:$O$1000))","v":""}]
["1808 潤隆","潤盈投資(股)    鄭秀慧",28885,"潤盈投資",null,null,null,null,null,null,null,null,null,null,{"$f":"IFERROR(VLOOKUP(K6907,股價!A:B,2,0)*M6907,\"\")","v":""},{"$f":"IF(O6907=\"\",\"\",RANK(O6907,$O$2:$O$1000))","v":""}]
["1810 和成","李隆成          李隆成",0,"李隆成",null,null,null,null,null,null,null,null,null,null,{"$f":"IFERROR(VLOOKUP(K6948,股價!A:B,2,0)*M6948,\"\")","v":""},{"$f":"IF(O6948=\"\",\"\",RANK(O6948,$O$2:$O$1000))","v":""}]
["1810 和成","羅月英          羅月英",0,"羅月英",null,null,null,null,null,null,null,null,null,null,{"$f":"IFERROR(VLOOKUP(K6970,股價!A:B,2,0)*M6970,\"\")","v":""},{"$f":"IF(O6970=\"\",\"\",RANK(O6970,$O$2:$O$1000))","v":""}]
["1813 寶利徠","張文堂          張文堂",0,"張文堂",null,null,null,null,null,null,null,null,null,null,{"$f":"IFERROR(VLOOKUP(K6984,股價!A:B,2,0)*M6984,\"\")","v":""},{"$f":"IF(O6984=\"\",\"\",RANK(O6984,$O$2:$O$1000))","v":""}]
["1815 富喬","胡銘倫          胡銘倫",103,"胡銘倫",null,null,null,null,null,null,null,null,null,null,{"$f":"IFERROR(VLOOKUP(K7005,股價!A:B,2,0)*M7005,\"\")","v":""},{"$f":"IF(O7005=\"\",\"\",RANK(O7005,$O$2:$O$1000))","v":""}]
["1817 凱撒衛","陳威志          陳威志",70,"陳威志",null,null,null,null,null,null,null,null,null,null,{"$f":"IFERROR(VLOOKUP(K7041,股價!A:B,2,0)*M7041,\"\")","v":""},{"$f":"IF(O7041=\"\",\"\",RANK(O7041,$O$2:$O$1000))","v":""}]
["1903 士紙","財團法人萬海航運陳柏廷",18150,"財團法人萬海航運社會福利慈善事業基金",null,null,null,null,null,null,null,null,null,null,{"$f":"IFERROR(VLOOKUP(K7068,股價!A:B,2,0)*M7068,\"\")","v":""},{"$f":"IF(O7068=\"\",\"\",RANK(O7068,$O$2:$O$1000))","v":""}]
["1904 正隆","_大股東合計2    含沿用資料",290260,null,null,null,null,null,null,null,null,null,null,null,{"$f":"IFERROR(VLOOKUP(K7082,股價!A:B,2,0)*M7082,\"\")","v":""},{"$f":"IF(O7082=\"\",\"\",RANK(O7082,$O$2:$O$1000))","v":""}]
["1905 華紙","邱奕盛          邱奕盛",0,"邱奕盛",null,null,null,null,null,null,null,null,null,null,{"$f":"IFERROR(VLOOKUP(K7131,股價!A:B,2,0)*M7131,\"\")","v":""},{"$f":"IF(O7131=\"\",\"\",RANK(O7131,$O$2:$O$1000))","v":""}]
["1906 寶隆","_大股東合計2    含沿用資料",51954,null,null,null,null,null,null,null,null,null,null,null,{"$f":"IFERROR(VLOOKUP(K7152,股價!A:B,2,0)*M7152,\"\")","v":""},{"$f":"IF(O7152=\"\",\"\",RANK(O7152,$O$2:$O$1000))","v":""}]
["1906 寶隆","聯華實業投資控股苗豐強",2365,"聯華實業投資控股",null,null,null,null,null,null,null,null,null,null,{"$f":"IFERROR(VLOOKUP(K7175,股價!A:B,2,0)*M7175,\"\")","v":""},{"$f":"IF(O7175=\"\",\"\",RANK(O7175,$O$2:$O$1000))","v":""}]
["1907 永豐餘","永豐紙業(股)    駱秉正",18268,"永豐紙業",null,null,null,null,null,null,null,null,null,null,{"$f":"IFERROR(VLOOKUP(K7188,股價!A:B,2,0)*M7188,\"\")","v":""},{"$f":"IF(O7188=\"\",\"\",RANK(O7188,$O$2:$O$1000))","v":""}]
["1907 永豐餘","駱秉正          駱秉正",0,"駱秉正",null,null,null,null,null,null,null,null,null,null,{"$f":"IFERROR(VLOOKUP(K7216,股價!A:B,2,0)*M7216,\"\")","v":""},{"$f":"IF(O7216=\"\",\"\",RANK(O7216,$O$2:$O$1000))","v":""}]
["1909 榮成","榮聖投資(股)    李吉仁",115099,"榮聖投資",null,null,null,null,null,null,null,null,null,null,{"$f":"IFERROR(VLOOKUP(K7251,股價!A:B,2,0)*M7251,\"\")","v":""},{"$f":"IF(O7251=\"\",\"\",RANK(O7251,$O$2:$O$1000))","v":""}]
["2002 中鋼","洪敏雄          洪敏雄",0,"洪敏雄",null,null,null,null,null,null,null,null,null,null,{"$f":"IFERROR(VLOOKUP(K7272,股價!A:B,2,0)*M7272,\"\")","v":""},{"$f":"IF(O7272=\"\",\"\",RANK(O7272,$O$2:$O$1000))","v":""}]
["2006 東和鋼鐵","古寬仁          古寬仁",102,"古寬仁",null,null,null,null,null,null,null,null,null,null,{"$f":"IFERROR(VLOOKUP(K7309,股價!A:B,2,0)*M7309,\"\")","v":""},{"$f":"IF(O7309=\"\",\"\",RANK(O7309,$O$2:$O$1000))","v":""}]
["2006 東和鋼鐵","勞退110年第1    勞退110年第1",8145,"新制勞工退休基金110年第1次全權委託第一金投資專戶",null,null,null,null,null,null,null,null,null,null,{"$f":"IFERROR(VLOOKUP(K7335,股價!A:B,2,0)*M7335,\"\")","v":""},{"$f":"IF(O7335=\"\",\"\",RANK(O7335,$O$2:$O$1000))","v":""}]
["2007 燁興","_大股東合計2    含沿用資料",13537,null,null,null,null,null,null,null,null,null,null,null,{"$f":"IFERROR(VLOOKUP(K7356,股價!A:B,2,0)*M7356,\"\")","v":""},{"$f":"IF(O7356=\"\",\"\",RANK(O7356,$O$2:$O$1000))","v":""}]
["2007 燁興","歐圭彬          歐圭彬",5,"歐圭彬",null,null,null,null,null,null,null,null,null,null,{"$f":"IFERROR(VLOOKUP(K7380,股價!A:B,2,0)*M7380,\"\")","v":""},{"$f":"IF(O7380=\"\",\"\",RANK(O7380,$O$2:$O$1000))","v":""}]
["2009 第一銅","_大股東合計1",0,null,null,null,null,null,null,null,null,null,null,null,{"$f":"IFERROR(VLOOKUP(K7419,股價!A:B,2,0)*M7419,\"\")","v":""},{"$f":"IF(O7419=\"\",\"\",RANK(O7419,$O$2:$O$1000))","v":""}]
["2009 第一銅","劉宗仁          劉宗仁",312,"劉宗仁",null,null,null,null,null,null,null,null,null,null,{"$f":"IFERROR(VLOOKUP(K7447,股價!A:B,2,0)*M7447,\"\")","v":""},{"$f":"IF(O7447=\"\",\"\",RANK(O7447,$O$2:$O$1000))","v":""}]
["2010 春源","_大股東合計2    含沿用資料",106230,null,null,null,null,null,null,null,null,null,null,null,{"$f":"IFERROR(VLOOKUP(K7455,股價!A:B,2,0)*M7455,\"\")","v":""},{"$f":"IF(O7455=\"\",\"\",RANK(O7455,$O$2:$O$1000))","v":""}]
["2012 春雨","林輝政          林輝政",9,"林輝政",null,null,null,null,null,null,null,null,null,null,{"$f":"IFERROR(VLOOKUP(K7503,股價!A:B,2,0)*M7503,\"\")","v":""},{"$f":"IF(O7503=\"\",\"\",RANK(O7503,$O$2:$O$1000))","v":""}]
["2012 春雨","廖進益          廖進益",0,"廖進益",null,null,null,null,null,null,null,null,null,null,{"$f":"IFERROR(VLOOKUP(K7514,股價!A:B,2,0)*M7514,\"\")","v":""},{"$f":"IF(O7514=\"\",\"\",RANK(O7514,$O$2:$O$1000))","v":""}]
["2013 中鋼構","吳賴惠珍        吳賴惠珍",3708,"吳賴惠珍",null,null,null,null,null,null,null,null,null,null,{"$f":"IFERROR(VLOOKUP(K7539,股價!A:B,2,0)*M7539,\"\")","v":""},{"$f":"IF(O7539=\"\",\"\",RANK(O7539,$O$2:$O$1000))","v":""}]
["2014 中鴻","陳熙怡          陳熙怡",0,"陳熙怡",null,null,null,null,null,null,null,null,null,null,{"$f":"IFERROR(VLOOKUP(K7581,股價!A:B,2,0)*M7581,\"\")","v":""},{"$f":"IF(O7581=\"\",\"\",RANK(O7581,$O$2:$O$1000))","v":""}]
["2015 豐興","林文富          林文富",4641,"林文富",null,null,null,null,null,null,null,null,null,null,{"$f":"IFERROR(VLOOKUP(K7602,股價!A:B,2,0)*M7602,\"\")","v":""},{"$f":"IF(O7602=\"\",\"\",RANK(O7602,$O$2:$O$1000))","v":""}]
["2015 豐興","鍾朝全          鍾朝全",11588,"鍾朝全",null,null,null,null,null,null,null,null,null,null,{"$f":"IFERROR(VLOOKUP(K7623,股價!A:B,2,0)*M7623,\"\")","v":""},{"$f":"IF(O7623=\"\",\"\",RANK(O7623,$O$2:$O$1000))","v":""}]
["2017 官田鋼","陳重憲          陳重憲",11744,"陳重憲",null,null,null,null,null,null,null,null,null,null,{"$f":"IFERROR(VLOOKUP(K7652,股價!A:B,2,0)*M7652,\"\")","v":""},{"$f":"IF(O7652=\"\",\"\",RANK(O7652,$O$2:$O$1000))","v":""}]
["2020 美亞","源泉鋼鐵(股)    黃春發",36962,"源泉鋼鐵",null,null,null,null,null,null,null,null,null,null,{"$f":"IFERROR(VLOOKUP(K7686,股價!A:B,2,0)*M7686,\"\")","v":""},{"$f":"IF(O7686=\"\",\"\",RANK(O7686,$O$2:$O$1000))","v":""}]
["2022 聚亨","黃文松          黃文松",6171,"黃文松",null,null,null,null,null,null,null,null,null,null,{"$f":"IFERROR(VLOOKUP(K7715,股價!A:B,2,0)*M7715,\"\")","v":""},{"$f":"IF(O7715=\"\",\"\",RANK(O7715,$O$2:$O$1000))","v":""}]
["2023 燁輝","_大股東合計1",533217,null,null,null,null,null,null,null,null,null,null,null,{"$f":"IFERROR(VLOOKUP(K7722,股價!A:B,2,0)*M7722,\"\")","v":""},{"$f":"IF(O7722=\"\",\"\",RANK(O7722,$O$2:$O$1000))","v":""}]
["2023 燁輝","張顯耀          張顯耀",0,"張顯耀",null,null,null,null,null,null,null,null,null,null,{"$f":"IFERROR(VLOOKUP(K7770,股價!A:B,2,0)*M7770,\"\")","v":""},{"$f":"IF(O7770=\"\",\"\",RANK(O7770,$O$2:$O$1000))","v":""}]
["2023 燁輝","黃文照          黃文照",0,"黃文照",null,null,null,null,null,null,null,null,null,null,{"$f":"IFERROR(VLOOKUP(K7786,股價!A:B,2,0)*M7786,\"\")","v":""},{"$f":"IF(O7786=\"\",\"\",RANK(O7786,$O$2:$O$1000))","v":""}]
["2023 燁輝","興隆投資開發(股)林義守",69938,"興隆投資開發",null,null,null,null,null,null,null,null,null,null,{"$f":"IFERROR(VLOOKUP(K7806,股價!A:B,2,0)*M7806,\"\")","v":""},{"$f":"IF(O7806=\"\",\"\",RANK(O7806,$O$2:$O$1000))","v":""}]
["2025 千興","王素珠          王素珠",0,"王素珠",null,null,null,null,null,null,null,null,null,null,{"$f":"IFERROR(VLOOKUP(K7849,股價!A:B,2,0)*M7849,\"\")","v":""},{"$f":"IF(O7849=\"\",\"\",RANK(O7849,$O$2:$O$1000))","v":""}]
["2027 大成鋼","大成帝國工業股份謝麗雲",102624,"大成帝國工業股份有限公司",null,null,null,null,null,null,null,null,null,null,{"$f":"IFERROR(VLOOKUP(K7869,股價!A:B,2,0)*M7869,\"\")","v":""},{"$f":"IF(O7869=\"\",\"\",RANK(O7869,$O$2:$O$1000))","v":""}]
["2027 大成鋼","謝佩融          謝佩融",54812,"謝佩融",null,null,null,null,null,null,null,null,null,null,{"$f":"IFERROR(VLOOKUP(K7890,股價!A:B,2,0)*M7890,\"\")","v":""},{"$f":"IF(O7890=\"\",\"\",RANK(O7890,$O$2:$O$1000))","v":""}]
["2028 威致","劉吉雄          劉吉雄",0,"劉吉雄",null,null,null,null,null,null,null,null,null,null,{"$f":"IFERROR(VLOOKUP(K7920,股價!A:B,2,0)*M7920,\"\")","v":""},{"$f":"IF(O7920=\"\",\"\",RANK(O7920,$O$2:$O$1000))","v":""}]
["2029 盛餘","陳順良          陳順良",0,"陳順良",null,null,null,null,null,null,null,null,null,null,{"$f":"IFERROR(VLOOKUP(K7953,股價!A:B,2,0)*M7953,\"\")","v":""},{"$f":"IF(O7953=\"\",\"\",RANK(O7953,$O$2:$O$1000))","v":""}]
["2030 彰源","楊雿基          楊雿基",0,"楊雿基",null,null,null,null,null,null,null,null,null,null,{"$f":"IFERROR(VLOOKUP(K7983,股價!A:B,2,0)*M7983,\"\")","v":""},{"$f":"IF(O7983=\"\",\"\",RANK(O7983,$O$2:$O$1000))","v":""}]
["2031 新光鋼","余俊雄          余俊雄",186,"余俊雄",null,null,null,null,null,null,null,null,null,null,{"$f":"IFERROR(VLOOKUP(K7994,股價!A:B,2,0)*M7994,\"\")","v":""},{"$f":"IF(O7994=\"\",\"\",RANK(O7994,$O$2:$O$1000))","v":""}]
["2033 佳大","_大股東合計1",0,null,null,null,null,null,null,null,null,null,null,null,{"$f":"IFERROR(VLOOKUP(K8037,股價!A:B,2,0)*M8037,\"\")","v":""},{"$f":"IF(O8037=\"\",\"\",RANK(O8037,$O$2:$O$1000))","v":""}]
["2033 佳大","富和投資(股)    吳曾麗月",3163,"富和投資",null,null,null,null,null,null,null,null,null,null,{"$f":"IFERROR(VLOOKUP(K8054,股價!A:B,2,0)*M8054,\"\")","v":""},{"$f":"IF(O8054=\"\",\"\",RANK(O8054,$O$2:$O$1000))","v":""}]
["2034 允強","江星緯          江星緯",0,"江星緯",null,null,null,null,null,null,null,null,null,null,{"$f":"IFERROR(VLOOKUP(K8073,股價!A:B,2,0)*M8073,\"\")","v":""},{"$f":"IF(O8073=\"\",\"\",RANK(O8073,$O$2:$O$1000))","v":""}]
["2035 唐榮","欣邦投資開發(股)欣邦投資開發",7224,"欣邦投資開發",null,null,null,null,null,null,null,null,null,null,{"$f":"IFERROR(VLOOKUP(K8117,股價!A:B,2,0)*M8117,\"\")","v":""},{"$f":"IF(O8117=\"\",\"\",RANK(O8117,$O$2:$O$1000))","v":""}]
["2038 海光","_經理人合計",9,null,null,null,null,null,null,null,null,null,null,null,{"$f":"IFERROR(VLOOKUP(K8141,股價!A:B,2,0)*M8141,\"\")","v":""},{"$f":"IF(O8141=\"\",\"\",RANK(O8141,$O$2:$O$1000))","v":""}]
["2038 海光","陳石城          陳石城",0,"陳石城",null,null,null,null,null,null,null,null,null,null,{"$f":"IFERROR(VLOOKUP(K8157,股價!A:B,2,0)*M8157,\"\")","v":""},{"$f":"IF(O8157=\"\",\"\",RANK(O8157,$O$2:$O$1000))","v":""}]
["2049 上銀","卓永財          卓永財",10991,"卓永財",null,null,null,null,null,null,null,null,null,null,{"$f":"IFERROR(VLOOKUP(K8188,股價!A:B,2,0)*M8188,\"\")","v":""},{"$f":"IF(O8188=\"\",\"\",RANK(O8188,$O$2:$O$1000))","v":""}]
["2059 川湖","隆盛投資(股)    林淑珍",6233,"隆盛投資",null,null,null,null,null,null,null,null,null,null,{"$f":"IFERROR(VLOOKUP(K8225,股價!A:B,2,0)*M8225,\"\")","v":""},{"$f":"IF(O8225=\"\",\"\",RANK(O8225,$O$2:$O$1000))","v":""}]
["2061 風青","陳姵如          陳姵如",649,"陳姵如",null,null,null,null,null,null,null,null,null,null,{"$f":"IFERROR(VLOOKUP(K8251,股價!A:B,2,0)*M8251,\"\")","v":""},{"$f":"IF(O8251=\"\",\"\",RANK(O8251,$O$2:$O$1000))","v":""}]
["2062 橋椿","_監察人合計",0,null,null,null,null,null,null,null,null,null,null,null,{"$f":"IFERROR(VLOOKUP(K8261,股價!A:B,2,0)*M8261,\"\")","v":""},{"$f":"IF(O8261=\"\",\"\",RANK(O8261,$O$2:$O$1000))","v":""}]
["2063 世鎧","_董  事合計",9079,null,null,null,null,null,null,null,null,null,null,null,{"$f":"IFERROR(VLOOKUP(K8304,股價!A:B,2,0)*M8304,\"\")","v":""},{"$f":"IF(O8304=\"\",\"\",RANK(O8304,$O$2:$O$1000))","v":""}]
["2063 世鎧","劉重明          劉重明",969,"劉重明",null,null,null,null,null,null,null,null,null,null,{"$f":"IFERROR(VLOOKUP(K8322,股價!A:B,2,0)*M8322,\"\")","v":""},{"$f":"IF(O8322=\"\",\"\",RANK(O8322,$O$2:$O$1000))","v":""}]
["2064 晉椿","蕭良賢          蕭良賢",9,"蕭良賢",null,null,null,null,null,null,null,null,null,null,{"$f":"IFERROR(VLOOKUP(K8345,股價!A:B,2,0)*M8345,\"\")","v":""},{"$f":"IF(O8345=\"\",\"\",RANK(O8345,$O$2:$O$1000))","v":""}]
["2065 世豐","杜泰源          杜泰源",165,"杜泰源",null,null,null,null,null,null,null,null,null,null,{"$f":"IFERROR(VLOOKUP(K8359,股價!A:B,2,0)*M8359,\"\")","v":""},{"$f":"IF(O8359=\"\",\"\",RANK(O8359,$O$2:$O$1000))","v":""}]
["2067 嘉鋼","_董  事合計",12225,null,null,null,null,null,null,null,null,null,null,null,{"$f":"IFERROR(VLOOKUP(K8408,股價!A:B,2,0)*M8408,\"\")","v":""},{"$f":"IF(O8408=\"\",\"\",RANK(O8408,$O$2:$O$1000))","v":""}]
["2067 嘉鋼","裕基創業投資(股)洪敏弘",1077,"裕基創業投資",null,null,null,null,null,null,null,null,null,null,{"$f":"IFERROR(VLOOKUP(K8424,股價!A:B,2,0)*M8424,\"\")","v":""},{"$f":"IF(O8424=\"\",\"\",RANK(O8424,$O$2:$O$1000))","v":""}]
["2069 運錩","顏詩航          顏詩航",2476,"顏詩航",null,null,null,null,null,null,null,null,null,null,{"$f":"IFERROR(VLOOKUP(K8456,股價!A:B,2,0)*M8456,\"\")","v":""},{"$f":"IF(O8456=\"\",\"\",RANK(O8456,$O$2:$O$1000))","v":""}]
["2070 精湛","王素春          王素春",2079,"王素春",null,null,null,null,null,null,null,null,null,null,{"$f":"IFERROR(VLOOKUP(K8465,股價!A:B,2,0)*M8465,\"\")","v":""},{"$f":"IF(O8465=\"\",\"\",RANK(O8465,$O$2:$O$1000))","v":""}]
["2101 南港","佑神電子遊戲(股)蔡哲雄",30000,"佑神電子遊戲場業",null,null,null,null,null,null,null,null,null,null,{"$f":"IFERROR(VLOOKUP(K8493,股價!A:B,2,0)*M8493,\"\")","v":""},{"$f":"IF(O8493=\"\",\"\",RANK(O8493,$O$2:$O$1000))","v":""}]
["2102 泰豐","王立華          王立華",0,"王立華",null,null,null,null,null,null,null,null,null,null,{"$f":"IFERROR(VLOOKUP(K8528,股價!A:B,2,0)*M8528,\"\")","v":""},{"$f":"IF(O8528=\"\",\"\",RANK(O8528,$O$2:$O$1000))","v":""}]
["2102 泰豐","葛作亮          葛作亮",0,"葛作亮",null,null,null,null,null,null,null,null,null,null,{"$f":"IFERROR(VLOOKUP(K8549,股價!A:B,2,0)*M8549,\"\")","v":""},{"$f":"IF(O8549=\"\",\"\",RANK(O8549,$O$2:$O$1000))","v":""}]
["2103 台橡","漢德建設(股)    江金山",63093,"漢德建設",null,null,null,null,null,null,null,null,null,null,{"$f":"IFERROR(VLOOKUP(K8590,股價!A:B,2,0)*M8590,\"\")","v":""},{"$f":"IF(O8590=\"\",\"\",RANK(O8590,$O$2:$O$1000))","v":""}]
["2104 國際中橡","丁原偉          丁原偉",0,"丁原偉",null,null,null,null,null,null,null,null,null,null,{"$f":"IFERROR(VLOOKUP(K8612,股價!A:B,2,0)*M8612,\"\")","v":""},{"$f":"IF(O8612=\"\",\"\",RANK(O8612,$O$2:$O$1000))","v":""}]
["2104 國際中橡","富品投資(股)    侯天儀",16903,"富品投資股份有限公司",null,null,null,null,null,null,null,null,null,null,{"$f":"IFERROR(VLOOKUP(K8628,股價!A:B,2,0)*M8628,\"\")","v":""},{"$f":"IF(O8628=\"\",\"\",RANK(O8628,$O$2:$O$1000))","v":""}]
["2105 正新","胡明德          胡明德",10,"胡明德",null,null,null,null,null,null,null,null,null,null,{"$f":"IFERROR(VLOOKUP(K8661,股價!A:B,2,0)*M8661,\"\")","v":""},{"$f":"IF(O8661=\"\",\"\",RANK(O8661,$O$2:$O$1000))","v":""}]
["2105 正新","羅才仁          羅才仁",91662,"羅才仁",null,null,null,null,null,null,null,null,null,null,{"$f":"IFERROR(VLOOKUP(K8696,股價!A:B,2,0)*M8696,\"\")","v":""},{"$f":"IF(O8696=\"\",\"\",RANK(O8696,$O$2:$O$1000))","v":""}]
["2106 建大","楊佳玲          楊佳玲",28650,"楊佳玲",null,null,null,null,null,null,null,null,null,null,{"$f":"IFERROR(VLOOKUP(K8724,股價!A:B,2,0)*M8724,\"\")","v":""},{"$f":"IF(O8724=\"\",\"\",RANK(O8724,$O$2:$O$1000))","v":""}]
["2106 建大","楊瑩元          楊瑩元",25160,"楊瑩元",null,null,null,null,null,null,null,null,null,null,{"$f":"IFERROR(VLOOKUP(K8732,股價!A:B,2,0)*M8732,\"\")","v":""},{"$f":"IF(O8732=\"\",\"\",RANK(O8732,$O$2:$O$1000))","v":""}]
["2108 南帝","太子建設開發(股)謝明汎",10695,"太子建設開發",null,null,null,null,null,null,null,null,null,null,{"$f":"IFERROR(VLOOKUP(K8775,股價!A:B,2,0)*M8775,\"\")","v":""},{"$f":"IF(O8775=\"\",\"\",RANK(O8775,$O$2:$O$1000))","v":""}]
["2108 南帝","侯博裕          侯博裕",12,"侯博裕",null,null,null,null,null,null,null,null,null,null,{"$f":"IFERROR(VLOOKUP(K8795,股價!A:B,2,0)*M8795,\"\")","v":""},{"$f":"IF(O8795=\"\",\"\",RANK(O8795,$O$2:$O$1000))","v":""}]
["2108 南帝","鴻漢企業(有)    廖孟省",10735,"鴻漢企業",null,null,null,null,null,null,null,null,null,null,{"$f":"IFERROR(VLOOKUP(K8816,股價!A:B,2,0)*M8816,\"\")","v":""},{"$f":"IF(O8816=\"\",\"\",RANK(O8816,$O$2:$O$1000))","v":""}]
["2114 鑫永銓","_監察人合計",0,null,null,null,null,null,null,null,null,null,null,null,{"$f":"IFERROR(VLOOKUP(K8858,股價!A:B,2,0)*M8858,\"\")","v":""},{"$f":"IF(O8858=\"\",\"\",RANK(O8858,$O$2:$O$1000))","v":""}]
["2114 鑫永銓","黃國楨          黃國楨",128,"黃國楨",null,null,null,null,null,null,null,null,null,null,{"$f":"IFERROR(VLOOKUP(K8879,股價!A:B,2,0)*M8879,\"\")","v":""},{"$f":"IF(O8879=\"\",\"\",RANK(O8879,$O$2:$O$1000))","v":""}]
["2115 六暉-KY","張盛宏          張盛宏",11,"張盛宏",null,null,null,null,null,null,null,null,null,null,{"$f":"IFERROR(VLOOKUP(K8900,股價!A:B,2,0)*M8900,\"\")","v":""},{"$f":"IF(O8900=\"\",\"\",RANK(O8900,$O$2:$O$1000))","v":""}]
["2201 裕隆","卓哲宇          卓哲宇",0,"卓哲宇",null,null,null,null,null,null,null,null,null,null,{"$f":"IFERROR(VLOOKUP(K8929,股價!A:B,2,0)*M8929,\"\")","v":""},{"$f":"IF(O8929=\"\",\"\",RANK(O8929,$O$2:$O$1000))","v":""}]
["2204 中華","山崎義則        山崎義則",0,"山崎義則",null,null,null,null,null,null,null,null,null,null,{"$f":"IFERROR(VLOOKUP(K8963,股價!A:B,2,0)*M8963,\"\")","v":""},{"$f":"IF(O8963=\"\",\"\",RANK(O8963,$O$2:$O$1000))","v":""}]
["2204 中華","嚴陳莉蓮        嚴陳莉蓮",2216,"嚴陳莉蓮",null,null,null,null,null,null,null,null,null,null,{"$f":"IFERROR(VLOOKUP(K8992,股價!A:B,2,0)*M8992,\"\")","v":""},{"$f":"IF(O8992=\"\",\"\",RANK(O8992,$O$2:$O$1000))","v":""}]
["2206 三陽工業","千景投資(股)    吳麗珠",29181,"千景投資",null,null,null,null,null,null,null,null,null,null,{"$f":"IFERROR(VLOOKUP(K8999,股價!A:B,2,0)*M8999,\"\")","v":""},{"$f":"IF(O8999=\"\",\"\",RANK(O8999,$O$2:$O$1000))","v":""}]
["2207 和泰車","吳師豪          吳師豪",0,"吳師豪",null,null,null,null,null,null,null,null,null,null,{"$f":"IFERROR(VLOOKUP(K9047,股價!A:B,2,0)*M9047,\"\")","v":""},{"$f":"IF(O9047=\"\",\"\",RANK(O9047,$O$2:$O$1000))","v":""}]
["2207 和泰車","翁銘倫          翁銘倫",0,"翁銘倫",null,null,null,null,null,null,null,null,null,null,{"$f":"IFERROR(VLOOKUP(K9063,股價!A:B,2,0)*M9063,\"\")","v":""},{"$f":"IF(O9063=\"\",\"\",RANK(O9063,$O$2:$O$1000))","v":""}]
["2207 和泰車","韓志剛          韓志剛",0,"韓志剛",null,null,null,null,null,null,null,null,null,null,{"$f":"IFERROR(VLOOKUP(K9083,股價!A:B,2,0)*M9083,\"\")","v":""},{"$f":"IF(O9083=\"\",\"\",RANK(O9083,$O$2:$O$1000))","v":""}]
["2208 台船","台船產業工會    徐漢勳",801,"台灣國際造船產業工會",null,null,null,null,null,null,null,null,null,null,{"$f":"IFERROR(VLOOKUP(K9104,股價!A:B,2,0)*M9104,\"\")","v":""},{"$f":"IF(O9104=\"\",\"\",RANK(O9104,$O$2:$O$1000))","v":""}]
["2211 長榮鋼","林耿立          林耿立",139,"林耿立",null,null,null,null,null,null,null,null,null,null,{"$f":"IFERROR(VLOOKUP(K9146,股價!A:B,2,0)*M9146,\"\")","v":""},{"$f":"IF(O9146=\"\",\"\",RANK(O9146,$O$2:$O$1000))","v":""}]
["2221 大甲","_大股東合計1",0,null,null,null,null,null,null,null,null,null,null,null,{"$f":"IFERROR(VLOOKUP(K9167,股價!A:B,2,0)*M9167,\"\")","v":""},{"$f":"IF(O9167=\"\",\"\",RANK(O9167,$O$2:$O$1000))","v":""}]
["2227 裕日車","_董監事合計",263500,null,null,null,null,null,null,null,null,null,null,null,{"$f":"IFERROR(VLOOKUP(K9197,股價!A:B,2,0)*M9197,\"\")","v":""},{"$f":"IF(O9197=\"\",\"\",RANK(O9197,$O$2:$O$1000))","v":""}]
["2227 裕日車","褚育荏          褚育荏",0,"褚育荏",null,null,null,null,null,null,null,null,null,null,{"$f":"IFERROR(VLOOKUP(K9230,股價!A:B,2,0)*M9230,\"\")","v":""},{"$f":"IF(O9230=\"\",\"\",RANK(O9230,$O$2:$O$1000))","v":""}]
["2227 裕日車","鐘文川          鐘文川",0,"鐘文川",null,null,null,null,null,null,null,null,null,null,{"$f":"IFERROR(VLOOKUP(K9238,股價!A:B,2,0)*M9238,\"\")","v":""},{"$f":"IF(O9238=\"\",\"\",RANK(O9238,$O$2:$O$1000))","v":""}]
["2228 劍麟","黃逸揚          黃逸揚",76,"黃逸揚",null,null,null,null,null,null,null,null,null,null,{"$f":"IFERROR(VLOOKUP(K9266,股價!A:B,2,0)*M9266,\"\")","v":""},{"$f":"IF(O9266=\"\",\"\",RANK(O9266,$O$2:$O$1000))","v":""}]
["2233 宇隆","李怡燕          李怡燕",0,"李怡燕",null,null,null,null,null,null,null,null,null,null,{"$f":"IFERROR(VLOOKUP(K9314,股價!A:B,2,0)*M9314,\"\")","v":""},{"$f":"IF(O9314=\"\",\"\",RANK(O9314,$O$2:$O$1000))","v":""}]
["2233 宇隆","劉俊昌          劉俊昌",1827,"劉俊昌",null,null,null,null,null,null,null,null,null,null,{"$f":"IFERROR(VLOOKUP(K9331,股價!A:B,2,0)*M9331,\"\")","v":""},{"$f":"IF(O9331=\"\",\"\",RANK(O9331,$O$2:$O$1000))","v":""}]
["2236 百達-KY","吳美德          吳美德",2032,"吳美德",null,null,null,null,null,null,null,null,null,null,{"$f":"IFERROR(VLOOKUP(K9350,股價!A:B,2,0)*M9350,\"\")","v":""},{"$f":"IF(O9350=\"\",\"\",RANK(O9350,$O$2:$O$1000))","v":""}]
["2239 英利-KY","Superb Goal(有) Superb Goal(",2560,"Superb Goal Ventures Limited",null,null,null,null,null,null,null,null,null,null,{"$f":"IFERROR(VLOOKUP(K9372,股價!A:B,2,0)*M9372,\"\")","v":""},{"$f":"IF(O9372=\"\",\"\",RANK(O9372,$O$2:$O$1000))","v":""}]
["2241 艾姆勒","詹心怡          詹心怡",0,"詹心怡",null,null,null,null,null,null,null,null,null,null,{"$f":"IFERROR(VLOOKUP(K9413,股價!A:B,2,0)*M9413,\"\")","v":""},{"$f":"IF(O9413=\"\",\"\",RANK(O9413,$O$2:$O$1000))","v":""}]
["2243 宏旭-KY","張淳博          張淳博",0,"張淳博",null,null,null,null,null,null,null,null,null,null,{"$f":"IFERROR(VLOOKUP(K9434,股價!A:B,2,0)*M9434,\"\")","v":""},{"$f":"IF(O9434=\"\",\"\",RANK(O9434,$O$2:$O$1000))","v":""}]
["2247 汎德永業","張振東          張振東",24,"張振東",null,null,null,null,null,null,null,null,null,null,{"$f":"IFERROR(VLOOKUP(K9469,股價!A:B,2,0)*M9469,\"\")","v":""},{"$f":"IF(O9469=\"\",\"\",RANK(O9469,$O$2:$O$1000))","v":""}]
["2250 IKKA-KY","兆豐國際商業銀行張兆順",550,"兆豐國際商業銀行",null,null,null,null,null,null,null,null,null,null,{"$f":"IFERROR(VLOOKUP(K9497,股價!A:B,2,0)*M9497,\"\")","v":""},{"$f":"IF(O9497=\"\",\"\",RANK(O9497,$O$2:$O$1000))","v":""}]
["2250 IKKA-KY","能率創新(股)    小原正美",4000,"能率創新",null,null,null,null,null,null,null,null,null,null,{"$f":"IFERROR(VLOOKUP(K9506,股價!A:B,2,0)*M9506,\"\")","v":""},{"$f":"IF(O9506=\"\",\"\",RANK(O9506,$O$2:$O$1000))","v":""}]
["2301 光寶科","宋明峰          宋明峰",15120,"宋明峰",null,null,null,null,null,null,null,null,null,null,{"$f":"IFERROR(VLOOKUP(K9533,股價!A:B,2,0)*M9533,\"\")","v":""},{"$f":"IF(O9533=\"\",\"\",RANK(O9533,$O$2:$O$1000))","v":""}]
["2303 聯電","_經理人合計",80587,null,null,null,null,null,null,null,null,null,null,null,{"$f":"IFERROR(VLOOKUP(K9581,股價!A:B,2,0)*M9581,\"\")","v":""},{"$f":"IF(O9581=\"\",\"\",RANK(O9581,$O$2:$O$1000))","v":""}]
["2303 聯電","徐光曦          徐光曦",0,"徐光曦",null,null,null,null,null,null,null,null,null,null,{"$f":"IFERROR(VLOOKUP(K9603,股價!A:B,2,0)*M9603,\"\")","v":""},{"$f":"IF(O9603=\"\",\"\",RANK(O9603,$O$2:$O$1000))","v":""}]
["2303 聯電","鄒世芳          鄒世芳",1374,"鄒世芳",null,null,null,null,null,null,null,null,null,null,{"$f":"IFERROR(VLOOKUP(K9617,股價!A:B,2,0)*M9617,\"\")","v":""},{"$f":"IF(O9617=\"\",\"\",RANK(O9617,$O$2:$O$1000))","v":""}]
["2305 全友","伯光企業(股)    Paul A. Hsu",36202,"伯光企業",null,null,null,null,null,null,null,null,null,null,{"$f":"IFERROR(VLOOKUP(K9640,股價!A:B,2,0)*M9640,\"\")","v":""},{"$f":"IF(O9640=\"\",\"\",RANK(O9640,$O$2:$O$1000))","v":""}]
["2308 台達電","勞工保險基金    勞工保險基金",35194,"勞工保險基金",null,null,null,null,null,null,null,null,null,null,{"$f":"IFERROR(VLOOKUP(K9680,股價!A:B,2,0)*M9680,\"\")","v":""},{"$f":"IF(O9680=\"\",\"\",RANK(O9680,$O$2:$O$1000))","v":""}]
["2312 金寶","沈坤照          沈坤照",22463,"沈坤照",null,null,null,null,null,null,null,null,null,null,{"$f":"IFERROR(VLOOKUP(K9701,股價!A:B,2,0)*M9701,\"\")","v":""},{"$f":"IF(O9701=\"\",\"\",RANK(O9701,$O$2:$O$1000))","v":""}]
["2313 華通","吳健            吳健",27195,"吳健",null,null,null,null,null,null,null,null,null,null,{"$f":"IFERROR(VLOOKUP(K9737,股價!A:B,2,0)*M9737,\"\")","v":""},{"$f":"IF(O9737=\"\",\"\",RANK(O9737,$O$2:$O$1000))","v":""}]
["2314 台揚","周家鈺          周家鈺",0,"周家鈺",null,null,null,null,null,null,null,null,null,null,{"$f":"IFERROR(VLOOKUP(K9764,股價!A:B,2,0)*M9764,\"\")","v":""},{"$f":"IF(O9764=\"\",\"\",RANK(O9764,$O$2:$O$1000))","v":""}]
["2314 台揚","陳彥良          陳彥良",320,"陳彥良",null,null,null,null,null,null,null,null,null,null,{"$f":"IFERROR(VLOOKUP(K9774,股價!A:B,2,0)*M9774,\"\")","v":""},{"$f":"IF(O9774=\"\",\"\",RANK(O9774,$O$2:$O$1000))","v":""}]
["2316 楠梓電","港中龍投資(股)  徐漢忠",9373,"港中龍投資",null,null,null,null,null,null,null,null,null,null,{"$f":"IFERROR(VLOOKUP(K9805,股價!A:B,2,0)*M9805,\"\")","v":""},{"$f":"IF(O9805=\"\",\"\",RANK(O9805,$O$2:$O$1000))","v":""}]
["2321 東訊","_大股東合計2    含沿用資料",1357,null,null,null,null,null,null,null,null,null,null,null,{"$f":"IFERROR(VLOOKUP(K9848,股價!A:B,2,0)*M9848,\"\")","v":""},{"$f":"IF(O9848=\"\",\"\",RANK(O9848,$O$2:$O$1000))","v":""}]
["2321 東訊","陳易龍          陳易龍",0,"陳易龍",null,null,null,null,null,null,null,null,null,null,{"$f":"IFERROR(VLOOKUP(K9871,股價!A:B,2,0)*M9871,\"\")","v":""},{"$f":"IF(O9871=\"\",\"\",RANK(O9871,$O$2:$O$1000))","v":""}]
["2323 中環","_董監事合計",99591,null,null,null,null,null,null,null,null,null,null,null,{"$f":"IFERROR(VLOOKUP(K9884,股價!A:B,2,0)*M9884,\"\")","v":""},{"$f":"IF(O9884=\"\",\"\",RANK(O9884,$O$2:$O$1000))","v":""}]
["2324 仁寶","_大股東合計2    含沿用資料",826662,null,null,null,null,null,null,null,null,null,null,null,{"$f":"IFERROR(VLOOKUP(K9908,股價!A:B,2,0)*M9908,\"\")","v":""},{"$f":"IF(O9908=\"\",\"\",RANK(O9908,$O$2:$O$1000))","v":""}]
["2324 仁寶","陳柏亨          陳柏亨",280,"陳柏亨",null,null,null,null,null,null,null,null,null,null,{"$f":"IFERROR(VLOOKUP(K9952,股價!A:B,2,0)*M9952,\"\")","v":""},{"$f":"IF(O9952=\"\",\"\",RANK(O9952,$O$2:$O$1000))","v":""}]
["2324 仁寶","蔡堆            蔡堆",0,"蔡堆",null,null,null,null,null,null,null,null,null,null,{"$f":"IFERROR(VLOOKUP(K9968,股價!A:B,2,0)*M9968,\"\")","v":""},{"$f":"IF(O9968=\"\",\"\",RANK(O9968,$O$2:$O$1000))","v":""}]
["2327 國巨","陳碩鋒          陳碩鋒",0,"陳碩鋒",null,null,null,null,null,null,null,null,null,null,{"$f":"IFERROR(VLOOKUP(K10005,股價!A:B,2,0)*M10005,\"\")","v":""},{"$f":"IF(O10005=\"\",\"\",RANK(O10005,$O$2:$O$1000))","v":""}]
["2327 國巨","楊世緘          楊世緘",0,"楊世緘",null,null,null,null,null,null,null,null,null,null,{"$f":"IFERROR(VLOOKUP(K10009,股價!A:B,2,0)*M10009,\"\")","v":""},{"$f":"IF(O10009=\"\",\"\",RANK(O10009,$O$2:$O$1000))","v":""}]
["2329 華泰","_監察人合計",0,null,null,null,null,null,null,null,null,null,null,null,{"$f":"IFERROR(VLOOKUP(K10052,股價!A:B,2,0)*M10052,\"\")","v":""},{"$f":"IF(O10052=\"\",\"\",RANK(O10052,$O$2:$O$1000))","v":""}]
["2329 華泰","蔡敏郎          蔡敏郎",63,"蔡敏郎",null,null,null,null,null,null,null,null,null,null,{"$f":"IFERROR(VLOOKUP(K10076,股價!A:B,2,0)*M10076,\"\")","v":""},{"$f":"IF(O10076=\"\",\"\",RANK(O10076,$O$2:$O$1000))","v":""}]
["2330 台積電","_監察人合計",0,null,null,null,null,null,null,null,null,null,null,null,{"$f":"IFERROR(VLOOKUP(K10088,股價!A:B,2,0)*M10088,\"\")","v":""},{"$f":"IF(O10088=\"\",\"\",RANK(O10088,$O$2:$O$1000))","v":""}]
["2331 精英","_大股東合計2    含沿用資料",108832,null,null,null,null,null,null,null,null,null,null,null,{"$f":"IFERROR(VLOOKUP(K10139,股價!A:B,2,0)*M10139,\"\")","v":""},{"$f":"IF(O10139=\"\",\"\",RANK(O10139,$O$2:$O$1000))","v":""}]
["2331 精英","松明投資(股)    羊曉東",2148,"松明投資",null,null,null,null,null,null,null,null,null,null,{"$f":"IFERROR(VLOOKUP(K10156,股價!A:B,2,0)*M10156,\"\")","v":""},{"$f":"IF(O10156=\"\",\"\",RANK(O10156,$O$2:$O$1000))","v":""}]
["2331 精英","黃揚            黃揚",0,"黃揚",null,null,null,null,null,null,null,null,null,null,{"$f":"IFERROR(VLOOKUP(K10172,股價!A:B,2,0)*M10172,\"\")","v":""},{"$f":"IF(O10172=\"\",\"\",RANK(O10172,$O$2:$O$1000))","v":""}]
["2332 友訊","黃士珍          黃士珍",0,"黃士珍",null,null,null,null,null,null,null,null,null,null,{"$f":"IFERROR(VLOOKUP(K10210,股價!A:B,2,0)*M10210,\"\")","v":""},{"$f":"IF(O10210=\"\",\"\",RANK(O10210,$O$2:$O$1000))","v":""}]
["2337 旺宏","李慧霽          李慧霽",326,"李慧霽",null,null,null,null,null,null,null,null,null,null,{"$f":"IFERROR(VLOOKUP(K10235,股價!A:B,2,0)*M10235,\"\")","v":""},{"$f":"IF(O10235=\"\",\"\",RANK(O10235,$O$2:$O$1000))","v":""}]
["2338 光罩","大通梵加德新    大通梵加德新",2701,"大通託管梵加德集團新興市場基金投資專戶",null,null,null,null,null,null,null,null,null,null,{"$f":"IFERROR(VLOOKUP(K10273,股價!A:B,2,0)*M10273,\"\")","v":""},{"$f":"IF(O10273=\"\",\"\",RANK(O10273,$O$2:$O$1000))","v":""}]
["2338 光罩","王偉臣          王偉臣",0,"王偉臣",null,null,null,null,null,null,null,null,null,null,{"$f":"IFERROR(VLOOKUP(K10276,股價!A:B,2,0)*M10276,\"\")","v":""},{"$f":"IF(O10276=\"\",\"\",RANK(O10276,$O$2:$O$1000))","v":""}]
["2342 茂矽","_經理人合計",209,null,null,null,null,null,null,null,null,null,null,null,{"$f":"IFERROR(VLOOKUP(K10319,股價!A:B,2,0)*M10319,\"\")","v":""},{"$f":"IF(O10319=\"\",\"\",RANK(O10319,$O$2:$O$1000))","v":""}]
["2342 茂矽","盧建志          盧建志",0,"盧建志",null,null,null,null,null,null,null,null,null,null,{"$f":"IFERROR(VLOOKUP(K10344,股價!A:B,2,0)*M10344,\"\")","v":""},{"$f":"IF(O10344=\"\",\"\",RANK(O10344,$O$2:$O$1000))","v":""}]
["2344 華邦電","洪文章          洪文章",18,"洪文章",null,null,null,null,null,null,null,null,null,null,{"$f":"IFERROR(VLOOKUP(K10360,股價!A:B,2,0)*M10360,\"\")","v":""},{"$f":"IF(O10360=\"\",\"\",RANK(O10360,$O$2:$O$1000))","v":""}]
["2344 華邦電","顏懋祥          顏懋祥",363,"顏懋祥",null,null,null,null,null,null,null,null,null,null,{"$f":"IFERROR(VLOOKUP(K10381,股價!A:B,2,0)*M10381,\"\")","v":""},{"$f":"IF(O10381=\"\",\"\",RANK(O10381,$O$2:$O$1000))","v":""}]
["2347 聯強","元大台高股息    元大台高股息",75162,"元大臺灣高股息基金專戶",null,null,null,null,null,null,null,null,null,null,{"$f":"IFERROR(VLOOKUP(K10423,股價!A:B,2,0)*M10423,\"\")","v":""},{"$f":"IF(O10423=\"\",\"\",RANK(O10423,$O$2:$O$1000))","v":""}]
["2347 聯強","黃碧琇          黃碧琇",181,"黃碧琇",null,null,null,null,null,null,null,null,null,null,{"$f":"IFERROR(VLOOKUP(K10439,股價!A:B,2,0)*M10439,\"\")","v":""},{"$f":"IF(O10439=\"\",\"\",RANK(O10439,$O$2:$O$1000))","v":""}]
["2348 海悅","聖倫投資(股)    聖倫投資(股)",4701,"聖倫投資",null,null,null,null,null,null,null,null,null,null,{"$f":"IFERROR(VLOOKUP(K10478,股價!A:B,2,0)*M10478,\"\")","v":""},{"$f":"IF(O10478=\"\",\"\",RANK(O10478,$O$2:$O$1000))","v":""}]
["2349 錸德","潘燕民          潘燕民",0,"潘燕民",null,null,null,null,null,null,null,null,null,null,{"$f":"IFERROR(VLOOKUP(K10507,股價!A:B,2,0)*M10507,\"\")","v":""},{"$f":"IF(O10507=\"\",\"\",RANK(O10507,$O$2:$O$1000))","v":""}]
["2351 順德","_監察人合計",0,null,null,null,null,null,null,null,null,null,null,null,{"$f":"IFERROR(VLOOKUP(K10515,股價!A:B,2,0)*M10515,\"\")","v":""},{"$f":"IF(O10515=\"\",\"\",RANK(O10515,$O$2:$O$1000))","v":""}]
["2352 佳世達","_董  事合計",346593,null,null,null,null,null,null,null,null,null,null,null,{"$f":"IFERROR(VLOOKUP(K10543,股價!A:B,2,0)*M10543,\"\")","v":""},{"$f":"IF(O10543=\"\",\"\",RANK(O10543,$O$2:$O$1000))","v":""}]
["2353 宏碁","友縳投資(股)    友縳投資(股)",33460,"友縳投資",null,null,null,null,null,null,null,null,null,null,{"$f":"IFERROR(VLOOKUP(K10591,股價!A:B,2,0)*M10591,\"\")","v":""},{"$f":"IF(O10591=\"\",\"\",RANK(O10591,$O$2:$O$1000))","v":""}]
["2353 宏碁","黃資婷          黃資婷",1336,"黃資婷",null,null,null,null,null,null,null,null,null,null,{"$f":"IFERROR(VLOOKUP(K10612,股價!A:B,2,0)*M10612,\"\")","v":""},{"$f":"IF(O10612=\"\",\"\",RANK(O10612,$O$2:$O$1000))","v":""}]
["2354 鴻準","李梓宏          李梓宏",0,"李梓宏",null,null,null,null,null,null,null,null,null,null,{"$f":"IFERROR(VLOOKUP(K10627,股價!A:B,2,0)*M10627,\"\")","v":""},{"$f":"IF(O10627=\"\",\"\",RANK(O10627,$O$2:$O$1000))","v":""}]
["2355 敬鵬","邢元智          邢元智",64,"邢元智",null,null,null,null,null,null,null,null,null,null,{"$f":"IFERROR(VLOOKUP(K10649,股價!A:B,2,0)*M10649,\"\")","v":""},{"$f":"IF(O10649=\"\",\"\",RANK(O10649,$O$2:$O$1000))","v":""}]
["2356 英業達","林宏州          林宏州",0,"林宏州",null,null,null,null,null,null,null,null,null,null,{"$f":"IFERROR(VLOOKUP(K10690,股價!A:B,2,0)*M10690,\"\")","v":""},{"$f":"IF(O10690=\"\",\"\",RANK(O10690,$O$2:$O$1000))","v":""}]
["2356 英業達","葉力誠          葉力誠",117412,"葉力誠",null,null,null,null,null,null,null,null,null,null,{"$f":"IFERROR(VLOOKUP(K10711,股價!A:B,2,0)*M10711,\"\")","v":""},{"$f":"IF(O10711=\"\",\"\",RANK(O10711,$O$2:$O$1000))","v":""}]
["2357 華碩","陳彥政          陳彥政",158,"陳彥政",null,null,null,null,null,null,null,null,null,null,{"$f":"IFERROR(VLOOKUP(K10746,股價!A:B,2,0)*M10746,\"\")","v":""},{"$f":"IF(O10746=\"\",\"\",RANK(O10746,$O$2:$O$1000))","v":""}]
["2358 廷鑫","吳福禱          吳福禱",0,"吳福禱",null,null,null,null,null,null,null,null,null,null,{"$f":"IFERROR(VLOOKUP(K10774,股價!A:B,2,0)*M10774,\"\")","v":""},{"$f":"IF(O10774=\"\",\"\",RANK(O10774,$O$2:$O$1000))","v":""}]
["2358 廷鑫","曾O妤           曾O妤",3836,"曾O妤",null,null,null,null,null,null,null,null,null,null,{"$f":"IFERROR(VLOOKUP(K10783,股價!A:B,2,0)*M10783,\"\")","v":""},{"$f":"IF(O10783=\"\",\"\",RANK(O10783,$O$2:$O$1000))","v":""}]
["2359 所羅門","阮春祿          阮春祿",0,"阮春祿",null,null,null,null,null,null,null,null,null,null,{"$f":"IFERROR(VLOOKUP(K10810,股價!A:B,2,0)*M10810,\"\")","v":""},{"$f":"IF(O10810=\"\",\"\",RANK(O10810,$O$2:$O$1000))","v":""}]
["2360 致茂","段家瑞          段家瑞",0,"段家瑞",null,null,null,null,null,null,null,null,null,null,{"$f":"IFERROR(VLOOKUP(K10858,股價!A:B,2,0)*M10858,\"\")","v":""},{"$f":"IF(O10858=\"\",\"\",RANK(O10858,$O$2:$O$1000))","v":""}]
["2360 致茂","戴尤美          戴尤美",12,"戴尤美",null,null,null,null,null,null,null,null,null,null,{"$f":"IFERROR(VLOOKUP(K10880,股價!A:B,2,0)*M10880,\"\")","v":""},{"$f":"IF(O10880=\"\",\"\",RANK(O10880,$O$2:$O$1000))","v":""}]
["2362 藍天","周伯蕉          周伯蕉",0,"周伯蕉",null,null,null,null,null,null,null,null,null,null,{"$f":"IFERROR(VLOOKUP(K10894,股價!A:B,2,0)*M10894,\"\")","v":""},{"$f":"IF(O10894=\"\",\"\",RANK(O10894,$O$2:$O$1000))","v":""}]
["2363 矽統","_董監事合計",182259,null,null,null,null,null,null,null,null,null,null,null,{"$f":"IFERROR(VLOOKUP(K10921,股價!A:B,2,0)*M10921,\"\")","v":""},{"$f":"IF(O10921=\"\",\"\",RANK(O10921,$O$2:$O$1000))","v":""}]
["2364 倫飛","_大股東合計2    含沿用資料",6170,null,null,null,null,null,null,null,null,null,null,null,{"$f":"IFERROR(VLOOKUP(K10957,股價!A:B,2,0)*M10957,\"\")","v":""},{"$f":"IF(O10957=\"\",\"\",RANK(O10957,$O$2:$O$1000))","v":""}]
["2364 倫飛","康爾軒事業(有)  游玉玲",1391,"康爾軒事業",null,null,null,null,null,null,null,null,null,null,{"$f":"IFERROR(VLOOKUP(K10978,股價!A:B,2,0)*M10978,\"\")","v":""},{"$f":"IF(O10978=\"\",\"\",RANK(O10978,$O$2:$O$1000))","v":""}]
["2365 昆盈","廖瑞聰          廖瑞聰",3133,"廖瑞聰",null,null,null,null,null,null,null,null,null,null,{"$f":"IFERROR(VLOOKUP(K11014,股價!A:B,2,0)*M11014,\"\")","v":""},{"$f":"IF(O11014=\"\",\"\",RANK(O11014,$O$2:$O$1000))","v":""}]
["2367 燿華","崧領投資(股)    廖英惠",9460,"崧領投資",null,null,null,null,null,null,null,null,null,null,{"$f":"IFERROR(VLOOKUP(K11041,股價!A:B,2,0)*M11041,\"\")","v":""},{"$f":"IF(O11041=\"\",\"\",RANK(O11041,$O$2:$O$1000))","v":""}]
["2367 燿華","蕭惠馨          蕭惠馨",43,"蕭惠馨",null,null,null,null,null,null,null,null,null,null,{"$f":"IFERROR(VLOOKUP(K11055,股價!A:B,2,0)*M11055,\"\")","v":""},{"$f":"IF(O11055=\"\",\"\",RANK(O11055,$O$2:$O$1000))","v":""}]
["2368 金像電","胡智恭          胡智恭",0,"胡智恭",null,null,null,null,null,null,null,null,null,null,{"$f":"IFERROR(VLOOKUP(K11077,股價!A:B,2,0)*M11077,\"\")","v":""},{"$f":"IF(O11077=\"\",\"\",RANK(O11077,$O$2:$O$1000))","v":""}]
["2371 大同","_經理人合計",10,null,null,null,null,null,null,null,null,null,null,null,{"$f":"IFERROR(VLOOKUP(K11125,股價!A:B,2,0)*M11125,\"\")","v":""},{"$f":"IF(O11125=\"\",\"\",RANK(O11125,$O$2:$O$1000))","v":""}]
["2371 大同","鄭文逸          鄭文逸",76240,"鄭文逸",null,null,null,null,null,null,null,null,null,null,{"$f":"IFERROR(VLOOKUP(K11148,股價!A:B,2,0)*M11148,\"\")","v":""},{"$f":"IF(O11148=\"\",\"\",RANK(O11148,$O$2:$O$1000))","v":""}]
["2373 震旦行","_董  事合計",124891,null,null,null,null,null,null,null,null,null,null,null,{"$f":"IFERROR(VLOOKUP(K11161,股價!A:B,2,0)*M11161,\"\")","v":""},{"$f":"IF(O11161=\"\",\"\",RANK(O11161,$O$2:$O$1000))","v":""}]
["2374 佳能","_監察人合計",0,null,null,null,null,null,null,null,null,null,null,null,{"$f":"IFERROR(VLOOKUP(K11189,股價!A:B,2,0)*M11189,\"\")","v":""},{"$f":"IF(O11189=\"\",\"\",RANK(O11189,$O$2:$O$1000))","v":""}]
["2375 凱美","大通先進星光    大通先進星光",1267,"美商摩根大通銀行台北分行受託保管先進星光基金公司之系列基金先進總合國際股票指數基金",null,null,null,null,null,null,null,null,null,null,{"$f":"IFERROR(VLOOKUP(K11224,股價!A:B,2,0)*M11224,\"\")","v":""},{"$f":"IF(O11224=\"\",\"\",RANK(O11224,$O$2:$O$1000))","v":""}]
["2375 凱美","黃麗珠          黃麗珠",792,"黃麗珠",null,null,null,null,null,null,null,null,null,null,{"$f":"IFERROR(VLOOKUP(K11245,股價!A:B,2,0)*M11245,\"\")","v":""},{"$f":"IF(O11245=\"\",\"\",RANK(O11245,$O$2:$O$1000))","v":""}]
["2376 技嘉","王惠民          王惠民",0,"王惠民",null,null,null,null,null,null,null,null,null,null,{"$f":"IFERROR(VLOOKUP(K11260,股價!A:B,2,0)*M11260,\"\")","v":""},{"$f":"IF(O11260=\"\",\"\",RANK(O11260,$O$2:$O$1000))","v":""}]
["2377 微星","吳大欣          吳大欣",0,"吳大欣",null,null,null,null,null,null,null,null,null,null,{"$f":"IFERROR(VLOOKUP(K11308,股價!A:B,2,0)*M11308,\"\")","v":""},{"$f":"IF(O11308=\"\",\"\",RANK(O11308,$O$2:$O$1000))","v":""}]
["2377 微星","彭仁坊          彭仁坊",160,"彭仁坊",null,null,null,null,null,null,null,null,null,null,{"$f":"IFERROR(VLOOKUP(K11329,股價!A:B,2,0)*M11329,\"\")","v":""},{"$f":"IF(O11329=\"\",\"\",RANK(O11329,$O$2:$O$1000))","v":""}]
["2379 瑞昱","中國人壽保險(股)譚碩倫",8445,"中國人壽保險",null,null,null,null,null,null,null,null,null,null,{"$f":"IFERROR(VLOOKUP(K11353,股價!A:B,2,0)*M11353,\"\")","v":""},{"$f":"IF(O11353=\"\",\"\",RANK(O11353,$O$2:$O$1000))","v":""}]
["2379 瑞昱","翁啟舜          翁啟舜",0,"翁啟舜",null,null,null,null,null,null,null,null,null,null,{"$f":"IFERROR(VLOOKUP(K11365,股價!A:B,2,0)*M11365,\"\")","v":""},{"$f":"IF(O11365=\"\",\"\",RANK(O11365,$O$2:$O$1000))","v":""}]
["2380 虹光","吳永川          吳永川",0,"吳永川",null,null,null,null,null,null,null,null,null,null,{"$f":"IFERROR(VLOOKUP(K11394,股價!A:B,2,0)*M11394,\"\")","v":""},{"$f":"IF(O11394=\"\",\"\",RANK(O11394,$O$2:$O$1000))","v":""}]
["2382 廣達","林頂立          林頂立",1997,"林頂立",null,null,null,null,null,null,null,null,null,null,{"$f":"IFERROR(VLOOKUP(K11428,股價!A:B,2,0)*M11428,\"\")","v":""},{"$f":"IF(O11428=\"\",\"\",RANK(O11428,$O$2:$O$1000))","v":""}]
["2382 廣達","楊麒令          楊麒令",51,"楊麒令",null,null,null,null,null,null,null,null,null,null,{"$f":"IFERROR(VLOOKUP(K11449,股價!A:B,2,0)*M11449,\"\")","v":""},{"$f":"IF(O11449=\"\",\"\",RANK(O11449,$O$2:$O$1000))","v":""}]
["2383 台光電","舊制勞工退休基金舊制勞工退休",5892,"舊制勞工退休基金",null,null,null,null,null,null,null,null,null,null,{"$f":"IFERROR(VLOOKUP(K11491,股價!A:B,2,0)*M11491,\"\")","v":""},{"$f":"IF(O11491=\"\",\"\",RANK(O11491,$O$2:$O$1000))","v":""}]
["2385 群光","林玉玲          林玉玲",565,"林玉玲",null,null,null,null,null,null,null,null,null,null,{"$f":"IFERROR(VLOOKUP(K11512,股價!A:B,2,0)*M11512,\"\")","v":""},{"$f":"IF(O11512=\"\",\"\",RANK(O11512,$O$2:$O$1000))","v":""}]
["2385 群光","陳紹龍          陳紹龍",1503,"陳紹龍",null,null,null,null,null,null,null,null,null,null,{"$f":"IFERROR(VLOOKUP(K11528,股價!A:B,2,0)*M11528,\"\")","v":""},{"$f":"IF(O11528=\"\",\"\",RANK(O11528,$O$2:$O$1000))","v":""}]
["2388 威盛","王雪紅          王雪紅",34629,"王雪紅",null,null,null,null,null,null,null,null,null,null,{"$f":"IFERROR(VLOOKUP(K11575,股價!A:B,2,0)*M11575,\"\")","v":""},{"$f":"IF(O11575=\"\",\"\",RANK(O11575,$O$2:$O$1000))","v":""}]
["2388 威盛","劉群茂          劉群茂",0,"劉群茂",null,null,null,null,null,null,null,null,null,null,{"$f":"IFERROR(VLOOKUP(K11596,股價!A:B,2,0)*M11596,\"\")","v":""},{"$f":"IF(O11596=\"\",\"\",RANK(O11596,$O$2:$O$1000))","v":""}]
["2392 正崴","_大股東合計1",0,null,null,null,null,null,null,null,null,null,null,null,{"$f":"IFERROR(VLOOKUP(K11625,股價!A:B,2,0)*M11625,\"\")","v":""},{"$f":"IF(O11625=\"\",\"\",RANK(O11625,$O$2:$O$1000))","v":""}]
["2392 正崴","大通先進星光    大通先進星光",5170,"美商摩根大通銀行台北分行受託保管先進星光基金公司之系列基金先進總合國際股票指數基金",null,null,null,null,null,null,null,null,null,null,{"$f":"IFERROR(VLOOKUP(K11632,股價!A:B,2,0)*M11632,\"\")","v":""},{"$f":"IF(O11632=\"\",\"\",RANK(O11632,$O$2:$O$1000))","v":""}]
["2392 正崴","鑫鴻國際投資(股)郭台強",100535,"鑫鴻國際投資",null,null,null,null,null,null,null,null,null,null,{"$f":"IFERROR(VLOOKUP(K11662,股價!A:B,2,0)*M11662,\"\")","v":""},{"$f":"IF(O11662=\"\",\"\",RANK(O11662,$O$2:$O$1000))","v":""}]
["2395 研華","_大股東合計1",103178,null,null,null,null,null,null,null,null,null,null,null,{"$f":"IFERROR(VLOOKUP(K11695,股價!A:B,2,0)*M11695,\"\")","v":""},{"$f":"IF(O11695=\"\",\"\",RANK(O11695,$O$2:$O$1000))","v":""}]
["2395 研華","匯豐託斯圖爾    匯豐託斯圖爾",18307,"匯豐託管首域-斯圖爾特亞洲太平洋領導投資專戶",null,null,null,null,null,null,null,null,null,null,{"$f":"IFERROR(VLOOKUP(K11716,股價!A:B,2,0)*M11716,\"\")","v":""},{"$f":"IF(O11716=\"\",\"\",RANK(O11716,$O$2:$O$1000))","v":""}]
["2399 映泰","王明義          王明義",6998,"王明義",null,null,null,null,null,null,null,null,null,null,{"$f":"IFERROR(VLOOKUP(K11759,股價!A:B,2,0)*M11759,\"\")","v":""},{"$f":"IF(O11759=\"\",\"\",RANK(O11759,$O$2:$O$1000))","v":""}]
["2399 映泰","蕭文雄          蕭文雄",0,"蕭文雄",null,null,null,null,null,null,null,null,null,null,{"$f":"IFERROR(VLOOKUP(K11779,股價!A:B,2,0)*M11779,\"\")","v":""},{"$f":"IF(O11779=\"\",\"\",RANK(O11779,$O$2:$O$1000))","v":""}]
["2401 凌陽","渣打國際-016    渣打國際-016",4530,"渣打國際商業銀行敦北分行受託保管紐約市集團信託投資專戶",null,null,null,null,null,null,null,null,null,null,{"$f":"IFERROR(VLOOKUP(K11796,股價!A:B,2,0)*M11796,\"\")","v":""},{"$f":"IF(O11796=\"\",\"\",RANK(O11796,$O$2:$O$1000))","v":""}]
["2402 毅嘉","許玲瑜          許玲瑜",202,"許玲瑜",null,null,null,null,null,null,null,null,null,null,{"$f":"IFERROR(VLOOKUP(K11820,股價!A:B,2,0)*M11820,\"\")","v":""},{"$f":"IF(O11820=\"\",\"\",RANK(O11820,$O$2:$O$1000))","v":""}]
["2404 漢唐","鄭水竹          鄭水竹",2410,"鄭水竹",null,null,null,null,null,null,null,null,null,null,{"$f":"IFERROR(VLOOKUP(K11863,股價!A:B,2,0)*M11863,\"\")","v":""},{"$f":"IF(O11863=\"\",\"\",RANK(O11863,$O$2:$O$1000))","v":""}]
["2406 國碩","_經理人合計",867,null,null,null,null,null,null,null,null,null,null,null,{"$f":"IFERROR(VLOOKUP(K11893,股價!A:B,2,0)*M11893,\"\")","v":""},{"$f":"IF(O11893=\"\",\"\",RANK(O11893,$O$2:$O$1000))","v":""}]
["2406 國碩","吳錫坤          吳錫坤",3329,"吳錫坤",null,null,null,null,null,null,null,null,null,null,{"$f":"IFERROR(VLOOKUP(K11899,股價!A:B,2,0)*M11899,\"\")","v":""},{"$f":"IF(O11899=\"\",\"\",RANK(O11899,$O$2:$O$1000))","v":""}]
["2408 南亞科","台新國泰ESG     台新國泰ESG",23735,"臺新國際商業銀行股份有限公司受託保管國泰臺灣高股息傘型證券投資信託基金之臺灣ESG永續高股息ETF證券投資",null,null,null,null,null,null,null,null,null,null,{"$f":"IFERROR(VLOOKUP(K11930,股價!A:B,2,0)*M11930,\"\")","v":""},{"$f":"IF(O11930=\"\",\"\",RANK(O11930,$O$2:$O$1000))","v":""}]
["2409 友達","古秀華          古秀華",2432,"古秀華",null,null,null,null,null,null,null,null,null,null,{"$f":"IFERROR(VLOOKUP(K11967,股價!A:B,2,0)*M11967,\"\")","v":""},{"$f":"IF(O11967=\"\",\"\",RANK(O11967,$O$2:$O$1000))","v":""}]
["2409 友達","郭俊男          郭俊男",321,"郭俊男",null,null,null,null,null,null,null,null,null,null,{"$f":"IFERROR(VLOOKUP(K11983,股價!A:B,2,0)*M11983,\"\")","v":""},{"$f":"IF(O11983=\"\",\"\",RANK(O11983,$O$2:$O$1000))","v":""}]
["2412 中華電","交通部          陳信宏",2737719,"交通部",null,null,null,null,null,null,null,null,null,null,{"$f":"IFERROR(VLOOKUP(K12027,股價!A:B,2,0)*M12027,\"\")","v":""},{"$f":"IF(O12027=\"\",\"\",RANK(O12027,$O$2:$O$1000))","v":""}]
["2412 中華電","杜奕瑾          杜奕瑾",0,"杜奕瑾",null,null,null,null,null,null,null,null,null,null,{"$f":"IFERROR(VLOOKUP(K12046,股價!A:B,2,0)*M12046,\"\")","v":""},{"$f":"IF(O12046=\"\",\"\",RANK(O12046,$O$2:$O$1000))","v":""}]
["2412 中華電","孫明源          孫明源",68,"孫明源",null,null,null,null,null,null,null,null,null,null,{"$f":"IFERROR(VLOOKUP(K12064,股價!A:B,2,0)*M12064,\"\")","v":""},{"$f":"IF(O12064=\"\",\"\",RANK(O12064,$O$2:$O$1000))","v":""}]
["2412 中華電","陳淑玲          陳淑玲",1,"陳淑玲",null,null,null,null,null,null,null,null,null,null,{"$f":"IFERROR(VLOOKUP(K12087,股價!A:B,2,0)*M12087,\"\")","v":""},{"$f":"IF(O12087=\"\",\"\",RANK(O12087,$O$2:$O$1000))","v":""}]
["2412 中華電","魏惠珍          魏惠珍",0,"魏惠珍",null,null,null,null,null,null,null,null,null,null,{"$f":"IFERROR(VLOOKUP(K12130,股價!A:B,2,0)*M12130,\"\")","v":""},{"$f":"IF(O12130=\"\",\"\",RANK(O12130,$O$2:$O$1000))","v":""}]
["2413 環科","楊德華          楊德華",1924,"楊德華",null,null,null,null,null,null,null,null,null,null,{"$f":"IFERROR(VLOOKUP(K12161,股價!A:B,2,0)*M12161,\"\")","v":""},{"$f":"IF(O12161=\"\",\"\",RANK(O12161,$O$2:$O$1000))","v":""}]
["2413 環科","蔡國基          蔡國基",701,"蔡國基",null,null,null,null,null,null,null,null,null,null,{"$f":"IFERROR(VLOOKUP(K12171,股價!A:B,2,0)*M12171,\"\")","v":""},{"$f":"IF(O12171=\"\",\"\",RANK(O12171,$O$2:$O$1000))","v":""}]
["2414 精技","陳泓志          陳泓志",0,"陳泓志",null,null,null,null,null,null,null,null,null,null,{"$f":"IFERROR(VLOOKUP(K12198,股價!A:B,2,0)*M12198,\"\")","v":""},{"$f":"IF(O12198=\"\",\"\",RANK(O12198,$O$2:$O$1000))","v":""}]
["2415 錩新","邱顯智          邱顯智",2,"邱顯智",null,null,null,null,null,null,null,null,null,null,{"$f":"IFERROR(VLOOKUP(K12234,股價!A:B,2,0)*M12234,\"\")","v":""},{"$f":"IF(O12234=\"\",\"\",RANK(O12234,$O$2:$O$1000))","v":""}]
["2417 圓剛","_董監事合計",29625,null,null,null,null,null,null,null,null,null,null,null,{"$f":"IFERROR(VLOOKUP(K12250,股價!A:B,2,0)*M12250,\"\")","v":""},{"$f":"IF(O12250=\"\",\"\",RANK(O12250,$O$2:$O$1000))","v":""}]
["2419 仲琦","湯秀龍          湯秀龍",600,"湯秀龍",null,null,null,null,null,null,null,null,null,null,{"$f":"IFERROR(VLOOKUP(K12295,股價!A:B,2,0)*M12295,\"\")","v":""},{"$f":"IF(O12295=\"\",\"\",RANK(O12295,$O$2:$O$1000))","v":""}]
["2420 新巨","高銘傳          高銘傳",7825,"高銘傳",null,null,null,null,null,null,null,null,null,null,{"$f":"IFERROR(VLOOKUP(K12318,股價!A:B,2,0)*M12318,\"\")","v":""},{"$f":"IF(O12318=\"\",\"\",RANK(O12318,$O$2:$O$1000))","v":""}]
["2421 建準","_董監事合計",18832,null,null,null,null,null,null,null,null,null,null,null,{"$f":"IFERROR(VLOOKUP(K12332,股價!A:B,2,0)*M12332,\"\")","v":""},{"$f":"IF(O12332=\"\",\"\",RANK(O12332,$O$2:$O$1000))","v":""}]
["2421 建準","匯豐三菱贊助    匯豐三菱贊助",4266,"匯豐(臺灣)商業銀行股份有限公司受託保管三菱UFJ摩根士丹利證券公司-產品贊助單位之交易平臺投資專戶",null,null,null,null,null,null,null,null,null,null,{"$f":"IFERROR(VLOOKUP(K12354,股價!A:B,2,0)*M12354,\"\")","v":""},{"$f":"IF(O12354=\"\",\"\",RANK(O12354,$O$2:$O$1000))","v":""}]
["2423 固緯","蕭金池          蕭金池",50,"蕭金池",null,null,null,null,null,null,null,null,null,null,{"$f":"IFERROR(VLOOKUP(K12402,股價!A:B,2,0)*M12402,\"\")","v":""},{"$f":"IF(O12402=\"\",\"\",RANK(O12402,$O$2:$O$1000))","v":""}]
["2424 隴華","_大股東合計1",0,null,null,null,null,null,null,null,null,null,null,null,{"$f":"IFERROR(VLOOKUP(K12403,股價!A:B,2,0)*M12403,\"\")","v":""},{"$f":"IF(O12403=\"\",\"\",RANK(O12403,$O$2:$O$1000))","v":""}]
["2425 承啟","吳明韋          吳明韋",1979,"吳明韋",null,null,null,null,null,null,null,null,null,null,{"$f":"IFERROR(VLOOKUP(K12438,股價!A:B,2,0)*M12438,\"\")","v":""},{"$f":"IF(O12438=\"\",\"\",RANK(O12438,$O$2:$O$1000))","v":""}]
["2426 鼎元","呂紹榮          呂紹榮",25,"呂紹榮",null,null,null,null,null,null,null,null,null,null,{"$f":"IFERROR(VLOOKUP(K12466,股價!A:B,2,0)*M12466,\"\")","v":""},{"$f":"IF(O12466=\"\",\"\",RANK(O12466,$O$2:$O$1000))","v":""}]
["2427 三商電","王敏成          王敏成",0,"王敏成",null,null,null,null,null,null,null,null,null,null,{"$f":"IFERROR(VLOOKUP(K12501,股價!A:B,2,0)*M12501,\"\")","v":""},{"$f":"IF(O12501=\"\",\"\",RANK(O12501,$O$2:$O$1000))","v":""}]
["2427 三商電","唐德成          唐德成",0,"唐德成",null,null,null,null,null,null,null,null,null,null,{"$f":"IFERROR(VLOOKUP(K12522,股價!A:B,2,0)*M12522,\"\")","v":""},{"$f":"IF(O12522=\"\",\"\",RANK(O12522,$O$2:$O$1000))","v":""}]
["2427 三商電","陳炫志          陳炫志",0,"陳炫志",null,null,null,null,null,null,null,null,null,null,{"$f":"IFERROR(VLOOKUP(K12537,股價!A:B,2,0)*M12537,\"\")","v":""},{"$f":"IF(O12537=\"\",\"\",RANK(O12537,$O$2:$O$1000))","v":""}]
["2428 興勤","張瑞敏          張瑞敏",8417,"張瑞敏",null,null,null,null,null,null,null,null,null,null,{"$f":"IFERROR(VLOOKUP(K12585,股價!A:B,2,0)*M12585,\"\")","v":""},{"$f":"IF(O12585=\"\",\"\",RANK(O12585,$O$2:$O$1000))","v":""}]
["2428 興勤","蘇淑麗          蘇淑麗",0,"蘇淑麗",null,null,null,null,null,null,null,null,null,null,{"$f":"IFERROR(VLOOKUP(K12600,股價!A:B,2,0)*M12600,\"\")","v":""},{"$f":"IF(O12600=\"\",\"\",RANK(O12600,$O$2:$O$1000))","v":""}]
["2429 銘旺科","楊惠安          楊惠安",0,"楊惠安",null,null,null,null,null,null,null,null,null,null,{"$f":"IFERROR(VLOOKUP(K12621,股價!A:B,2,0)*M12621,\"\")","v":""},{"$f":"IF(O12621=\"\",\"\",RANK(O12621,$O$2:$O$1000))","v":""}]
["2430 燦坤","林正峰          林正峰",0,"林正峰",null,null,null,null,null,null,null,null,null,null,{"$f":"IFERROR(VLOOKUP(K12642,股價!A:B,2,0)*M12642,\"\")","v":""},{"$f":"IF(O12642=\"\",\"\",RANK(O12642,$O$2:$O$1000))","v":""}]
["2431 聯昌","林久真          林久真",0,"林久真",null,null,null,null,null,null,null,null,null,null,{"$f":"IFERROR(VLOOKUP(K12671,股價!A:B,2,0)*M12671,\"\")","v":""},{"$f":"IF(O12671=\"\",\"\",RANK(O12671,$O$2:$O$1000))","v":""}]
["2433 互盛電","馬志賢          馬志賢",0,"馬志賢",null,null,null,null,null,null,null,null,null,null,{"$f":"IFERROR(VLOOKUP(K12705,股價!A:B,2,0)*M12705,\"\")","v":""},{"$f":"IF(O12705=\"\",\"\",RANK(O12705,$O$2:$O$1000))","v":""}]
["2434 統懋","江志強          江志強",1035,"江志強",null,null,null,null,null,null,null,null,null,null,{"$f":"IFERROR(VLOOKUP(K12726,股價!A:B,2,0)*M12726,\"\")","v":""},{"$f":"IF(O12726=\"\",\"\",RANK(O12726,$O$2:$O$1000))","v":""}]
["2436 偉詮電","蔡東芳          蔡東芳",1018,"蔡東芳",null,null,null,null,null,null,null,null,null,null,{"$f":"IFERROR(VLOOKUP(K12768,股價!A:B,2,0)*M12768,\"\")","v":""},{"$f":"IF(O12768=\"\",\"\",RANK(O12768,$O$2:$O$1000))","v":""}]
["2438 翔耀","威曼資本(股)    威曼資本(股)",1,"威曼資本股份有限公司",null,null,null,null,null,null,null,null,null,null,{"$f":"IFERROR(VLOOKUP(K12789,股價!A:B,2,0)*M12789,\"\")","v":""},{"$f":"IF(O12789=\"\",\"\",RANK(O12789,$O$2:$O$1000))","v":""}]
["2439 美律","元大證魏聖航    元大證魏聖航",2267,"元大證券股份有限公司受魏聖航信託財產專戶",null,null,null,null,null,null,null,null,null,null,{"$f":"IFERROR(VLOOKUP(K12805,股價!A:B,2,0)*M12805,\"\")","v":""},{"$f":"IF(O12805=\"\",\"\",RANK(O12805,$O$2:$O$1000))","v":""}]
["2441 超豐","_大股東合計1",0,null,null,null,null,null,null,null,null,null,null,null,{"$f":"IFERROR(VLOOKUP(K12852,股價!A:B,2,0)*M12852,\"\")","v":""},{"$f":"IF(O12852=\"\",\"\",RANK(O12852,$O$2:$O$1000))","v":""}]
["2441 超豐","偉詮電子(股)    林錫銘",7282,"偉詮電子",null,null,null,null,null,null,null,null,null,null,{"$f":"IFERROR(VLOOKUP(K12873,股價!A:B,2,0)*M12873,\"\")","v":""},{"$f":"IF(O12873=\"\",\"\",RANK(O12873,$O$2:$O$1000))","v":""}]
["2442 新美齊","紀榮村          紀榮村",0,"紀榮村",null,null,null,null,null,null,null,null,null,null,{"$f":"IFERROR(VLOOKUP(K12902,股價!A:B,2,0)*M12902,\"\")","v":""},{"$f":"IF(O12902=\"\",\"\",RANK(O12902,$O$2:$O$1000))","v":""}]
["2442 新美齊","許張義          許張義",624,"許張義",null,null,null,null,null,null,null,null,null,null,{"$f":"IFERROR(VLOOKUP(K12909,股價!A:B,2,0)*M12909,\"\")","v":""},{"$f":"IF(O12909=\"\",\"\",RANK(O12909,$O$2:$O$1000))","v":""}]
["2443 昶虹","鄧桂珠          鄧桂珠",0,"鄧桂珠",null,null,null,null,null,null,null,null,null,null,{"$f":"IFERROR(VLOOKUP(K12943,股價!A:B,2,0)*M12943,\"\")","v":""},{"$f":"IF(O12943=\"\",\"\",RANK(O12943,$O$2:$O$1000))","v":""}]
["2444 兆勁","羅仁傑          羅仁傑",696,"羅仁傑",null,null,null,null,null,null,null,null,null,null,{"$f":"IFERROR(VLOOKUP(K12972,股價!A:B,2,0)*M12972,\"\")","v":""},{"$f":"IF(O12972=\"\",\"\",RANK(O12972,$O$2:$O$1000))","v":""}]
["2449 京元電子","陳通貴          陳通貴",0,"陳通貴",null,null,null,null,null,null,null,null,null,null,{"$f":"IFERROR(VLOOKUP(K12993,股價!A:B,2,0)*M12993,\"\")","v":""},{"$f":"IF(O12993=\"\",\"\",RANK(O12993,$O$2:$O$1000))","v":""}]
["2450 神腦","邱俊傑          邱俊傑",105,"邱俊傑",null,null,null,null,null,null,null,null,null,null,{"$f":"IFERROR(VLOOKUP(K13036,股價!A:B,2,0)*M13036,\"\")","v":""},{"$f":"IF(O13036=\"\",\"\",RANK(O13036,$O$2:$O$1000))","v":""}]
["2450 神腦","簡志誠          簡志誠",0,"簡志誠",null,null,null,null,null,null,null,null,null,null,{"$f":"IFERROR(VLOOKUP(K13056,股價!A:B,2,0)*M13056,\"\")","v":""},{"$f":"IF(O13056=\"\",\"\",RANK(O13056,$O$2:$O$1000))","v":""}]
["2451 創見","陳柏壽          陳柏壽",0,"陳柏壽",null,null,null,null,null,null,null,null,null,null,{"$f":"IFERROR(VLOOKUP(K13077,股價!A:B,2,0)*M13077,\"\")","v":""},{"$f":"IF(O13077=\"\",\"\",RANK(O13077,$O$2:$O$1000))","v":""}]
["2453 凌群","李燦漳          李燦漳",0,"李燦漳",null,null,null,null,null,null,null,null,null,null,{"$f":"IFERROR(VLOOKUP(K13119,股價!A:B,2,0)*M13119,\"\")","v":""},{"$f":"IF(O13119=\"\",\"\",RANK(O13119,$O$2:$O$1000))","v":""}]
["2453 凌群","花晨凱          花晨凱",0,"花晨凱",null,null,null,null,null,null,null,null,null,null,{"$f":"IFERROR(VLOOKUP(K13140,股價!A:B,2,0)*M13140,\"\")","v":""},{"$f":"IF(O13140=\"\",\"\",RANK(O13140,$O$2:$O$1000))","v":""}]
["2453 凌群","許達仁          許達仁",0,"許達仁",null,null,null,null,null,null,null,null,null,null,{"$f":"IFERROR(VLOOKUP(K13170,股價!A:B,2,0)*M13170,\"\")","v":""},{"$f":"IF(O13170=\"\",\"\",RANK(O13170,$O$2:$O$1000))","v":""}]
["2453 凌群","陳旭宏          陳旭宏",0,"陳旭宏",null,null,null,null,null,null,null,null,null,null,{"$f":"IFERROR(VLOOKUP(K13176,股價!A:B,2,0)*M13176,\"\")","v":""},{"$f":"IF(O13176=\"\",\"\",RANK(O13176,$O$2:$O$1000))","v":""}]
["2453 凌群","葉文雄          葉文雄",0,"葉文雄",null,null,null,null,null,null,null,null,null,null,{"$f":"IFERROR(VLOOKUP(K13211,股價!A:B,2,0)*M13211,\"\")","v":""},{"$f":"IF(O13211=\"\",\"\",RANK(O13211,$O$2:$O$1000))","v":""}]
["2453 凌群","蕭宏任          蕭宏任",0,"蕭宏任",null,null,null,null,null,null,null,null,null,null,{"$f":"IFERROR(VLOOKUP(K13239,股價!A:B,2,0)*M13239,\"\")","v":""},{"$f":"IF(O13239=\"\",\"\",RANK(O13239,$O$2:$O$1000))","v":""}]
["2454 聯發科","_董監事合計",43074,null,null,null,null,null,null,null,null,null,null,null,{"$f":"IFERROR(VLOOKUP(K13260,股價!A:B,2,0)*M13260,\"\")","v":""},{"$f":"IF(O13260=\"\",\"\",RANK(O13260,$O$2:$O$1000))","v":""}]
["2454 聯發科","陸國宏          陸國宏",21,"陸國宏",null,null,null,null,null,null,null,null,null,null,{"$f":"IFERROR(VLOOKUP(K13282,股價!A:B,2,0)*M13282,\"\")","v":""},{"$f":"IF(O13282=\"\",\"\",RANK(O13282,$O$2:$O$1000))","v":""}]
["2455 全新","匯豐宏利遠見    匯豐宏利遠見",3845,"匯豐銀行託管宏利遠見基金單位信託投資戶",null,null,null,null,null,null,null,null,null,null,{"$f":"IFERROR(VLOOKUP(K13323,股價!A:B,2,0)*M13323,\"\")","v":""},{"$f":"IF(O13323=\"\",\"\",RANK(O13323,$O$2:$O$1000))","v":""}]
["2457 飛宏","林中民          林中民",51703,"林中民",null,null,null,null,null,null,null,null,null,null,{"$f":"IFERROR(VLOOKUP(K13345,股價!A:B,2,0)*M13345,\"\")","v":""},{"$f":"IF(O13345=\"\",\"\",RANK(O13345,$O$2:$O$1000))","v":""}]
["2458 義隆","葉儀皓          葉儀皓",6001,"葉儀皓",null,null,null,null,null,null,null,null,null,null,{"$f":"IFERROR(VLOOKUP(K13386,股價!A:B,2,0)*M13386,\"\")","v":""},{"$f":"IF(O13386=\"\",\"\",RANK(O13386,$O$2:$O$1000))","v":""}]
["2459 敦吉","陳慶宗          陳慶宗",757,"陳慶宗",null,null,null,null,null,null,null,null,null,null,{"$f":"IFERROR(VLOOKUP(K13407,股價!A:B,2,0)*M13407,\"\")","v":""},{"$f":"IF(O13407=\"\",\"\",RANK(O13407,$O$2:$O$1000))","v":""}]
["2459 敦吉","魏志任          魏志任",0,"魏志任",null,null,null,null,null,null,null,null,null,null,{"$f":"IFERROR(VLOOKUP(K13416,股價!A:B,2,0)*M13416,\"\")","v":""},{"$f":"IF(O13416=\"\",\"\",RANK(O13416,$O$2:$O$1000))","v":""}]
["2460 建通","蘇柏臣          蘇柏臣",162,"蘇柏臣",null,null,null,null,null,null,null,null,null,null,{"$f":"IFERROR(VLOOKUP(K13443,股價!A:B,2,0)*M13443,\"\")","v":""},{"$f":"IF(O13443=\"\",\"\",RANK(O13443,$O$2:$O$1000))","v":""}]
["2462 良得電","_經理人合計",0,null,null,null,null,null,null,null,null,null,null,null,{"$f":"IFERROR(VLOOKUP(K13479,股價!A:B,2,0)*M13479,\"\")","v":""},{"$f":"IF(O13479=\"\",\"\",RANK(O13479,$O$2:$O$1000))","v":""}]
["2464 盟立","_經理人合計",227,null,null,null,null,null,null,null,null,null,null,null,{"$f":"IFERROR(VLOOKUP(K13506,股價!A:B,2,0)*M13506,\"\")","v":""},{"$f":"IF(O13506=\"\",\"\",RANK(O13506,$O$2:$O$1000))","v":""}]
["2464 盟立","富美(股)        高志尚",2034,"富美",null,null,null,null,null,null,null,null,null,null,{"$f":"IFERROR(VLOOKUP(K13527,股價!A:B,2,0)*M13527,\"\")","v":""},{"$f":"IF(O13527=\"\",\"\",RANK(O13527,$O$2:$O$1000))","v":""}]
["2465 麗臺","吳秉宗          吳秉宗",253,"吳秉宗",null,null,null,null,null,null,null,null,null,null,{"$f":"IFERROR(VLOOKUP(K13550,股價!A:B,2,0)*M13550,\"\")","v":""},{"$f":"IF(O13550=\"\",\"\",RANK(O13550,$O$2:$O$1000))","v":""}]
["2466 冠西電","許博渝          許博渝",0,"許博渝",null,null,null,null,null,null,null,null,null,null,{"$f":"IFERROR(VLOOKUP(K13590,股價!A:B,2,0)*M13590,\"\")","v":""},{"$f":"IF(O13590=\"\",\"\",RANK(O13590,$O$2:$O$1000))","v":""}]
["2467 志聖","海杏投資(股)    陳梁金絨",14220,"海杏投資",null,null,null,null,null,null,null,null,null,null,{"$f":"IFERROR(VLOOKUP(K13613,股價!A:B,2,0)*M13613,\"\")","v":""},{"$f":"IF(O13613=\"\",\"\",RANK(O13613,$O$2:$O$1000))","v":""}]
["2468 華經","_董監事合計",42879,null,null,null,null,null,null,null,null,null,null,null,{"$f":"IFERROR(VLOOKUP(K13631,股價!A:B,2,0)*M13631,\"\")","v":""},{"$f":"IF(O13631=\"\",\"\",RANK(O13631,$O$2:$O$1000))","v":""}]
["2468 華經","蘇美春          蘇美春",0,"蘇美春",null,null,null,null,null,null,null,null,null,null,{"$f":"IFERROR(VLOOKUP(K13674,股價!A:B,2,0)*M13674,\"\")","v":""},{"$f":"IF(O13674=\"\",\"\",RANK(O13674,$O$2:$O$1000))","v":""}]
["2471 資通","王翠英          王翠英",0,"王翠英",null,null,null,null,null,null,null,null,null,null,{"$f":"IFERROR(VLOOKUP(K13684,股價!A:B,2,0)*M13684,\"\")","v":""},{"$f":"IF(O13684=\"\",\"\",RANK(O13684,$O$2:$O$1000))","v":""}]
["2472 立隆電","吳志銘          吳志銘",7625,"吳志銘",null,null,null,null,null,null,null,null,null,null,{"$f":"IFERROR(VLOOKUP(K13710,股價!A:B,2,0)*M13710,\"\")","v":""},{"$f":"IF(O13710=\"\",\"\",RANK(O13710,$O$2:$O$1000))","v":""}]
["2474 可成","南山人壽保險(股)南山人壽保險",10690,"南山人壽保險",null,null,null,null,null,null,null,null,null,null,{"$f":"IFERROR(VLOOKUP(K13747,股價!A:B,2,0)*M13747,\"\")","v":""},{"$f":"IF(O13747=\"\",\"\",RANK(O13747,$O$2:$O$1000))","v":""}]
["2476 鉅祥","馬淑琴          馬淑琴",30,"馬淑琴",null,null,null,null,null,null,null,null,null,null,{"$f":"IFERROR(VLOOKUP(K13778,股價!A:B,2,0)*M13778,\"\")","v":""},{"$f":"IF(O13778=\"\",\"\",RANK(O13778,$O$2:$O$1000))","v":""}]
["2477 美隆電","力冠投資(有)    傅傳榮",2340,"力冠投資",null,null,null,null,null,null,null,null,null,null,{"$f":"IFERROR(VLOOKUP(K13794,股價!A:B,2,0)*M13794,\"\")","v":""},{"$f":"IF(O13794=\"\",\"\",RANK(O13794,$O$2:$O$1000))","v":""}]
["2478 大毅","_經理人合計",589,null,null,null,null,null,null,null,null,null,null,null,{"$f":"IFERROR(VLOOKUP(K13818,股價!A:B,2,0)*M13818,\"\")","v":""},{"$f":"IF(O13818=\"\",\"\",RANK(O13818,$O$2:$O$1000))","v":""}]
["2480 敦陽科","陳星州          陳星州",1121,"陳星州",null,null,null,null,null,null,null,null,null,null,{"$f":"IFERROR(VLOOKUP(K13862,股價!A:B,2,0)*M13862,\"\")","v":""},{"$f":"IF(O13862=\"\",\"\",RANK(O13862,$O$2:$O$1000))","v":""}]
["2480 敦陽科","謝煜光          謝煜光",0,"謝煜光",null,null,null,null,null,null,null,null,null,null,{"$f":"IFERROR(VLOOKUP(K13881,股價!A:B,2,0)*M13881,\"\")","v":""},{"$f":"IF(O13881=\"\",\"\",RANK(O13881,$O$2:$O$1000))","v":""}]
["2481 強茂","林鴻光          林鴻光",0,"林鴻光",null,null,null,null,null,null,null,null,null,null,{"$f":"IFERROR(VLOOKUP(K13898,股價!A:B,2,0)*M13898,\"\")","v":""},{"$f":"IF(O13898=\"\",\"\",RANK(O13898,$O$2:$O$1000))","v":""}]
["2482 連宇","煒鋯投資(股)    黃典琪",2285,"煒鋯投資",null,null,null,null,null,null,null,null,null,null,{"$f":"IFERROR(VLOOKUP(K13941,股價!A:B,2,0)*M13941,\"\")","v":""},{"$f":"IF(O13941=\"\",\"\",RANK(O13941,$O$2:$O$1000))","v":""}]
["2483 百容","邱川子          邱川子",0,"邱川子",null,null,null,null,null,null,null,null,null,null,{"$f":"IFERROR(VLOOKUP(K13952,股價!A:B,2,0)*M13952,\"\")","v":""},{"$f":"IF(O13952=\"\",\"\",RANK(O13952,$O$2:$O$1000))","v":""}]
["2484 希華","曾彥豪          曾彥豪",1070,"曾彥豪",null,null,null,null,null,null,null,null,null,null,{"$f":"IFERROR(VLOOKUP(K13982,股價!A:B,2,0)*M13982,\"\")","v":""},{"$f":"IF(O13982=\"\",\"\",RANK(O13982,$O$2:$O$1000))","v":""}]
["2485 兆赫","羅應霖          羅應霖",0,"羅應霖",null,null,null,null,null,null,null,null,null,null,{"$f":"IFERROR(VLOOKUP(K14025,股價!A:B,2,0)*M14025,\"\")","v":""},{"$f":"IF(O14025=\"\",\"\",RANK(O14025,$O$2:$O$1000))","v":""}]
["2486 一詮","蔡敏成          蔡敏成",0,"蔡敏成",null,null,null,null,null,null,null,null,null,null,{"$f":"IFERROR(VLOOKUP(K14049,股價!A:B,2,0)*M14049,\"\")","v":""},{"$f":"IF(O14049=\"\",\"\",RANK(O14049,$O$2:$O$1000))","v":""}]
["2488 漢平","天一興股份有限公王仁孚",801,"天一興股份有限公司",null,null,null,null,null,null,null,null,null,null,{"$f":"IFERROR(VLOOKUP(K14061,股價!A:B,2,0)*M14061,\"\")","v":""},{"$f":"IF(O14061=\"\",\"\",RANK(O14061,$O$2:$O$1000))","v":""}]
["2489 瑞軒","_監察人合計",0,null,null,null,null,null,null,null,null,null,null,null,{"$f":"IFERROR(VLOOKUP(K14086,股價!A:B,2,0)*M14086,\"\")","v":""},{"$f":"IF(O14086=\"\",\"\",RANK(O14086,$O$2:$O$1000))","v":""}]
["2491 吉祥全","羅光偉          羅光偉",5890,"羅光偉",null,null,null,null,null,null,null,null,null,null,{"$f":"IFERROR(VLOOKUP(K14129,股價!A:B,2,0)*M14129,\"\")","v":""},{"$f":"IF(O14129=\"\",\"\",RANK(O14129,$O$2:$O$1000))","v":""}]
["2492 華新科","花旗託管金英    花旗託管金英",13327,"花旗託管金英證券私人有限公司投資專戶",null,null,null,null,null,null,null,null,null,null,{"$f":"IFERROR(VLOOKUP(K14145,股價!A:B,2,0)*M14145,\"\")","v":""},{"$f":"IF(O14145=\"\",\"\",RANK(O14145,$O$2:$O$1000))","v":""}]
["2493 揚博","志聖工業(股)    梁茂生",5466,"志聖工業",null,null,null,null,null,null,null,null,null,null,{"$f":"IFERROR(VLOOKUP(K14183,股價!A:B,2,0)*M14183,\"\")","v":""},{"$f":"IF(O14183=\"\",\"\",RANK(O14183,$O$2:$O$1000))","v":""}]
["2493 揚博","林鳴琴          林鳴琴",0,"林鳴琴",null,null,null,null,null,null,null,null,null,null,{"$f":"IFERROR(VLOOKUP(K14186,股價!A:B,2,0)*M14186,\"\")","v":""},{"$f":"IF(O14186=\"\",\"\",RANK(O14186,$O$2:$O$1000))","v":""}]
["2495 普安","劉淑華          劉淑華",140,"劉淑華",null,null,null,null,null,null,null,null,null,null,{"$f":"IFERROR(VLOOKUP(K14220,股價!A:B,2,0)*M14220,\"\")","v":""},{"$f":"IF(O14220=\"\",\"\",RANK(O14220,$O$2:$O$1000))","v":""}]
["2496 卓越","德捷投資(股)    德捷投資(股)",334,"德捷投資",null,null,null,null,null,null,null,null,null,null,{"$f":"IFERROR(VLOOKUP(K14249,股價!A:B,2,0)*M14249,\"\")","v":""},{"$f":"IF(O14249=\"\",\"\",RANK(O14249,$O$2:$O$1000))","v":""}]
["2497 怡利電","施碧玉          施碧玉",2319,"施碧玉",null,null,null,null,null,null,null,null,null,null,{"$f":"IFERROR(VLOOKUP(K14265,股價!A:B,2,0)*M14265,\"\")","v":""},{"$f":"IF(O14265=\"\",\"\",RANK(O14265,$O$2:$O$1000))","v":""}]
["2501 國建","_大股東合計1",492183,null,null,null,null,null,null,null,null,null,null,null,{"$f":"IFERROR(VLOOKUP(K14317,股價!A:B,2,0)*M14317,\"\")","v":""},{"$f":"IF(O14317=\"\",\"\",RANK(O14317,$O$2:$O$1000))","v":""}]
["2501 國建","林清樑          林清樑",0,"林清樑",null,null,null,null,null,null,null,null,null,null,{"$f":"IFERROR(VLOOKUP(K14333,股價!A:B,2,0)*M14333,\"\")","v":""},{"$f":"IF(O14333=\"\",\"\",RANK(O14333,$O$2:$O$1000))","v":""}]
["2504 國產","_經理人合計",212,null,null,null,null,null,null,null,null,null,null,null,{"$f":"IFERROR(VLOOKUP(K14354,股價!A:B,2,0)*M14354,\"\")","v":""},{"$f":"IF(O14354=\"\",\"\",RANK(O14354,$O$2:$O$1000))","v":""}]
["2504 國產","富邦人壽保險(股)蔡明興",41015,"富邦人壽保險",null,null,null,null,null,null,null,null,null,null,{"$f":"IFERROR(VLOOKUP(K14396,股價!A:B,2,0)*M14396,\"\")","v":""},{"$f":"IF(O14396=\"\",\"\",RANK(O14396,$O$2:$O$1000))","v":""}]
["2505 國揚","百地開發實業(股)蘇培魁",4403,"百地開發實業",null,null,null,null,null,null,null,null,null,null,{"$f":"IFERROR(VLOOKUP(K14417,股價!A:B,2,0)*M14417,\"\")","v":""},{"$f":"IF(O14417=\"\",\"\",RANK(O14417,$O$2:$O$1000))","v":""}]
["2505 國揚","侯嘉騏          侯嘉騏",986,"侯嘉騏",null,null,null,null,null,null,null,null,null,null,{"$f":"IFERROR(VLOOKUP(K14425,股價!A:B,2,0)*M14425,\"\")","v":""},{"$f":"IF(O14425=\"\",\"\",RANK(O14425,$O$2:$O$1000))","v":""}]
["2506 太設","林皓昱          林皓昱",0,"林皓昱",null,null,null,null,null,null,null,null,null,null,{"$f":"IFERROR(VLOOKUP(K14453,股價!A:B,2,0)*M14453,\"\")","v":""},{"$f":"IF(O14453=\"\",\"\",RANK(O14453,$O$2:$O$1000))","v":""}]
["2509 全坤建","全毅投資(股)    全毅投資(股)",28464,"全毅投資",null,null,null,null,null,null,null,null,null,null,{"$f":"IFERROR(VLOOKUP(K14488,股價!A:B,2,0)*M14488,\"\")","v":""},{"$f":"IF(O14488=\"\",\"\",RANK(O14488,$O$2:$O$1000))","v":""}]
["2511 太子","吳琮斌          吳琮斌",0,"吳琮斌",null,null,null,null,null,null,null,null,null,null,{"$f":"IFERROR(VLOOKUP(K14516,股價!A:B,2,0)*M14516,\"\")","v":""},{"$f":"IF(O14516=\"\",\"\",RANK(O14516,$O$2:$O$1000))","v":""}]
["2511 太子","新永興投資股份有侯智元",26471,"新永興投資股份有限公司",null,null,null,null,null,null,null,null,null,null,{"$f":"IFERROR(VLOOKUP(K14537,股價!A:B,2,0)*M14537,\"\")","v":""},{"$f":"IF(O14537=\"\",\"\",RANK(O14537,$O$2:$O$1000))","v":""}]
["2514 龍邦","國寶服務(股)    邵明斌",69889,"國寶服務股份有限公司",null,null,null,null,null,null,null,null,null,null,{"$f":"IFERROR(VLOOKUP(K14559,股價!A:B,2,0)*M14559,\"\")","v":""},{"$f":"IF(O14559=\"\",\"\",RANK(O14559,$O$2:$O$1000))","v":""}]
["2515 中工","常理(股)        劉量海",1500,"常理",null,null,null,null,null,null,null,null,null,null,{"$f":"IFERROR(VLOOKUP(K14600,股價!A:B,2,0)*M14600,\"\")","v":""},{"$f":"IF(O14600=\"\",\"\",RANK(O14600,$O$2:$O$1000))","v":""}]
["2516 新建","_經理人合計",15,null,null,null,null,null,null,null,null,null,null,null,{"$f":"IFERROR(VLOOKUP(K14622,股價!A:B,2,0)*M14622,\"\")","v":""},{"$f":"IF(O14622=\"\",\"\",RANK(O14622,$O$2:$O$1000))","v":""}]
["2520 冠德","周立人          周立人",9,"周立人",null,null,null,null,null,null,null,null,null,null,{"$f":"IFERROR(VLOOKUP(K14663,股價!A:B,2,0)*M14663,\"\")","v":""},{"$f":"IF(O14663=\"\",\"\",RANK(O14663,$O$2:$O$1000))","v":""}]
["2520 冠德","賀陳旦          賀陳旦",0,"賀陳旦",null,null,null,null,null,null,null,null,null,null,{"$f":"IFERROR(VLOOKUP(K14684,股價!A:B,2,0)*M14684,\"\")","v":""},{"$f":"IF(O14684=\"\",\"\",RANK(O14684,$O$2:$O$1000))","v":""}]
["2524 京城","_大股東合計1",63329,null,null,null,null,null,null,null,null,null,null,null,{"$f":"IFERROR(VLOOKUP(K14693,股價!A:B,2,0)*M14693,\"\")","v":""},{"$f":"IF(O14693=\"\",\"\",RANK(O14693,$O$2:$O$1000))","v":""}]
["2524 京城","蔡炅廷          蔡炅廷",23616,"蔡炅廷",null,null,null,null,null,null,null,null,null,null,{"$f":"IFERROR(VLOOKUP(K14720,股價!A:B,2,0)*M14720,\"\")","v":""},{"$f":"IF(O14720=\"\",\"\",RANK(O14720,$O$2:$O$1000))","v":""}]
["2528 皇普","_董監事合計",165818,null,null,null,null,null,null,null,null,null,null,null,{"$f":"IFERROR(VLOOKUP(K14760,股價!A:B,2,0)*M14760,\"\")","v":""},{"$f":"IF(O14760=\"\",\"\",RANK(O14760,$O$2:$O$1000))","v":""}]
["2530 華建","_董監事合計",18189,null,null,null,null,null,null,null,null,null,null,null,{"$f":"IFERROR(VLOOKUP(K14783,股價!A:B,2,0)*M14783,\"\")","v":""},{"$f":"IF(O14783=\"\",\"\",RANK(O14783,$O$2:$O$1000))","v":""}]
["2530 華建","鴻憶投資(有)    鴻憶投資(有)",12000,"鴻憶投資有限公司",null,null,null,null,null,null,null,null,null,null,{"$f":"IFERROR(VLOOKUP(K14804,股價!A:B,2,0)*M14804,\"\")","v":""},{"$f":"IF(O14804=\"\",\"\",RANK(O14804,$O$2:$O$1000))","v":""}]
["2534 宏盛","堉群實業(股)    張志明",14231,"堉群實業",null,null,null,null,null,null,null,null,null,null,{"$f":"IFERROR(VLOOKUP(K14827,股價!A:B,2,0)*M14827,\"\")","v":""},{"$f":"IF(O14827=\"\",\"\",RANK(O14827,$O$2:$O$1000))","v":""}]
["2535 達欣工","廖肇邦          廖肇邦",131,"廖肇邦",null,null,null,null,null,null,null,null,null,null,{"$f":"IFERROR(VLOOKUP(K14867,股價!A:B,2,0)*M14867,\"\")","v":""},{"$f":"IF(O14867=\"\",\"\",RANK(O14867,$O$2:$O$1000))","v":""}]
["2536 宏普","華展投資(股)    游武龍",60042,"華展投資",null,null,null,null,null,null,null,null,null,null,{"$f":"IFERROR(VLOOKUP(K14894,股價!A:B,2,0)*M14894,\"\")","v":""},{"$f":"IF(O14894=\"\",\"\",RANK(O14894,$O$2:$O$1000))","v":""}]
["2537 聯上發","_董  事合計",68629,null,null,null,null,null,null,null,null,null,null,null,{"$f":"IFERROR(VLOOKUP(K14903,股價!A:B,2,0)*M14903,\"\")","v":""},{"$f":"IF(O14903=\"\",\"\",RANK(O14903,$O$2:$O$1000))","v":""}]
["2538 基泰","黃威洲          黃威洲",0,"黃威洲",null,null,null,null,null,null,null,null,null,null,{"$f":"IFERROR(VLOOKUP(K14951,股價!A:B,2,0)*M14951,\"\")","v":""},{"$f":"IF(O14951=\"\",\"\",RANK(O14951,$O$2:$O$1000))","v":""}]
["2538 基泰","盧育充          盧育充",2523,"盧育充",null,null,null,null,null,null,null,null,null,null,{"$f":"IFERROR(VLOOKUP(K14961,股價!A:B,2,0)*M14961,\"\")","v":""},{"$f":"IF(O14961=\"\",\"\",RANK(O14961,$O$2:$O$1000))","v":""}]
["2539 櫻花建","謝銀連          謝銀連",13826,"謝銀連",null,null,null,null,null,null,null,null,null,null,{"$f":"IFERROR(VLOOKUP(K14987,股價!A:B,2,0)*M14987,\"\")","v":""},{"$f":"IF(O14987=\"\",\"\",RANK(O14987,$O$2:$O$1000))","v":""}]
["2542 興富發","洪璽曜          洪璽曜",0,"洪璽曜",null,null,null,null,null,null,null,null,null,null,{"$f":"IFERROR(VLOOKUP(K15028,股價!A:B,2,0)*M15028,\"\")","v":""},{"$f":"IF(O15028=\"\",\"\",RANK(O15028,$O$2:$O$1000))","v":""}]
["2543 皇昌","_董監事合計",119714,null,null,null,null,null,null,null,null,null,null,null,{"$f":"IFERROR(VLOOKUP(K15050,股價!A:B,2,0)*M15050,\"\")","v":""},{"$f":"IF(O15050=\"\",\"\",RANK(O15050,$O$2:$O$1000))","v":""}]
["2543 皇昌","陳威宏          陳威宏",661,"陳威宏",null,null,null,null,null,null,null,null,null,null,{"$f":"IFERROR(VLOOKUP(K15071,股價!A:B,2,0)*M15071,\"\")","v":""},{"$f":"IF(O15071=\"\",\"\",RANK(O15071,$O$2:$O$1000))","v":""}]
["2545 皇翔","洪素嬌          洪素嬌",0,"洪素嬌",null,null,null,null,null,null,null,null,null,null,{"$f":"IFERROR(VLOOKUP(K15099,股價!A:B,2,0)*M15099,\"\")","v":""},{"$f":"IF(O15099=\"\",\"\",RANK(O15099,$O$2:$O$1000))","v":""}]
["2546 根基","林國峰          林國峰",0,"林國峰",null,null,null,null,null,null,null,null,null,null,{"$f":"IFERROR(VLOOKUP(K15134,股價!A:B,2,0)*M15134,\"\")","v":""},{"$f":"IF(O15134=\"\",\"\",RANK(O15134,$O$2:$O$1000))","v":""}]
["2546 根基","黃宏進          黃宏進",0,"黃宏進",null,null,null,null,null,null,null,null,null,null,{"$f":"IFERROR(VLOOKUP(K15162,股價!A:B,2,0)*M15162,\"\")","v":""},{"$f":"IF(O15162=\"\",\"\",RANK(O15162,$O$2:$O$1000))","v":""}]
["2546 根基","蕭崇德          蕭崇德",0,"蕭崇德",null,null,null,null,null,null,null,null,null,null,{"$f":"IFERROR(VLOOKUP(K15170,股價!A:B,2,0)*M15170,\"\")","v":""},{"$f":"IF(O15170=\"\",\"\",RANK(O15170,$O$2:$O$1000))","v":""}]
["2548 華固","台灣人壽保險(股)黃思國",14087,"台灣人壽保險",null,null,null,null,null,null,null,null,null,null,{"$f":"IFERROR(VLOOKUP(K15218,股價!A:B,2,0)*M15218,\"\")","v":""},{"$f":"IF(O15218=\"\",\"\",RANK(O15218,$O$2:$O$1000))","v":""}]
["2548 華固","黃奕睿          黃奕睿",4002,"黃奕睿",null,null,null,null,null,null,null,null,null,null,{"$f":"IFERROR(VLOOKUP(K15233,股價!A:B,2,0)*M15233,\"\")","v":""},{"$f":"IF(O15233=\"\",\"\",RANK(O15233,$O$2:$O$1000))","v":""}]
["2596 綠意","林秀娟          林秀娟",227,"林秀娟",null,null,null,null,null,null,null,null,null,null,{"$f":"IFERROR(VLOOKUP(K15254,股價!A:B,2,0)*M15254,\"\")","v":""},{"$f":"IF(O15254=\"\",\"\",RANK(O15254,$O$2:$O$1000))","v":""}]
["2597 潤弘","高逢正          高逢正",0,"高逢正",null,null,null,null,null,null,null,null,null,null,{"$f":"IFERROR(VLOOKUP(K15302,股價!A:B,2,0)*M15302,\"\")","v":""},{"$f":"IF(O15302=\"\",\"\",RANK(O15302,$O$2:$O$1000))","v":""}]
["2597 潤弘","張兆宇          張兆宇",0,"張兆宇",null,null,null,null,null,null,null,null,null,null,{"$f":"IFERROR(VLOOKUP(K15304,股價!A:B,2,0)*M15304,\"\")","v":""},{"$f":"IF(O15304=\"\",\"\",RANK(O15304,$O$2:$O$1000))","v":""}]
["2597 潤弘","潤泰全球(股)    徐盛育",16822,"潤泰全球",null,null,null,null,null,null,null,null,null,null,{"$f":"IFERROR(VLOOKUP(K15338,股價!A:B,2,0)*M15338,\"\")","v":""},{"$f":"IF(O15338=\"\",\"\",RANK(O15338,$O$2:$O$1000))","v":""}]
["2601 益航","林燕玲          林燕玲",0,"林燕玲",null,null,null,null,null,null,null,null,null,null,{"$f":"IFERROR(VLOOKUP(K15367,股價!A:B,2,0)*M15367,\"\")","v":""},{"$f":"IF(O15367=\"\",\"\",RANK(O15367,$O$2:$O$1000))","v":""}]
["2603 長榮","吳岳峰          吳岳峰",0,"吳岳峰",null,null,null,null,null,null,null,null,null,null,{"$f":"IFERROR(VLOOKUP(K15401,股價!A:B,2,0)*M15401,\"\")","v":""},{"$f":"IF(O15401=\"\",\"\",RANK(O15401,$O$2:$O$1000))","v":""}]
["2603 長榮","國泰銀張國華    國泰銀張國華",63920,"國泰世華商業銀行受託張國華信託財產專戶",null,null,null,null,null,null,null,null,null,null,{"$f":"IFERROR(VLOOKUP(K15422,股價!A:B,2,0)*M15422,\"\")","v":""},{"$f":"IF(O15422=\"\",\"\",RANK(O15422,$O$2:$O$1000))","v":""}]
["2603 長榮","陳韋勳          陳韋勳",10,"陳韋勳",null,null,null,null,null,null,null,null,null,null,{"$f":"IFERROR(VLOOKUP(K15438,股價!A:B,2,0)*M15438,\"\")","v":""},{"$f":"IF(O15438=\"\",\"\",RANK(O15438,$O$2:$O$1000))","v":""}]
["2605 新興","中信銀管梭羅    蔡景本",18363,"中信銀保管梭羅船務代理公司專戶",null,null,null,null,null,null,null,null,null,null,{"$f":"IFERROR(VLOOKUP(K15485,股價!A:B,2,0)*M15485,\"\")","v":""},{"$f":"IF(O15485=\"\",\"\",RANK(O15485,$O$2:$O$1000))","v":""}]
["2605 新興","蔡景本          蔡景本",19,"蔡景本",null,null,null,null,null,null,null,null,null,null,{"$f":"IFERROR(VLOOKUP(K15501,股價!A:B,2,0)*M15501,\"\")","v":""},{"$f":"IF(O15501=\"\",\"\",RANK(O15501,$O$2:$O$1000))","v":""}]
["2606 裕民","亞洲水泥(股)    李坤炎",331701,"亞洲水泥",null,null,null,null,null,null,null,null,null,null,{"$f":"IFERROR(VLOOKUP(K15521,股價!A:B,2,0)*M15521,\"\")","v":""},{"$f":"IF(O15521=\"\",\"\",RANK(O15521,$O$2:$O$1000))","v":""}]
["2607 榮運","_經理人合計",13,null,null,null,null,null,null,null,null,null,null,null,{"$f":"IFERROR(VLOOKUP(K15542,股價!A:B,2,0)*M15542,\"\")","v":""},{"$f":"IF(O15542=\"\",\"\",RANK(O15542,$O$2:$O$1000))","v":""}]
["2607 榮運","楊鼎輝          楊鼎輝",7,"楊鼎輝",null,null,null,null,null,null,null,null,null,null,{"$f":"IFERROR(VLOOKUP(K15572,股價!A:B,2,0)*M15572,\"\")","v":""},{"$f":"IF(O15572=\"\",\"\",RANK(O15572,$O$2:$O$1000))","v":""}]
["2608 嘉里大榮","許家堯          許家堯",0,"許家堯",null,null,null,null,null,null,null,null,null,null,{"$f":"IFERROR(VLOOKUP(K15605,股價!A:B,2,0)*M15605,\"\")","v":""},{"$f":"IF(O15605=\"\",\"\",RANK(O15605,$O$2:$O$1000))","v":""}]
["2609 陽明","交通部          張建仁",467682,"交通部",null,null,null,null,null,null,null,null,null,null,{"$f":"IFERROR(VLOOKUP(K15635,股價!A:B,2,0)*M15635,\"\")","v":""},{"$f":"IF(O15635=\"\",\"\",RANK(O15635,$O$2:$O$1000))","v":""}]
["2609 陽明","詹忠賢          詹忠賢",0,"詹忠賢",null,null,null,null,null,null,null,null,null,null,{"$f":"IFERROR(VLOOKUP(K15673,股價!A:B,2,0)*M15673,\"\")","v":""},{"$f":"IF(O15673=\"\",\"\",RANK(O15673,$O$2:$O$1000))","v":""}]
["2610 華航","_大股東合計2    含沿用資料",376615,null,null,null,null,null,null,null,null,null,null,null,{"$f":"IFERROR(VLOOKUP(K15689,股價!A:B,2,0)*M15689,\"\")","v":""},{"$f":"IF(O15689=\"\",\"\",RANK(O15689,$O$2:$O$1000))","v":""}]
["2610 華航","行政院國發會    王時思",519751,"行政院國家發展基金管理會",null,null,null,null,null,null,null,null,null,null,{"$f":"IFERROR(VLOOKUP(K15706,股價!A:B,2,0)*M15706,\"\")","v":""},{"$f":"IF(O15706=\"\",\"\",RANK(O15706,$O$2:$O$1000))","v":""}]
["2610 華航","華德麟          華德麟",10,"華德麟",null,null,null,null,null,null,null,null,null,null,{"$f":"IFERROR(VLOOKUP(K15752,股價!A:B,2,0)*M15752,\"\")","v":""},{"$f":"IF(O15752=\"\",\"\",RANK(O15752,$O$2:$O$1000))","v":""}]
["2610 華航","鄭雅蘋          鄭雅蘋",57599,"鄭雅蘋",null,null,null,null,null,null,null,null,null,null,{"$f":"IFERROR(VLOOKUP(K15769,股價!A:B,2,0)*M15769,\"\")","v":""},{"$f":"IF(O15769=\"\",\"\",RANK(O15769,$O$2:$O$1000))","v":""}]
["2611 志信","美麗華大飯店(股)黃安迪",3301,"美麗華大飯店",null,null,null,null,null,null,null,null,null,null,{"$f":"IFERROR(VLOOKUP(K15793,股價!A:B,2,0)*M15793,\"\")","v":""},{"$f":"IF(O15793=\"\",\"\",RANK(O15793,$O$2:$O$1000))","v":""}]
["2612 中航","_大股東合計1",79685,null,null,null,null,null,null,null,null,null,null,null,{"$f":"IFERROR(VLOOKUP(K15809,股價!A:B,2,0)*M15809,\"\")","v":""},{"$f":"IF(O15809=\"\",\"\",RANK(O15809,$O$2:$O$1000))","v":""}]
["2612 中航","賴世聲          賴世聲",0,"賴世聲",null,null,null,null,null,null,null,null,null,null,{"$f":"IFERROR(VLOOKUP(K15840,股價!A:B,2,0)*M15840,\"\")","v":""},{"$f":"IF(O15840=\"\",\"\",RANK(O15840,$O$2:$O$1000))","v":""}]
["2613 中櫃","徐光達          徐光達",0,"徐光達",null,null,null,null,null,null,null,null,null,null,{"$f":"IFERROR(VLOOKUP(K15872,股價!A:B,2,0)*M15872,\"\")","v":""},{"$f":"IF(O15872=\"\",\"\",RANK(O15872,$O$2:$O$1000))","v":""}]
["2614 東森","沃祥瑞          沃祥瑞",0,"沃祥瑞",null,null,null,null,null,null,null,null,null,null,{"$f":"IFERROR(VLOOKUP(K15903,股價!A:B,2,0)*M15903,\"\")","v":""},{"$f":"IF(O15903=\"\",\"\",RANK(O15903,$O$2:$O$1000))","v":""}]
["2615 萬海","_董  事合計",85301,null,null,null,null,null,null,null,null,null,null,null,{"$f":"IFERROR(VLOOKUP(K15940,股價!A:B,2,0)*M15940,\"\")","v":""},{"$f":"IF(O15940=\"\",\"\",RANK(O15940,$O$2:$O$1000))","v":""}]
["2615 萬海","勇源教育發展    陳致超",40356,"財團法人勇源教育發展基金會",null,null,null,null,null,null,null,null,null,null,{"$f":"IFERROR(VLOOKUP(K15956,股價!A:B,2,0)*M15956,\"\")","v":""},{"$f":"IF(O15956=\"\",\"\",RANK(O15956,$O$2:$O$1000))","v":""}]
["2615 萬海","蕭嘉宜          蕭嘉宜",2,"蕭嘉宜",null,null,null,null,null,null,null,null,null,null,{"$f":"IFERROR(VLOOKUP(K15974,股價!A:B,2,0)*M15974,\"\")","v":""},{"$f":"IF(O15974=\"\",\"\",RANK(O15974,$O$2:$O$1000))","v":""}]
["2616 山隆","正隆(股)        鄭舒云",12690,"正隆",null,null,null,null,null,null,null,null,null,null,{"$f":"IFERROR(VLOOKUP(K15997,股價!A:B,2,0)*M15997,\"\")","v":""},{"$f":"IF(O15997=\"\",\"\",RANK(O15997,$O$2:$O$1000))","v":""}]
["2617 台航","花旗次元新興    花旗次元新興",1131,"美商花旗託管次元新興市場評估基金投資專戶",null,null,null,null,null,null,null,null,null,null,{"$f":"IFERROR(VLOOKUP(K16037,股價!A:B,2,0)*M16037,\"\")","v":""},{"$f":"IF(O16037=\"\",\"\",RANK(O16037,$O$2:$O$1000))","v":""}]
["2618 長榮航","王振興          王振興",5,"王振興",null,null,null,null,null,null,null,null,null,null,{"$f":"IFERROR(VLOOKUP(K16060,股價!A:B,2,0)*M16060,\"\")","v":""},{"$f":"IF(O16060=\"\",\"\",RANK(O16060,$O$2:$O$1000))","v":""}]
["2618 長榮航","李康            李康",5,"李康",null,null,null,null,null,null,null,null,null,null,{"$f":"IFERROR(VLOOKUP(K16076,股價!A:B,2,0)*M16076,\"\")","v":""},{"$f":"IF(O16076=\"\",\"\",RANK(O16076,$O$2:$O$1000))","v":""}]
["2618 長榮航","陳裕厚          陳裕厚",14,"陳裕厚",null,null,null,null,null,null,null,null,null,null,{"$f":"IFERROR(VLOOKUP(K16108,股價!A:B,2,0)*M16108,\"\")","v":""},{"$f":"IF(O16108=\"\",\"\",RANK(O16108,$O$2:$O$1000))","v":""}]
["2630 亞航","台翔航太工業(股)李文心",103029,"台翔航太工業",null,null,null,null,null,null,null,null,null,null,{"$f":"IFERROR(VLOOKUP(K16144,股價!A:B,2,0)*M16144,\"\")","v":""},{"$f":"IF(O16144=\"\",\"\",RANK(O16144,$O$2:$O$1000))","v":""}]
["2630 亞航","楊雅博          楊雅博",0,"楊雅博",null,null,null,null,null,null,null,null,null,null,{"$f":"IFERROR(VLOOKUP(K16171,股價!A:B,2,0)*M16171,\"\")","v":""},{"$f":"IF(O16171=\"\",\"\",RANK(O16171,$O$2:$O$1000))","v":""}]
["2633 台灣高鐵","_董  事合計",3452527,null,null,null,null,null,null,null,null,null,null,null,{"$f":"IFERROR(VLOOKUP(K16180,股價!A:B,2,0)*M16180,\"\")","v":""},{"$f":"IF(O16180=\"\",\"\",RANK(O16180,$O$2:$O$1000))","v":""}]
["2633 台灣高鐵","潘清鴻          潘清鴻",0,"潘清鴻",null,null,null,null,null,null,null,null,null,null,{"$f":"IFERROR(VLOOKUP(K16228,股價!A:B,2,0)*M16228,\"\")","v":""},{"$f":"IF(O16228=\"\",\"\",RANK(O16228,$O$2:$O$1000))","v":""}]
["2634 漢翔","_經理人合計",753,null,null,null,null,null,null,null,null,null,null,null,{"$f":"IFERROR(VLOOKUP(K16242,股價!A:B,2,0)*M16242,\"\")","v":""},{"$f":"IF(O16242=\"\",\"\",RANK(O16242,$O$2:$O$1000))","v":""}]
["2634 漢翔","曾國益          曾國益",76,"曾國益",null,null,null,null,null,null,null,null,null,null,{"$f":"IFERROR(VLOOKUP(K16264,股價!A:B,2,0)*M16264,\"\")","v":""},{"$f":"IF(O16264=\"\",\"\",RANK(O16264,$O$2:$O$1000))","v":""}]
["2636 台驊投控","游慧如          游慧如",0,"游慧如",null,null,null,null,null,null,null,null,null,null,{"$f":"IFERROR(VLOOKUP(K16305,股價!A:B,2,0)*M16305,\"\")","v":""},{"$f":"IF(O16305=\"\",\"\",RANK(O16305,$O$2:$O$1000))","v":""}]
["2637 慧洋-KY","洪儷娜          洪儷娜",111,"洪儷娜",null,null,null,null,null,null,null,null,null,null,{"$f":"IFERROR(VLOOKUP(K16327,股價!A:B,2,0)*M16327,\"\")","v":""},{"$f":"IF(O16327=\"\",\"\",RANK(O16327,$O$2:$O$1000))","v":""}]
["2640 大車隊","_經理人合計",505,null,null,null,null,null,null,null,null,null,null,null,{"$f":"IFERROR(VLOOKUP(K16348,股價!A:B,2,0)*M16348,\"\")","v":""},{"$f":"IF(O16348=\"\",\"\",RANK(O16348,$O$2:$O$1000))","v":""}]
["2640 大車隊","萬事興(股)      吳秀蘭",13823,"萬事興",null,null,null,null,null,null,null,null,null,null,{"$f":"IFERROR(VLOOKUP(K16376,股價!A:B,2,0)*M16376,\"\")","v":""},{"$f":"IF(O16376=\"\",\"\",RANK(O16376,$O$2:$O$1000))","v":""}]
["2642 宅配通","張介銘          張介銘",0,"張介銘",null,null,null,null,null,null,null,null,null,null,{"$f":"IFERROR(VLOOKUP(K16411,股價!A:B,2,0)*M16411,\"\")","v":""},{"$f":"IF(O16411=\"\",\"\",RANK(O16411,$O$2:$O$1000))","v":""}]
["2643 捷迅","顧陽明          顧陽明",1155,"顧陽明",null,null,null,null,null,null,null,null,null,null,{"$f":"IFERROR(VLOOKUP(K16439,股價!A:B,2,0)*M16439,\"\")","v":""},{"$f":"IF(O16439=\"\",\"\",RANK(O16439,$O$2:$O$1000))","v":""}]
["2645 長榮航太","中國信託創業投資王志剛",4300,"中國信託創業投資",null,null,null,null,null,null,null,null,null,null,{"$f":"IFERROR(VLOOKUP(K16447,股價!A:B,2,0)*M16447,\"\")","v":""},{"$f":"IF(O16447=\"\",\"\",RANK(O16447,$O$2:$O$1000))","v":""}]
["2645 長榮航太","劉世德          劉世德",0,"劉世德",null,null,null,null,null,null,null,null,null,null,{"$f":"IFERROR(VLOOKUP(K16495,股價!A:B,2,0)*M16495,\"\")","v":""},{"$f":"IF(O16495=\"\",\"\",RANK(O16495,$O$2:$O$1000))","v":""}]
["2701 萬企","_董  事合計",89812,null,null,null,null,null,null,null,null,null,null,null,{"$f":"IFERROR(VLOOKUP(K16510,股價!A:B,2,0)*M16510,\"\")","v":""},{"$f":"IF(O16510=\"\",\"\",RANK(O16510,$O$2:$O$1000))","v":""}]
["2701 萬企","豐年華投資(股)  倪思為",19801,"豐年華投資",null,null,null,null,null,null,null,null,null,null,{"$f":"IFERROR(VLOOKUP(K16531,股價!A:B,2,0)*M16531,\"\")","v":""},{"$f":"IF(O16531=\"\",\"\",RANK(O16531,$O$2:$O$1000))","v":""}]
["2704 國賓","林建龍          林建龍",0,"林建龍",null,null,null,null,null,null,null,null,null,null,{"$f":"IFERROR(VLOOKUP(K16577,股價!A:B,2,0)*M16577,\"\")","v":""},{"$f":"IF(O16577=\"\",\"\",RANK(O16577,$O$2:$O$1000))","v":""}]
["2704 國賓","黃雅惠          黃雅惠",0,"黃雅惠",null,null,null,null,null,null,null,null,null,null,{"$f":"IFERROR(VLOOKUP(K16594,股價!A:B,2,0)*M16594,\"\")","v":""},{"$f":"IF(O16594=\"\",\"\",RANK(O16594,$O$2:$O$1000))","v":""}]
["2705 六福","林靜如          林靜如",0,"林靜如",null,null,null,null,null,null,null,null,null,null,{"$f":"IFERROR(VLOOKUP(K16615,股價!A:B,2,0)*M16615,\"\")","v":""},{"$f":"IF(O16615=\"\",\"\",RANK(O16615,$O$2:$O$1000))","v":""}]
["2706 第一店","倪思為          倪思為",7,"倪思為",null,null,null,null,null,null,null,null,null,null,{"$f":"IFERROR(VLOOKUP(K16644,股價!A:B,2,0)*M16644,\"\")","v":""},{"$f":"IF(O16644=\"\",\"\",RANK(O16644,$O$2:$O$1000))","v":""}]
["2707 晶華","晶華國際發展(股)高志尚",2351,"晶華國際發展",null,null,null,null,null,null,null,null,null,null,{"$f":"IFERROR(VLOOKUP(K16678,股價!A:B,2,0)*M16678,\"\")","v":""},{"$f":"IF(O16678=\"\",\"\",RANK(O16678,$O$2:$O$1000))","v":""}]
["2712 遠雄來","沈建劭          沈建劭",0,"沈建劭",null,null,null,null,null,null,null,null,null,null,{"$f":"IFERROR(VLOOKUP(K16699,股價!A:B,2,0)*M16699,\"\")","v":""},{"$f":"IF(O16699=\"\",\"\",RANK(O16699,$O$2:$O$1000))","v":""}]
["2712 遠雄來","遠東建設事業(股)陳美玲",38583,"遠東建設事業",null,null,null,null,null,null,null,null,null,null,{"$f":"IFERROR(VLOOKUP(K16715,股價!A:B,2,0)*M16715,\"\")","v":""},{"$f":"IF(O16715=\"\",\"\",RANK(O16715,$O$2:$O$1000))","v":""}]
["2719 燦星旅","向利(股)        李芳眉",2945,"向利",null,null,null,null,null,null,null,null,null,null,{"$f":"IFERROR(VLOOKUP(K16762,股價!A:B,2,0)*M16762,\"\")","v":""},{"$f":"IF(O16762=\"\",\"\",RANK(O16762,$O$2:$O$1000))","v":""}]
["2722 夏都","_大股東合計2    含沿用資料",32186,null,null,null,null,null,null,null,null,null,null,null,{"$f":"IFERROR(VLOOKUP(K16782,股價!A:B,2,0)*M16782,\"\")","v":""},{"$f":"IF(O16782=\"\",\"\",RANK(O16782,$O$2:$O$1000))","v":""}]
["2722 夏都","林憲昌          林憲昌",0,"林憲昌",null,null,null,null,null,null,null,null,null,null,{"$f":"IFERROR(VLOOKUP(K16798,股價!A:B,2,0)*M16798,\"\")","v":""},{"$f":"IF(O16798=\"\",\"\",RANK(O16798,$O$2:$O$1000))","v":""}]
["2722 夏都","魏福全          魏福全",0,"魏福全",null,null,null,null,null,null,null,null,null,null,{"$f":"IFERROR(VLOOKUP(K16819,股價!A:B,2,0)*M16819,\"\")","v":""},{"$f":"IF(O16819=\"\",\"\",RANK(O16819,$O$2:$O$1000))","v":""}]
["2723 美食-KY","陳詠佶          陳詠佶",683,"陳詠佶",null,null,null,null,null,null,null,null,null,null,{"$f":"IFERROR(VLOOKUP(K16849,股價!A:B,2,0)*M16849,\"\")","v":""},{"$f":"IF(O16849=\"\",\"\",RANK(O16849,$O$2:$O$1000))","v":""}]
["2726 雅茗-KY","_大股東合計2    含沿用資料",8721,null,null,null,null,null,null,null,null,null,null,null,{"$f":"IFERROR(VLOOKUP(K16882,股價!A:B,2,0)*M16882,\"\")","v":""},{"$f":"IF(O16882=\"\",\"\",RANK(O16882,$O$2:$O$1000))","v":""}]
["2727 王品","永豐商業銀行受許永豐商業銀行",1500,"永豐商業銀行受許明宗信託財產專戶",null,null,null,null,null,null,null,null,null,null,{"$f":"IFERROR(VLOOKUP(K16916,股價!A:B,2,0)*M16916,\"\")","v":""},{"$f":"IF(O16916=\"\",\"\",RANK(O16916,$O$2:$O$1000))","v":""}]
["2729 瓦城","李世華          李世華",0,"李世華",null,null,null,null,null,null,null,null,null,null,{"$f":"IFERROR(VLOOKUP(K16945,股價!A:B,2,0)*M16945,\"\")","v":""},{"$f":"IF(O16945=\"\",\"\",RANK(O16945,$O$2:$O$1000))","v":""}]
["2731 雄獅","丁玟媛          丁玟媛",0,"丁玟媛",null,null,null,null,null,null,null,null,null,null,{"$f":"IFERROR(VLOOKUP(K16966,股價!A:B,2,0)*M16966,\"\")","v":""},{"$f":"IF(O16966=\"\",\"\",RANK(O16966,$O$2:$O$1000))","v":""}]
["2731 雄獅","吳岳謙          吳岳謙",0,"吳岳謙",null,null,null,null,null,null,null,null,null,null,{"$f":"IFERROR(VLOOKUP(K16983,股價!A:B,2,0)*M16983,\"\")","v":""},{"$f":"IF(O16983=\"\",\"\",RANK(O16983,$O$2:$O$1000))","v":""}]
["2731 雄獅","陳佳慧          陳佳慧",0,"陳佳慧",null,null,null,null,null,null,null,null,null,null,{"$f":"IFERROR(VLOOKUP(K17029,股價!A:B,2,0)*M17029,\"\")","v":""},{"$f":"IF(O17029=\"\",\"\",RANK(O17029,$O$2:$O$1000))","v":""}]
["2731 雄獅","詹瑞評          詹瑞評",2,"詹瑞評",null,null,null,null,null,null,null,null,null,null,{"$f":"IFERROR(VLOOKUP(K17050,股價!A:B,2,0)*M17050,\"\")","v":""},{"$f":"IF(O17050=\"\",\"\",RANK(O17050,$O$2:$O$1000))","v":""}]
["2731 雄獅","錢緯銘          錢緯銘",0,"錢緯銘",null,null,null,null,null,null,null,null,null,null,{"$f":"IFERROR(VLOOKUP(K17065,股價!A:B,2,0)*M17065,\"\")","v":""},{"$f":"IF(O17065=\"\",\"\",RANK(O17065,$O$2:$O$1000))","v":""}]
["2732 六角","兆鼎投資(股)    王國男",4217,"兆鼎投資",null,null,null,null,null,null,null,null,null,null,{"$f":"IFERROR(VLOOKUP(K17086,股價!A:B,2,0)*M17086,\"\")","v":""},{"$f":"IF(O17086=\"\",\"\",RANK(O17086,$O$2:$O$1000))","v":""}]
["2734 易飛網","赴台游(有)      呂(王京)怡",3664,"赴台游",null,null,null,null,null,null,null,null,null,null,{"$f":"IFERROR(VLOOKUP(K17121,股價!A:B,2,0)*M17121,\"\")","v":""},{"$f":"IF(O17121=\"\",\"\",RANK(O17121,$O$2:$O$1000))","v":""}]
["2736 富野","徐茂斌          徐茂斌",25,"徐茂斌",null,null,null,null,null,null,null,null,null,null,{"$f":"IFERROR(VLOOKUP(K17149,股價!A:B,2,0)*M17149,\"\")","v":""},{"$f":"IF(O17149=\"\",\"\",RANK(O17149,$O$2:$O$1000))","v":""}]
["2739 寒舍","寒舍國際投資(股)黃閔暄",6730,"寒舍國際投資",null,null,null,null,null,null,null,null,null,null,{"$f":"IFERROR(VLOOKUP(K17184,股價!A:B,2,0)*M17184,\"\")","v":""},{"$f":"IF(O17184=\"\",\"\",RANK(O17184,$O$2:$O$1000))","v":""}]
["2740 天蔥","裕穎投資(有)    王怡絜",1200,"裕穎投資",null,null,null,null,null,null,null,null,null,null,{"$f":"IFERROR(VLOOKUP(K17212,股價!A:B,2,0)*M17212,\"\")","v":""},{"$f":"IF(O17212=\"\",\"\",RANK(O17212,$O$2:$O$1000))","v":""}]
["2743 山富","許振昌          許振昌",182,"許振昌",null,null,null,null,null,null,null,null,null,null,{"$f":"IFERROR(VLOOKUP(K17233,股價!A:B,2,0)*M17233,\"\")","v":""},{"$f":"IF(O17233=\"\",\"\",RANK(O17233,$O$2:$O$1000))","v":""}]
["2745 五福","周保亨          周保亨",0,"周保亨",null,null,null,null,null,null,null,null,null,null,{"$f":"IFERROR(VLOOKUP(K17255,股價!A:B,2,0)*M17255,\"\")","v":""},{"$f":"IF(O17255=\"\",\"\",RANK(O17255,$O$2:$O$1000))","v":""}]
["2748 雲品","盛治仁          盛治仁",98,"盛治仁",null,null,null,null,null,null,null,null,null,null,{"$f":"IFERROR(VLOOKUP(K17296,股價!A:B,2,0)*M17296,\"\")","v":""},{"$f":"IF(O17296=\"\",\"\",RANK(O17296,$O$2:$O$1000))","v":""}]
["2752 豆府","吳孟哲          吳孟哲",572,"吳孟哲",null,null,null,null,null,null,null,null,null,null,{"$f":"IFERROR(VLOOKUP(K17318,股價!A:B,2,0)*M17318,\"\")","v":""},{"$f":"IF(O17318=\"\",\"\",RANK(O17318,$O$2:$O$1000))","v":""}]
["2752 豆府","翔(吉吉)國際(有)巫諾文",925,"翔(吉吉)國際投資有限公司",null,null,null,null,null,null,null,null,null,null,{"$f":"IFERROR(VLOOKUP(K17332,股價!A:B,2,0)*M17332,\"\")","v":""},{"$f":"IF(O17332=\"\",\"\",RANK(O17332,$O$2:$O$1000))","v":""}]
["2753 八方雲集","林御政          林御政",941,"林御政",null,null,null,null,null,null,null,null,null,null,{"$f":"IFERROR(VLOOKUP(K17353,股價!A:B,2,0)*M17353,\"\")","v":""},{"$f":"IF(O17353=\"\",\"\",RANK(O17353,$O$2:$O$1000))","v":""}]
["2754 亞洲藏壽司","石川淳          石川淳",0,"石川淳",null,null,null,null,null,null,null,null,null,null,{"$f":"IFERROR(VLOOKUP(K17389,股價!A:B,2,0)*M17389,\"\")","v":""},{"$f":"IF(O17389=\"\",\"\",RANK(O17389,$O$2:$O$1000))","v":""}]
["2755 揚秦","癸鐺投資股份有限卓靖倫",2121,"癸鐺投資股份有限公司",null,null,null,null,null,null,null,null,null,null,{"$f":"IFERROR(VLOOKUP(K17416,股價!A:B,2,0)*M17416,\"\")","v":""},{"$f":"IF(O17416=\"\",\"\",RANK(O17416,$O$2:$O$1000))","v":""}]
["2756 聯發國際","簡敏秋          簡敏秋",0,"簡敏秋",null,null,null,null,null,null,null,null,null,null,{"$f":"IFERROR(VLOOKUP(K17452,股價!A:B,2,0)*M17452,\"\")","v":""},{"$f":"IF(O17452=\"\",\"\",RANK(O17452,$O$2:$O$1000))","v":""}]
["2801 彰銀","_董監事合計",2660682,null,null,null,null,null,null,null,null,null,null,null,{"$f":"IFERROR(VLOOKUP(K17457,股價!A:B,2,0)*M17457,\"\")","v":""},{"$f":"IF(O17457=\"\",\"\",RANK(O17457,$O$2:$O$1000))","v":""}]
["2801 彰銀","呂耀茹          呂耀茹",8,"呂耀茹",null,null,null,null,null,null,null,null,null,null,{"$f":"IFERROR(VLOOKUP(K17500,股價!A:B,2,0)*M17500,\"\")","v":""},{"$f":"IF(O17500=\"\",\"\",RANK(O17500,$O$2:$O$1000))","v":""}]
["2801 彰銀","林君威          林君威",54,"林君威",null,null,null,null,null,null,null,null,null,null,{"$f":"IFERROR(VLOOKUP(K17523,股價!A:B,2,0)*M17523,\"\")","v":""},{"$f":"IF(O17523=\"\",\"\",RANK(O17523,$O$2:$O$1000))","v":""}]
["2801 彰銀","徐志誠          徐志誠",0,"徐志誠",null,null,null,null,null,null,null,null,null,null,{"$f":"IFERROR(VLOOKUP(K17563,股價!A:B,2,0)*M17563,\"\")","v":""},{"$f":"IF(O17563=\"\",\"\",RANK(O17563,$O$2:$O$1000))","v":""}]
["2801 彰銀","張豐富          張豐富",1,"張豐富",null,null,null,null,null,null,null,null,null,null,{"$f":"IFERROR(VLOOKUP(K17586,股價!A:B,2,0)*M17586,\"\")","v":""},{"$f":"IF(O17586=\"\",\"\",RANK(O17586,$O$2:$O$1000))","v":""}]
["2801 彰銀","陳秀琴          陳秀琴",0,"陳秀琴",null,null,null,null,null,null,null,null,null,null,{"$f":"IFERROR(VLOOKUP(K17604,股價!A:B,2,0)*M17604,\"\")","v":""},{"$f":"IF(O17604=\"\",\"\",RANK(O17604,$O$2:$O$1000))","v":""}]
["2801 彰銀","陸曉霞          陸曉霞",105,"陸曉霞",null,null,null,null,null,null,null,null,null,null,{"$f":"IFERROR(VLOOKUP(K17620,股價!A:B,2,0)*M17620,\"\")","v":""},{"$f":"IF(O17620=\"\",\"\",RANK(O17620,$O$2:$O$1000))","v":""}]
["2801 彰銀","劉滿穗          劉滿穗",39,"劉滿穗",null,null,null,null,null,null,null,null,null,null,{"$f":"IFERROR(VLOOKUP(K17657,股價!A:B,2,0)*M17657,\"\")","v":""},{"$f":"IF(O17657=\"\",\"\",RANK(O17657,$O$2:$O$1000))","v":""}]
["2801 彰銀","薛淑滿          薛淑滿",15,"薛淑滿",null,null,null,null,null,null,null,null,null,null,{"$f":"IFERROR(VLOOKUP(K17688,股價!A:B,2,0)*M17688,\"\")","v":""},{"$f":"IF(O17688=\"\",\"\",RANK(O17688,$O$2:$O$1000))","v":""}]
["2809 京城銀","侯全富          侯全富",0,"侯全富",null,null,null,null,null,null,null,null,null,null,{"$f":"IFERROR(VLOOKUP(K17720,股價!A:B,2,0)*M17720,\"\")","v":""},{"$f":"IF(O17720=\"\",\"\",RANK(O17720,$O$2:$O$1000))","v":""}]
["2809 京城銀","陳怡穎          陳怡穎",23756,"陳怡穎",null,null,null,null,null,null,null,null,null,null,{"$f":"IFERROR(VLOOKUP(K17724,股價!A:B,2,0)*M17724,\"\")","v":""},{"$f":"IF(O17724=\"\",\"\",RANK(O17724,$O$2:$O$1000))","v":""}]
["2812 台中銀","江旻軒          江旻軒",145,"江旻軒",null,null,null,null,null,null,null,null,null,null,{"$f":"IFERROR(VLOOKUP(K17767,股價!A:B,2,0)*M17767,\"\")","v":""},{"$f":"IF(O17767=\"\",\"\",RANK(O17767,$O$2:$O$1000))","v":""}]
["2812 台中銀","林劍洪          林劍洪",195,"林劍洪",null,null,null,null,null,null,null,null,null,null,{"$f":"IFERROR(VLOOKUP(K17791,股價!A:B,2,0)*M17791,\"\")","v":""},{"$f":"IF(O17791=\"\",\"\",RANK(O17791,$O$2:$O$1000))","v":""}]
["2812 台中銀","張世吉          張世吉",173,"張世吉",null,null,null,null,null,null,null,null,null,null,{"$f":"IFERROR(VLOOKUP(K17808,股價!A:B,2,0)*M17808,\"\")","v":""},{"$f":"IF(O17808=\"\",\"\",RANK(O17808,$O$2:$O$1000))","v":""}]
["2812 台中銀","楊東波          楊東波",825,"楊東波",null,null,null,null,null,null,null,null,null,null,{"$f":"IFERROR(VLOOKUP(K17854,股價!A:B,2,0)*M17854,\"\")","v":""},{"$f":"IF(O17854=\"\",\"\",RANK(O17854,$O$2:$O$1000))","v":""}]
["2812 台中銀","劉東旭          劉東旭",69,"劉東旭",null,null,null,null,null,null,null,null,null,null,{"$f":"IFERROR(VLOOKUP(K17871,股價!A:B,2,0)*M17871,\"\")","v":""},{"$f":"IF(O17871=\"\",\"\",RANK(O17871,$O$2:$O$1000))","v":""}]
["2816 旺旺保","_大股東合計1",98443,null,null,null,null,null,null,null,null,null,null,null,{"$f":"IFERROR(VLOOKUP(K17887,股價!A:B,2,0)*M17887,\"\")","v":""},{"$f":"IF(O17887=\"\",\"\",RANK(O17887,$O$2:$O$1000))","v":""}]
["2816 旺旺保","馬裕豐          馬裕豐",0,"馬裕豐",null,null,null,null,null,null,null,null,null,null,{"$f":"IFERROR(VLOOKUP(K17925,股價!A:B,2,0)*M17925,\"\")","v":""},{"$f":"IF(O17925=\"\",\"\",RANK(O17925,$O$2:$O$1000))","v":""}]
["2816 旺旺保","顏國鐘          顏國鐘",0,"顏國鐘",null,null,null,null,null,null,null,null,null,null,{"$f":"IFERROR(VLOOKUP(K17955,股價!A:B,2,0)*M17955,\"\")","v":""},{"$f":"IF(O17955=\"\",\"\",RANK(O17955,$O$2:$O$1000))","v":""}]
["2820 華票","永豐商業銀行(股)永豐商業銀行",14122,"永豐商業銀行",null,null,null,null,null,null,null,null,null,null,{"$f":"IFERROR(VLOOKUP(K17971,股價!A:B,2,0)*M17971,\"\")","v":""},{"$f":"IF(O17971=\"\",\"\",RANK(O17971,$O$2:$O$1000))","v":""}]
["2820 華票","楊雅玲          楊雅玲",0,"楊雅玲",null,null,null,null,null,null,null,null,null,null,{"$f":"IFERROR(VLOOKUP(K17996,股價!A:B,2,0)*M17996,\"\")","v":""},{"$f":"IF(O17996=\"\",\"\",RANK(O17996,$O$2:$O$1000))","v":""}]
["2832 台產","陳冠宇          陳冠宇",0,"陳冠宇",null,null,null,null,null,null,null,null,null,null,{"$f":"IFERROR(VLOOKUP(K18039,股價!A:B,2,0)*M18039,\"\")","v":""},{"$f":"IF(O18039=\"\",\"\",RANK(O18039,$O$2:$O$1000))","v":""}]
["2832 台產","鄭全誠          鄭全誠",0,"鄭全誠",null,null,null,null,null,null,null,null,null,null,{"$f":"IFERROR(VLOOKUP(K18059,股價!A:B,2,0)*M18059,\"\")","v":""},{"$f":"IF(O18059=\"\",\"\",RANK(O18059,$O$2:$O$1000))","v":""}]
["2834 臺企銀","丁竹英          丁竹英",33,"丁竹英",null,null,null,null,null,null,null,null,null,null,{"$f":"IFERROR(VLOOKUP(K18075,股價!A:B,2,0)*M18075,\"\")","v":""},{"$f":"IF(O18075=\"\",\"\",RANK(O18075,$O$2:$O$1000))","v":""}]
["2834 臺企銀","沈春英          沈春英",60,"沈春英",null,null,null,null,null,null,null,null,null,null,{"$f":"IFERROR(VLOOKUP(K18118,股價!A:B,2,0)*M18118,\"\")","v":""},{"$f":"IF(O18118=\"\",\"\",RANK(O18118,$O$2:$O$1000))","v":""}]
["2834 臺企銀","林俊達          林俊達",115,"林俊達",null,null,null,null,null,null,null,null,null,null,{"$f":"IFERROR(VLOOKUP(K18130,股價!A:B,2,0)*M18130,\"\")","v":""},{"$f":"IF(O18130=\"\",\"\",RANK(O18130,$O$2:$O$1000))","v":""}]
["2834 臺企銀","徐建亞          徐建亞",107,"徐建亞",null,null,null,null,null,null,null,null,null,null,{"$f":"IFERROR(VLOOKUP(K18159,股價!A:B,2,0)*M18159,\"\")","v":""},{"$f":"IF(O18159=\"\",\"\",RANK(O18159,$O$2:$O$1000))","v":""}]
["2834 臺企銀","陳昭烈          陳昭烈",6,"陳昭烈",null,null,null,null,null,null,null,null,null,null,{"$f":"IFERROR(VLOOKUP(K18193,股價!A:B,2,0)*M18193,\"\")","v":""},{"$f":"IF(O18193=\"\",\"\",RANK(O18193,$O$2:$O$1000))","v":""}]
["2834 臺企銀","黃兆銘          黃兆銘",123,"黃兆銘",null,null,null,null,null,null,null,null,null,null,{"$f":"IFERROR(VLOOKUP(K18222,股價!A:B,2,0)*M18222,\"\")","v":""},{"$f":"IF(O18222=\"\",\"\",RANK(O18222,$O$2:$O$1000))","v":""}]
["2834 臺企銀","臺灣土地銀行(股)謝娟娟",183489,"臺灣土地銀行",null,null,null,null,null,null,null,null,null,null,{"$f":"IFERROR(VLOOKUP(K18243,股價!A:B,2,0)*M18243,\"\")","v":""},{"$f":"IF(O18243=\"\",\"\",RANK(O18243,$O$2:$O$1000))","v":""}]
["2834 臺企銀","謝宗仁          謝宗仁",12,"謝宗仁",null,null,null,null,null,null,null,null,null,null,{"$f":"IFERROR(VLOOKUP(K18264,股價!A:B,2,0)*M18264,\"\")","v":""},{"$f":"IF(O18264=\"\",\"\",RANK(O18264,$O$2:$O$1000))","v":""}]
["2836 高雄銀","徐翠梅          徐翠梅",222,"徐翠梅",null,null,null,null,null,null,null,null,null,null,{"$f":"IFERROR(VLOOKUP(K18306,股價!A:B,2,0)*M18306,\"\")","v":""},{"$f":"IF(O18306=\"\",\"\",RANK(O18306,$O$2:$O$1000))","v":""}]
["2836 高雄銀","陳明宏          陳明宏",36,"陳明宏",null,null,null,null,null,null,null,null,null,null,{"$f":"IFERROR(VLOOKUP(K18327,股價!A:B,2,0)*M18327,\"\")","v":""},{"$f":"IF(O18327=\"\",\"\",RANK(O18327,$O$2:$O$1000))","v":""}]
["2836 高雄銀","黃世彥          黃世彥",0,"黃世彥",null,null,null,null,null,null,null,null,null,null,{"$f":"IFERROR(VLOOKUP(K18342,股價!A:B,2,0)*M18342,\"\")","v":""},{"$f":"IF(O18342=\"\",\"\",RANK(O18342,$O$2:$O$1000))","v":""}]
["2836 高雄銀","涂泰祿          涂泰祿",31,"涂泰祿",null,null,null,null,null,null,null,null,null,null,{"$f":"IFERROR(VLOOKUP(K18363,股價!A:B,2,0)*M18363,\"\")","v":""},{"$f":"IF(O18363=\"\",\"\",RANK(O18363,$O$2:$O$1000))","v":""}]
["2838 聯邦銀","李滿治          李滿治",0,"李滿治",null,null,null,null,null,null,null,null,null,null,{"$f":"IFERROR(VLOOKUP(K18398,股價!A:B,2,0)*M18398,\"\")","v":""},{"$f":"IF(O18398=\"\",\"\",RANK(O18398,$O$2:$O$1000))","v":""}]
["2838 聯邦銀","紀文卿          紀文卿",135,"紀文卿",null,null,null,null,null,null,null,null,null,null,{"$f":"IFERROR(VLOOKUP(K18426,股價!A:B,2,0)*M18426,\"\")","v":""},{"$f":"IF(O18426=\"\",\"\",RANK(O18426,$O$2:$O$1000))","v":""}]
["2838 聯邦銀","程文治          程文治",65,"程文治",null,null,null,null,null,null,null,null,null,null,{"$f":"IFERROR(VLOOKUP(K18461,股價!A:B,2,0)*M18461,\"\")","v":""},{"$f":"IF(O18461=\"\",\"\",RANK(O18461,$O$2:$O$1000))","v":""}]
["2838 聯邦銀","劉玨伶          劉玨伶",84,"劉玨伶",null,null,null,null,null,null,null,null,null,null,{"$f":"IFERROR(VLOOKUP(K18489,股價!A:B,2,0)*M18489,\"\")","v":""},{"$f":"IF(O18489=\"\",\"\",RANK(O18489,$O$2:$O$1000))","v":""}]
["2838 聯邦銀","謝秀蘭          謝秀蘭",78,"謝秀蘭",null,null,null,null,null,null,null,null,null,null,{"$f":"IFERROR(VLOOKUP(K18510,股價!A:B,2,0)*M18510,\"\")","v":""},{"$f":"IF(O18510=\"\",\"\",RANK(O18510,$O$2:$O$1000))","v":""}]
["2845 遠東銀","王敦品          王敦品",183,"王敦品",null,null,null,null,null,null,null,null,null,null,{"$f":"IFERROR(VLOOKUP(K18532,股價!A:B,2,0)*M18532,\"\")","v":""},{"$f":"IF(O18532=\"\",\"\",RANK(O18532,$O$2:$O$1000))","v":""}]
["2845 遠東銀","林沛潔          林沛潔",60,"林沛潔",null,null,null,null,null,null,null,null,null,null,{"$f":"IFERROR(VLOOKUP(K18573,股價!A:B,2,0)*M18573,\"\")","v":""},{"$f":"IF(O18573=\"\",\"\",RANK(O18573,$O$2:$O$1000))","v":""}]
["2845 遠東銀","張秀蓮          張秀蓮",0,"張秀蓮",null,null,null,null,null,null,null,null,null,null,{"$f":"IFERROR(VLOOKUP(K18599,股價!A:B,2,0)*M18599,\"\")","v":""},{"$f":"IF(O18599=\"\",\"\",RANK(O18599,$O$2:$O$1000))","v":""}]
["2845 遠東銀","郭松湟          郭松湟",0,"郭松湟",null,null,null,null,null,null,null,null,null,null,{"$f":"IFERROR(VLOOKUP(K18609,股價!A:B,2,0)*M18609,\"\")","v":""},{"$f":"IF(O18609=\"\",\"\",RANK(O18609,$O$2:$O$1000))","v":""}]
["2845 遠東銀","曾淑娟          曾淑娟",242,"曾淑娟",null,null,null,null,null,null,null,null,null,null,{"$f":"IFERROR(VLOOKUP(K18630,股價!A:B,2,0)*M18630,\"\")","v":""},{"$f":"IF(O18630=\"\",\"\",RANK(O18630,$O$2:$O$1000))","v":""}]
["2845 遠東銀","劉宏信          劉宏信",0,"劉宏信",null,null,null,null,null,null,null,null,null,null,{"$f":"IFERROR(VLOOKUP(K18666,股價!A:B,2,0)*M18666,\"\")","v":""},{"$f":"IF(O18666=\"\",\"\",RANK(O18666,$O$2:$O$1000))","v":""}]
["2845 遠東銀","魏珮菁          魏珮菁",228,"魏珮菁",null,null,null,null,null,null,null,null,null,null,{"$f":"IFERROR(VLOOKUP(K18693,股價!A:B,2,0)*M18693,\"\")","v":""},{"$f":"IF(O18693=\"\",\"\",RANK(O18693,$O$2:$O$1000))","v":""}]
["2849 安泰銀","吳美樺          吳美樺",0,"吳美樺",null,null,null,null,null,null,null,null,null,null,{"$f":"IFERROR(VLOOKUP(K18733,股價!A:B,2,0)*M18733,\"\")","v":""},{"$f":"IF(O18733=\"\",\"\",RANK(O18733,$O$2:$O$1000))","v":""}]
["2849 安泰銀","林世代          林世代",0,"林世代",null,null,null,null,null,null,null,null,null,null,{"$f":"IFERROR(VLOOKUP(K18756,股價!A:B,2,0)*M18756,\"\")","v":""},{"$f":"IF(O18756=\"\",\"\",RANK(O18756,$O$2:$O$1000))","v":""}]
["2849 安泰銀","侯家蓁          侯家蓁",0,"侯家蓁",null,null,null,null,null,null,null,null,null,null,{"$f":"IFERROR(VLOOKUP(K18777,股價!A:B,2,0)*M18777,\"\")","v":""},{"$f":"IF(O18777=\"\",\"\",RANK(O18777,$O$2:$O$1000))","v":""}]
["2849 安泰銀","張志偉          張志偉",0,"張志偉",null,null,null,null,null,null,null,null,null,null,{"$f":"IFERROR(VLOOKUP(K18800,股價!A:B,2,0)*M18800,\"\")","v":""},{"$f":"IF(O18800=\"\",\"\",RANK(O18800,$O$2:$O$1000))","v":""}]
["2849 安泰銀","陳慧莉          陳慧莉",0,"陳慧莉",null,null,null,null,null,null,null,null,null,null,{"$f":"IFERROR(VLOOKUP(K18840,股價!A:B,2,0)*M18840,\"\")","v":""},{"$f":"IF(O18840=\"\",\"\",RANK(O18840,$O$2:$O$1000))","v":""}]
["2849 安泰銀","陳豐廷          陳豐廷",0,"陳豐廷",null,null,null,null,null,null,null,null,null,null,{"$f":"IFERROR(VLOOKUP(K18841,股價!A:B,2,0)*M18841,\"\")","v":""},{"$f":"IF(O18841=\"\",\"\",RANK(O18841,$O$2:$O$1000))","v":""}]
["2849 安泰銀","蔡光彥          蔡光彥",0,"蔡光彥",null,null,null,null,null,null,null,null,null,null,{"$f":"IFERROR(VLOOKUP(K18876,股價!A:B,2,0)*M18876,\"\")","v":""},{"$f":"IF(O18876=\"\",\"\",RANK(O18876,$O$2:$O$1000))","v":""}]
["2849 安泰銀","顏沛琳          顏沛琳",0,"顏沛琳",null,null,null,null,null,null,null,null,null,null,{"$f":"IFERROR(VLOOKUP(K18897,股價!A:B,2,0)*M18897,\"\")","v":""},{"$f":"IF(O18897=\"\",\"\",RANK(O18897,$O$2:$O$1000))","v":""}]
["2850 新產","高瑞澤          高瑞澤",0,"高瑞澤",null,null,null,null,null,null,null,null,null,null,{"$f":"IFERROR(VLOOKUP(K18938,股價!A:B,2,0)*M18938,\"\")","v":""},{"$f":"IF(O18938=\"\",\"\",RANK(O18938,$O$2:$O$1000))","v":""}]
["2850 新產","楊俊彥          楊俊彥",5,"楊俊彥",null,null,null,null,null,null,null,null,null,null,{"$f":"IFERROR(VLOOKUP(K18960,股價!A:B,2,0)*M18960,\"\")","v":""},{"$f":"IF(O18960=\"\",\"\",RANK(O18960,$O$2:$O$1000))","v":""}]
["2850 新產","謙成毅(股)      王清祥",5467,"謙成毅",null,null,null,null,null,null,null,null,null,null,{"$f":"IFERROR(VLOOKUP(K18975,股價!A:B,2,0)*M18975,\"\")","v":""},{"$f":"IF(O18975=\"\",\"\",RANK(O18975,$O$2:$O$1000))","v":""}]
["2852 第一保","_經理人合計",482,null,null,null,null,null,null,null,null,null,null,null,{"$f":"IFERROR(VLOOKUP(K19023,股價!A:B,2,0)*M19023,\"\")","v":""},{"$f":"IF(O19023=\"\",\"\",RANK(O19023,$O$2:$O$1000))","v":""}]
["2852 第一保","林秀梅          林秀梅",0,"林秀梅",null,null,null,null,null,null,null,null,null,null,{"$f":"IFERROR(VLOOKUP(K19044,股價!A:B,2,0)*M19044,\"\")","v":""},{"$f":"IF(O19044=\"\",\"\",RANK(O19044,$O$2:$O$1000))","v":""}]
["2852 第一保","顏建鴻          顏建鴻",1,"顏建鴻",null,null,null,null,null,null,null,null,null,null,{"$f":"IFERROR(VLOOKUP(K19072,股價!A:B,2,0)*M19072,\"\")","v":""},{"$f":"IF(O19072=\"\",\"\",RANK(O19072,$O$2:$O$1000))","v":""}]
["2855 統一證","于鴻潔          于鴻潔",5,"于鴻潔",null,null,null,null,null,null,null,null,null,null,{"$f":"IFERROR(VLOOKUP(K19080,股價!A:B,2,0)*M19080,\"\")","v":""},{"$f":"IF(O19080=\"\",\"\",RANK(O19080,$O$2:$O$1000))","v":""}]
["2855 統一證","周國祥          周國祥",0,"周國祥",null,null,null,null,null,null,null,null,null,null,{"$f":"IFERROR(VLOOKUP(K19109,股價!A:B,2,0)*M19109,\"\")","v":""},{"$f":"IF(O19109=\"\",\"\",RANK(O19109,$O$2:$O$1000))","v":""}]
["2855 統一證","陳乃真          陳乃真",0,"陳乃真",null,null,null,null,null,null,null,null,null,null,{"$f":"IFERROR(VLOOKUP(K19148,股價!A:B,2,0)*M19148,\"\")","v":""},{"$f":"IF(O19148=\"\",\"\",RANK(O19148,$O$2:$O$1000))","v":""}]
["2855 統一證","游益誠          游益誠",0,"游益誠",null,null,null,null,null,null,null,null,null,null,{"$f":"IFERROR(VLOOKUP(K19164,股價!A:B,2,0)*M19164,\"\")","v":""},{"$f":"IF(O19164=\"\",\"\",RANK(O19164,$O$2:$O$1000))","v":""}]
["2867 三商壽","三商福寶(股)    王顯昌",101000,"三商福寶",null,null,null,null,null,null,null,null,null,null,{"$f":"IFERROR(VLOOKUP(K19206,股價!A:B,2,0)*M19206,\"\")","v":""},{"$f":"IF(O19206=\"\",\"\",RANK(O19206,$O$2:$O$1000))","v":""}]
["2867 三商壽","林淑惠          林淑惠",237,"林淑惠",null,null,null,null,null,null,null,null,null,null,{"$f":"IFERROR(VLOOKUP(K19227,股價!A:B,2,0)*M19227,\"\")","v":""},{"$f":"IF(O19227=\"\",\"\",RANK(O19227,$O$2:$O$1000))","v":""}]
["2867 三商壽","第一銀行受託    第一銀行受託",27270,"第一銀行受託保管亞霏有限公司投資專戶",null,null,null,null,null,null,null,null,null,null,{"$f":"IFERROR(VLOOKUP(K19243,股價!A:B,2,0)*M19243,\"\")","v":""},{"$f":"IF(O19243=\"\",\"\",RANK(O19243,$O$2:$O$1000))","v":""}]
["2867 三商壽","新制勞退基金    新制勞退基金",25356,"新制勞工勞退基金",null,null,null,null,null,null,null,null,null,null,{"$f":"IFERROR(VLOOKUP(K19268,股價!A:B,2,0)*M19268,\"\")","v":""},{"$f":"IF(O19268=\"\",\"\",RANK(O19268,$O$2:$O$1000))","v":""}]
["2880 華南金","林知佑          林知佑",0,"林知佑",null,null,null,null,null,null,null,null,null,null,{"$f":"IFERROR(VLOOKUP(K19311,股價!A:B,2,0)*M19311,\"\")","v":""},{"$f":"IF(O19311=\"\",\"\",RANK(O19311,$O$2:$O$1000))","v":""}]
["2880 華南金","臺灣銀行(股)    王安邦",2896526,"臺灣銀行",null,null,null,null,null,null,null,null,null,null,{"$f":"IFERROR(VLOOKUP(K19340,股價!A:B,2,0)*M19340,\"\")","v":""},{"$f":"IF(O19340=\"\",\"\",RANK(O19340,$O$2:$O$1000))","v":""}]
["2881 富邦金","_大股東合計1",0,null,null,null,null,null,null,null,null,null,null,null,{"$f":"IFERROR(VLOOKUP(K19347,股價!A:B,2,0)*M19347,\"\")","v":""},{"$f":"IF(O19347=\"\",\"\",RANK(O19347,$O$2:$O$1000))","v":""}]
["2881 富邦金","郭佳綾          郭佳綾",112,"郭佳綾",null,null,null,null,null,null,null,null,null,null,{"$f":"IFERROR(VLOOKUP(K19395,股價!A:B,2,0)*M19395,\"\")","v":""},{"$f":"IF(O19395=\"\",\"\",RANK(O19395,$O$2:$O$1000))","v":""}]
["2881 富邦金","廖家甄          廖家甄",3,"廖家甄",null,null,null,null,null,null,null,null,null,null,{"$f":"IFERROR(VLOOKUP(K19411,股價!A:B,2,0)*M19411,\"\")","v":""},{"$f":"IF(O19411=\"\",\"\",RANK(O19411,$O$2:$O$1000))","v":""}]
["2881 富邦金","謝穎和          謝穎和",58,"謝穎和",null,null,null,null,null,null,null,null,null,null,{"$f":"IFERROR(VLOOKUP(K19431,股價!A:B,2,0)*M19431,\"\")","v":""},{"$f":"IF(O19431=\"\",\"\",RANK(O19431,$O$2:$O$1000))","v":""}]
["2882 國泰金","翁德雁          翁德雁",119,"翁德雁",null,null,null,null,null,null,null,null,null,null,{"$f":"IFERROR(VLOOKUP(K19474,股價!A:B,2,0)*M19474,\"\")","v":""},{"$f":"IF(O19474=\"\",\"\",RANK(O19474,$O$2:$O$1000))","v":""}]
["2882 國泰金","熊明河          熊明河",212,"熊明河",null,null,null,null,null,null,null,null,null,null,{"$f":"IFERROR(VLOOKUP(K19499,股價!A:B,2,0)*M19499,\"\")","v":""},{"$f":"IF(O19499=\"\",\"\",RANK(O19499,$O$2:$O$1000))","v":""}]
["2883 開發金","Gabriel EzequielGabriel Ezeq",85,"Gabriel Ezequiel Heredia",null,null,null,null,null,null,null,null,null,null,{"$f":"IFERROR(VLOOKUP(K19515,股價!A:B,2,0)*M19515,\"\")","v":""},{"$f":"IF(O19515=\"\",\"\",RANK(O19515,$O$2:$O$1000))","v":""}]
["2883 開發金","吳俊達          吳俊達",50,"吳俊達",null,null,null,null,null,null,null,null,null,null,{"$f":"IFERROR(VLOOKUP(K19545,股價!A:B,2,0)*M19545,\"\")","v":""},{"$f":"IF(O19545=\"\",\"\",RANK(O19545,$O$2:$O$1000))","v":""}]
["2883 開發金","張立人          張立人",2437,"張立人",null,null,null,null,null,null,null,null,null,null,{"$f":"IFERROR(VLOOKUP(K19578,股價!A:B,2,0)*M19578,\"\")","v":""},{"$f":"IF(O19578=\"\",\"\",RANK(O19578,$O$2:$O$1000))","v":""}]
["2883 開發金","游文琪          游文琪",0,"游文琪",null,null,null,null,null,null,null,null,null,null,{"$f":"IFERROR(VLOOKUP(K19608,股價!A:B,2,0)*M19608,\"\")","v":""},{"$f":"IF(O19608=\"\",\"\",RANK(O19608,$O$2:$O$1000))","v":""}]
["2883 開發金","楊文鈞          楊文鈞",25070,"楊文鈞",null,null,null,null,null,null,null,null,null,null,{"$f":"IFERROR(VLOOKUP(K19619,股價!A:B,2,0)*M19619,\"\")","v":""},{"$f":"IF(O19619=\"\",\"\",RANK(O19619,$O$2:$O$1000))","v":""}]
["2883 開發金","蘇妤珊          蘇妤珊",0,"蘇妤珊",null,null,null,null,null,null,null,null,null,null,{"$f":"IFERROR(VLOOKUP(K19662,股價!A:B,2,0)*M19662,\"\")","v":""},{"$f":"IF(O19662=\"\",\"\",RANK(O19662,$O$2:$O$1000))","v":""}]
["2884 玉山金","吳建立          吳建立",0,"吳建立",null,null,null,null,null,null,null,null,null,null,{"$f":"IFERROR(VLOOKUP(K19679,股價!A:B,2,0)*M19679,\"\")","v":""},{"$f":"IF(O19679=\"\",\"\",RANK(O19679,$O$2:$O$1000))","v":""}]
["2884 玉山金","陳勸仁          陳勸仁",1269,"陳勸仁",null,null,null,null,null,null,null,null,null,null,{"$f":"IFERROR(VLOOKUP(K19698,股價!A:B,2,0)*M19698,\"\")","v":""},{"$f":"IF(O19698=\"\",\"\",RANK(O19698,$O$2:$O$1000))","v":""}]
["2885 元大金","李明儒          李明儒",6,"李明儒",null,null,null,null,null,null,null,null,null,null,{"$f":"IFERROR(VLOOKUP(K19742,股價!A:B,2,0)*M19742,\"\")","v":""},{"$f":"IF(O19742=\"\",\"\",RANK(O19742,$O$2:$O$1000))","v":""}]
["2885 元大金","陳又慈          陳又慈",62,"陳又慈",null,null,null,null,null,null,null,null,null,null,{"$f":"IFERROR(VLOOKUP(K19766,股價!A:B,2,0)*M19766,\"\")","v":""},{"$f":"IF(O19766=\"\",\"\",RANK(O19766,$O$2:$O$1000))","v":""}]
["2885 元大金","楊聖慧          楊聖慧",100,"楊聖慧",null,null,null,null,null,null,null,null,null,null,{"$f":"IFERROR(VLOOKUP(K19782,股價!A:B,2,0)*M19782,\"\")","v":""},{"$f":"IF(O19782=\"\",\"\",RANK(O19782,$O$2:$O$1000))","v":""}]
["2886 兆豐金","行政院國發會    施克和",851747,"行政院國家發展基金管理會",null,null,null,null,null,null,null,null,null,null,{"$f":"IFERROR(VLOOKUP(K19813,股價!A:B,2,0)*M19813,\"\")","v":""},{"$f":"IF(O19813=\"\",\"\",RANK(O19813,$O$2:$O$1000))","v":""}]
["2886 兆豐金","蕭家旗          蕭家旗",4,"蕭家旗",null,null,null,null,null,null,null,null,null,null,{"$f":"IFERROR(VLOOKUP(K19850,股價!A:B,2,0)*M19850,\"\")","v":""},{"$f":"IF(O19850=\"\",\"\",RANK(O19850,$O$2:$O$1000))","v":""}]
["2887 台新金","范嘉玲          范嘉玲",0,"范嘉玲",null,null,null,null,null,null,null,null,null,null,{"$f":"IFERROR(VLOOKUP(K19876,股價!A:B,2,0)*M19876,\"\")","v":""},{"$f":"IF(O19876=\"\",\"\",RANK(O19876,$O$2:$O$1000))","v":""}]
["2887 台新金","嘉浩(股)        吳東亮",22761,"嘉浩",null,null,null,null,null,null,null,null,null,null,{"$f":"IFERROR(VLOOKUP(K19886,股價!A:B,2,0)*M19886,\"\")","v":""},{"$f":"IF(O19886=\"\",\"\",RANK(O19886,$O$2:$O$1000))","v":""}]
["2888 新光金","張弘杰          張弘杰",403,"張弘杰",null,null,null,null,null,null,null,null,null,null,{"$f":"IFERROR(VLOOKUP(K19929,股價!A:B,2,0)*M19929,\"\")","v":""},{"$f":"IF(O19929=\"\",\"\",RANK(O19929,$O$2:$O$1000))","v":""}]
["2888 新光金","新柏(股)        洪士琪",1083,"新柏股份有限公司",null,null,null,null,null,null,null,null,null,null,{"$f":"IFERROR(VLOOKUP(K19947,股價!A:B,2,0)*M19947,\"\")","v":""},{"$f":"IF(O19947=\"\",\"\",RANK(O19947,$O$2:$O$1000))","v":""}]
["2889 國票金","合作金庫商業銀行蔡佳平",73016,"合作金庫商業銀行",null,null,null,null,null,null,null,null,null,null,{"$f":"IFERROR(VLOOKUP(K19970,股價!A:B,2,0)*M19970,\"\")","v":""},{"$f":"IF(O19970=\"\",\"\",RANK(O19970,$O$2:$O$1000))","v":""}]
["2890 永豐金","上誼文化實業(股)陳思寬",192505,"上誼文化實業",null,null,null,null,null,null,null,null,null,null,{"$f":"IFERROR(VLOOKUP(K20010,股價!A:B,2,0)*M20010,\"\")","v":""},{"$f":"IF(O20010=\"\",\"\",RANK(O20010,$O$2:$O$1000))","v":""}]
["2890 永豐金","張天豪          張天豪",13,"張天豪",null,null,null,null,null,null,null,null,null,null,{"$f":"IFERROR(VLOOKUP(K20033,股價!A:B,2,0)*M20033,\"\")","v":""},{"$f":"IF(O20033=\"\",\"\",RANK(O20033,$O$2:$O$1000))","v":""}]
["2890 永豐金","潘維大          潘維大",0,"潘維大",null,null,null,null,null,null,null,null,null,null,{"$f":"IFERROR(VLOOKUP(K20054,股價!A:B,2,0)*M20054,\"\")","v":""},{"$f":"IF(O20054=\"\",\"\",RANK(O20054,$O$2:$O$1000))","v":""}]
["2891 中信金","金延華          金延華",1527,"金延華",null,null,null,null,null,null,null,null,null,null,{"$f":"IFERROR(VLOOKUP(K20081,股價!A:B,2,0)*M20081,\"\")","v":""},{"$f":"IF(O20081=\"\",\"\",RANK(O20081,$O$2:$O$1000))","v":""}]
["2892 第一金","吳芬(女+英)     吳芬(女+英)",73,"吳芬(女+英)",null,null,null,null,null,null,null,null,null,null,{"$f":"IFERROR(VLOOKUP(K20117,股價!A:B,2,0)*M20117,\"\")","v":""},{"$f":"IF(O20117=\"\",\"\",RANK(O20117,$O$2:$O$1000))","v":""}]
["2892 第一金","李丞斌          李丞斌",78,"李丞斌",null,null,null,null,null,null,null,null,null,null,{"$f":"IFERROR(VLOOKUP(K20118,股價!A:B,2,0)*M20118,\"\")","v":""},{"$f":"IF(O20118=\"\",\"\",RANK(O20118,$O$2:$O$1000))","v":""}]
["2892 第一金","戴士原          戴士原",0,"戴士原",null,null,null,null,null,null,null,null,null,null,{"$f":"IFERROR(VLOOKUP(K20153,股價!A:B,2,0)*M20153,\"\")","v":""},{"$f":"IF(O20153=\"\",\"\",RANK(O20153,$O$2:$O$1000))","v":""}]
["2897 王道銀行","艾貝投資(股)    鄭誠禎",55,"艾貝投資",null,null,null,null,null,null,null,null,null,null,{"$f":"IFERROR(VLOOKUP(K20174,股價!A:B,2,0)*M20174,\"\")","v":""},{"$f":"IF(O20174=\"\",\"\",RANK(O20174,$O$2:$O$1000))","v":""}]
["2897 王道銀行","楊雅雯          楊雅雯",64,"楊雅雯",null,null,null,null,null,null,null,null,null,null,{"$f":"IFERROR(VLOOKUP(K20215,股價!A:B,2,0)*M20215,\"\")","v":""},{"$f":"IF(O20215=\"\",\"\",RANK(O20215,$O$2:$O$1000))","v":""}]
["2901 欣欣","_經理人合計",0,null,null,null,null,null,null,null,null,null,null,null,{"$f":"IFERROR(VLOOKUP(K20237,股價!A:B,2,0)*M20237,\"\")","v":""},{"$f":"IF(O20237=\"\",\"\",RANK(O20237,$O$2:$O$1000))","v":""}]
["2901 欣欣","國軍退除役官兵輔吳志揚",31523,"國軍退除役官兵輔導委員會",null,null,null,null,null,null,null,null,null,null,{"$f":"IFERROR(VLOOKUP(K20252,股價!A:B,2,0)*M20252,\"\")","v":""},{"$f":"IF(O20252=\"\",\"\",RANK(O20252,$O$2:$O$1000))","v":""}]
["2903 遠百","藍卓成          藍卓成",5,"藍卓成",null,null,null,null,null,null,null,null,null,null,{"$f":"IFERROR(VLOOKUP(K20300,股價!A:B,2,0)*M20300,\"\")","v":""},{"$f":"IF(O20300=\"\",\"\",RANK(O20300,$O$2:$O$1000))","v":""}]
["2904 匯僑","張健均          張健均",338,"張健均",null,null,null,null,null,null,null,null,null,null,{"$f":"IFERROR(VLOOKUP(K20321,股價!A:B,2,0)*M20321,\"\")","v":""},{"$f":"IF(O20321=\"\",\"\",RANK(O20321,$O$2:$O$1000))","v":""}]
["2905 三商","翁肇喜          翁肇喜",19885,"翁肇喜",null,null,null,null,null,null,null,null,null,null,{"$f":"IFERROR(VLOOKUP(K20349,股價!A:B,2,0)*M20349,\"\")","v":""},{"$f":"IF(O20349=\"\",\"\",RANK(O20349,$O$2:$O$1000))","v":""}]
["2905 三商","陳翔立          陳翔立",25337,"陳翔立",null,null,null,null,null,null,null,null,null,null,{"$f":"IFERROR(VLOOKUP(K20357,股價!A:B,2,0)*M20357,\"\")","v":""},{"$f":"IF(O20357=\"\",\"\",RANK(O20357,$O$2:$O$1000))","v":""}]
["2906 高林","陳永昌          陳永昌",0,"陳永昌",null,null,null,null,null,null,null,null,null,null,{"$f":"IFERROR(VLOOKUP(K20390,股價!A:B,2,0)*M20390,\"\")","v":""},{"$f":"IF(O20390=\"\",\"\",RANK(O20390,$O$2:$O$1000))","v":""}]
["2908 特力","沈汝康          沈汝康",0,"沈汝康",null,null,null,null,null,null,null,null,null,null,{"$f":"IFERROR(VLOOKUP(K20420,股價!A:B,2,0)*M20420,\"\")","v":""},{"$f":"IF(O20420=\"\",\"\",RANK(O20420,$O$2:$O$1000))","v":""}]
["2908 特力","黃素芬          黃素芬",0,"黃素芬",null,null,null,null,null,null,null,null,null,null,{"$f":"IFERROR(VLOOKUP(K20441,股價!A:B,2,0)*M20441,\"\")","v":""},{"$f":"IF(O20441=\"\",\"\",RANK(O20441,$O$2:$O$1000))","v":""}]
["2911 麗嬰房","_大股東合計1",11554,null,null,null,null,null,null,null,null,null,null,null,{"$f":"IFERROR(VLOOKUP(K20483,股價!A:B,2,0)*M20483,\"\")","v":""},{"$f":"IF(O20483=\"\",\"\",RANK(O20483,$O$2:$O$1000))","v":""}]
["2911 麗嬰房","曾家宏          曾家宏",8687,"曾家宏",null,null,null,null,null,null,null,null,null,null,{"$f":"IFERROR(VLOOKUP(K20504,股價!A:B,2,0)*M20504,\"\")","v":""},{"$f":"IF(O20504=\"\",\"\",RANK(O20504,$O$2:$O$1000))","v":""}]
["2912 統一超","吳輝振          吳輝振",0,"吳輝振",null,null,null,null,null,null,null,null,null,null,{"$f":"IFERROR(VLOOKUP(K20524,股價!A:B,2,0)*M20524,\"\")","v":""},{"$f":"IF(O20524=\"\",\"\",RANK(O20524,$O$2:$O$1000))","v":""}]
["2913 農林","_監察人合計",0,null,null,null,null,null,null,null,null,null,null,null,{"$f":"IFERROR(VLOOKUP(K20567,股價!A:B,2,0)*M20567,\"\")","v":""},{"$f":"IF(O20567=\"\",\"\",RANK(O20567,$O$2:$O$1000))","v":""}]
["2913 農林","葉立琦          葉立琦",0,"葉立琦",null,null,null,null,null,null,null,null,null,null,{"$f":"IFERROR(VLOOKUP(K20588,股價!A:B,2,0)*M20588,\"\")","v":""},{"$f":"IF(O20588=\"\",\"\",RANK(O20588,$O$2:$O$1000))","v":""}]
["2915 潤泰全","黃才銘          黃才銘",47,"黃才銘",null,null,null,null,null,null,null,null,null,null,{"$f":"IFERROR(VLOOKUP(K20621,股價!A:B,2,0)*M20621,\"\")","v":""},{"$f":"IF(O20621=\"\",\"\",RANK(O20621,$O$2:$O$1000))","v":""}]
["2915 潤泰全","黃筠婷          黃筠婷",2,"黃筠婷",null,null,null,null,null,null,null,null,null,null,{"$f":"IFERROR(VLOOKUP(K20624,股價!A:B,2,0)*M20624,\"\")","v":""},{"$f":"IF(O20624=\"\",\"\",RANK(O20624,$O$2:$O$1000))","v":""}]
["2924 宏太-KY","_大股東合計2    含沿用資料",5873,null,null,null,null,null,null,null,null,null,null,null,{"$f":"IFERROR(VLOOKUP(K20672,股價!A:B,2,0)*M20672,\"\")","v":""},{"$f":"IF(O20672=\"\",\"\",RANK(O20672,$O$2:$O$1000))","v":""}]
["2924 宏太-KY","陳仁中          陳仁中",0,"陳仁中",null,null,null,null,null,null,null,null,null,null,{"$f":"IFERROR(VLOOKUP(K20688,股價!A:B,2,0)*M20688,\"\")","v":""},{"$f":"IF(O20688=\"\",\"\",RANK(O20688,$O$2:$O$1000))","v":""}]
["2926 誠品生活","吳清河          吳清河",474,"吳清河",null,null,null,null,null,null,null,null,null,null,{"$f":"IFERROR(VLOOKUP(K20708,股價!A:B,2,0)*M20708,\"\")","v":""},{"$f":"IF(O20708=\"\",\"\",RANK(O20708,$O$2:$O$1000))","v":""}]
["2929 淘帝-KY","劉梅英          劉梅英",1626,"劉梅英",null,null,null,null,null,null,null,null,null,null,{"$f":"IFERROR(VLOOKUP(K20755,股價!A:B,2,0)*M20755,\"\")","v":""},{"$f":"IF(O20755=\"\",\"\",RANK(O20755,$O$2:$O$1000))","v":""}]
["2937 集雅社","集悅投資(有)    余坤錫",2944,"集悅投資",null,null,null,null,null,null,null,null,null,null,{"$f":"IFERROR(VLOOKUP(K20771,股價!A:B,2,0)*M20771,\"\")","v":""},{"$f":"IF(O20771=\"\",\"\",RANK(O20771,$O$2:$O$1000))","v":""}]
["2939 凱羿-KY","凱捷股份有限(股)蔡謀榜",1000,"凱捷股份有限公司",null,null,null,null,null,null,null,null,null,null,{"$f":"IFERROR(VLOOKUP(K20792,股價!A:B,2,0)*M20792,\"\")","v":""},{"$f":"IF(O20792=\"\",\"\",RANK(O20792,$O$2:$O$1000))","v":""}]
["2945 三商家購","余美玲          余美玲",503,"余美玲",null,null,null,null,null,null,null,null,null,null,{"$f":"IFERROR(VLOOKUP(K20822,股價!A:B,2,0)*M20822,\"\")","v":""},{"$f":"IF(O20822=\"\",\"\",RANK(O20822,$O$2:$O$1000))","v":""}]
["2947 振宇五金","沈立平          沈立平",13,"沈立平",null,null,null,null,null,null,null,null,null,null,{"$f":"IFERROR(VLOOKUP(K20855,股價!A:B,2,0)*M20855,\"\")","v":""},{"$f":"IF(O20855=\"\",\"\",RANK(O20855,$O$2:$O$1000))","v":""}]
["2947 振宇五金","洪珮銀          洪珮銀",1254,"洪珮銀",null,null,null,null,null,null,null,null,null,null,{"$f":"IFERROR(VLOOKUP(K20863,股價!A:B,2,0)*M20863,\"\")","v":""},{"$f":"IF(O20863=\"\",\"\",RANK(O20863,$O$2:$O$1000))","v":""}]
["3002 歐格","李廣浩          李廣浩",8332,"李廣浩",null,null,null,null,null,null,null,null,null,null,{"$f":"IFERROR(VLOOKUP(K20891,股價!A:B,2,0)*M20891,\"\")","v":""},{"$f":"IF(O20891=\"\",\"\",RANK(O20891,$O$2:$O$1000))","v":""}]
["3004 豐達科","行政院國發會    朱松竹",3773,"行政院國家發展基金管理會",null,null,null,null,null,null,null,null,null,null,{"$f":"IFERROR(VLOOKUP(K20939,股價!A:B,2,0)*M20939,\"\")","v":""},{"$f":"IF(O20939=\"\",\"\",RANK(O20939,$O$2:$O$1000))","v":""}]
["3004 豐達科","耀華玻璃股份有限耀華玻璃股份",1915,"耀華玻璃股份有限公司管理委員會",null,null,null,null,null,null,null,null,null,null,{"$f":"IFERROR(VLOOKUP(K20960,股價!A:B,2,0)*M20960,\"\")","v":""},{"$f":"IF(O20960=\"\",\"\",RANK(O20960,$O$2:$O$1000))","v":""}]
["3005 神基","花旗託管挪威    花旗託管挪威",6714,"花旗託管挪威中央銀行投資專戶",null,null,null,null,null,null,null,null,null,null,{"$f":"IFERROR(VLOOKUP(K20975,股價!A:B,2,0)*M20975,\"\")","v":""},{"$f":"IF(O20975=\"\",\"\",RANK(O20975,$O$2:$O$1000))","v":""}]
["3006 晶豪科","_監察人合計",0,null,null,null,null,null,null,null,null,null,null,null,{"$f":"IFERROR(VLOOKUP(K20997,股價!A:B,2,0)*M20997,\"\")","v":""},{"$f":"IF(O20997=\"\",\"\",RANK(O20997,$O$2:$O$1000))","v":""}]
["3008 大立光","陳世卿          陳世卿",6757,"陳世卿",null,null,null,null,null,null,null,null,null,null,{"$f":"IFERROR(VLOOKUP(K21038,股價!A:B,2,0)*M21038,\"\")","v":""},{"$f":"IF(O21038=\"\",\"\",RANK(O21038,$O$2:$O$1000))","v":""}]
["3010 華立","汪雅康          汪雅康",0,"汪雅康",null,null,null,null,null,null,null,null,null,null,{"$f":"IFERROR(VLOOKUP(K21059,股價!A:B,2,0)*M21059,\"\")","v":""},{"$f":"IF(O21059=\"\",\"\",RANK(O21059,$O$2:$O$1000))","v":""}]
["3011 今皓","_大股東合計2    含沿用資料",16694,null,null,null,null,null,null,null,null,null,null,null,{"$f":"IFERROR(VLOOKUP(K21094,股價!A:B,2,0)*M21094,\"\")","v":""},{"$f":"IF(O21094=\"\",\"\",RANK(O21094,$O$2:$O$1000))","v":""}]
["3013 晟銘電","林木和          林木和",30000,"林木和",null,null,null,null,null,null,null,null,null,null,{"$f":"IFERROR(VLOOKUP(K21122,股價!A:B,2,0)*M21122,\"\")","v":""},{"$f":"IF(O21122=\"\",\"\",RANK(O21122,$O$2:$O$1000))","v":""}]
["3013 晟銘電","盛美精密工業(股)盛美精密工業",39000,"盛美精密工業股份有限公司",null,null,null,null,null,null,null,null,null,null,{"$f":"IFERROR(VLOOKUP(K21131,股價!A:B,2,0)*M21131,\"\")","v":""},{"$f":"IF(O21131=\"\",\"\",RANK(O21131,$O$2:$O$1000))","v":""}]
["3014 聯陽","張培原          張培原",80,"張培原",null,null,null,null,null,null,null,null,null,null,{"$f":"IFERROR(VLOOKUP(K21158,股價!A:B,2,0)*M21158,\"\")","v":""},{"$f":"IF(O21158=\"\",\"\",RANK(O21158,$O$2:$O$1000))","v":""}]
["3016 嘉晶","_大股東合計1",0,null,null,null,null,null,null,null,null,null,null,null,{"$f":"IFERROR(VLOOKUP(K21206,股價!A:B,2,0)*M21206,\"\")","v":""},{"$f":"IF(O21206=\"\",\"\",RANK(O21206,$O$2:$O$1000))","v":""}]
["3016 嘉晶","匯豐宏利遠見    匯豐宏利遠見",3662,"匯豐(台灣)商業銀行股份有限公司受託保管宏利遠見基金單位信託投資專戶",null,null,null,null,null,null,null,null,null,null,{"$f":"IFERROR(VLOOKUP(K21228,股價!A:B,2,0)*M21228,\"\")","v":""},{"$f":"IF(O21228=\"\",\"\",RANK(O21228,$O$2:$O$1000))","v":""}]
["3017 奇鋐","_董監事合計",62042,null,null,null,null,null,null,null,null,null,null,null,{"$f":"IFERROR(VLOOKUP(K21242,股價!A:B,2,0)*M21242,\"\")","v":""},{"$f":"IF(O21242=\"\",\"\",RANK(O21242,$O$2:$O$1000))","v":""}]
["3017 奇鋐","陳易成          陳易成",1297,"陳易成",null,null,null,null,null,null,null,null,null,null,{"$f":"IFERROR(VLOOKUP(K21265,股價!A:B,2,0)*M21265,\"\")","v":""},{"$f":"IF(O21265=\"\",\"\",RANK(O21265,$O$2:$O$1000))","v":""}]
["3019 亞光","吳淑品          吳淑品",359,"吳淑品",null,null,null,null,null,null,null,null,null,null,{"$f":"IFERROR(VLOOKUP(K21310,股價!A:B,2,0)*M21310,\"\")","v":""},{"$f":"IF(O21310=\"\",\"\",RANK(O21310,$O$2:$O$1000))","v":""}]
["3019 亞光","鐘登科          鐘登科",0,"鐘登科",null,null,null,null,null,null,null,null,null,null,{"$f":"IFERROR(VLOOKUP(K21326,股價!A:B,2,0)*M21326,\"\")","v":""},{"$f":"IF(O21326=\"\",\"\",RANK(O21326,$O$2:$O$1000))","v":""}]
["3022 威強電","_監察人合計",0,null,null,null,null,null,null,null,null,null,null,null,{"$f":"IFERROR(VLOOKUP(K21362,股價!A:B,2,0)*M21362,\"\")","v":""},{"$f":"IF(O21362=\"\",\"\",RANK(O21362,$O$2:$O$1000))","v":""}]
["3023 信邦","_董監事合計",19969,null,null,null,null,null,null,null,null,null,null,null,{"$f":"IFERROR(VLOOKUP(K21389,股價!A:B,2,0)*M21389,\"\")","v":""},{"$f":"IF(O21389=\"\",\"\",RANK(O21389,$O$2:$O$1000))","v":""}]
["3023 信邦","巫仰裕          巫仰裕",11,"巫仰裕",null,null,null,null,null,null,null,null,null,null,{"$f":"IFERROR(VLOOKUP(K21399,股價!A:B,2,0)*M21399,\"\")","v":""},{"$f":"IF(O21399=\"\",\"\",RANK(O21399,$O$2:$O$1000))","v":""}]
["3023 信邦","黃立理          黃立理",10,"黃立理",null,null,null,null,null,null,null,null,null,null,{"$f":"IFERROR(VLOOKUP(K21430,股價!A:B,2,0)*M21430,\"\")","v":""},{"$f":"IF(O21430=\"\",\"\",RANK(O21430,$O$2:$O$1000))","v":""}]
["3025 星通","元大商業銀行    元大商業銀行",714,"元大商業銀行受託保管星通資訊股份有限公司員工信託財產專戶",null,null,null,null,null,null,null,null,null,null,{"$f":"IFERROR(VLOOKUP(K21473,股價!A:B,2,0)*M21473,\"\")","v":""},{"$f":"IF(O21473=\"\",\"\",RANK(O21473,$O$2:$O$1000))","v":""}]
["3026 禾伸堂","_經理人合計",146,null,null,null,null,null,null,null,null,null,null,null,{"$f":"IFERROR(VLOOKUP(K21496,股價!A:B,2,0)*M21496,\"\")","v":""},{"$f":"IF(O21496=\"\",\"\",RANK(O21496,$O$2:$O$1000))","v":""}]
["3026 禾伸堂","黃紹國          黃紹國",1064,"黃紹國",null,null,null,null,null,null,null,null,null,null,{"$f":"IFERROR(VLOOKUP(K21514,股價!A:B,2,0)*M21514,\"\")","v":""},{"$f":"IF(O21514=\"\",\"\",RANK(O21514,$O$2:$O$1000))","v":""}]
["3027 盛達","張莉莉          張莉莉",1675,"張莉莉",null,null,null,null,null,null,null,null,null,null,{"$f":"IFERROR(VLOOKUP(K21533,股價!A:B,2,0)*M21533,\"\")","v":""},{"$f":"IF(O21533=\"\",\"\",RANK(O21533,$O$2:$O$1000))","v":""}]
["3029 零壹","_經理人合計",521,null,null,null,null,null,null,null,null,null,null,null,{"$f":"IFERROR(VLOOKUP(K21577,股價!A:B,2,0)*M21577,\"\")","v":""},{"$f":"IF(O21577=\"\",\"\",RANK(O21577,$O$2:$O$1000))","v":""}]
["3029 零壹","金可玫          金可玫",130,"金可玫",null,null,null,null,null,null,null,null,null,null,{"$f":"IFERROR(VLOOKUP(K21593,股價!A:B,2,0)*M21593,\"\")","v":""},{"$f":"IF(O21593=\"\",\"\",RANK(O21593,$O$2:$O$1000))","v":""}]
["3030 德律","蔡明銓          蔡明銓",1006,"蔡明銓",null,null,null,null,null,null,null,null,null,null,{"$f":"IFERROR(VLOOKUP(K21630,股價!A:B,2,0)*M21630,\"\")","v":""},{"$f":"IF(O21630=\"\",\"\",RANK(O21630,$O$2:$O$1000))","v":""}]
["3031 佰鴻","_董  事合計",57554,null,null,null,null,null,null,null,null,null,null,null,{"$f":"IFERROR(VLOOKUP(K21634,股價!A:B,2,0)*M21634,\"\")","v":""},{"$f":"IF(O21634=\"\",\"\",RANK(O21634,$O$2:$O$1000))","v":""}]
["3032 偉訓","丞利投資(股)    柯吉源",6638,"丞利投資",null,null,null,null,null,null,null,null,null,null,{"$f":"IFERROR(VLOOKUP(K21667,股價!A:B,2,0)*M21667,\"\")","v":""},{"$f":"IF(O21667=\"\",\"\",RANK(O21667,$O$2:$O$1000))","v":""}]
["3033 威健","_董監事合計",45740,null,null,null,null,null,null,null,null,null,null,null,{"$f":"IFERROR(VLOOKUP(K21697,股價!A:B,2,0)*M21697,\"\")","v":""},{"$f":"IF(O21697=\"\",\"\",RANK(O21697,$O$2:$O$1000))","v":""}]
["3034 聯詠","國泰人壽保險(股)黃調貴",8002,"國泰人壽保險",null,null,null,null,null,null,null,null,null,null,{"$f":"IFERROR(VLOOKUP(K21740,股價!A:B,2,0)*M21740,\"\")","v":""},{"$f":"IF(O21740=\"\",\"\",RANK(O21740,$O$2:$O$1000))","v":""}]
["3035 智原","_監察人合計",0,null,null,null,null,null,null,null,null,null,null,null,{"$f":"IFERROR(VLOOKUP(K21764,股價!A:B,2,0)*M21764,\"\")","v":""},{"$f":"IF(O21764=\"\",\"\",RANK(O21764,$O$2:$O$1000))","v":""}]
["3035 智原","廖淑慧          廖淑慧",28,"廖淑慧",null,null,null,null,null,null,null,null,null,null,{"$f":"IFERROR(VLOOKUP(K21781,股價!A:B,2,0)*M21781,\"\")","v":""},{"$f":"IF(O21781=\"\",\"\",RANK(O21781,$O$2:$O$1000))","v":""}]
["3036 文曄","吳彥廷          吳彥廷",102,"吳彥廷",null,null,null,null,null,null,null,null,null,null,{"$f":"IFERROR(VLOOKUP(K21801,股價!A:B,2,0)*M21801,\"\")","v":""},{"$f":"IF(O21801=\"\",\"\",RANK(O21801,$O$2:$O$1000))","v":""}]
["3037 欣興","范光慶          范光慶",15,"范光慶",null,null,null,null,null,null,null,null,null,null,{"$f":"IFERROR(VLOOKUP(K21844,股價!A:B,2,0)*M21844,\"\")","v":""},{"$f":"IF(O21844=\"\",\"\",RANK(O21844,$O$2:$O$1000))","v":""}]
["3037 欣興","楊筑華          楊筑華",179,"楊筑華",null,null,null,null,null,null,null,null,null,null,{"$f":"IFERROR(VLOOKUP(K21865,股價!A:B,2,0)*M21865,\"\")","v":""},{"$f":"IF(O21865=\"\",\"\",RANK(O21865,$O$2:$O$1000))","v":""}]
["3038 全台","盈達投資開發(股)黃琇文",5347,"盈達投資開發",null,null,null,null,null,null,null,null,null,null,{"$f":"IFERROR(VLOOKUP(K21898,股價!A:B,2,0)*M21898,\"\")","v":""},{"$f":"IF(O21898=\"\",\"\",RANK(O21898,$O$2:$O$1000))","v":""}]
["3038 全台","張志豐          張志豐",2645,"張志豐",null,null,null,null,null,null,null,null,null,null,{"$f":"IFERROR(VLOOKUP(K21901,股價!A:B,2,0)*M21901,\"\")","v":""},{"$f":"IF(O21901=\"\",\"\",RANK(O21901,$O$2:$O$1000))","v":""}]
["3041 揚智","中信珠海揚智    中信珠海揚智",1730,"中國信託商業銀行受託保管揚智科技股份有限公司發行予珠海揚智電子科技有限公司大陸籍員工讓受、認購及配發",null,null,null,null,null,null,null,null,null,null,{"$f":"IFERROR(VLOOKUP(K21944,股價!A:B,2,0)*M21944,\"\")","v":""},{"$f":"IF(O21944=\"\",\"\",RANK(O21944,$O$2:$O$1000))","v":""}]
["3042 晶技","朱志勳          朱志勳",0,"朱志勳",null,null,null,null,null,null,null,null,null,null,{"$f":"IFERROR(VLOOKUP(K21969,股價!A:B,2,0)*M21969,\"\")","v":""},{"$f":"IF(O21969=\"\",\"\",RANK(O21969,$O$2:$O$1000))","v":""}]
["3042 晶技","陳秋霖          陳秋霖",0,"陳秋霖",null,null,null,null,null,null,null,null,null,null,{"$f":"IFERROR(VLOOKUP(K21985,股價!A:B,2,0)*M21985,\"\")","v":""},{"$f":"IF(O21985=\"\",\"\",RANK(O21985,$O$2:$O$1000))","v":""}]
["3044 健鼎","大通資本收益    大通資本收益",13300,"大通託管資本收益建立者",null,null,null,null,null,null,null,null,null,null,{"$f":"IFERROR(VLOOKUP(K22032,股價!A:B,2,0)*M22032,\"\")","v":""},{"$f":"IF(O22032=\"\",\"\",RANK(O22032,$O$2:$O$1000))","v":""}]
["3044 健鼎","林修立          林修立",206,"林修立",null,null,null,null,null,null,null,null,null,null,{"$f":"IFERROR(VLOOKUP(K22048,股價!A:B,2,0)*M22048,\"\")","v":""},{"$f":"IF(O22048=\"\",\"\",RANK(O22048,$O$2:$O$1000))","v":""}]
["3044 健鼎","戴興鉦          戴興鉦",2,"戴興鉦",null,null,null,null,null,null,null,null,null,null,{"$f":"IFERROR(VLOOKUP(K22064,股價!A:B,2,0)*M22064,\"\")","v":""},{"$f":"IF(O22064=\"\",\"\",RANK(O22064,$O$2:$O$1000))","v":""}]
["3045 台灣大","蔡承儒          蔡承儒",3130,"蔡承儒",null,null,null,null,null,null,null,null,null,null,{"$f":"IFERROR(VLOOKUP(K22103,股價!A:B,2,0)*M22103,\"\")","v":""},{"$f":"IF(O22103=\"\",\"\",RANK(O22103,$O$2:$O$1000))","v":""}]
["3046 建碁","蔡文鋒          蔡文鋒",780,"蔡文鋒",null,null,null,null,null,null,null,null,null,null,{"$f":"IFERROR(VLOOKUP(K22132,股價!A:B,2,0)*M22132,\"\")","v":""},{"$f":"IF(O22132=\"\",\"\",RANK(O22132,$O$2:$O$1000))","v":""}]
["3047 訊舟","_監察人合計",0,null,null,null,null,null,null,null,null,null,null,null,{"$f":"IFERROR(VLOOKUP(K22140,股價!A:B,2,0)*M22140,\"\")","v":""},{"$f":"IF(O22140=\"\",\"\",RANK(O22140,$O$2:$O$1000))","v":""}]
["3048 益登","百越(股)        吳銘雄",6083,"百越",null,null,null,null,null,null,null,null,null,null,{"$f":"IFERROR(VLOOKUP(K22168,股價!A:B,2,0)*M22168,\"\")","v":""},{"$f":"IF(O22168=\"\",\"\",RANK(O22168,$O$2:$O$1000))","v":""}]
["3050 鈺德","_大股東合計1",0,null,null,null,null,null,null,null,null,null,null,null,{"$f":"IFERROR(VLOOKUP(K22216,股價!A:B,2,0)*M22216,\"\")","v":""},{"$f":"IF(O22216=\"\",\"\",RANK(O22216,$O$2:$O$1000))","v":""}]
["3050 鈺德","解凱雁          解凱雁",1186,"解凱雁",null,null,null,null,null,null,null,null,null,null,{"$f":"IFERROR(VLOOKUP(K22237,股價!A:B,2,0)*M22237,\"\")","v":""},{"$f":"IF(O22237=\"\",\"\",RANK(O22237,$O$2:$O$1000))","v":""}]
["3051 力特","牛奕凱          牛奕凱",1665,"牛奕凱",null,null,null,null,null,null,null,null,null,null,{"$f":"IFERROR(VLOOKUP(K22252,股價!A:B,2,0)*M22252,\"\")","v":""},{"$f":"IF(O22252=\"\",\"\",RANK(O22252,$O$2:$O$1000))","v":""}]
["3051 力特","劉素珍          劉素珍",1568,"劉素珍",null,null,null,null,null,null,null,null,null,null,{"$f":"IFERROR(VLOOKUP(K22274,股價!A:B,2,0)*M22274,\"\")","v":""},{"$f":"IF(O22274=\"\",\"\",RANK(O22274,$O$2:$O$1000))","v":""}]
["3054 立萬利","林婉菁          林婉菁",182,"林婉菁",null,null,null,null,null,null,null,null,null,null,{"$f":"IFERROR(VLOOKUP(K22315,股價!A:B,2,0)*M22315,\"\")","v":""},{"$f":"IF(O22315=\"\",\"\",RANK(O22315,$O$2:$O$1000))","v":""}]
["3055 蔚華科","_經理人合計",1131,null,null,null,null,null,null,null,null,null,null,null,{"$f":"IFERROR(VLOOKUP(K22336,股價!A:B,2,0)*M22336,\"\")","v":""},{"$f":"IF(O22336=\"\",\"\",RANK(O22336,$O$2:$O$1000))","v":""}]
["3056 總太","吳祚榮          吳祚榮",2067,"吳祚榮",null,null,null,null,null,null,null,null,null,null,{"$f":"IFERROR(VLOOKUP(K22371,股價!A:B,2,0)*M22371,\"\")","v":""},{"$f":"IF(O22371=\"\",\"\",RANK(O22371,$O$2:$O$1000))","v":""}]
["3057 喬鼎","_監察人合計",0,null,null,null,null,null,null,null,null,null,null,null,{"$f":"IFERROR(VLOOKUP(K22399,股價!A:B,2,0)*M22399,\"\")","v":""},{"$f":"IF(O22399=\"\",\"\",RANK(O22399,$O$2:$O$1000))","v":""}]
["3057 喬鼎","張文鐘          張文鐘",0,"張文鐘",null,null,null,null,null,null,null,null,null,null,{"$f":"IFERROR(VLOOKUP(K22412,股價!A:B,2,0)*M22412,\"\")","v":""},{"$f":"IF(O22412=\"\",\"\",RANK(O22412,$O$2:$O$1000))","v":""}]
["3058 立德","周國陽          周國陽",573,"周國陽",null,null,null,null,null,null,null,null,null,null,{"$f":"IFERROR(VLOOKUP(K22435,股價!A:B,2,0)*M22435,\"\")","v":""},{"$f":"IF(O22435=\"\",\"\",RANK(O22435,$O$2:$O$1000))","v":""}]
["3060 銘異","_大股東合計1",0,null,null,null,null,null,null,null,null,null,null,null,{"$f":"IFERROR(VLOOKUP(K22483,股價!A:B,2,0)*M22483,\"\")","v":""},{"$f":"IF(O22483=\"\",\"\",RANK(O22483,$O$2:$O$1000))","v":""}]
["3060 銘異","楊宏仁          楊宏仁",286,"楊宏仁",null,null,null,null,null,null,null,null,null,null,{"$f":"IFERROR(VLOOKUP(K22505,股價!A:B,2,0)*M22505,\"\")","v":""},{"$f":"IF(O22505=\"\",\"\",RANK(O22505,$O$2:$O$1000))","v":""}]
["3062 建漢","大通先進星光    大通先進星光",4373,"美商摩根大通銀行台北分行受託保管先進星光基金公司之系列基金先進總合國際股票指數基金",null,null,null,null,null,null,null,null,null,null,{"$f":"IFERROR(VLOOKUP(K22519,股價!A:B,2,0)*M22519,\"\")","v":""},{"$f":"IF(O22519=\"\",\"\",RANK(O22519,$O$2:$O$1000))","v":""}]
["3064 泰偉","_監察人合計",0,null,null,null,null,null,null,null,null,null,null,null,{"$f":"IFERROR(VLOOKUP(K22546,股價!A:B,2,0)*M22546,\"\")","v":""},{"$f":"IF(O22546=\"\",\"\",RANK(O22546,$O$2:$O$1000))","v":""}]
["3066 李洲","怡龍投資(股)    李怡瑩",4550,"怡龍投資",null,null,null,null,null,null,null,null,null,null,{"$f":"IFERROR(VLOOKUP(K22582,股價!A:B,2,0)*M22582,\"\")","v":""},{"$f":"IF(O22582=\"\",\"\",RANK(O22582,$O$2:$O$1000))","v":""}]
["3067 全域","王敏烈          王敏烈",1152,"王敏烈",null,null,null,null,null,null,null,null,null,null,{"$f":"IFERROR(VLOOKUP(K22603,股價!A:B,2,0)*M22603,\"\")","v":""},{"$f":"IF(O22603=\"\",\"\",RANK(O22603,$O$2:$O$1000))","v":""}]
["3071 協禧","康達投資(股)    康達投資(股)",15382,"康達投資",null,null,null,null,null,null,null,null,null,null,{"$f":"IFERROR(VLOOKUP(K22639,股價!A:B,2,0)*M22639,\"\")","v":""},{"$f":"IF(O22639=\"\",\"\",RANK(O22639,$O$2:$O$1000))","v":""}]
["3078 僑威","京富投資(有)    佘欣欣",5,"京富投資",null,null,null,null,null,null,null,null,null,null,{"$f":"IFERROR(VLOOKUP(K22666,股價!A:B,2,0)*M22666,\"\")","v":""},{"$f":"IF(O22666=\"\",\"\",RANK(O22666,$O$2:$O$1000))","v":""}]
["3078 僑威","豪盛國際投資(有)楊琇華",333,"豪盛國際投資",null,null,null,null,null,null,null,null,null,null,{"$f":"IFERROR(VLOOKUP(K22680,股價!A:B,2,0)*M22680,\"\")","v":""},{"$f":"IF(O22680=\"\",\"\",RANK(O22680,$O$2:$O$1000))","v":""}]
["3081 聯亞","國泰人壽保險(股)黃調貴",3746,"國泰人壽保險",null,null,null,null,null,null,null,null,null,null,{"$f":"IFERROR(VLOOKUP(K22702,股價!A:B,2,0)*M22702,\"\")","v":""},{"$f":"IF(O22702=\"\",\"\",RANK(O22702,$O$2:$O$1000))","v":""}]
["3085 新零售","李燕南          李燕南",0,"李燕南",null,null,null,null,null,null,null,null,null,null,{"$f":"IFERROR(VLOOKUP(K22750,股價!A:B,2,0)*M22750,\"\")","v":""},{"$f":"IF(O22750=\"\",\"\",RANK(O22750,$O$2:$O$1000))","v":""}]
["3086 華義","周鼎宸          周鼎宸",193,"周鼎宸",null,null,null,null,null,null,null,null,null,null,{"$f":"IFERROR(VLOOKUP(K22777,股價!A:B,2,0)*M22777,\"\")","v":""},{"$f":"IF(O22777=\"\",\"\",RANK(O22777,$O$2:$O$1000))","v":""}]
["3086 華義","黃雅玲          黃雅玲",0,"黃雅玲",null,null,null,null,null,null,null,null,null,null,{"$f":"IFERROR(VLOOKUP(K22786,股價!A:B,2,0)*M22786,\"\")","v":""},{"$f":"IF(O22786=\"\",\"\",RANK(O22786,$O$2:$O$1000))","v":""}]
["3088 艾訊","楊裕德          楊裕德",1799,"楊裕德",null,null,null,null,null,null,null,null,null,null,{"$f":"IFERROR(VLOOKUP(K22814,股價!A:B,2,0)*M22814,\"\")","v":""},{"$f":"IF(O22814=\"\",\"\",RANK(O22814,$O$2:$O$1000))","v":""}]
["3090 日電貿","_監察人合計",0,null,null,null,null,null,null,null,null,null,null,null,{"$f":"IFERROR(VLOOKUP(K22849,股價!A:B,2,0)*M22849,\"\")","v":""},{"$f":"IF(O22849=\"\",\"\",RANK(O22849,$O$2:$O$1000))","v":""}]
["3090 日電貿","蔡玉琴          蔡玉琴",0,"蔡玉琴",null,null,null,null,null,null,null,null,null,null,{"$f":"IFERROR(VLOOKUP(K22870,股價!A:B,2,0)*M22870,\"\")","v":""},{"$f":"IF(O22870=\"\",\"\",RANK(O22870,$O$2:$O$1000))","v":""}]
["3092 鴻碩","周哲毅          周哲毅",0,"周哲毅",null,null,null,null,null,null,null,null,null,null,{"$f":"IFERROR(VLOOKUP(K22885,股價!A:B,2,0)*M22885,\"\")","v":""},{"$f":"IF(O22885=\"\",\"\",RANK(O22885,$O$2:$O$1000))","v":""}]
["3093 港建*","黃文遠          黃文遠",4,"黃文遠",null,null,null,null,null,null,null,null,null,null,{"$f":"IFERROR(VLOOKUP(K22933,股價!A:B,2,0)*M22933,\"\")","v":""},{"$f":"IF(O22933=\"\",\"\",RANK(O22933,$O$2:$O$1000))","v":""}]
["3094 聯傑","正元國際投資(股)林文珍",3982,"正元國際投資",null,null,null,null,null,null,null,null,null,null,{"$f":"IFERROR(VLOOKUP(K22948,股價!A:B,2,0)*M22948,\"\")","v":""},{"$f":"IF(O22948=\"\",\"\",RANK(O22948,$O$2:$O$1000))","v":""}]
["3095 及成","_經理人合計",7,null,null,null,null,null,null,null,null,null,null,null,{"$f":"IFERROR(VLOOKUP(K22974,股價!A:B,2,0)*M22974,\"\")","v":""},{"$f":"IF(O22974=\"\",\"\",RANK(O22974,$O$2:$O$1000))","v":""}]
["3105 穩懋","陳舜平          陳舜平",1898,"陳舜平",null,null,null,null,null,null,null,null,null,null,{"$f":"IFERROR(VLOOKUP(K23017,股價!A:B,2,0)*M23017,\"\")","v":""},{"$f":"IF(O23017=\"\",\"\",RANK(O23017,$O$2:$O$1000))","v":""}]
["3105 穩懋","曾經洲          曾經洲",282,"曾經洲",null,null,null,null,null,null,null,null,null,null,{"$f":"IFERROR(VLOOKUP(K23019,股價!A:B,2,0)*M23019,\"\")","v":""},{"$f":"IF(O23019=\"\",\"\",RANK(O23019,$O$2:$O$1000))","v":""}]
["3115 富榮綱","_大股東合計1",4273,null,null,null,null,null,null,null,null,null,null,null,{"$f":"IFERROR(VLOOKUP(K23053,股價!A:B,2,0)*M23053,\"\")","v":""},{"$f":"IF(O23053=\"\",\"\",RANK(O23053,$O$2:$O$1000))","v":""}]
["3118 進階","_監察人合計",0,null,null,null,null,null,null,null,null,null,null,null,{"$f":"IFERROR(VLOOKUP(K23082,股價!A:B,2,0)*M23082,\"\")","v":""},{"$f":"IF(O23082=\"\",\"\",RANK(O23082,$O$2:$O$1000))","v":""}]
["3122 笙泉","褚麗華          褚麗華",500,"褚麗華",null,null,null,null,null,null,null,null,null,null,{"$f":"IFERROR(VLOOKUP(K23121,股價!A:B,2,0)*M23121,\"\")","v":""},{"$f":"IF(O23121=\"\",\"\",RANK(O23121,$O$2:$O$1000))","v":""}]
["3128 昇銳","昇銳電子股份    昇銳電子股份",1000,"昇銳電子股份有限公司庫藏股專戶",null,null,null,null,null,null,null,null,null,null,{"$f":"IFERROR(VLOOKUP(K23137,股價!A:B,2,0)*M23137,\"\")","v":""},{"$f":"IF(O23137=\"\",\"\",RANK(O23137,$O$2:$O$1000))","v":""}]
["3130 一零四","_董監事合計",4885,null,null,null,null,null,null,null,null,null,null,null,{"$f":"IFERROR(VLOOKUP(K23153,股價!A:B,2,0)*M23153,\"\")","v":""},{"$f":"IF(O23153=\"\",\"\",RANK(O23153,$O$2:$O$1000))","v":""}]
["3131 弘塑","_大股東合計2    含沿用資料",8234,null,null,null,null,null,null,null,null,null,null,null,{"$f":"IFERROR(VLOOKUP(K23200,股價!A:B,2,0)*M23200,\"\")","v":""},{"$f":"IF(O23200=\"\",\"\",RANK(O23200,$O$2:$O$1000))","v":""}]
["3131 弘塑","富邦人壽保險(股)富邦人壽保險",1948,"富邦人壽保險",null,null,null,null,null,null,null,null,null,null,{"$f":"IFERROR(VLOOKUP(K23216,股價!A:B,2,0)*M23216,\"\")","v":""},{"$f":"IF(O23216=\"\",\"\",RANK(O23216,$O$2:$O$1000))","v":""}]
["3138 耀登","溫文聖          溫文聖",208,"溫文聖",null,null,null,null,null,null,null,null,null,null,{"$f":"IFERROR(VLOOKUP(K23241,股價!A:B,2,0)*M23241,\"\")","v":""},{"$f":"IF(O23241=\"\",\"\",RANK(O23241,$O$2:$O$1000))","v":""}]
["3141 晶宏","_董  事合計",1701,null,null,null,null,null,null,null,null,null,null,null,{"$f":"IFERROR(VLOOKUP(K23257,股價!A:B,2,0)*M23257,\"\")","v":""},{"$f":"IF(O23257=\"\",\"\",RANK(O23257,$O$2:$O$1000))","v":""}]
["3147 大綜","余英裕          余英裕",0,"余英裕",null,null,null,null,null,null,null,null,null,null,{"$f":"IFERROR(VLOOKUP(K23287,股價!A:B,2,0)*M23287,\"\")","v":""},{"$f":"IF(O23287=\"\",\"\",RANK(O23287,$O$2:$O$1000))","v":""}]
["3149 正達","黃永誠          黃永誠",126,"黃永誠",null,null,null,null,null,null,null,null,null,null,{"$f":"IFERROR(VLOOKUP(K23325,股價!A:B,2,0)*M23325,\"\")","v":""},{"$f":"IF(O23325=\"\",\"\",RANK(O23325,$O$2:$O$1000))","v":""}]
["3152 璟德","_董  事合計",14873,null,null,null,null,null,null,null,null,null,null,null,{"$f":"IFERROR(VLOOKUP(K23341,股價!A:B,2,0)*M23341,\"\")","v":""},{"$f":"IF(O23341=\"\",\"\",RANK(O23341,$O$2:$O$1000))","v":""}]
["3162 精確","展圖 (香港)(有) 胡白莎",47218,"展圖 (香港)",null,null,null,null,null,null,null,null,null,null,{"$f":"IFERROR(VLOOKUP(K23384,股價!A:B,2,0)*M23384,\"\")","v":""},{"$f":"IF(O23384=\"\",\"\",RANK(O23384,$O$2:$O$1000))","v":""}]
["3163 波若威","方佩華          方佩華",0,"方佩華",null,null,null,null,null,null,null,null,null,null,{"$f":"IFERROR(VLOOKUP(K23404,股價!A:B,2,0)*M23404,\"\")","v":""},{"$f":"IF(O23404=\"\",\"\",RANK(O23404,$O$2:$O$1000))","v":""}]
["3163 波若威","精碟科技(股)    林明發",1026,"精碟科技",null,null,null,null,null,null,null,null,null,null,{"$f":"IFERROR(VLOOKUP(K23421,股價!A:B,2,0)*M23421,\"\")","v":""},{"$f":"IF(O23421=\"\",\"\",RANK(O23421,$O$2:$O$1000))","v":""}]
["3164 景岳","黃國杰          黃國杰",7758,"黃國杰",null,null,null,null,null,null,null,null,null,null,{"$f":"IFERROR(VLOOKUP(K23445,股價!A:B,2,0)*M23445,\"\")","v":""},{"$f":"IF(O23445=\"\",\"\",RANK(O23445,$O$2:$O$1000))","v":""}]
["3169 亞信","王博民          王博民",0,"王博民",null,null,null,null,null,null,null,null,null,null,{"$f":"IFERROR(VLOOKUP(K23488,股價!A:B,2,0)*M23488,\"\")","v":""},{"$f":"IF(O23488=\"\",\"\",RANK(O23488,$O$2:$O$1000))","v":""}]
["3171 新洲","李其政          李其政",147,"李其政",null,null,null,null,null,null,null,null,null,null,{"$f":"IFERROR(VLOOKUP(K23518,股價!A:B,2,0)*M23518,\"\")","v":""},{"$f":"IF(O23518=\"\",\"\",RANK(O23518,$O$2:$O$1000))","v":""}]
["3171 新洲","洪瑞彬          洪瑞彬",0,"洪瑞彬",null,null,null,null,null,null,null,null,null,null,{"$f":"IFERROR(VLOOKUP(K23524,股價!A:B,2,0)*M23524,\"\")","v":""},{"$f":"IF(O23524=\"\",\"\",RANK(O23524,$O$2:$O$1000))","v":""}]
["3176 基亞","陳鳳華          陳鳳華",2,"陳鳳華",null,null,null,null,null,null,null,null,null,null,{"$f":"IFERROR(VLOOKUP(K23555,股價!A:B,2,0)*M23555,\"\")","v":""},{"$f":"IF(O23555=\"\",\"\",RANK(O23555,$O$2:$O$1000))","v":""}]
["3188 鑫龍騰","天玉投資開發股份黃勁嘉",35810,"天玉投資開發股份有限公司",null,null,null,null,null,null,null,null,null,null,{"$f":"IFERROR(VLOOKUP(K23592,股價!A:B,2,0)*M23592,\"\")","v":""},{"$f":"IF(O23592=\"\",\"\",RANK(O23592,$O$2:$O$1000))","v":""}]
["3188 鑫龍騰","鑫玉投資(股)    鑫玉投資(股)",6576,"鑫玉投資股份有限公司",null,null,null,null,null,null,null,null,null,null,{"$f":"IFERROR(VLOOKUP(K23608,股價!A:B,2,0)*M23608,\"\")","v":""},{"$f":"IF(O23608=\"\",\"\",RANK(O23608,$O$2:$O$1000))","v":""}]
["3191 和進","佳德投資(股)    張瑞麟",60,"佳德投資",null,null,null,null,null,null,null,null,null,null,{"$f":"IFERROR(VLOOKUP(K23652,股價!A:B,2,0)*M23652,\"\")","v":""},{"$f":"IF(O23652=\"\",\"\",RANK(O23652,$O$2:$O$1000))","v":""}]
["3191 和進","鍾孔豪          鍾孔豪",1,"鍾孔豪",null,null,null,null,null,null,null,null,null,null,{"$f":"IFERROR(VLOOKUP(K23676,股價!A:B,2,0)*M23676,\"\")","v":""},{"$f":"IF(O23676=\"\",\"\",RANK(O23676,$O$2:$O$1000))","v":""}]
["3202 樺晟","洪混池          洪混池",1444,"洪混池",null,null,null,null,null,null,null,null,null,null,{"$f":"IFERROR(VLOOKUP(K23689,股價!A:B,2,0)*M23689,\"\")","v":""},{"$f":"IF(O23689=\"\",\"\",RANK(O23689,$O$2:$O$1000))","v":""}]
["3205 佰研","全豐盛投資(股)  羅文森",3132,"全豐盛投資",null,null,null,null,null,null,null,null,null,null,{"$f":"IFERROR(VLOOKUP(K23712,股價!A:B,2,0)*M23712,\"\")","v":""},{"$f":"IF(O23712=\"\",\"\",RANK(O23712,$O$2:$O$1000))","v":""}]
["3207 耀勝","蕭惟浩          蕭惟浩",703,"蕭惟浩",null,null,null,null,null,null,null,null,null,null,{"$f":"IFERROR(VLOOKUP(K23755,股價!A:B,2,0)*M23755,\"\")","v":""},{"$f":"IF(O23755=\"\",\"\",RANK(O23755,$O$2:$O$1000))","v":""}]
["3209 全科","廖炎煌          廖炎煌",376,"廖炎煌",null,null,null,null,null,null,null,null,null,null,{"$f":"IFERROR(VLOOKUP(K23786,股價!A:B,2,0)*M23786,\"\")","v":""},{"$f":"IF(O23786=\"\",\"\",RANK(O23786,$O$2:$O$1000))","v":""}]
["3211 順達","_董監事合計",13427,null,null,null,null,null,null,null,null,null,null,null,{"$f":"IFERROR(VLOOKUP(K23796,股價!A:B,2,0)*M23796,\"\")","v":""},{"$f":"IF(O23796=\"\",\"\",RANK(O23796,$O$2:$O$1000))","v":""}]
["3211 順達","謝漢萍          謝漢萍",0,"謝漢萍",null,null,null,null,null,null,null,null,null,null,{"$f":"IFERROR(VLOOKUP(K23823,股價!A:B,2,0)*M23823,\"\")","v":""},{"$f":"IF(O23823=\"\",\"\",RANK(O23823,$O$2:$O$1000))","v":""}]
["3217 優群","_大股東合計2    含沿用資料",27259,null,null,null,null,null,null,null,null,null,null,null,{"$f":"IFERROR(VLOOKUP(K23859,股價!A:B,2,0)*M23859,\"\")","v":""},{"$f":"IF(O23859=\"\",\"\",RANK(O23859,$O$2:$O$1000))","v":""}]
["3217 優群","郭銘宗          郭銘宗",0,"郭銘宗",null,null,null,null,null,null,null,null,null,null,{"$f":"IFERROR(VLOOKUP(K23880,股價!A:B,2,0)*M23880,\"\")","v":""},{"$f":"IF(O23880=\"\",\"\",RANK(O23880,$O$2:$O$1000))","v":""}]
["3221 台嘉碩","_董監事合計",8043,null,null,null,null,null,null,null,null,null,null,null,{"$f":"IFERROR(VLOOKUP(K23920,股價!A:B,2,0)*M23920,\"\")","v":""},{"$f":"IF(O23920=\"\",\"\",RANK(O23920,$O$2:$O$1000))","v":""}]
["3221 台嘉碩","葉峻佳          葉峻佳",735,"葉峻佳",null,null,null,null,null,null,null,null,null,null,{"$f":"IFERROR(VLOOKUP(K23943,股價!A:B,2,0)*M23943,\"\")","v":""},{"$f":"IF(O23943=\"\",\"\",RANK(O23943,$O$2:$O$1000))","v":""}]
["3224 三顧","吳峻毅          吳峻毅",1300,"吳峻毅",null,null,null,null,null,null,null,null,null,null,{"$f":"IFERROR(VLOOKUP(K23957,股價!A:B,2,0)*M23957,\"\")","v":""},{"$f":"IF(O23957=\"\",\"\",RANK(O23957,$O$2:$O$1000))","v":""}]
["3224 三顧","賴冠伶          賴冠伶",0,"賴冠伶",null,null,null,null,null,null,null,null,null,null,{"$f":"IFERROR(VLOOKUP(K23979,股價!A:B,2,0)*M23979,\"\")","v":""},{"$f":"IF(O23979=\"\",\"\",RANK(O23979,$O$2:$O$1000))","v":""}]
["3227 原相","黃森煌          黃森煌",3179,"黃森煌",null,null,null,null,null,null,null,null,null,null,{"$f":"IFERROR(VLOOKUP(K24027,股價!A:B,2,0)*M24027,\"\")","v":""},{"$f":"IF(O24027=\"\",\"\",RANK(O24027,$O$2:$O$1000))","v":""}]
["3228 金麗科","陳春榮          陳春榮",1200,"陳春榮",null,null,null,null,null,null,null,null,null,null,{"$f":"IFERROR(VLOOKUP(K24054,股價!A:B,2,0)*M24054,\"\")","v":""},{"$f":"IF(O24054=\"\",\"\",RANK(O24054,$O$2:$O$1000))","v":""}]
["3229 晟鈦","呂佳容          呂佳容",0,"呂佳容",null,null,null,null,null,null,null,null,null,null,{"$f":"IFERROR(VLOOKUP(K24063,股價!A:B,2,0)*M24063,\"\")","v":""},{"$f":"IF(O24063=\"\",\"\",RANK(O24063,$O$2:$O$1000))","v":""}]
["3230 錦明","永泉投資(股)    蔡少翔",3899,"永泉投資",null,null,null,null,null,null,null,null,null,null,{"$f":"IFERROR(VLOOKUP(K24091,股價!A:B,2,0)*M24091,\"\")","v":""},{"$f":"IF(O24091=\"\",\"\",RANK(O24091,$O$2:$O$1000))","v":""}]
["3231 緯創","林建良          林建良",730,"林建良",null,null,null,null,null,null,null,null,null,null,{"$f":"IFERROR(VLOOKUP(K24126,股價!A:B,2,0)*M24126,\"\")","v":""},{"$f":"IF(O24126=\"\",\"\",RANK(O24126,$O$2:$O$1000))","v":""}]
["3231 緯創","董育寰          董育寰",1317,"董育寰",null,null,null,null,null,null,null,null,null,null,{"$f":"IFERROR(VLOOKUP(K24147,股價!A:B,2,0)*M24147,\"\")","v":""},{"$f":"IF(O24147=\"\",\"\",RANK(O24147,$O$2:$O$1000))","v":""}]
["3232 昱捷","石明軒          石明軒",835,"石明軒",null,null,null,null,null,null,null,null,null,null,{"$f":"IFERROR(VLOOKUP(K24162,股價!A:B,2,0)*M24162,\"\")","v":""},{"$f":"IF(O24162=\"\",\"\",RANK(O24162,$O$2:$O$1000))","v":""}]
["3234 光環","錢逸森          錢逸森",0,"錢逸森",null,null,null,null,null,null,null,null,null,null,{"$f":"IFERROR(VLOOKUP(K24210,股價!A:B,2,0)*M24210,\"\")","v":""},{"$f":"IF(O24210=\"\",\"\",RANK(O24210,$O$2:$O$1000))","v":""}]
["3236 千如","徐士峰          徐士峰",0,"徐士峰",null,null,null,null,null,null,null,null,null,null,{"$f":"IFERROR(VLOOKUP(K24229,股價!A:B,2,0)*M24229,\"\")","v":""},{"$f":"IF(O24229=\"\",\"\",RANK(O24229,$O$2:$O$1000))","v":""}]
["3252 海灣","_董監事合計",8810,null,null,null,null,null,null,null,null,null,null,null,{"$f":"IFERROR(VLOOKUP(K24246,股價!A:B,2,0)*M24246,\"\")","v":""},{"$f":"IF(O24246=\"\",\"\",RANK(O24246,$O$2:$O$1000))","v":""}]
["3257 虹冠電","薩摩亞數位資(股)陳逸君",1177,"薩摩亞商數位資本有限公司",null,null,null,null,null,null,null,null,null,null,{"$f":"IFERROR(VLOOKUP(K24294,股價!A:B,2,0)*M24294,\"\")","v":""},{"$f":"IF(O24294=\"\",\"\",RANK(O24294,$O$2:$O$1000))","v":""}]
["3260 威剛","_大股東合計2    含沿用資料",18572,null,null,null,null,null,null,null,null,null,null,null,{"$f":"IFERROR(VLOOKUP(K24296,股價!A:B,2,0)*M24296,\"\")","v":""},{"$f":"IF(O24296=\"\",\"\",RANK(O24296,$O$2:$O$1000))","v":""}]
["3264 欣銓","_監察人合計",0,null,null,null,null,null,null,null,null,null,null,null,{"$f":"IFERROR(VLOOKUP(K24330,股價!A:B,2,0)*M24330,\"\")","v":""},{"$f":"IF(O24330=\"\",\"\",RANK(O24330,$O$2:$O$1000))","v":""}]
["3264 欣銓","駱永松          駱永松",296,"駱永松",null,null,null,null,null,null,null,null,null,null,{"$f":"IFERROR(VLOOKUP(K24363,股價!A:B,2,0)*M24363,\"\")","v":""},{"$f":"IF(O24363=\"\",\"\",RANK(O24363,$O$2:$O$1000))","v":""}]
["3265 台星科","潘玉金          潘玉金",1002,"潘玉金",null,null,null,null,null,null,null,null,null,null,{"$f":"IFERROR(VLOOKUP(K24393,股價!A:B,2,0)*M24393,\"\")","v":""},{"$f":"IF(O24393=\"\",\"\",RANK(O24393,$O$2:$O$1000))","v":""}]
["3266 昇陽","麥寬成          麥寬成",5037,"麥寬成",null,null,null,null,null,null,null,null,null,null,{"$f":"IFERROR(VLOOKUP(K24414,股價!A:B,2,0)*M24414,\"\")","v":""},{"$f":"IF(O24414=\"\",\"\",RANK(O24414,$O$2:$O$1000))","v":""}]
["3268 海德威","莊淑婷          莊淑婷",0,"莊淑婷",null,null,null,null,null,null,null,null,null,null,{"$f":"IFERROR(VLOOKUP(K24434,股價!A:B,2,0)*M24434,\"\")","v":""},{"$f":"IF(O24434=\"\",\"\",RANK(O24434,$O$2:$O$1000))","v":""}]
["3272 東碩","郭東漢          郭東漢",20,"郭東漢",null,null,null,null,null,null,null,null,null,null,{"$f":"IFERROR(VLOOKUP(K24477,股價!A:B,2,0)*M24477,\"\")","v":""},{"$f":"IF(O24477=\"\",\"\",RANK(O24477,$O$2:$O$1000))","v":""}]
["3276 宇環","呂佳螢          呂佳螢",500,"呂佳螢",null,null,null,null,null,null,null,null,null,null,{"$f":"IFERROR(VLOOKUP(K24497,股價!A:B,2,0)*M24497,\"\")","v":""},{"$f":"IF(O24497=\"\",\"\",RANK(O24497,$O$2:$O$1000))","v":""}]
["3276 宇環","趙均珮          趙均珮",1267,"趙均珮",null,null,null,null,null,null,null,null,null,null,{"$f":"IFERROR(VLOOKUP(K24513,股價!A:B,2,0)*M24513,\"\")","v":""},{"$f":"IF(O24513=\"\",\"\",RANK(O24513,$O$2:$O$1000))","v":""}]
["3284 太普高","張昭焚          張昭焚",1141,"張昭焚",null,null,null,null,null,null,null,null,null,null,{"$f":"IFERROR(VLOOKUP(K24534,股價!A:B,2,0)*M24534,\"\")","v":""},{"$f":"IF(O24534=\"\",\"\",RANK(O24534,$O$2:$O$1000))","v":""}]
["3285 微端","鄭金和          鄭金和",50,"鄭金和",null,null,null,null,null,null,null,null,null,null,{"$f":"IFERROR(VLOOKUP(K24568,股價!A:B,2,0)*M24568,\"\")","v":""},{"$f":"IF(O24568=\"\",\"\",RANK(O24568,$O$2:$O$1000))","v":""}]
["3287 廣寰科","謝耀賢          謝耀賢",95,"謝耀賢",null,null,null,null,null,null,null,null,null,null,{"$f":"IFERROR(VLOOKUP(K24597,股價!A:B,2,0)*M24597,\"\")","v":""},{"$f":"IF(O24597=\"\",\"\",RANK(O24597,$O$2:$O$1000))","v":""}]
["3288 點晶","黃星輝          黃星輝",1339,"黃星輝",null,null,null,null,null,null,null,null,null,null,{"$f":"IFERROR(VLOOKUP(K24618,股價!A:B,2,0)*M24618,\"\")","v":""},{"$f":"IF(O24618=\"\",\"\",RANK(O24618,$O$2:$O$1000))","v":""}]
["3289 宜特","羅緯軒          羅緯軒",1030,"羅緯軒",null,null,null,null,null,null,null,null,null,null,{"$f":"IFERROR(VLOOKUP(K24661,股價!A:B,2,0)*M24661,\"\")","v":""},{"$f":"IF(O24661=\"\",\"\",RANK(O24661,$O$2:$O$1000))","v":""}]
["3290 東浦","陳俊良          陳俊良",11,"陳俊良",null,null,null,null,null,null,null,null,null,null,{"$f":"IFERROR(VLOOKUP(K24681,股價!A:B,2,0)*M24681,\"\")","v":""},{"$f":"IF(O24681=\"\",\"\",RANK(O24681,$O$2:$O$1000))","v":""}]
["3293 鈊象","江順成          江順成",6581,"江順成",null,null,null,null,null,null,null,null,null,null,{"$f":"IFERROR(VLOOKUP(K24702,股價!A:B,2,0)*M24702,\"\")","v":""},{"$f":"IF(O24702=\"\",\"\",RANK(O24702,$O$2:$O$1000))","v":""}]
["3294 英濟","_大股東合計2    含沿用資料",25538,null,null,null,null,null,null,null,null,null,null,null,{"$f":"IFERROR(VLOOKUP(K24744,股價!A:B,2,0)*M24744,\"\")","v":""},{"$f":"IF(O24744=\"\",\"\",RANK(O24744,$O$2:$O$1000))","v":""}]
["3294 英濟","郭獻玉          郭獻玉",9071,"郭獻玉",null,null,null,null,null,null,null,null,null,null,{"$f":"IFERROR(VLOOKUP(K24765,股價!A:B,2,0)*M24765,\"\")","v":""},{"$f":"IF(O24765=\"\",\"\",RANK(O24765,$O$2:$O$1000))","v":""}]
["3296 勝德","葉柏君          葉柏君",3126,"葉柏君",null,null,null,null,null,null,null,null,null,null,{"$f":"IFERROR(VLOOKUP(K24799,股價!A:B,2,0)*M24799,\"\")","v":""},{"$f":"IF(O24799=\"\",\"\",RANK(O24799,$O$2:$O$1000))","v":""}]
["3296 勝德","蔡麗華          蔡麗華",87,"蔡麗華",null,null,null,null,null,null,null,null,null,null,{"$f":"IFERROR(VLOOKUP(K24801,股價!A:B,2,0)*M24801,\"\")","v":""},{"$f":"IF(O24801=\"\",\"\",RANK(O24801,$O$2:$O$1000))","v":""}]
["3303 岱稜","李顯昌          李顯昌",2702,"李顯昌",null,null,null,null,null,null,null,null,null,null,{"$f":"IFERROR(VLOOKUP(K24836,股價!A:B,2,0)*M24836,\"\")","v":""},{"$f":"IF(O24836=\"\",\"\",RANK(O24836,$O$2:$O$1000))","v":""}]
["3305 昇貿","李君銘          李君銘",1357,"李君銘",null,null,null,null,null,null,null,null,null,null,{"$f":"IFERROR(VLOOKUP(K24864,股價!A:B,2,0)*M24864,\"\")","v":""},{"$f":"IF(O24864=\"\",\"\",RANK(O24864,$O$2:$O$1000))","v":""}]
["3306 鼎天","今謙企業(股)    黃世輝",2215,"今謙企業",null,null,null,null,null,null,null,null,null,null,{"$f":"IFERROR(VLOOKUP(K24885,股價!A:B,2,0)*M24885,\"\")","v":""},{"$f":"IF(O24885=\"\",\"\",RANK(O24885,$O$2:$O$1000))","v":""}]
["3306 鼎天","廣達電腦(股)    楊俊烈",18604,"廣達電腦",null,null,null,null,null,null,null,null,null,null,{"$f":"IFERROR(VLOOKUP(K24907,股價!A:B,2,0)*M24907,\"\")","v":""},{"$f":"IF(O24907=\"\",\"\",RANK(O24907,$O$2:$O$1000))","v":""}]
["3310 佳穎","展騰投資(有)    周銘輝",4500,"展騰投資",null,null,null,null,null,null,null,null,null,null,{"$f":"IFERROR(VLOOKUP(K24948,股價!A:B,2,0)*M24948,\"\")","v":""},{"$f":"IF(O24948=\"\",\"\",RANK(O24948,$O$2:$O$1000))","v":""}]
["3311 閎暉","邱德成          邱德成",0,"邱德成",null,null,null,null,null,null,null,null,null,null,{"$f":"IFERROR(VLOOKUP(K24970,股價!A:B,2,0)*M24970,\"\")","v":""},{"$f":"IF(O24970=\"\",\"\",RANK(O24970,$O$2:$O$1000))","v":""}]
["3312 弘憶股","詹森            詹森",0,"詹森",null,null,null,null,null,null,null,null,null,null,{"$f":"IFERROR(VLOOKUP(K25011,股價!A:B,2,0)*M25011,\"\")","v":""},{"$f":"IF(O25011=\"\",\"\",RANK(O25011,$O$2:$O$1000))","v":""}]
["3321 同泰","沈再生          沈再生",0,"沈再生",null,null,null,null,null,null,null,null,null,null,{"$f":"IFERROR(VLOOKUP(K25032,股價!A:B,2,0)*M25032,\"\")","v":""},{"$f":"IF(O25032=\"\",\"\",RANK(O25032,$O$2:$O$1000))","v":""}]
["3321 同泰","詹佩瑜          詹佩瑜",624,"詹佩瑜",null,null,null,null,null,null,null,null,null,null,{"$f":"IFERROR(VLOOKUP(K25041,股價!A:B,2,0)*M25041,\"\")","v":""},{"$f":"IF(O25041=\"\",\"\",RANK(O25041,$O$2:$O$1000))","v":""}]
["3322 建舜電","黃欽雄          黃欽雄",5706,"黃欽雄",null,null,null,null,null,null,null,null,null,null,{"$f":"IFERROR(VLOOKUP(K25068,股價!A:B,2,0)*M25068,\"\")","v":""},{"$f":"IF(O25068=\"\",\"\",RANK(O25068,$O$2:$O$1000))","v":""}]
["3324 雙鴻","_大股東合計2    含沿用資料",12820,null,null,null,null,null,null,null,null,null,null,null,{"$f":"IFERROR(VLOOKUP(K25104,股價!A:B,2,0)*M25104,\"\")","v":""},{"$f":"IF(O25104=\"\",\"\",RANK(O25104,$O$2:$O$1000))","v":""}]
["3324 雙鴻","謝宏茂          謝宏茂",0,"謝宏茂",null,null,null,null,null,null,null,null,null,null,{"$f":"IFERROR(VLOOKUP(K25136,股價!A:B,2,0)*M25136,\"\")","v":""},{"$f":"IF(O25136=\"\",\"\",RANK(O25136,$O$2:$O$1000))","v":""}]
["3325 旭品","洪廷宏          洪廷宏",51,"洪廷宏",null,null,null,null,null,null,null,null,null,null,{"$f":"IFERROR(VLOOKUP(K25152,股價!A:B,2,0)*M25152,\"\")","v":""},{"$f":"IF(O25152=\"\",\"\",RANK(O25152,$O$2:$O$1000))","v":""}]
["3332 幸康","初家祥          初家祥",0,"初家祥",null,null,null,null,null,null,null,null,null,null,{"$f":"IFERROR(VLOOKUP(K25175,股價!A:B,2,0)*M25175,\"\")","v":""},{"$f":"IF(O25175=\"\",\"\",RANK(O25175,$O$2:$O$1000))","v":""}]
["3338 泰碩","劉克平          劉克平",0,"劉克平",null,null,null,null,null,null,null,null,null,null,{"$f":"IFERROR(VLOOKUP(K25215,股價!A:B,2,0)*M25215,\"\")","v":""},{"$f":"IF(O25215=\"\",\"\",RANK(O25215,$O$2:$O$1000))","v":""}]
["3339 泰谷","葉丁豪          葉丁豪",676,"葉丁豪",null,null,null,null,null,null,null,null,null,null,{"$f":"IFERROR(VLOOKUP(K25238,股價!A:B,2,0)*M25238,\"\")","v":""},{"$f":"IF(O25238=\"\",\"\",RANK(O25238,$O$2:$O$1000))","v":""}]
["3346 麗清","吳榮生          吳榮生",400,"吳榮生",null,null,null,null,null,null,null,null,null,null,{"$f":"IFERROR(VLOOKUP(K25256,股價!A:B,2,0)*M25256,\"\")","v":""},{"$f":"IF(O25256=\"\",\"\",RANK(O25256,$O$2:$O$1000))","v":""}]
["3349 寶德","劉祥呈          劉祥呈",687,"劉祥呈",null,null,null,null,null,null,null,null,null,null,{"$f":"IFERROR(VLOOKUP(K25299,股價!A:B,2,0)*M25299,\"\")","v":""},{"$f":"IF(O25299=\"\",\"\",RANK(O25299,$O$2:$O$1000))","v":""}]
["3354 律勝","_經理人合計",270,null,null,null,null,null,null,null,null,null,null,null,{"$f":"IFERROR(VLOOKUP(K25309,股價!A:B,2,0)*M25309,\"\")","v":""},{"$f":"IF(O25309=\"\",\"\",RANK(O25309,$O$2:$O$1000))","v":""}]
["3356 奇偶","李建邦          李建邦",68,"李建邦",null,null,null,null,null,null,null,null,null,null,{"$f":"IFERROR(VLOOKUP(K25340,股價!A:B,2,0)*M25340,\"\")","v":""},{"$f":"IF(O25340=\"\",\"\",RANK(O25340,$O$2:$O$1000))","v":""}]
["3357 臺慶科","佳譽投資(股)    佳譽投資(股)",2000,"佳譽投資股份有限公司",null,null,null,null,null,null,null,null,null,null,{"$f":"IFERROR(VLOOKUP(K25372,股價!A:B,2,0)*M25372,\"\")","v":""},{"$f":"IF(O25372=\"\",\"\",RANK(O25372,$O$2:$O$1000))","v":""}]
["3360 尚立","亞企食材科技(有)簡皓璇",727,"亞企食材科技",null,null,null,null,null,null,null,null,null,null,{"$f":"IFERROR(VLOOKUP(K25403,股價!A:B,2,0)*M25403,\"\")","v":""},{"$f":"IF(O25403=\"\",\"\",RANK(O25403,$O$2:$O$1000))","v":""}]
["3362 先進光","_大股東合計1",20000,null,null,null,null,null,null,null,null,null,null,null,{"$f":"IFERROR(VLOOKUP(K25419,股價!A:B,2,0)*M25419,\"\")","v":""},{"$f":"IF(O25419=\"\",\"\",RANK(O25419,$O$2:$O$1000))","v":""}]
["3362 先進光","鄭宇航          鄭宇航",0,"鄭宇航",null,null,null,null,null,null,null,null,null,null,{"$f":"IFERROR(VLOOKUP(K25443,股價!A:B,2,0)*M25443,\"\")","v":""},{"$f":"IF(O25443=\"\",\"\",RANK(O25443,$O$2:$O$1000))","v":""}]
["3372 典範","郭龍德          郭龍德",0,"郭龍德",null,null,null,null,null,null,null,null,null,null,{"$f":"IFERROR(VLOOKUP(K25487,股價!A:B,2,0)*M25487,\"\")","v":""},{"$f":"IF(O25487=\"\",\"\",RANK(O25487,$O$2:$O$1000))","v":""}]
["3373 熱映","王庭鴻          王庭鴻",0,"王庭鴻",null,null,null,null,null,null,null,null,null,null,{"$f":"IFERROR(VLOOKUP(K25506,股價!A:B,2,0)*M25506,\"\")","v":""},{"$f":"IF(O25506=\"\",\"\",RANK(O25506,$O$2:$O$1000))","v":""}]
["3373 熱映","賴子睿          賴子睿",0,"賴子睿",null,null,null,null,null,null,null,null,null,null,{"$f":"IFERROR(VLOOKUP(K25523,股價!A:B,2,0)*M25523,\"\")","v":""},{"$f":"IF(O25523=\"\",\"\",RANK(O25523,$O$2:$O$1000))","v":""}]
["3376 新日興","呂佩芳          呂佩芳",4696,"呂佩芳",null,null,null,null,null,null,null,null,null,null,{"$f":"IFERROR(VLOOKUP(K25566,股價!A:B,2,0)*M25566,\"\")","v":""},{"$f":"IF(O25566=\"\",\"\",RANK(O25566,$O$2:$O$1000))","v":""}]
["3376 新日興","創加投資(有)    黃雅凌",3802,"創加投資",null,null,null,null,null,null,null,null,null,null,{"$f":"IFERROR(VLOOKUP(K25577,股價!A:B,2,0)*M25577,\"\")","v":""},{"$f":"IF(O25577=\"\",\"\",RANK(O25577,$O$2:$O$1000))","v":""}]
["3379 彬台","楊華忠          楊華忠",0,"楊華忠",null,null,null,null,null,null,null,null,null,null,{"$f":"IFERROR(VLOOKUP(K25607,股價!A:B,2,0)*M25607,\"\")","v":""},{"$f":"IF(O25607=\"\",\"\",RANK(O25607,$O$2:$O$1000))","v":""}]
["3380 明泰","緯創資通(股)    林憲銘",19328,"緯創資通",null,null,null,null,null,null,null,null,null,null,{"$f":"IFERROR(VLOOKUP(K25640,股價!A:B,2,0)*M25640,\"\")","v":""},{"$f":"IF(O25640=\"\",\"\",RANK(O25640,$O$2:$O$1000))","v":""}]
["3388 崇越電","張勝和          張勝和",347,"張勝和",null,null,null,null,null,null,null,null,null,null,{"$f":"IFERROR(VLOOKUP(K25670,股價!A:B,2,0)*M25670,\"\")","v":""},{"$f":"IF(O25670=\"\",\"\",RANK(O25670,$O$2:$O$1000))","v":""}]
["3390 旭軟","_經理人合計",156,null,null,null,null,null,null,null,null,null,null,null,{"$f":"IFERROR(VLOOKUP(K25691,股價!A:B,2,0)*M25691,\"\")","v":""},{"$f":"IF(O25691=\"\",\"\",RANK(O25691,$O$2:$O$1000))","v":""}]
["3390 旭軟","蘇政仁          蘇政仁",156,"蘇政仁",null,null,null,null,null,null,null,null,null,null,{"$f":"IFERROR(VLOOKUP(K25711,股價!A:B,2,0)*M25711,\"\")","v":""},{"$f":"IF(O25711=\"\",\"\",RANK(O25711,$O$2:$O$1000))","v":""}]
["3406 玉晶光","李天堯          李天堯",59,"李天堯",null,null,null,null,null,null,null,null,null,null,{"$f":"IFERROR(VLOOKUP(K25754,股價!A:B,2,0)*M25754,\"\")","v":""},{"$f":"IF(O25754=\"\",\"\",RANK(O25754,$O$2:$O$1000))","v":""}]
["3406 玉晶光","趙志強          趙志強",25,"趙志強",null,null,null,null,null,null,null,null,null,null,{"$f":"IFERROR(VLOOKUP(K25774,股價!A:B,2,0)*M25774,\"\")","v":""},{"$f":"IF(O25774=\"\",\"\",RANK(O25774,$O$2:$O$1000))","v":""}]
["3413 京鼎","李康智          李康智",0,"李康智",null,null,null,null,null,null,null,null,null,null,{"$f":"IFERROR(VLOOKUP(K25790,股價!A:B,2,0)*M25790,\"\")","v":""},{"$f":"IF(O25790=\"\",\"\",RANK(O25790,$O$2:$O$1000))","v":""}]
["3416 融程電","_董  事合計",32722,null,null,null,null,null,null,null,null,null,null,null,{"$f":"IFERROR(VLOOKUP(K25811,股價!A:B,2,0)*M25811,\"\")","v":""},{"$f":"IF(O25811=\"\",\"\",RANK(O25811,$O$2:$O$1000))","v":""}]
["3419 譁裕","呂文嘉          呂文嘉",0,"呂文嘉",null,null,null,null,null,null,null,null,null,null,{"$f":"IFERROR(VLOOKUP(K25845,股價!A:B,2,0)*M25845,\"\")","v":""},{"$f":"IF(O25845=\"\",\"\",RANK(O25845,$O$2:$O$1000))","v":""}]
["3426 台興","杜禹昇          杜禹昇",376,"杜禹昇",null,null,null,null,null,null,null,null,null,null,{"$f":"IFERROR(VLOOKUP(K25874,股價!A:B,2,0)*M25874,\"\")","v":""},{"$f":"IF(O25874=\"\",\"\",RANK(O25874,$O$2:$O$1000))","v":""}]
["3430 奇鈦科","盛育平          盛育平",215,"盛育平",null,null,null,null,null,null,null,null,null,null,{"$f":"IFERROR(VLOOKUP(K25908,股價!A:B,2,0)*M25908,\"\")","v":""},{"$f":"IF(O25908=\"\",\"\",RANK(O25908,$O$2:$O$1000))","v":""}]
["3432 台端","劉美惠          劉美惠",5710,"劉美惠",null,null,null,null,null,null,null,null,null,null,{"$f":"IFERROR(VLOOKUP(K25937,股價!A:B,2,0)*M25937,\"\")","v":""},{"$f":"IF(O25937=\"\",\"\",RANK(O25937,$O$2:$O$1000))","v":""}]
["3434 哲固","陳捷吟          陳捷吟",0,"陳捷吟",null,null,null,null,null,null,null,null,null,null,{"$f":"IFERROR(VLOOKUP(K25958,股價!A:B,2,0)*M25958,\"\")","v":""},{"$f":"IF(O25958=\"\",\"\",RANK(O25958,$O$2:$O$1000))","v":""}]
["3437 榮創","張登凱          張登凱",61,"張登凱",null,null,null,null,null,null,null,null,null,null,{"$f":"IFERROR(VLOOKUP(K25979,股價!A:B,2,0)*M25979,\"\")","v":""},{"$f":"IF(O25979=\"\",\"\",RANK(O25979,$O$2:$O$1000))","v":""}]
["3438 類比科","謝南強          謝南強",0,"謝南強",null,null,null,null,null,null,null,null,null,null,{"$f":"IFERROR(VLOOKUP(K26021,股價!A:B,2,0)*M26021,\"\")","v":""},{"$f":"IF(O26021=\"\",\"\",RANK(O26021,$O$2:$O$1000))","v":""}]
["3441 聯一光","廣曆投資(股)    陳天恕",1448,"廣曆投資",null,null,null,null,null,null,null,null,null,null,{"$f":"IFERROR(VLOOKUP(K26042,股價!A:B,2,0)*M26042,\"\")","v":""},{"$f":"IF(O26042=\"\",\"\",RANK(O26042,$O$2:$O$1000))","v":""}]
["3443 創意","錢培倫          錢培倫",1,"錢培倫",null,null,null,null,null,null,null,null,null,null,{"$f":"IFERROR(VLOOKUP(K26076,股價!A:B,2,0)*M26076,\"\")","v":""},{"$f":"IF(O26076=\"\",\"\",RANK(O26076,$O$2:$O$1000))","v":""}]
["3443 創意","謝宗儒          謝宗儒",5,"謝宗儒",null,null,null,null,null,null,null,null,null,null,{"$f":"IFERROR(VLOOKUP(K26078,股價!A:B,2,0)*M26078,\"\")","v":""},{"$f":"IF(O26078=\"\",\"\",RANK(O26078,$O$2:$O$1000))","v":""}]
["3450 聯鈞","花旗託管挪威    花旗託管挪威",2080,"花旗託管挪威中央銀行投資專戶",null,null,null,null,null,null,null,null,null,null,{"$f":"IFERROR(VLOOKUP(K26113,股價!A:B,2,0)*M26113,\"\")","v":""},{"$f":"IF(O26113=\"\",\"\",RANK(O26113,$O$2:$O$1000))","v":""}]
["3454 晶睿","吳雅芳          吳雅芳",555,"吳雅芳",null,null,null,null,null,null,null,null,null,null,{"$f":"IFERROR(VLOOKUP(K26141,股價!A:B,2,0)*M26141,\"\")","v":""},{"$f":"IF(O26141=\"\",\"\",RANK(O26141,$O$2:$O$1000))","v":""}]
["3455 由田","_經理人合計",75,null,null,null,null,null,null,null,null,null,null,null,{"$f":"IFERROR(VLOOKUP(K26162,股價!A:B,2,0)*M26162,\"\")","v":""},{"$f":"IF(O26162=\"\",\"\",RANK(O26162,$O$2:$O$1000))","v":""}]
["3455 由田","鄒嘉駿          鄒嘉駿",2113,"鄒嘉駿",null,null,null,null,null,null,null,null,null,null,{"$f":"IFERROR(VLOOKUP(K26184,股價!A:B,2,0)*M26184,\"\")","v":""},{"$f":"IF(O26184=\"\",\"\",RANK(O26184,$O$2:$O$1000))","v":""}]
["3466 致振","於知慶          於知慶",0,"於知慶",null,null,null,null,null,null,null,null,null,null,{"$f":"IFERROR(VLOOKUP(K26225,股價!A:B,2,0)*M26225,\"\")","v":""},{"$f":"IF(O26225=\"\",\"\",RANK(O26225,$O$2:$O$1000))","v":""}]
["3479 安勤","王威            王威",0,"王威",null,null,null,null,null,null,null,null,null,null,{"$f":"IFERROR(VLOOKUP(K26251,股價!A:B,2,0)*M26251,\"\")","v":""},{"$f":"IF(O26251=\"\",\"\",RANK(O26251,$O$2:$O$1000))","v":""}]
["3481 群創","吳志毅          吳志毅",0,"吳志毅",null,null,null,null,null,null,null,null,null,null,{"$f":"IFERROR(VLOOKUP(K26288,股價!A:B,2,0)*M26288,\"\")","v":""},{"$f":"IF(O26288=\"\",\"\",RANK(O26288,$O$2:$O$1000))","v":""}]
["3481 群創","鴻準精密工業(股)呂軍甫",115438,"鴻準精密工業",null,null,null,null,null,null,null,null,null,null,{"$f":"IFERROR(VLOOKUP(K26309,股價!A:B,2,0)*M26309,\"\")","v":""},{"$f":"IF(O26309=\"\",\"\",RANK(O26309,$O$2:$O$1000))","v":""}]
["3483 力致","吳英志          吳英志",0,"吳英志",null,null,null,null,null,null,null,null,null,null,{"$f":"IFERROR(VLOOKUP(K26318,股價!A:B,2,0)*M26318,\"\")","v":""},{"$f":"IF(O26318=\"\",\"\",RANK(O26318,$O$2:$O$1000))","v":""}]
["3484 崧騰","_大股東合計2    含沿用資料",11772,null,null,null,null,null,null,null,null,null,null,null,{"$f":"IFERROR(VLOOKUP(K26345,股價!A:B,2,0)*M26345,\"\")","v":""},{"$f":"IF(O26345=\"\",\"\",RANK(O26345,$O$2:$O$1000))","v":""}]
["3489 森寶","楊添貴          楊添貴",0,"楊添貴",null,null,null,null,null,null,null,null,null,null,{"$f":"IFERROR(VLOOKUP(K26385,股價!A:B,2,0)*M26385,\"\")","v":""},{"$f":"IF(O26385=\"\",\"\",RANK(O26385,$O$2:$O$1000))","v":""}]
["3490 單井","徐建森          徐建森",0,"徐建森",null,null,null,null,null,null,null,null,null,null,{"$f":"IFERROR(VLOOKUP(K26408,股價!A:B,2,0)*M26408,\"\")","v":""},{"$f":"IF(O26408=\"\",\"\",RANK(O26408,$O$2:$O$1000))","v":""}]
["3491 昇達科","何文松          何文松",0,"何文松",null,null,null,null,null,null,null,null,null,null,{"$f":"IFERROR(VLOOKUP(K26429,股價!A:B,2,0)*M26429,\"\")","v":""},{"$f":"IF(O26429=\"\",\"\",RANK(O26429,$O$2:$O$1000))","v":""}]
["3492 長盛","_大股東合計2    含沿用資料",4298,null,null,null,null,null,null,null,null,null,null,null,{"$f":"IFERROR(VLOOKUP(K26452,股價!A:B,2,0)*M26452,\"\")","v":""},{"$f":"IF(O26452=\"\",\"\",RANK(O26452,$O$2:$O$1000))","v":""}]
["3494 誠研","孫銘宏          孫銘宏",0,"孫銘宏",null,null,null,null,null,null,null,null,null,null,{"$f":"IFERROR(VLOOKUP(K26492,股價!A:B,2,0)*M26492,\"\")","v":""},{"$f":"IF(O26492=\"\",\"\",RANK(O26492,$O$2:$O$1000))","v":""}]
["3498 陽程","陳忠仁          陳忠仁",0,"陳忠仁",null,null,null,null,null,null,null,null,null,null,{"$f":"IFERROR(VLOOKUP(K26519,股價!A:B,2,0)*M26519,\"\")","v":""},{"$f":"IF(O26519=\"\",\"\",RANK(O26519,$O$2:$O$1000))","v":""}]
["3501 維熹","_大股東合計2    含沿用資料",20818,null,null,null,null,null,null,null,null,null,null,null,{"$f":"IFERROR(VLOOKUP(K26555,股價!A:B,2,0)*M26555,\"\")","v":""},{"$f":"IF(O26555=\"\",\"\",RANK(O26555,$O$2:$O$1000))","v":""}]
["3501 維熹","曾振賢          曾振賢",0,"曾振賢",null,null,null,null,null,null,null,null,null,null,{"$f":"IFERROR(VLOOKUP(K26576,股價!A:B,2,0)*M26576,\"\")","v":""},{"$f":"IF(O26576=\"\",\"\",RANK(O26576,$O$2:$O$1000))","v":""}]
["3504 揚明光","中強光電(股)    王思克",37298,"中強光電",null,null,null,null,null,null,null,null,null,null,{"$f":"IFERROR(VLOOKUP(K26590,股價!A:B,2,0)*M26590,\"\")","v":""},{"$f":"IF(O26590=\"\",\"\",RANK(O26590,$O$2:$O$1000))","v":""}]
["3504 揚明光","匯豐三菱UFJ     匯豐三菱UFJ",1693,"匯豐託管三菱UFJ摩根-三方SBL交易",null,null,null,null,null,null,null,null,null,null,{"$f":"IFERROR(VLOOKUP(K26612,股價!A:B,2,0)*M26612,\"\")","v":""},{"$f":"IF(O26612=\"\",\"\",RANK(O26612,$O$2:$O$1000))","v":""}]
["3511 矽瑪","陳錦稷          陳錦稷",0,"陳錦稷",null,null,null,null,null,null,null,null,null,null,{"$f":"IFERROR(VLOOKUP(K26653,股價!A:B,2,0)*M26653,\"\")","v":""},{"$f":"IF(O26653=\"\",\"\",RANK(O26653,$O$2:$O$1000))","v":""}]
["3515 華擎","李正揚          李正揚",20,"李正揚",null,null,null,null,null,null,null,null,null,null,{"$f":"IFERROR(VLOOKUP(K26675,股價!A:B,2,0)*M26675,\"\")","v":""},{"$f":"IF(O26675=\"\",\"\",RANK(O26675,$O$2:$O$1000))","v":""}]
["3515 華擎","鄭光志          鄭光志",0,"鄭光志",null,null,null,null,null,null,null,null,null,null,{"$f":"IFERROR(VLOOKUP(K26696,股價!A:B,2,0)*M26696,\"\")","v":""},{"$f":"IF(O26696=\"\",\"\",RANK(O26696,$O$2:$O$1000))","v":""}]
["3516 亞帝歐","駱文益          駱文益",0,"駱文益",null,null,null,null,null,null,null,null,null,null,{"$f":"IFERROR(VLOOKUP(K26724,股價!A:B,2,0)*M26724,\"\")","v":""},{"$f":"IF(O26724=\"\",\"\",RANK(O26724,$O$2:$O$1000))","v":""}]
["3520 華盈","永鼎投資(有)    魏良全",10375,"永鼎投資",null,null,null,null,null,null,null,null,null,null,{"$f":"IFERROR(VLOOKUP(K26759,股價!A:B,2,0)*M26759,\"\")","v":""},{"$f":"IF(O26759=\"\",\"\",RANK(O26759,$O$2:$O$1000))","v":""}]
["3521 鴻翊","_董監事合計",7987,null,null,null,null,null,null,null,null,null,null,null,{"$f":"IFERROR(VLOOKUP(K26787,股價!A:B,2,0)*M26787,\"\")","v":""},{"$f":"IF(O26787=\"\",\"\",RANK(O26787,$O$2:$O$1000))","v":""}]
["3521 鴻翊","郭宗霖          郭宗霖",0,"郭宗霖",null,null,null,null,null,null,null,null,null,null,{"$f":"IFERROR(VLOOKUP(K26800,股價!A:B,2,0)*M26800,\"\")","v":""},{"$f":"IF(O26800=\"\",\"\",RANK(O26800,$O$2:$O$1000))","v":""}]
["3523 迎輝","李智淵          李智淵",0,"李智淵",null,null,null,null,null,null,null,null,null,null,{"$f":"IFERROR(VLOOKUP(K26843,股價!A:B,2,0)*M26843,\"\")","v":""},{"$f":"IF(O26843=\"\",\"\",RANK(O26843,$O$2:$O$1000))","v":""}]
["3523 迎輝","楊明放          楊明放",0,"楊明放",null,null,null,null,null,null,null,null,null,null,{"$f":"IFERROR(VLOOKUP(K26858,股價!A:B,2,0)*M26858,\"\")","v":""},{"$f":"IF(O26858=\"\",\"\",RANK(O26858,$O$2:$O$1000))","v":""}]
["3526 凡甲","花旗UCITS南北   花旗UCITS南",887,"花旗(臺灣)商業銀行受託保管太平洋資本UCITS基金公司一太平洋南北EM全資本股票投資專戶",null,null,null,null,null,null,null,null,null,null,{"$f":"IFERROR(VLOOKUP(K26879,股價!A:B,2,0)*M26879,\"\")","v":""},{"$f":"IF(O26879=\"\",\"\",RANK(O26879,$O$2:$O$1000))","v":""}]
["3527 聚積","渣打伊利退休    渣打伊利退休",615,"渣打國際商業銀行營業部受託保管伊利諾州教師退休系統投資專戶",null,null,null,null,null,null,null,null,null,null,{"$f":"IFERROR(VLOOKUP(K26921,股價!A:B,2,0)*M26921,\"\")","v":""},{"$f":"IF(O26921=\"\",\"\",RANK(O26921,$O$2:$O$1000))","v":""}]
["3528 安馳","周竺鼎          周竺鼎",92,"周竺鼎",null,null,null,null,null,null,null,null,null,null,{"$f":"IFERROR(VLOOKUP(K26947,股價!A:B,2,0)*M26947,\"\")","v":""},{"$f":"IF(O26947=\"\",\"\",RANK(O26947,$O$2:$O$1000))","v":""}]
["3528 安馳","鄭慧芳          鄭慧芳",417,"鄭慧芳",null,null,null,null,null,null,null,null,null,null,{"$f":"IFERROR(VLOOKUP(K26963,股價!A:B,2,0)*M26963,\"\")","v":""},{"$f":"IF(O26963=\"\",\"\",RANK(O26963,$O$2:$O$1000))","v":""}]
["3531 先益","Corporate Po(股)王惠民",2118,"Corporate Power Investments Ltd.",null,null,null,null,null,null,null,null,null,null,{"$f":"IFERROR(VLOOKUP(K26992,股價!A:B,2,0)*M26992,\"\")","v":""},{"$f":"IF(O26992=\"\",\"\",RANK(O26992,$O$2:$O$1000))","v":""}]
["3532 台勝科","_大股東合計1",0,null,null,null,null,null,null,null,null,null,null,null,{"$f":"IFERROR(VLOOKUP(K27026,股價!A:B,2,0)*M27026,\"\")","v":""},{"$f":"IF(O27026=\"\",\"\",RANK(O27026,$O$2:$O$1000))","v":""}]
["3533 嘉澤","_董  事合計",9797,null,null,null,null,null,null,null,null,null,null,null,{"$f":"IFERROR(VLOOKUP(K27055,股價!A:B,2,0)*M27055,\"\")","v":""},{"$f":"IF(O27055=\"\",\"\",RANK(O27055,$O$2:$O$1000))","v":""}]
["3533 嘉澤","林存德          林存德",5,"林存德",null,null,null,null,null,null,null,null,null,null,{"$f":"IFERROR(VLOOKUP(K27067,股價!A:B,2,0)*M27067,\"\")","v":""},{"$f":"IF(O27067=\"\",\"\",RANK(O27067,$O$2:$O$1000))","v":""}]
["3535 晶彩科","匯豐三菱UFJ     匯豐三菱UFJ",1500,"匯豐託管三菱UFJ摩根-三方SBL交易",null,null,null,null,null,null,null,null,null,null,{"$f":"IFERROR(VLOOKUP(K27110,股價!A:B,2,0)*M27110,\"\")","v":""},{"$f":"IF(O27110=\"\",\"\",RANK(O27110,$O$2:$O$1000))","v":""}]
["3536 誠創","汪睿凱          汪睿凱",0,"汪睿凱",null,null,null,null,null,null,null,null,null,null,{"$f":"IFERROR(VLOOKUP(K27126,股價!A:B,2,0)*M27126,\"\")","v":""},{"$f":"IF(O27126=\"\",\"\",RANK(O27126,$O$2:$O$1000))","v":""}]
["3537 堡達","文羽苹          文羽苹",0,"文羽苹",null,null,null,null,null,null,null,null,null,null,{"$f":"IFERROR(VLOOKUP(K27151,股價!A:B,2,0)*M27151,\"\")","v":""},{"$f":"IF(O27151=\"\",\"\",RANK(O27151,$O$2:$O$1000))","v":""}]
["3540 曜越","陳彥同          陳彥同",275,"陳彥同",null,null,null,null,null,null,null,null,null,null,{"$f":"IFERROR(VLOOKUP(K27189,股價!A:B,2,0)*M27189,\"\")","v":""},{"$f":"IF(O27189=\"\",\"\",RANK(O27189,$O$2:$O$1000))","v":""}]
["3541 西柏","許韶玲          許韶玲",1017,"許韶玲",null,null,null,null,null,null,null,null,null,null,{"$f":"IFERROR(VLOOKUP(K27214,股價!A:B,2,0)*M27214,\"\")","v":""},{"$f":"IF(O27214=\"\",\"\",RANK(O27214,$O$2:$O$1000))","v":""}]
["3543 州巧","_監察人合計",0,null,null,null,null,null,null,null,null,null,null,null,{"$f":"IFERROR(VLOOKUP(K27230,股價!A:B,2,0)*M27230,\"\")","v":""},{"$f":"IF(O27230=\"\",\"\",RANK(O27230,$O$2:$O$1000))","v":""}]
["3545 敦泰","_大股東合計1",0,null,null,null,null,null,null,null,null,null,null,null,{"$f":"IFERROR(VLOOKUP(K27260,股價!A:B,2,0)*M27260,\"\")","v":""},{"$f":"IF(O27260=\"\",\"\",RANK(O27260,$O$2:$O$1000))","v":""}]
["3545 敦泰","簡宏仁          簡宏仁",0,"簡宏仁",null,null,null,null,null,null,null,null,null,null,{"$f":"IFERROR(VLOOKUP(K27298,股價!A:B,2,0)*M27298,\"\")","v":""},{"$f":"IF(O27298=\"\",\"\",RANK(O27298,$O$2:$O$1000))","v":""}]
["3546 宇峻","陳緯達          陳緯達",0,"陳緯達",null,null,null,null,null,null,null,null,null,null,{"$f":"IFERROR(VLOOKUP(K27314,股價!A:B,2,0)*M27314,\"\")","v":""},{"$f":"IF(O27314=\"\",\"\",RANK(O27314,$O$2:$O$1000))","v":""}]
["3548 兆利","李勇達          李勇達",3,"李勇達",null,null,null,null,null,null,null,null,null,null,{"$f":"IFERROR(VLOOKUP(K27331,股價!A:B,2,0)*M27331,\"\")","v":""},{"$f":"IF(O27331=\"\",\"\",RANK(O27331,$O$2:$O$1000))","v":""}]
["3551 世禾","_經理人合計",3235,null,null,null,null,null,null,null,null,null,null,null,{"$f":"IFERROR(VLOOKUP(K27377,股價!A:B,2,0)*M27377,\"\")","v":""},{"$f":"IF(O27377=\"\",\"\",RANK(O27377,$O$2:$O$1000))","v":""}]
["3551 世禾","陳慶浩          陳慶浩",1337,"陳慶浩",null,null,null,null,null,null,null,null,null,null,{"$f":"IFERROR(VLOOKUP(K27394,股價!A:B,2,0)*M27394,\"\")","v":""},{"$f":"IF(O27394=\"\",\"\",RANK(O27394,$O$2:$O$1000))","v":""}]
["3552 同致","周頌平          周頌平",0,"周頌平",null,null,null,null,null,null,null,null,null,null,{"$f":"IFERROR(VLOOKUP(K27418,股價!A:B,2,0)*M27418,\"\")","v":""},{"$f":"IF(O27418=\"\",\"\",RANK(O27418,$O$2:$O$1000))","v":""}]
["3556 禾瑞亞","_大股東合計2    含沿用資料",5335,null,null,null,null,null,null,null,null,null,null,null,{"$f":"IFERROR(VLOOKUP(K27434,股價!A:B,2,0)*M27434,\"\")","v":""},{"$f":"IF(O27434=\"\",\"\",RANK(O27434,$O$2:$O$1000))","v":""}]
["3557 嘉威","_董監事合計",7261,null,null,null,null,null,null,null,null,null,null,null,{"$f":"IFERROR(VLOOKUP(K27465,股價!A:B,2,0)*M27465,\"\")","v":""},{"$f":"IF(O27465=\"\",\"\",RANK(O27465,$O$2:$O$1000))","v":""}]
["3558 神準","施光訓          施光訓",0,"施光訓",null,null,null,null,null,null,null,null,null,null,{"$f":"IFERROR(VLOOKUP(K27502,股價!A:B,2,0)*M27502,\"\")","v":""},{"$f":"IF(O27502=\"\",\"\",RANK(O27502,$O$2:$O$1000))","v":""}]
["3563 牧德","_董  事合計",4559,null,null,null,null,null,null,null,null,null,null,null,{"$f":"IFERROR(VLOOKUP(K27528,股價!A:B,2,0)*M27528,\"\")","v":""},{"$f":"IF(O27528=\"\",\"\",RANK(O27528,$O$2:$O$1000))","v":""}]
["3564 其陽","李昌鴻          李昌鴻",63,"李昌鴻",null,null,null,null,null,null,null,null,null,null,{"$f":"IFERROR(VLOOKUP(K27565,股價!A:B,2,0)*M27565,\"\")","v":""},{"$f":"IF(O27565=\"\",\"\",RANK(O27565,$O$2:$O$1000))","v":""}]
["3564 其陽","劉玉麟          劉玉麟",0,"劉玉麟",null,null,null,null,null,null,null,null,null,null,{"$f":"IFERROR(VLOOKUP(K27581,股價!A:B,2,0)*M27581,\"\")","v":""},{"$f":"IF(O27581=\"\",\"\",RANK(O27581,$O$2:$O$1000))","v":""}]
["3567 逸昌","林榮勳          林榮勳",244,"林榮勳",null,null,null,null,null,null,null,null,null,null,{"$f":"IFERROR(VLOOKUP(K27599,股價!A:B,2,0)*M27599,\"\")","v":""},{"$f":"IF(O27599=\"\",\"\",RANK(O27599,$O$2:$O$1000))","v":""}]
["3576 聯合再生","沈清雄          沈清雄",19201,"沈清雄",null,null,null,null,null,null,null,null,null,null,{"$f":"IFERROR(VLOOKUP(K27622,股價!A:B,2,0)*M27622,\"\")","v":""},{"$f":"IF(O27622=\"\",\"\",RANK(O27622,$O$2:$O$1000))","v":""}]
["3577 泓格","陳瑞祥          陳瑞祥",609,"陳瑞祥",null,null,null,null,null,null,null,null,null,null,{"$f":"IFERROR(VLOOKUP(K27662,股價!A:B,2,0)*M27662,\"\")","v":""},{"$f":"IF(O27662=\"\",\"\",RANK(O27662,$O$2:$O$1000))","v":""}]
["3580 友威科","易昌運          易昌運",0,"易昌運",null,null,null,null,null,null,null,null,null,null,{"$f":"IFERROR(VLOOKUP(K27685,股價!A:B,2,0)*M27685,\"\")","v":""},{"$f":"IF(O27685=\"\",\"\",RANK(O27685,$O$2:$O$1000))","v":""}]
["3581 博磊","李家忻          李家忻",1516,"李家忻",null,null,null,null,null,null,null,null,null,null,{"$f":"IFERROR(VLOOKUP(K27706,股價!A:B,2,0)*M27706,\"\")","v":""},{"$f":"IF(O27706=\"\",\"\",RANK(O27706,$O$2:$O$1000))","v":""}]
["3583 辛耘","吳琦            吳琦",0,"吳琦",null,null,null,null,null,null,null,null,null,null,{"$f":"IFERROR(VLOOKUP(K27733,股價!A:B,2,0)*M27733,\"\")","v":""},{"$f":"IF(O27733=\"\",\"\",RANK(O27733,$O$2:$O$1000))","v":""}]
["3587 閎康","_董  事合計",13456,null,null,null,null,null,null,null,null,null,null,null,{"$f":"IFERROR(VLOOKUP(K27769,股價!A:B,2,0)*M27769,\"\")","v":""},{"$f":"IF(O27769=\"\",\"\",RANK(O27769,$O$2:$O$1000))","v":""}]
["3588 通嘉","_監察人合計",0,null,null,null,null,null,null,null,null,null,null,null,{"$f":"IFERROR(VLOOKUP(K27796,股價!A:B,2,0)*M27796,\"\")","v":""},{"$f":"IF(O27796=\"\",\"\",RANK(O27796,$O$2:$O$1000))","v":""}]
["3591 艾笛森","宏齊科技(股)    汪秉龍",5376,"宏齊科技",null,null,null,null,null,null,null,null,null,null,{"$f":"IFERROR(VLOOKUP(K27832,股價!A:B,2,0)*M27832,\"\")","v":""},{"$f":"IF(O27832=\"\",\"\",RANK(O27832,$O$2:$O$1000))","v":""}]
["3592 瑞鼎","_董監事合計",12355,null,null,null,null,null,null,null,null,null,null,null,{"$f":"IFERROR(VLOOKUP(K27853,股價!A:B,2,0)*M27853,\"\")","v":""},{"$f":"IF(O27853=\"\",\"\",RANK(O27853,$O$2:$O$1000))","v":""}]
["3592 瑞鼎","康利投資(股)    洪泓杰",11454,"康利投資股份有限公司",null,null,null,null,null,null,null,null,null,null,{"$f":"IFERROR(VLOOKUP(K27867,股價!A:B,2,0)*M27867,\"\")","v":""},{"$f":"IF(O27867=\"\",\"\",RANK(O27867,$O$2:$O$1000))","v":""}]
["3593 力銘","_監察人合計",0,null,null,null,null,null,null,null,null,null,null,null,{"$f":"IFERROR(VLOOKUP(K27889,股價!A:B,2,0)*M27889,\"\")","v":""},{"$f":"IF(O27889=\"\",\"\",RANK(O27889,$O$2:$O$1000))","v":""}]
["3594 磐儀","連啟瑞          連啟瑞",1102,"連啟瑞",null,null,null,null,null,null,null,null,null,null,{"$f":"IFERROR(VLOOKUP(K27930,股價!A:B,2,0)*M27930,\"\")","v":""},{"$f":"IF(O27930=\"\",\"\",RANK(O27930,$O$2:$O$1000))","v":""}]
["3596 智易","李霽芳          李霽芳",243,"李霽芳",null,null,null,null,null,null,null,null,null,null,{"$f":"IFERROR(VLOOKUP(K27952,股價!A:B,2,0)*M27952,\"\")","v":""},{"$f":"IF(O27952=\"\",\"\",RANK(O27952,$O$2:$O$1000))","v":""}]
["3597 映興","_董監事合計",11951,null,null,null,null,null,null,null,null,null,null,null,{"$f":"IFERROR(VLOOKUP(K27973,股價!A:B,2,0)*M27973,\"\")","v":""},{"$f":"IF(O27973=\"\",\"\",RANK(O27973,$O$2:$O$1000))","v":""}]
["3605 宏致","李安謙          李安謙",0,"李安謙",null,null,null,null,null,null,null,null,null,null,{"$f":"IFERROR(VLOOKUP(K28001,股價!A:B,2,0)*M28001,\"\")","v":""},{"$f":"IF(O28001=\"\",\"\",RANK(O28001,$O$2:$O$1000))","v":""}]
["3607 谷崧","鄭雪梅          鄭雪梅",1210,"鄭雪梅",null,null,null,null,null,null,null,null,null,null,{"$f":"IFERROR(VLOOKUP(K28036,股價!A:B,2,0)*M28036,\"\")","v":""},{"$f":"IF(O28036=\"\",\"\",RANK(O28036,$O$2:$O$1000))","v":""}]
["3609 三一東林","豐悅國際投資(股)陳品嘉",3002,"豐悅國際投資",null,null,null,null,null,null,null,null,null,null,{"$f":"IFERROR(VLOOKUP(K28068,股價!A:B,2,0)*M28068,\"\")","v":""},{"$f":"IF(O28068=\"\",\"\",RANK(O28068,$O$2:$O$1000))","v":""}]
["3611 鼎翰","_董  事合計",16415,null,null,null,null,null,null,null,null,null,null,null,{"$f":"IFERROR(VLOOKUP(K28072,股價!A:B,2,0)*M28072,\"\")","v":""},{"$f":"IF(O28072=\"\",\"\",RANK(O28072,$O$2:$O$1000))","v":""}]
["3615 安可","楊芳進          楊芳進",0,"楊芳進",null,null,null,null,null,null,null,null,null,null,{"$f":"IFERROR(VLOOKUP(K28120,股價!A:B,2,0)*M28120,\"\")","v":""},{"$f":"IF(O28120=\"\",\"\",RANK(O28120,$O$2:$O$1000))","v":""}]
["3617 碩天","先越投資(股)    李建進",5418,"先越投資",null,null,null,null,null,null,null,null,null,null,{"$f":"IFERROR(VLOOKUP(K28135,股價!A:B,2,0)*M28135,\"\")","v":""},{"$f":"IF(O28135=\"\",\"\",RANK(O28135,$O$2:$O$1000))","v":""}]
["3622 洋華","_大股東合計2    含沿用資料",28433,null,null,null,null,null,null,null,null,null,null,null,{"$f":"IFERROR(VLOOKUP(K28156,股價!A:B,2,0)*M28156,\"\")","v":""},{"$f":"IF(O28156=\"\",\"\",RANK(O28156,$O$2:$O$1000))","v":""}]
["3623 富晶通","翁明顯          翁明顯",73,"翁明顯",null,null,null,null,null,null,null,null,null,null,{"$f":"IFERROR(VLOOKUP(K28202,股價!A:B,2,0)*M28202,\"\")","v":""},{"$f":"IF(O28202=\"\",\"\",RANK(O28202,$O$2:$O$1000))","v":""}]
["3624 光頡","_董監事合計",47141,null,null,null,null,null,null,null,null,null,null,null,{"$f":"IFERROR(VLOOKUP(K28219,股價!A:B,2,0)*M28219,\"\")","v":""},{"$f":"IF(O28219=\"\",\"\",RANK(O28219,$O$2:$O$1000))","v":""}]
["3624 光頡","廣東風華高新(股)莫雪瓊",46936,"大陸商廣東風華高新科技股份有限公司",null,null,null,null,null,null,null,null,null,null,{"$f":"IFERROR(VLOOKUP(K28240,股價!A:B,2,0)*M28240,\"\")","v":""},{"$f":"IF(O28240=\"\",\"\",RANK(O28240,$O$2:$O$1000))","v":""}]
["3625 西勝","許雪萍          許雪萍",455,"許雪萍",null,null,null,null,null,null,null,null,null,null,{"$f":"IFERROR(VLOOKUP(K28269,股價!A:B,2,0)*M28269,\"\")","v":""},{"$f":"IF(O28269=\"\",\"\",RANK(O28269,$O$2:$O$1000))","v":""}]
["3628 盈正","廖敏亨          廖敏亨",666,"廖敏亨",null,null,null,null,null,null,null,null,null,null,{"$f":"IFERROR(VLOOKUP(K28303,股價!A:B,2,0)*M28303,\"\")","v":""},{"$f":"IF(O28303=\"\",\"\",RANK(O28303,$O$2:$O$1000))","v":""}]
["3629 地心引力","劍遊科技(股)    劍遊科技(股)",11120,"劍遊科技",null,null,null,null,null,null,null,null,null,null,{"$f":"IFERROR(VLOOKUP(K28336,股價!A:B,2,0)*M28336,\"\")","v":""},{"$f":"IF(O28336=\"\",\"\",RANK(O28336,$O$2:$O$1000))","v":""}]
["3629 地心引力","蕭勝原          蕭勝原",37,"蕭勝原",null,null,null,null,null,null,null,null,null,null,{"$f":"IFERROR(VLOOKUP(K28339,股價!A:B,2,0)*M28339,\"\")","v":""},{"$f":"IF(O28339=\"\",\"\",RANK(O28339,$O$2:$O$1000))","v":""}]
["3642 駿熠電","_董監事合計",2171,null,null,null,null,null,null,null,null,null,null,null,{"$f":"IFERROR(VLOOKUP(K28387,股價!A:B,2,0)*M28387,\"\")","v":""},{"$f":"IF(O28387=\"\",\"\",RANK(O28387,$O$2:$O$1000))","v":""}]
["3642 駿熠電","鄭翔仁          鄭翔仁",0,"鄭翔仁",null,null,null,null,null,null,null,null,null,null,{"$f":"IFERROR(VLOOKUP(K28407,股價!A:B,2,0)*M28407,\"\")","v":""},{"$f":"IF(O28407=\"\",\"\",RANK(O28407,$O$2:$O$1000))","v":""}]
["3645 達邁","金進興          金進興",7,"金進興",null,null,null,null,null,null,null,null,null,null,{"$f":"IFERROR(VLOOKUP(K28423,股價!A:B,2,0)*M28423,\"\")","v":""},{"$f":"IF(O28423=\"\",\"\",RANK(O28423,$O$2:$O$1000))","v":""}]
["3652 精聯","李英新          李英新",405,"李英新",null,null,null,null,null,null,null,null,null,null,{"$f":"IFERROR(VLOOKUP(K28470,股價!A:B,2,0)*M28470,\"\")","v":""},{"$f":"IF(O28470=\"\",\"\",RANK(O28470,$O$2:$O$1000))","v":""}]
["3652 精聯","葉柏君          葉柏君",0,"葉柏君",null,null,null,null,null,null,null,null,null,null,{"$f":"IFERROR(VLOOKUP(K28486,股價!A:B,2,0)*M28486,\"\")","v":""},{"$f":"IF(O28486=\"\",\"\",RANK(O28486,$O$2:$O$1000))","v":""}]
["3653 健策","公務人員退休撫恤公務人員退休",3687,"公務人員退休撫恤基金管理委員會",null,null,null,null,null,null,null,null,null,null,{"$f":"IFERROR(VLOOKUP(K28507,股價!A:B,2,0)*M28507,\"\")","v":""},{"$f":"IF(O28507=\"\",\"\",RANK(O28507,$O$2:$O$1000))","v":""}]
["3661 世芯-KY","_經理人合計",358,null,null,null,null,null,null,null,null,null,null,null,{"$f":"IFERROR(VLOOKUP(K28541,股價!A:B,2,0)*M28541,\"\")","v":""},{"$f":"IF(O28541=\"\",\"\",RANK(O28541,$O$2:$O$1000))","v":""}]
["3663 鑫科","_董  事合計",36543,null,null,null,null,null,null,null,null,null,null,null,{"$f":"IFERROR(VLOOKUP(K28570,股價!A:B,2,0)*M28570,\"\")","v":""},{"$f":"IF(O28570=\"\",\"\",RANK(O28570,$O$2:$O$1000))","v":""}]
["3663 鑫科","郭書凱          郭書凱",0,"郭書凱",null,null,null,null,null,null,null,null,null,null,{"$f":"IFERROR(VLOOKUP(K28591,股價!A:B,2,0)*M28591,\"\")","v":""},{"$f":"IF(O28591=\"\",\"\",RANK(O28591,$O$2:$O$1000))","v":""}]
["3664 安瑞-KY","_經理人合計",2800,null,null,null,null,null,null,null,null,null,null,null,{"$f":"IFERROR(VLOOKUP(K28612,股價!A:B,2,0)*M28612,\"\")","v":""},{"$f":"IF(O28612=\"\",\"\",RANK(O28612,$O$2:$O$1000))","v":""}]
["3665 貿聯-KY","程嘉君          程嘉君",0,"程嘉君",null,null,null,null,null,null,null,null,null,null,{"$f":"IFERROR(VLOOKUP(K28654,股價!A:B,2,0)*M28654,\"\")","v":""},{"$f":"IF(O28654=\"\",\"\",RANK(O28654,$O$2:$O$1000))","v":""}]
["3666 光耀","袁廣麟          袁廣麟",82,"袁廣麟",null,null,null,null,null,null,null,null,null,null,{"$f":"IFERROR(VLOOKUP(K28675,股價!A:B,2,0)*M28675,\"\")","v":""},{"$f":"IF(O28675=\"\",\"\",RANK(O28675,$O$2:$O$1000))","v":""}]
["3669 圓展","_經理人合計",4214,null,null,null,null,null,null,null,null,null,null,null,{"$f":"IFERROR(VLOOKUP(K28690,股價!A:B,2,0)*M28690,\"\")","v":""},{"$f":"IF(O28690=\"\",\"\",RANK(O28690,$O$2:$O$1000))","v":""}]
["3669 圓展","臺灣土地銀行受託范鳳麟",420,"臺灣土地銀行受託保管德信數位時代證券投資信託基金專戶",null,null,null,null,null,null,null,null,null,null,{"$f":"IFERROR(VLOOKUP(K28711,股價!A:B,2,0)*M28711,\"\")","v":""},{"$f":"IF(O28711=\"\",\"\",RANK(O28711,$O$2:$O$1000))","v":""}]
["3673 TPK-KY","Max Gain(有)    張恒耀",25223,"Max Gain Management Limited",null,null,null,null,null,null,null,null,null,null,{"$f":"IFERROR(VLOOKUP(K28746,股價!A:B,2,0)*M28746,\"\")","v":""},{"$f":"IF(O28746=\"\",\"\",RANK(O28746,$O$2:$O$1000))","v":""}]
["3675 德微","FH中小          FH中小",790,"復華中小精選證券投資信託基金",null,null,null,null,null,null,null,null,null,null,{"$f":"IFERROR(VLOOKUP(K28774,股價!A:B,2,0)*M28774,\"\")","v":""},{"$f":"IF(O28774=\"\",\"\",RANK(O28774,$O$2:$O$1000))","v":""}]
["3679 新至陞","_監察人合計",0,null,null,null,null,null,null,null,null,null,null,null,{"$f":"IFERROR(VLOOKUP(K28809,股價!A:B,2,0)*M28809,\"\")","v":""},{"$f":"IF(O28809=\"\",\"\",RANK(O28809,$O$2:$O$1000))","v":""}]
["3680 家登","北富銀林添瑞    北富銀林添瑞",1600,"臺北富邦商業銀行受林添瑞信託財產專戶",null,null,null,null,null,null,null,null,null,null,{"$f":"IFERROR(VLOOKUP(K28837,股價!A:B,2,0)*M28837,\"\")","v":""},{"$f":"IF(O28837=\"\",\"\",RANK(O28837,$O$2:$O$1000))","v":""}]
["3682 亞太電","_大股東合計2    含沿用資料",2331202,null,null,null,null,null,null,null,null,null,null,null,{"$f":"IFERROR(VLOOKUP(K28858,股價!A:B,2,0)*M28858,\"\")","v":""},{"$f":"IF(O28858=\"\",\"\",RANK(O28858,$O$2:$O$1000))","v":""}]
["3682 亞太電","徐文起          徐文起",0,"徐文起",null,null,null,null,null,null,null,null,null,null,{"$f":"IFERROR(VLOOKUP(K28880,股價!A:B,2,0)*M28880,\"\")","v":""},{"$f":"IF(O28880=\"\",\"\",RANK(O28880,$O$2:$O$1000))","v":""}]
["3682 亞太電","龔文霖          龔文霖",0,"龔文霖",null,null,null,null,null,null,null,null,null,null,{"$f":"IFERROR(VLOOKUP(K28921,股價!A:B,2,0)*M28921,\"\")","v":""},{"$f":"IF(O28921=\"\",\"\",RANK(O28921,$O$2:$O$1000))","v":""}]
["3684 榮昌","詹大慶          詹大慶",476,"詹大慶",null,null,null,null,null,null,null,null,null,null,{"$f":"IFERROR(VLOOKUP(K28943,股價!A:B,2,0)*M28943,\"\")","v":""},{"$f":"IF(O28943=\"\",\"\",RANK(O28943,$O$2:$O$1000))","v":""}]
["3685 元創精密","林三喜          林三喜",0,"林三喜",null,null,null,null,null,null,null,null,null,null,{"$f":"IFERROR(VLOOKUP(K28962,股價!A:B,2,0)*M28962,\"\")","v":""},{"$f":"IF(O28962=\"\",\"\",RANK(O28962,$O$2:$O$1000))","v":""}]
["3686 達能","_大股東合計2    含沿用資料",9110,null,null,null,null,null,null,null,null,null,null,null,{"$f":"IFERROR(VLOOKUP(K28978,股價!A:B,2,0)*M28978,\"\")","v":""},{"$f":"IF(O28978=\"\",\"\",RANK(O28978,$O$2:$O$1000))","v":""}]
["3687 歐買尬","陳秀真          陳秀真",303,"陳秀真",null,null,null,null,null,null,null,null,null,null,{"$f":"IFERROR(VLOOKUP(K29014,股價!A:B,2,0)*M29014,\"\")","v":""},{"$f":"IF(O29014=\"\",\"\",RANK(O29014,$O$2:$O$1000))","v":""}]
["3689 湧德","劉學愚          劉學愚",0,"劉學愚",null,null,null,null,null,null,null,null,null,null,{"$f":"IFERROR(VLOOKUP(K29041,股價!A:B,2,0)*M29041,\"\")","v":""},{"$f":"IF(O29041=\"\",\"\",RANK(O29041,$O$2:$O$1000))","v":""}]
["3693 營邦","_大股東合計1",0,null,null,null,null,null,null,null,null,null,null,null,{"$f":"IFERROR(VLOOKUP(K29077,股價!A:B,2,0)*M29077,\"\")","v":""},{"$f":"IF(O29077=\"\",\"\",RANK(O29077,$O$2:$O$1000))","v":""}]
["3694 海華","_大股東合計2    含沿用資料",29286,null,null,null,null,null,null,null,null,null,null,null,{"$f":"IFERROR(VLOOKUP(K29109,股價!A:B,2,0)*M29109,\"\")","v":""},{"$f":"IF(O29109=\"\",\"\",RANK(O29109,$O$2:$O$1000))","v":""}]
["3694 海華","林谷峰          林谷峰",69,"林谷峰",null,null,null,null,null,null,null,null,null,null,{"$f":"IFERROR(VLOOKUP(K29125,股價!A:B,2,0)*M29125,\"\")","v":""},{"$f":"IF(O29125=\"\",\"\",RANK(O29125,$O$2:$O$1000))","v":""}]
["3701 大眾控","吳順意          吳順意",0,"吳順意",null,null,null,null,null,null,null,null,null,null,{"$f":"IFERROR(VLOOKUP(K29148,股價!A:B,2,0)*M29148,\"\")","v":""},{"$f":"IF(O29148=\"\",\"\",RANK(O29148,$O$2:$O$1000))","v":""}]
["3702 大聯大","_大股東合計2    含沿用資料",315881,null,null,null,null,null,null,null,null,null,null,null,{"$f":"IFERROR(VLOOKUP(K29166,股價!A:B,2,0)*M29166,\"\")","v":""},{"$f":"IF(O29166=\"\",\"\",RANK(O29166,$O$2:$O$1000))","v":""}]
["3703 欣陸","王端仁          王端仁",0,"王端仁",null,null,null,null,null,null,null,null,null,null,{"$f":"IFERROR(VLOOKUP(K29211,股價!A:B,2,0)*M29211,\"\")","v":""},{"$f":"IF(O29211=\"\",\"\",RANK(O29211,$O$2:$O$1000))","v":""}]
["3703 欣陸","漢德建設(股)    江雄",63756,"漢德建設",null,null,null,null,null,null,null,null,null,null,{"$f":"IFERROR(VLOOKUP(K29229,股價!A:B,2,0)*M29229,\"\")","v":""},{"$f":"IF(O29229=\"\",\"\",RANK(O29229,$O$2:$O$1000))","v":""}]
["3704 合勤控","大通先進星光    大通先進星光",4085,"美商摩根大通銀行台北分行受託保管先進星光基金公司之系列基金先進總合國際股票指數基金",null,null,null,null,null,null,null,null,null,null,{"$f":"IFERROR(VLOOKUP(K29245,股價!A:B,2,0)*M29245,\"\")","v":""},{"$f":"IF(O29245=\"\",\"\",RANK(O29245,$O$2:$O$1000))","v":""}]
["3705 永信","林寶珍          林寶珍",7911,"林寶珍",null,null,null,null,null,null,null,null,null,null,{"$f":"IFERROR(VLOOKUP(K29282,股價!A:B,2,0)*M29282,\"\")","v":""},{"$f":"IF(O29282=\"\",\"\",RANK(O29282,$O$2:$O$1000))","v":""}]
["3706 神達","摩根梵市場股    摩根梵市場股",12527,"美商摩根大通銀行台北分行受託保管梵加德集團公司經理之梵加德新興市場股票指數基金投資專戶",null,null,null,null,null,null,null,null,null,null,{"$f":"IFERROR(VLOOKUP(K29313,股價!A:B,2,0)*M29313,\"\")","v":""},{"$f":"IF(O29313=\"\",\"\",RANK(O29313,$O$2:$O$1000))","v":""}]
["3707 漢磊","群益馬拉松證券投群益馬拉松證",3720,"群益馬拉松證券投資信託基金  F類型新臺幣",null,null,null,null,null,null,null,null,null,null,{"$f":"IFERROR(VLOOKUP(K29345,股價!A:B,2,0)*M29345,\"\")","v":""},{"$f":"IF(O29345=\"\",\"\",RANK(O29345,$O$2:$O$1000))","v":""}]
["3707 漢磊","漢信投資(股)    黃美智",20726,"漢信投資股份有限公司",null,null,null,null,null,null,null,null,null,null,{"$f":"IFERROR(VLOOKUP(K29349,股價!A:B,2,0)*M29349,\"\")","v":""},{"$f":"IF(O29349=\"\",\"\",RANK(O29349,$O$2:$O$1000))","v":""}]
["3709 鑫聯大投控","旭崴投資(有)    旭崴投資(有)",1107,"旭崴投資",null,null,null,null,null,null,null,null,null,null,{"$f":"IFERROR(VLOOKUP(K29392,股價!A:B,2,0)*M29392,\"\")","v":""},{"$f":"IF(O29392=\"\",\"\",RANK(O29392,$O$2:$O$1000))","v":""}]
["3710 連展投控","林月英          林月英",2827,"林月英",null,null,null,null,null,null,null,null,null,null,{"$f":"IFERROR(VLOOKUP(K29416,股價!A:B,2,0)*M29416,\"\")","v":""},{"$f":"IF(O29416=\"\",\"\",RANK(O29416,$O$2:$O$1000))","v":""}]
["3711 日月光投控","_大股東合計1",0,null,null,null,null,null,null,null,null,null,null,null,{"$f":"IFERROR(VLOOKUP(K29433,股價!A:B,2,0)*M29433,\"\")","v":""},{"$f":"IF(O29433=\"\",\"\",RANK(O29433,$O$2:$O$1000))","v":""}]
["3711 日月光投控","羅瑞榮          羅瑞榮",2683,"羅瑞榮",null,null,null,null,null,null,null,null,null,null,{"$f":"IFERROR(VLOOKUP(K29479,股價!A:B,2,0)*M29479,\"\")","v":""},{"$f":"IF(O29479=\"\",\"\",RANK(O29479,$O$2:$O$1000))","v":""}]
["3712 永崴投控","林惠娟          林惠娟",282,"林惠娟",null,null,null,null,null,null,null,null,null,null,{"$f":"IFERROR(VLOOKUP(K29496,股價!A:B,2,0)*M29496,\"\")","v":""},{"$f":"IF(O29496=\"\",\"\",RANK(O29496,$O$2:$O$1000))","v":""}]
["3713 新晶投控","李潛福          李潛福",1057,"李潛福",null,null,null,null,null,null,null,null,null,null,{"$f":"IFERROR(VLOOKUP(K29517,股價!A:B,2,0)*M29517,\"\")","v":""},{"$f":"IF(O29517=\"\",\"\",RANK(O29517,$O$2:$O$1000))","v":""}]
["3714 富采","林孟毅          林孟毅",266,"林孟毅",null,null,null,null,null,null,null,null,null,null,{"$f":"IFERROR(VLOOKUP(K29550,股價!A:B,2,0)*M29550,\"\")","v":""},{"$f":"IF(O29550=\"\",\"\",RANK(O29550,$O$2:$O$1000))","v":""}]
["3715 定穎投控","_董  事合計",23636,null,null,null,null,null,null,null,null,null,null,null,{"$f":"IFERROR(VLOOKUP(K29580,股價!A:B,2,0)*M29580,\"\")","v":""},{"$f":"IF(O29580=\"\",\"\",RANK(O29580,$O$2:$O$1000))","v":""}]
["4102 永日","永信國際投資控股李芳裕",8817,"永信國際投資控股",null,null,null,null,null,null,null,null,null,null,{"$f":"IFERROR(VLOOKUP(K29613,股價!A:B,2,0)*M29613,\"\")","v":""},{"$f":"IF(O29613=\"\",\"\",RANK(O29613,$O$2:$O$1000))","v":""}]
["4102 永日","吳梓生          吳梓生",0,"吳梓生",null,null,null,null,null,null,null,null,null,null,{"$f":"IFERROR(VLOOKUP(K29616,股價!A:B,2,0)*M29616,\"\")","v":""},{"$f":"IF(O29616=\"\",\"\",RANK(O29616,$O$2:$O$1000))","v":""}]
["4105 東洋","_董  事合計",30000,null,null,null,null,null,null,null,null,null,null,null,{"$f":"IFERROR(VLOOKUP(K29664,股價!A:B,2,0)*M29664,\"\")","v":""},{"$f":"IF(O29664=\"\",\"\",RANK(O29664,$O$2:$O$1000))","v":""}]
["4105 東洋","章修績          章修績",1943,"章修績",null,null,null,null,null,null,null,null,null,null,{"$f":"IFERROR(VLOOKUP(K29684,股價!A:B,2,0)*M29684,\"\")","v":""},{"$f":"IF(O29684=\"\",\"\",RANK(O29684,$O$2:$O$1000))","v":""}]
["4106 雃博","_董  事合計",28099,null,null,null,null,null,null,null,null,null,null,null,{"$f":"IFERROR(VLOOKUP(K29700,股價!A:B,2,0)*M29700,\"\")","v":""},{"$f":"IF(O29700=\"\",\"\",RANK(O29700,$O$2:$O$1000))","v":""}]
["4107 邦特","林進隆          林進隆",173,"林進隆",null,null,null,null,null,null,null,null,null,null,{"$f":"IFERROR(VLOOKUP(K29747,股價!A:B,2,0)*M29747,\"\")","v":""},{"$f":"IF(O29747=\"\",\"\",RANK(O29747,$O$2:$O$1000))","v":""}]
["4108 懷特","仁裕(有)        王銘富",54,"仁裕",null,null,null,null,null,null,null,null,null,null,{"$f":"IFERROR(VLOOKUP(K29763,股價!A:B,2,0)*M29763,\"\")","v":""},{"$f":"IF(O29763=\"\",\"\",RANK(O29763,$O$2:$O$1000))","v":""}]
["4108 懷特","陳寬墀          陳寬墀",787,"陳寬墀",null,null,null,null,null,null,null,null,null,null,{"$f":"IFERROR(VLOOKUP(K29784,股價!A:B,2,0)*M29784,\"\")","v":""},{"$f":"IF(O29784=\"\",\"\",RANK(O29784,$O$2:$O$1000))","v":""}]
["4109 加捷生醫","富安德堡投資(有)林峻樟",3495,"富安德堡投資",null,null,null,null,null,null,null,null,null,null,{"$f":"IFERROR(VLOOKUP(K29818,股價!A:B,2,0)*M29818,\"\")","v":""},{"$f":"IF(O29818=\"\",\"\",RANK(O29818,$O$2:$O$1000))","v":""}]
["4111 濟生","鄭鴻林          鄭鴻林",1154,"鄭鴻林",null,null,null,null,null,null,null,null,null,null,{"$f":"IFERROR(VLOOKUP(K29847,股價!A:B,2,0)*M29847,\"\")","v":""},{"$f":"IF(O29847=\"\",\"\",RANK(O29847,$O$2:$O$1000))","v":""}]
["4113 聯上","_監察人合計",0,null,null,null,null,null,null,null,null,null,null,null,{"$f":"IFERROR(VLOOKUP(K29859,股價!A:B,2,0)*M29859,\"\")","v":""},{"$f":"IF(O29859=\"\",\"\",RANK(O29859,$O$2:$O$1000))","v":""}]
["4114 健喬","_董監事合計",38809,null,null,null,null,null,null,null,null,null,null,null,{"$f":"IFERROR(VLOOKUP(K29883,股價!A:B,2,0)*M29883,\"\")","v":""},{"$f":"IF(O29883=\"\",\"\",RANK(O29883,$O$2:$O$1000))","v":""}]
["4116 明基醫","陳光偉          陳光偉",0,"陳光偉",null,null,null,null,null,null,null,null,null,null,{"$f":"IFERROR(VLOOKUP(K29931,股價!A:B,2,0)*M29931,\"\")","v":""},{"$f":"IF(O29931=\"\",\"\",RANK(O29931,$O$2:$O$1000))","v":""}]
["4119 旭富","李淑娟          李淑娟",145,"李淑娟",null,null,null,null,null,null,null,null,null,null,{"$f":"IFERROR(VLOOKUP(K29952,股價!A:B,2,0)*M29952,\"\")","v":""},{"$f":"IF(O29952=\"\",\"\",RANK(O29952,$O$2:$O$1000))","v":""}]
["4119 旭富","劉明裕          劉明裕",9,"劉明裕",null,null,null,null,null,null,null,null,null,null,{"$f":"IFERROR(VLOOKUP(K29967,股價!A:B,2,0)*M29967,\"\")","v":""},{"$f":"IF(O29967=\"\",\"\",RANK(O29967,$O$2:$O$1000))","v":""}]
["4120 友華","張奕欣          張奕欣",3,"張奕欣",null,null,null,null,null,null,null,null,null,null,{"$f":"IFERROR(VLOOKUP(K29988,股價!A:B,2,0)*M29988,\"\")","v":""},{"$f":"IF(O29988=\"\",\"\",RANK(O29988,$O$2:$O$1000))","v":""}]
["4121 優盛","林毓之          林毓之",2,"林毓之",null,null,null,null,null,null,null,null,null,null,{"$f":"IFERROR(VLOOKUP(K30023,股價!A:B,2,0)*M30023,\"\")","v":""},{"$f":"IF(O30023=\"\",\"\",RANK(O30023,$O$2:$O$1000))","v":""}]
["4123 晟德","佑得投資顧問(有)王素琦",9923,"佑得投資顧問",null,null,null,null,null,null,null,null,null,null,{"$f":"IFERROR(VLOOKUP(K30051,股價!A:B,2,0)*M30051,\"\")","v":""},{"$f":"IF(O30051=\"\",\"\",RANK(O30051,$O$2:$O$1000))","v":""}]
["4126 太醫","渣打託管BL新    渣打託管BL新",2009,"渣打託管BL新興市場投資專戶",null,null,null,null,null,null,null,null,null,null,{"$f":"IFERROR(VLOOKUP(K30090,股價!A:B,2,0)*M30090,\"\")","v":""},{"$f":"IF(O30090=\"\",\"\",RANK(O30090,$O$2:$O$1000))","v":""}]
["4127 天良","郭俊雄          郭俊雄",0,"郭俊雄",null,null,null,null,null,null,null,null,null,null,{"$f":"IFERROR(VLOOKUP(K30114,股價!A:B,2,0)*M30114,\"\")","v":""},{"$f":"IF(O30114=\"\",\"\",RANK(O30114,$O$2:$O$1000))","v":""}]
["4128 中天","新耀生技投資(股)路孔明",48619,"新耀生技投資",null,null,null,null,null,null,null,null,null,null,{"$f":"IFERROR(VLOOKUP(K30135,股價!A:B,2,0)*M30135,\"\")","v":""},{"$f":"IF(O30135=\"\",\"\",RANK(O30135,$O$2:$O$1000))","v":""}]
["4129 聯合","吳孟達          吳孟達",0,"吳孟達",null,null,null,null,null,null,null,null,null,null,{"$f":"IFERROR(VLOOKUP(K30157,股價!A:B,2,0)*M30157,\"\")","v":""},{"$f":"IF(O30157=\"\",\"\",RANK(O30157,$O$2:$O$1000))","v":""}]
["4130 健亞","聯盛投資(有)    鄭淑慎",495,"聯盛投資",null,null,null,null,null,null,null,null,null,null,{"$f":"IFERROR(VLOOKUP(K30198,股價!A:B,2,0)*M30198,\"\")","v":""},{"$f":"IF(O30198=\"\",\"\",RANK(O30198,$O$2:$O$1000))","v":""}]
["4131 晶宇","鄭調鄉          鄭調鄉",0,"鄭調鄉",null,null,null,null,null,null,null,null,null,null,{"$f":"IFERROR(VLOOKUP(K30224,股價!A:B,2,0)*M30224,\"\")","v":""},{"$f":"IF(O30224=\"\",\"\",RANK(O30224,$O$2:$O$1000))","v":""}]
["4133 亞諾法","周昀瑾          周昀瑾",0,"周昀瑾",null,null,null,null,null,null,null,null,null,null,{"$f":"IFERROR(VLOOKUP(K30234,股價!A:B,2,0)*M30234,\"\")","v":""},{"$f":"IF(O30234=\"\",\"\",RANK(O30234,$O$2:$O$1000))","v":""}]
["4133 亞諾法","蘇錦俊          蘇錦俊",0,"蘇錦俊",null,null,null,null,null,null,null,null,null,null,{"$f":"IFERROR(VLOOKUP(K30255,股價!A:B,2,0)*M30255,\"\")","v":""},{"$f":"IF(O30255=\"\",\"\",RANK(O30255,$O$2:$O$1000))","v":""}]
["4138 曜亞","江志浩          江志浩",0,"江志浩",null,null,null,null,null,null,null,null,null,null,{"$f":"IFERROR(VLOOKUP(K30291,股價!A:B,2,0)*M30291,\"\")","v":""},{"$f":"IF(O30291=\"\",\"\",RANK(O30291,$O$2:$O$1000))","v":""}]
["4139 馬光-KY","_監察人合計",0,null,null,null,null,null,null,null,null,null,null,null,{"$f":"IFERROR(VLOOKUP(K30318,股價!A:B,2,0)*M30318,\"\")","v":""},{"$f":"IF(O30318=\"\",\"\",RANK(O30318,$O$2:$O$1000))","v":""}]
["4142 國光生","林榮錦          林榮錦",0,"林榮錦",null,null,null,null,null,null,null,null,null,null,{"$f":"IFERROR(VLOOKUP(K30358,股價!A:B,2,0)*M30358,\"\")","v":""},{"$f":"IF(O30358=\"\",\"\",RANK(O30358,$O$2:$O$1000))","v":""}]
["4142 國光生","顏元厚          顏元厚",23,"顏元厚",null,null,null,null,null,null,null,null,null,null,{"$f":"IFERROR(VLOOKUP(K30381,股價!A:B,2,0)*M30381,\"\")","v":""},{"$f":"IF(O30381=\"\",\"\",RANK(O30381,$O$2:$O$1000))","v":""}]
["4147 中裕","張惠娟          張惠娟",0,"張惠娟",null,null,null,null,null,null,null,null,null,null,{"$f":"IFERROR(VLOOKUP(K30402,股價!A:B,2,0)*M30402,\"\")","v":""},{"$f":"IF(O30402=\"\",\"\",RANK(O30402,$O$2:$O$1000))","v":""}]
["4148 全宇生技-KY","阮瓊華          阮瓊華",0,"阮瓊華",null,null,null,null,null,null,null,null,null,null,{"$f":"IFERROR(VLOOKUP(K30429,股價!A:B,2,0)*M30429,\"\")","v":""},{"$f":"IF(O30429=\"\",\"\",RANK(O30429,$O$2:$O$1000))","v":""}]
["4153 鈺緯","陳冠華          陳冠華",4,"陳冠華",null,null,null,null,null,null,null,null,null,null,{"$f":"IFERROR(VLOOKUP(K30465,股價!A:B,2,0)*M30465,\"\")","v":""},{"$f":"IF(O30465=\"\",\"\",RANK(O30465,$O$2:$O$1000))","v":""}]
["4154 樂威科-KY","永豐群投資控股股邱政勳",2186,"永豐群投資控股股份有限公司",null,null,null,null,null,null,null,null,null,null,{"$f":"IFERROR(VLOOKUP(K30492,股價!A:B,2,0)*M30492,\"\")","v":""},{"$f":"IF(O30492=\"\",\"\",RANK(O30492,$O$2:$O$1000))","v":""}]
["4154 樂威科-KY","許正誠          許正誠",0,"許正誠",null,null,null,null,null,null,null,null,null,null,{"$f":"IFERROR(VLOOKUP(K30501,股價!A:B,2,0)*M30501,\"\")","v":""},{"$f":"IF(O30501=\"\",\"\",RANK(O30501,$O$2:$O$1000))","v":""}]
["4155 訊映","尚順投資(有)    賴家德",1852,"尚順投資",null,null,null,null,null,null,null,null,null,null,{"$f":"IFERROR(VLOOKUP(K30522,股價!A:B,2,0)*M30522,\"\")","v":""},{"$f":"IF(O30522=\"\",\"\",RANK(O30522,$O$2:$O$1000))","v":""}]
["4157 太景*-KY","黃文鴻          黃文鴻",0,"黃文鴻",null,null,null,null,null,null,null,null,null,null,{"$f":"IFERROR(VLOOKUP(K30563,股價!A:B,2,0)*M30563,\"\")","v":""},{"$f":"IF(O30563=\"\",\"\",RANK(O30563,$O$2:$O$1000))","v":""}]
["4160 創源","張漢東          張漢東",0,"張漢東",null,null,null,null,null,null,null,null,null,null,{"$f":"IFERROR(VLOOKUP(K30585,股價!A:B,2,0)*M30585,\"\")","v":""},{"$f":"IF(O30585=\"\",\"\",RANK(O30585,$O$2:$O$1000))","v":""}]
["4161 聿新科","王森榮          王森榮",357,"王森榮",null,null,null,null,null,null,null,null,null,null,{"$f":"IFERROR(VLOOKUP(K30600,股價!A:B,2,0)*M30600,\"\")","v":""},{"$f":"IF(O30600=\"\",\"\",RANK(O30600,$O$2:$O$1000))","v":""}]
["4162 智擎","王宏仁          王宏仁",32,"王宏仁",null,null,null,null,null,null,null,null,null,null,{"$f":"IFERROR(VLOOKUP(K30626,股價!A:B,2,0)*M30626,\"\")","v":""},{"$f":"IF(O30626=\"\",\"\",RANK(O30626,$O$2:$O$1000))","v":""}]
["4163 鐿鈦","陳孝湧          陳孝湧",622,"陳孝湧",null,null,null,null,null,null,null,null,null,null,{"$f":"IFERROR(VLOOKUP(K30669,股價!A:B,2,0)*M30669,\"\")","v":""},{"$f":"IF(O30669=\"\",\"\",RANK(O30669,$O$2:$O$1000))","v":""}]
["4164 承業醫","富邦人壽保險(股)蔡明興",5390,"富邦人壽保險",null,null,null,null,null,null,null,null,null,null,{"$f":"IFERROR(VLOOKUP(K30697,股價!A:B,2,0)*M30697,\"\")","v":""},{"$f":"IF(O30697=\"\",\"\",RANK(O30697,$O$2:$O$1000))","v":""}]
["4167 松瑞藥","鄔家鈺          鄔家鈺",0,"鄔家鈺",null,null,null,null,null,null,null,null,null,null,{"$f":"IFERROR(VLOOKUP(K30732,股價!A:B,2,0)*M30732,\"\")","v":""},{"$f":"IF(O30732=\"\",\"\",RANK(O30732,$O$2:$O$1000))","v":""}]
["4168 醣聯","_大股東合計2    含沿用資料",15127,null,null,null,null,null,null,null,null,null,null,null,{"$f":"IFERROR(VLOOKUP(K30734,股價!A:B,2,0)*M30734,\"\")","v":""},{"$f":"IF(O30734=\"\",\"\",RANK(O30734,$O$2:$O$1000))","v":""}]
["4171 瑞基","周品興          周品興",3,"周品興",null,null,null,null,null,null,null,null,null,null,{"$f":"IFERROR(VLOOKUP(K30773,股價!A:B,2,0)*M30773,\"\")","v":""},{"$f":"IF(O30773=\"\",\"\",RANK(O30773,$O$2:$O$1000))","v":""}]
["4171 瑞基","劉麗薇          劉麗薇",859,"劉麗薇",null,null,null,null,null,null,null,null,null,null,{"$f":"IFERROR(VLOOKUP(K30789,股價!A:B,2,0)*M30789,\"\")","v":""},{"$f":"IF(O30789=\"\",\"\",RANK(O30789,$O$2:$O$1000))","v":""}]
["4174 浩鼎","_董  事合計",29019,null,null,null,null,null,null,null,null,null,null,null,{"$f":"IFERROR(VLOOKUP(K30831,股價!A:B,2,0)*M30831,\"\")","v":""},{"$f":"IF(O30831=\"\",\"\",RANK(O30831,$O$2:$O$1000))","v":""}]
["4174 浩鼎","潤泰全球(股)    徐盛育",9358,"潤泰全球",null,null,null,null,null,null,null,null,null,null,{"$f":"IFERROR(VLOOKUP(K30852,股價!A:B,2,0)*M30852,\"\")","v":""},{"$f":"IF(O30852=\"\",\"\",RANK(O30852,$O$2:$O$1000))","v":""}]
["4175 杏一","唐麗芬          唐麗芬",0,"唐麗芬",null,null,null,null,null,null,null,null,null,null,{"$f":"IFERROR(VLOOKUP(K30868,股價!A:B,2,0)*M30868,\"\")","v":""},{"$f":"IF(O30868=\"\",\"\",RANK(O30868,$O$2:$O$1000))","v":""}]
["4183 福永生技","白大為          白大為",1,"白大為",null,null,null,null,null,null,null,null,null,null,{"$f":"IFERROR(VLOOKUP(K30893,股價!A:B,2,0)*M30893,\"\")","v":""},{"$f":"IF(O30893=\"\",\"\",RANK(O30893,$O$2:$O$1000))","v":""}]
["4188 安克","曾天賜          曾天賜",1,"曾天賜",null,null,null,null,null,null,null,null,null,null,{"$f":"IFERROR(VLOOKUP(K30936,股價!A:B,2,0)*M30936,\"\")","v":""},{"$f":"IF(O30936=\"\",\"\",RANK(O30936,$O$2:$O$1000))","v":""}]
["4190 佐登-KY","徐秀芬          徐秀芬",41,"徐秀芬",null,null,null,null,null,null,null,null,null,null,{"$f":"IFERROR(VLOOKUP(K30965,股價!A:B,2,0)*M30965,\"\")","v":""},{"$f":"IF(O30965=\"\",\"\",RANK(O30965,$O$2:$O$1000))","v":""}]
["4190 佐登-KY","謝雅玲          謝雅玲",24,"謝雅玲",null,null,null,null,null,null,null,null,null,null,{"$f":"IFERROR(VLOOKUP(K30977,股價!A:B,2,0)*M30977,\"\")","v":""},{"$f":"IF(O30977=\"\",\"\",RANK(O30977,$O$2:$O$1000))","v":""}]
["4192 杏國","游O俊           游O俊",479,"游O俊",null,null,null,null,null,null,null,null,null,null,{"$f":"IFERROR(VLOOKUP(K31002,股價!A:B,2,0)*M31002,\"\")","v":""},{"$f":"IF(O31002=\"\",\"\",RANK(O31002,$O$2:$O$1000))","v":""}]
["4205 中華食","柯怡卿          柯怡卿",4,"柯怡卿",null,null,null,null,null,null,null,null,null,null,{"$f":"IFERROR(VLOOKUP(K31040,股價!A:B,2,0)*M31040,\"\")","v":""},{"$f":"IF(O31040=\"\",\"\",RANK(O31040,$O$2:$O$1000))","v":""}]
["4205 中華食","羅坤展          羅坤展",971,"羅坤展",null,null,null,null,null,null,null,null,null,null,{"$f":"IFERROR(VLOOKUP(K31056,股價!A:B,2,0)*M31056,\"\")","v":""},{"$f":"IF(O31056=\"\",\"\",RANK(O31056,$O$2:$O$1000))","v":""}]
["4303 信立","李山龍          李山龍",8,"李山龍",null,null,null,null,null,null,null,null,null,null,{"$f":"IFERROR(VLOOKUP(K31099,股價!A:B,2,0)*M31099,\"\")","v":""},{"$f":"IF(O31099=\"\",\"\",RANK(O31099,$O$2:$O$1000))","v":""}]
["4304 勝昱","昱昌事業股份有限李秀華",389,"昱昌事業股份有限公司",null,null,null,null,null,null,null,null,null,null,{"$f":"IFERROR(VLOOKUP(K31124,股價!A:B,2,0)*M31124,\"\")","v":""},{"$f":"IF(O31124=\"\",\"\",RANK(O31124,$O$2:$O$1000))","v":""}]
["4304 勝昱","詹彗芸          詹彗芸",0,"詹彗芸",null,null,null,null,null,null,null,null,null,null,{"$f":"IFERROR(VLOOKUP(K31136,股價!A:B,2,0)*M31136,\"\")","v":""},{"$f":"IF(O31136=\"\",\"\",RANK(O31136,$O$2:$O$1000))","v":""}]
["4306 炎洲","張詠傑          張詠傑",8,"張詠傑",null,null,null,null,null,null,null,null,null,null,{"$f":"IFERROR(VLOOKUP(K31160,股價!A:B,2,0)*M31160,\"\")","v":""},{"$f":"IF(O31160=\"\",\"\",RANK(O31160,$O$2:$O$1000))","v":""}]
["4402 福大","李麗澤          李麗澤",0,"李麗澤",null,null,null,null,null,null,null,null,null,null,{"$f":"IFERROR(VLOOKUP(K31203,股價!A:B,2,0)*M31203,\"\")","v":""},{"$f":"IF(O31203=\"\",\"\",RANK(O31203,$O$2:$O$1000))","v":""}]
["4406 新昕纖","莊凱堯          莊凱堯",1227,"莊凱堯",null,null,null,null,null,null,null,null,null,null,{"$f":"IFERROR(VLOOKUP(K31233,股價!A:B,2,0)*M31233,\"\")","v":""},{"$f":"IF(O31233=\"\",\"\",RANK(O31233,$O$2:$O$1000))","v":""}]
["4413 飛寶企業","中信彩通投資    中信彩通投資",1182,"中國信託商業銀行受託保管彩通投資有限公司投資專戶",null,null,null,null,null,null,null,null,null,null,{"$f":"IFERROR(VLOOKUP(K31244,股價!A:B,2,0)*M31244,\"\")","v":""},{"$f":"IF(O31244=\"\",\"\",RANK(O31244,$O$2:$O$1000))","v":""}]
["4414 如興","興牛一投資(股)  紀宗明",74133,"興牛一投資",null,null,null,null,null,null,null,null,null,null,{"$f":"IFERROR(VLOOKUP(K31287,股價!A:B,2,0)*M31287,\"\")","v":""},{"$f":"IF(O31287=\"\",\"\",RANK(O31287,$O$2:$O$1000))","v":""}]
["4416 三圓","王雅萱          王雅萱",733,"王雅萱",null,null,null,null,null,null,null,null,null,null,{"$f":"IFERROR(VLOOKUP(K31304,股價!A:B,2,0)*M31304,\"\")","v":""},{"$f":"IF(O31304=\"\",\"\",RANK(O31304,$O$2:$O$1000))","v":""}]
["4420 光明","久緯(股)        陳瑞良",800,"久緯",null,null,null,null,null,null,null,null,null,null,{"$f":"IFERROR(VLOOKUP(K31328,股價!A:B,2,0)*M31328,\"\")","v":""},{"$f":"IF(O31328=\"\",\"\",RANK(O31328,$O$2:$O$1000))","v":""}]
["4426 利勤","游如櫻          游如櫻",15082,"游如櫻",null,null,null,null,null,null,null,null,null,null,{"$f":"IFERROR(VLOOKUP(K31367,股價!A:B,2,0)*M31367,\"\")","v":""},{"$f":"IF(O31367=\"\",\"\",RANK(O31367,$O$2:$O$1000))","v":""}]
["4430 耀億","林原正          林原正",0,"林原正",null,null,null,null,null,null,null,null,null,null,{"$f":"IFERROR(VLOOKUP(K31391,股價!A:B,2,0)*M31391,\"\")","v":""},{"$f":"IF(O31391=\"\",\"\",RANK(O31391,$O$2:$O$1000))","v":""}]
["4432 銘旺實","_大股東合計2    含沿用資料",3894,null,null,null,null,null,null,null,null,null,null,null,{"$f":"IFERROR(VLOOKUP(K31407,股價!A:B,2,0)*M31407,\"\")","v":""},{"$f":"IF(O31407=\"\",\"\",RANK(O31407,$O$2:$O$1000))","v":""}]
["4433 興采","王許丞          王許丞",183,"王許丞",null,null,null,null,null,null,null,null,null,null,{"$f":"IFERROR(VLOOKUP(K31438,股價!A:B,2,0)*M31438,\"\")","v":""},{"$f":"IF(O31438=\"\",\"\",RANK(O31438,$O$2:$O$1000))","v":""}]
["4438 廣越","李金恭          李金恭",0,"李金恭",null,null,null,null,null,null,null,null,null,null,{"$f":"IFERROR(VLOOKUP(K31475,股價!A:B,2,0)*M31475,\"\")","v":""},{"$f":"IF(O31475=\"\",\"\",RANK(O31475,$O$2:$O$1000))","v":""}]
["4439 冠星-KY","Happy Time I(有)Happy Time I",1104,"Happy Time International Investment Limited",null,null,null,null,null,null,null,null,null,null,{"$f":"IFERROR(VLOOKUP(K31501,股價!A:B,2,0)*M31501,\"\")","v":""},{"$f":"IF(O31501=\"\",\"\",RANK(O31501,$O$2:$O$1000))","v":""}]
["4439 冠星-KY","李坤明          李坤明",0,"李坤明",null,null,null,null,null,null,null,null,null,null,{"$f":"IFERROR(VLOOKUP(K31511,股價!A:B,2,0)*M31511,\"\")","v":""},{"$f":"IF(O31511=\"\",\"\",RANK(O31511,$O$2:$O$1000))","v":""}]
["4440 宜新實業","王政弘          王政弘",19,"王政弘",null,null,null,null,null,null,null,null,null,null,{"$f":"IFERROR(VLOOKUP(K31532,股價!A:B,2,0)*M31532,\"\")","v":""},{"$f":"IF(O31532=\"\",\"\",RANK(O31532,$O$2:$O$1000))","v":""}]
["4503 金雨","廖壽聰          廖壽聰",10,"廖壽聰",null,null,null,null,null,null,null,null,null,null,{"$f":"IFERROR(VLOOKUP(K31572,股價!A:B,2,0)*M31572,\"\")","v":""},{"$f":"IF(O31572=\"\",\"\",RANK(O31572,$O$2:$O$1000))","v":""}]
["4506 崇友","唐德晉文教基    唐德晉文教基",2538,"財團法人唐德晉文教基金會",null,null,null,null,null,null,null,null,null,null,{"$f":"IFERROR(VLOOKUP(K31595,股價!A:B,2,0)*M31595,\"\")","v":""},{"$f":"IF(O31595=\"\",\"\",RANK(O31595,$O$2:$O$1000))","v":""}]
["4510 高鋒","廖述忠          廖述忠",0,"廖述忠",null,null,null,null,null,null,null,null,null,null,{"$f":"IFERROR(VLOOKUP(K31635,股價!A:B,2,0)*M31635,\"\")","v":""},{"$f":"IF(O31635=\"\",\"\",RANK(O31635,$O$2:$O$1000))","v":""}]
["4523 永彰","張慶龍          張慶龍",0,"張慶龍",null,null,null,null,null,null,null,null,null,null,{"$f":"IFERROR(VLOOKUP(K31658,股價!A:B,2,0)*M31658,\"\")","v":""},{"$f":"IF(O31658=\"\",\"\",RANK(O31658,$O$2:$O$1000))","v":""}]
["4526 東台","三新(股)        嚴正",7987,"三新",null,null,null,null,null,null,null,null,null,null,{"$f":"IFERROR(VLOOKUP(K31679,股價!A:B,2,0)*M31679,\"\")","v":""},{"$f":"IF(O31679=\"\",\"\",RANK(O31679,$O$2:$O$1000))","v":""}]
["4526 東台","嚴瑞雄          嚴瑞雄",5480,"嚴瑞雄",null,null,null,null,null,null,null,null,null,null,{"$f":"IFERROR(VLOOKUP(K31706,股價!A:B,2,0)*M31706,\"\")","v":""},{"$f":"IF(O31706=\"\",\"\",RANK(O31706,$O$2:$O$1000))","v":""}]
["4530 宏易","王瓊花          王瓊花",972,"王瓊花",null,null,null,null,null,null,null,null,null,null,{"$f":"IFERROR(VLOOKUP(K31742,股價!A:B,2,0)*M31742,\"\")","v":""},{"$f":"IF(O31742=\"\",\"\",RANK(O31742,$O$2:$O$1000))","v":""}]
["4532 瑞智","台灣人壽保險(股)黃思國",16053,"台灣人壽保險",null,null,null,null,null,null,null,null,null,null,{"$f":"IFERROR(VLOOKUP(K31769,股價!A:B,2,0)*M31769,\"\")","v":""},{"$f":"IF(O31769=\"\",\"\",RANK(O31769,$O$2:$O$1000))","v":""}]
["4532 瑞智","柯志成          柯志成",188,"柯志成",null,null,null,null,null,null,null,null,null,null,{"$f":"IFERROR(VLOOKUP(K31778,股價!A:B,2,0)*M31778,\"\")","v":""},{"$f":"IF(O31778=\"\",\"\",RANK(O31778,$O$2:$O$1000))","v":""}]
["4532 瑞智","謝明峰          謝明峰",0,"謝明峰",null,null,null,null,null,null,null,null,null,null,{"$f":"IFERROR(VLOOKUP(K31799,股價!A:B,2,0)*M31799,\"\")","v":""},{"$f":"IF(O31799=\"\",\"\",RANK(O31799,$O$2:$O$1000))","v":""}]
["4534 慶騰","白志偉          白志偉",66,"白志偉",null,null,null,null,null,null,null,null,null,null,{"$f":"IFERROR(VLOOKUP(K31840,股價!A:B,2,0)*M31840,\"\")","v":""},{"$f":"IF(O31840=\"\",\"\",RANK(O31840,$O$2:$O$1000))","v":""}]
["4534 慶騰","豐羚企業(有)    曹正尚",1857,"豐羚企業有限公司",null,null,null,null,null,null,null,null,null,null,{"$f":"IFERROR(VLOOKUP(K31862,股價!A:B,2,0)*M31862,\"\")","v":""},{"$f":"IF(O31862=\"\",\"\",RANK(O31862,$O$2:$O$1000))","v":""}]
["4535 至興","吳佩蓉          吳佩蓉",0,"吳佩蓉",null,null,null,null,null,null,null,null,null,null,{"$f":"IFERROR(VLOOKUP(K31881,股價!A:B,2,0)*M31881,\"\")","v":""},{"$f":"IF(O31881=\"\",\"\",RANK(O31881,$O$2:$O$1000))","v":""}]
["4536 拓凱","高振維          高振維",0,"高振維",null,null,null,null,null,null,null,null,null,null,{"$f":"IFERROR(VLOOKUP(K31925,股價!A:B,2,0)*M31925,\"\")","v":""},{"$f":"IF(O31925=\"\",\"\",RANK(O31925,$O$2:$O$1000))","v":""}]
["4540 全球傳動","全美綠能(股)    李進勝",1092,"全美綠能股份有限公司",null,null,null,null,null,null,null,null,null,null,{"$f":"IFERROR(VLOOKUP(K31946,股價!A:B,2,0)*M31946,\"\")","v":""},{"$f":"IF(O31946=\"\",\"\",RANK(O31946,$O$2:$O$1000))","v":""}]
["4541 晟田","陳秀姬          陳秀姬",2159,"陳秀姬",null,null,null,null,null,null,null,null,null,null,{"$f":"IFERROR(VLOOKUP(K31974,股價!A:B,2,0)*M31974,\"\")","v":""},{"$f":"IF(O31974=\"\",\"\",RANK(O31974,$O$2:$O$1000))","v":""}]
["4542 科嶠","梁煜文          梁煜文",125,"梁煜文",null,null,null,null,null,null,null,null,null,null,{"$f":"IFERROR(VLOOKUP(K32009,股價!A:B,2,0)*M32009,\"\")","v":""},{"$f":"IF(O32009=\"\",\"\",RANK(O32009,$O$2:$O$1000))","v":""}]
["4542 科嶠","聖禾投資(有)    聖禾投資(有)",518,"聖禾投資",null,null,null,null,null,null,null,null,null,null,{"$f":"IFERROR(VLOOKUP(K32015,股價!A:B,2,0)*M32015,\"\")","v":""},{"$f":"IF(O32015=\"\",\"\",RANK(O32015,$O$2:$O$1000))","v":""}]
["4543 萬在","簡子洵          簡子洵",2675,"簡子洵",null,null,null,null,null,null,null,null,null,null,{"$f":"IFERROR(VLOOKUP(K32045,股價!A:B,2,0)*M32045,\"\")","v":""},{"$f":"IF(O32045=\"\",\"\",RANK(O32045,$O$2:$O$1000))","v":""}]
["4545 銘鈺","郭耀文          郭耀文",0,"郭耀文",null,null,null,null,null,null,null,null,null,null,{"$f":"IFERROR(VLOOKUP(K32066,股價!A:B,2,0)*M32066,\"\")","v":""},{"$f":"IF(O32066=\"\",\"\",RANK(O32066,$O$2:$O$1000))","v":""}]
["4550 長佳","_董監事合計",7204,null,null,null,null,null,null,null,null,null,null,null,{"$f":"IFERROR(VLOOKUP(K32108,股價!A:B,2,0)*M32108,\"\")","v":""},{"$f":"IF(O32108=\"\",\"\",RANK(O32108,$O$2:$O$1000))","v":""}]
["4551 智伸科","ELNO TECHNOL(股)ELNO TECHNOL",5377,"薩摩亞商ELNO TECHNOLOGY CO,. LTD.",null,null,null,null,null,null,null,null,null,null,{"$f":"IFERROR(VLOOKUP(K32129,股價!A:B,2,0)*M32129,\"\")","v":""},{"$f":"IF(O32129=\"\",\"\",RANK(O32129,$O$2:$O$1000))","v":""}]
["4551 智伸科","國泰人壽保險(股)蔡宏圖",6665,"國泰人壽保險",null,null,null,null,null,null,null,null,null,null,{"$f":"IFERROR(VLOOKUP(K32149,股價!A:B,2,0)*M32149,\"\")","v":""},{"$f":"IF(O32149=\"\",\"\",RANK(O32149,$O$2:$O$1000))","v":""}]
["4554 橙的","沈千慈          沈千慈",0,"沈千慈",null,null,null,null,null,null,null,null,null,null,{"$f":"IFERROR(VLOOKUP(K32192,股價!A:B,2,0)*M32192,\"\")","v":""},{"$f":"IF(O32192=\"\",\"\",RANK(O32192,$O$2:$O$1000))","v":""}]
["4555 氣立","吳宗明          吳宗明",0,"吳宗明",null,null,null,null,null,null,null,null,null,null,{"$f":"IFERROR(VLOOKUP(K32213,股價!A:B,2,0)*M32213,\"\")","v":""},{"$f":"IF(O32213=\"\",\"\",RANK(O32213,$O$2:$O$1000))","v":""}]
["4556 旭然","胡維釗          胡維釗",67,"胡維釗",null,null,null,null,null,null,null,null,null,null,{"$f":"IFERROR(VLOOKUP(K32246,股價!A:B,2,0)*M32246,\"\")","v":""},{"$f":"IF(O32246=\"\",\"\",RANK(O32246,$O$2:$O$1000))","v":""}]
["4556 旭然","高誌謙          高誌謙",0,"高誌謙",null,null,null,null,null,null,null,null,null,null,{"$f":"IFERROR(VLOOKUP(K32249,股價!A:B,2,0)*M32249,\"\")","v":""},{"$f":"IF(O32249=\"\",\"\",RANK(O32249,$O$2:$O$1000))","v":""}]
["4557 永新-KY","羅振宏          羅振宏",0,"羅振宏",null,null,null,null,null,null,null,null,null,null,{"$f":"IFERROR(VLOOKUP(K32283,股價!A:B,2,0)*M32283,\"\")","v":""},{"$f":"IF(O32283=\"\",\"\",RANK(O32283,$O$2:$O$1000))","v":""}]
["4560 強信-KY","DOUBLE FAITH(股)DOUBLE FAITH",5220,"DOUBLE FAITH HOLDING LIMITED",null,null,null,null,null,null,null,null,null,null,{"$f":"IFERROR(VLOOKUP(K32312,股價!A:B,2,0)*M32312,\"\")","v":""},{"$f":"IF(O32312=\"\",\"\",RANK(O32312,$O$2:$O$1000))","v":""}]
["4560 強信-KY","黃德暉          黃德暉",0,"黃德暉",null,null,null,null,null,null,null,null,null,null,{"$f":"IFERROR(VLOOKUP(K32333,股價!A:B,2,0)*M32333,\"\")","v":""},{"$f":"IF(O32333=\"\",\"\",RANK(O32333,$O$2:$O$1000))","v":""}]
["4562 穎漢","胡清淵投資(有)  胡炳昆",3610,"胡清淵投資",null,null,null,null,null,null,null,null,null,null,{"$f":"IFERROR(VLOOKUP(K32380,股價!A:B,2,0)*M32380,\"\")","v":""},{"$f":"IF(O32380=\"\",\"\",RANK(O32380,$O$2:$O$1000))","v":""}]
["4563 百德","_董  事合計",24738,null,null,null,null,null,null,null,null,null,null,null,{"$f":"IFERROR(VLOOKUP(K32396,股價!A:B,2,0)*M32396,\"\")","v":""},{"$f":"IF(O32396=\"\",\"\",RANK(O32396,$O$2:$O$1000))","v":""}]
["4563 百德","楊登宇          楊登宇",0,"楊登宇",null,null,null,null,null,null,null,null,null,null,{"$f":"IFERROR(VLOOKUP(K32417,股價!A:B,2,0)*M32417,\"\")","v":""},{"$f":"IF(O32417=\"\",\"\",RANK(O32417,$O$2:$O$1000))","v":""}]
["4564 元翎","林文惠          林文惠",3801,"林文惠",null,null,null,null,null,null,null,null,null,null,{"$f":"IFERROR(VLOOKUP(K32437,股價!A:B,2,0)*M32437,\"\")","v":""},{"$f":"IF(O32437=\"\",\"\",RANK(O32437,$O$2:$O$1000))","v":""}]
["4568 科際精密","_大股東合計1",9568,null,null,null,null,null,null,null,null,null,null,null,{"$f":"IFERROR(VLOOKUP(K32480,股價!A:B,2,0)*M32480,\"\")","v":""},{"$f":"IF(O32480=\"\",\"\",RANK(O32480,$O$2:$O$1000))","v":""}]
["4571 鈞興-KY","Jinjee Inves(股)Jinjee Inves",1758,"Jinjee Investment Company Limited",null,null,null,null,null,null,null,null,null,null,{"$f":"IFERROR(VLOOKUP(K32514,股價!A:B,2,0)*M32514,\"\")","v":""},{"$f":"IF(O32514=\"\",\"\",RANK(O32514,$O$2:$O$1000))","v":""}]
["4571 鈞興-KY","_大股東合計1",0,null,null,null,null,null,null,null,null,null,null,null,{"$f":"IFERROR(VLOOKUP(K32516,股價!A:B,2,0)*M32516,\"\")","v":""},{"$f":"IF(O32516=\"\",\"\",RANK(O32516,$O$2:$O$1000))","v":""}]
["4572 駐龍","高展投資(股)    高展投資(股)",1461,"高展投資",null,null,null,null,null,null,null,null,null,null,{"$f":"IFERROR(VLOOKUP(K32551,股價!A:B,2,0)*M32551,\"\")","v":""},{"$f":"IF(O32551=\"\",\"\",RANK(O32551,$O$2:$O$1000))","v":""}]
["4576 大銀微系統","陳崇人          陳崇人",0,"陳崇人",null,null,null,null,null,null,null,null,null,null,{"$f":"IFERROR(VLOOKUP(K32584,股價!A:B,2,0)*M32584,\"\")","v":""},{"$f":"IF(O32584=\"\",\"\",RANK(O32584,$O$2:$O$1000))","v":""}]
["4577 達航","周永庭          周永庭",55,"周永庭",null,null,null,null,null,null,null,null,null,null,{"$f":"IFERROR(VLOOKUP(K32600,股價!A:B,2,0)*M32600,\"\")","v":""},{"$f":"IF(O32600=\"\",\"\",RANK(O32600,$O$2:$O$1000))","v":""}]
["4577 達航","稻見和明        稻見和明",438,"稻見和明",null,null,null,null,null,null,null,null,null,null,{"$f":"IFERROR(VLOOKUP(K32622,股價!A:B,2,0)*M32622,\"\")","v":""},{"$f":"IF(O32622=\"\",\"\",RANK(O32622,$O$2:$O$1000))","v":""}]
["4581 光隆精密-KY","_監察人合計",0,null,null,null,null,null,null,null,null,null,null,null,{"$f":"IFERROR(VLOOKUP(K32663,股價!A:B,2,0)*M32663,\"\")","v":""},{"$f":"IF(O32663=\"\",\"\",RANK(O32663,$O$2:$O$1000))","v":""}]
["4581 光隆精密-KY","廣源投資(股)    陳明傑",2000,"廣源投資",null,null,null,null,null,null,null,null,null,null,{"$f":"IFERROR(VLOOKUP(K32684,股價!A:B,2,0)*M32684,\"\")","v":""},{"$f":"IF(O32684=\"\",\"\",RANK(O32684,$O$2:$O$1000))","v":""}]
["4584 君帆","中盈投資開發(股)黃百堅",1260,"中盈投資開發",null,null,null,null,null,null,null,null,null,null,{"$f":"IFERROR(VLOOKUP(K32719,股價!A:B,2,0)*M32719,\"\")","v":""},{"$f":"IF(O32719=\"\",\"\",RANK(O32719,$O$2:$O$1000))","v":""}]
["4609 唐鋒","周政寬          周政寬",2414,"周政寬",null,null,null,null,null,null,null,null,null,null,{"$f":"IFERROR(VLOOKUP(K32747,股價!A:B,2,0)*M32747,\"\")","v":""},{"$f":"IF(O32747=\"\",\"\",RANK(O32747,$O$2:$O$1000))","v":""}]
["4609 唐鋒","溫達祥          溫達祥",0,"溫達祥",null,null,null,null,null,null,null,null,null,null,{"$f":"IFERROR(VLOOKUP(K32756,股價!A:B,2,0)*M32756,\"\")","v":""},{"$f":"IF(O32756=\"\",\"\",RANK(O32756,$O$2:$O$1000))","v":""}]
["4706 大恭","_監察人合計",0,null,null,null,null,null,null,null,null,null,null,null,{"$f":"IFERROR(VLOOKUP(K32788,股價!A:B,2,0)*M32788,\"\")","v":""},{"$f":"IF(O32788=\"\",\"\",RANK(O32788,$O$2:$O$1000))","v":""}]
["4707 磐亞","陳蒔怡          陳蒔怡",0,"陳蒔怡",null,null,null,null,null,null,null,null,null,null,{"$f":"IFERROR(VLOOKUP(K32831,股價!A:B,2,0)*M32831,\"\")","v":""},{"$f":"IF(O32831=\"\",\"\",RANK(O32831,$O$2:$O$1000))","v":""}]
["4711 永純","林泰源          林泰源",7,"林泰源",null,null,null,null,null,null,null,null,null,null,{"$f":"IFERROR(VLOOKUP(K32853,股價!A:B,2,0)*M32853,\"\")","v":""},{"$f":"IF(O32853=\"\",\"\",RANK(O32853,$O$2:$O$1000))","v":""}]
["4711 永純","蔡慶芳          蔡慶芳",3492,"蔡慶芳",null,null,null,null,null,null,null,null,null,null,{"$f":"IFERROR(VLOOKUP(K32867,股價!A:B,2,0)*M32867,\"\")","v":""},{"$f":"IF(O32867=\"\",\"\",RANK(O32867,$O$2:$O$1000))","v":""}]
["4712 南璋","圓滿和融(股)    陳金吉",12431,"圓滿和融",null,null,null,null,null,null,null,null,null,null,{"$f":"IFERROR(VLOOKUP(K32890,股價!A:B,2,0)*M32890,\"\")","v":""},{"$f":"IF(O32890=\"\",\"\",RANK(O32890,$O$2:$O$1000))","v":""}]
["4720 德淵","周日成          周日成",1446,"週日成",null,null,null,null,null,null,null,null,null,null,{"$f":"IFERROR(VLOOKUP(K32935,股價!A:B,2,0)*M32935,\"\")","v":""},{"$f":"IF(O32935=\"\",\"\",RANK(O32935,$O$2:$O$1000))","v":""}]
["4720 德淵","葉益彰          葉益彰",0,"葉益彰",null,null,null,null,null,null,null,null,null,null,{"$f":"IFERROR(VLOOKUP(K32951,股價!A:B,2,0)*M32951,\"\")","v":""},{"$f":"IF(O32951=\"\",\"\",RANK(O32951,$O$2:$O$1000))","v":""}]
["4722 國精化","鴻仁投資(股)    許博偉",973,"鴻仁投資",null,null,null,null,null,null,null,null,null,null,{"$f":"IFERROR(VLOOKUP(K32987,股價!A:B,2,0)*M32987,\"\")","v":""},{"$f":"IF(O32987=\"\",\"\",RANK(O32987,$O$2:$O$1000))","v":""}]
["4726 永昕","儷榮科技(股)    儷榮科技(股)",1387,"儷榮科技",null,null,null,null,null,null,null,null,null,null,{"$f":"IFERROR(VLOOKUP(K33019,股價!A:B,2,0)*M33019,\"\")","v":""},{"$f":"IF(O33019=\"\",\"\",RANK(O33019,$O$2:$O$1000))","v":""}]
["4728 雙美","_經理人合計",1,null,null,null,null,null,null,null,null,null,null,null,{"$f":"IFERROR(VLOOKUP(K33024,股價!A:B,2,0)*M33024,\"\")","v":""},{"$f":"IF(O33024=\"\",\"\",RANK(O33024,$O$2:$O$1000))","v":""}]
["4728 雙美","郭美幸          郭美幸",0,"郭美幸",null,null,null,null,null,null,null,null,null,null,{"$f":"IFERROR(VLOOKUP(K33055,股價!A:B,2,0)*M33055,\"\")","v":""},{"$f":"IF(O33055=\"\",\"\",RANK(O33055,$O$2:$O$1000))","v":""}]
["4735 豪展","_大股東合計2    含沿用資料",4730,null,null,null,null,null,null,null,null,null,null,null,{"$f":"IFERROR(VLOOKUP(K33098,股價!A:B,2,0)*M33098,\"\")","v":""},{"$f":"IF(O33098=\"\",\"\",RANK(O33098,$O$2:$O$1000))","v":""}]
["4736 泰博","_大股東合計2    含沿用資料",15720,null,null,null,null,null,null,null,null,null,null,null,{"$f":"IFERROR(VLOOKUP(K33121,股價!A:B,2,0)*M33121,\"\")","v":""},{"$f":"IF(O33121=\"\",\"\",RANK(O33121,$O$2:$O$1000))","v":""}]
["4736 泰博","陳朝旺          陳朝旺",23570,"陳朝旺",null,null,null,null,null,null,null,null,null,null,{"$f":"IFERROR(VLOOKUP(K33139,股價!A:B,2,0)*M33139,\"\")","v":""},{"$f":"IF(O33139=\"\",\"\",RANK(O33139,$O$2:$O$1000))","v":""}]
["4737 華廣","施錦秀          施錦秀",1120,"施錦秀",null,null,null,null,null,null,null,null,null,null,{"$f":"IFERROR(VLOOKUP(K33158,股價!A:B,2,0)*M33158,\"\")","v":""},{"$f":"IF(O33158=\"\",\"\",RANK(O33158,$O$2:$O$1000))","v":""}]
["4739 康普","澄瑞實業(股)    何柏樟",13234,"澄瑞實業",null,null,null,null,null,null,null,null,null,null,{"$f":"IFERROR(VLOOKUP(K33202,股價!A:B,2,0)*M33202,\"\")","v":""},{"$f":"IF(O33202=\"\",\"\",RANK(O33202,$O$2:$O$1000))","v":""}]
["4741 泓瀚","呂(木宜)境      呂(木宜)境",1538,"呂(木宜)境",null,null,null,null,null,null,null,null,null,null,{"$f":"IFERROR(VLOOKUP(K33218,股價!A:B,2,0)*M33218,\"\")","v":""},{"$f":"IF(O33218=\"\",\"\",RANK(O33218,$O$2:$O$1000))","v":""}]
["4743 合一","楊子群          楊子群",0,"楊子群",null,null,null,null,null,null,null,null,null,null,{"$f":"IFERROR(VLOOKUP(K33255,股價!A:B,2,0)*M33255,\"\")","v":""},{"$f":"IF(O33255=\"\",\"\",RANK(O33255,$O$2:$O$1000))","v":""}]
["4744 皇將","葉治明          葉治明",259,"葉治明",null,null,null,null,null,null,null,null,null,null,{"$f":"IFERROR(VLOOKUP(K33286,股價!A:B,2,0)*M33286,\"\")","v":""},{"$f":"IF(O33286=\"\",\"\",RANK(O33286,$O$2:$O$1000))","v":""}]
["4744 皇將","顏兆鑫          顏兆鑫",909,"顏兆鑫",null,null,null,null,null,null,null,null,null,null,{"$f":"IFERROR(VLOOKUP(K33292,股價!A:B,2,0)*M33292,\"\")","v":""},{"$f":"IF(O33292=\"\",\"\",RANK(O33292,$O$2:$O$1000))","v":""}]
["4746 台耀","_大股東合計2    含沿用資料",14492,null,null,null,null,null,null,null,null,null,null,null,{"$f":"IFERROR(VLOOKUP(K33322,股價!A:B,2,0)*M33322,\"\")","v":""},{"$f":"IF(O33322=\"\",\"\",RANK(O33322,$O$2:$O$1000))","v":""}]
["4746 台耀","健維生技(有)    李建宏",1530,"健維生技",null,null,null,null,null,null,null,null,null,null,{"$f":"IFERROR(VLOOKUP(K33343,股價!A:B,2,0)*M33343,\"\")","v":""},{"$f":"IF(O33343=\"\",\"\",RANK(O33343,$O$2:$O$1000))","v":""}]
["4747 強生","劉淑治          劉淑治",0,"劉淑治",null,null,null,null,null,null,null,null,null,null,{"$f":"IFERROR(VLOOKUP(K33389,股價!A:B,2,0)*M33389,\"\")","v":""},{"$f":"IF(O33389=\"\",\"\",RANK(O33389,$O$2:$O$1000))","v":""}]
["4754 國碳科","張笑禎          張笑禎",845,"張笑禎",null,null,null,null,null,null,null,null,null,null,{"$f":"IFERROR(VLOOKUP(K33406,股價!A:B,2,0)*M33406,\"\")","v":""},{"$f":"IF(O33406=\"\",\"\",RANK(O33406,$O$2:$O$1000))","v":""}]
["4755 三福化","_董  事合計",28601,null,null,null,null,null,null,null,null,null,null,null,{"$f":"IFERROR(VLOOKUP(K33426,股價!A:B,2,0)*M33426,\"\")","v":""},{"$f":"IF(O33426=\"\",\"\",RANK(O33426,$O$2:$O$1000))","v":""}]
["4760 勤凱","嘉禾投資(有)    黃上嘉",328,"嘉禾投資",null,null,null,null,null,null,null,null,null,null,{"$f":"IFERROR(VLOOKUP(K33469,股價!A:B,2,0)*M33469,\"\")","v":""},{"$f":"IF(O33469=\"\",\"\",RANK(O33469,$O$2:$O$1000))","v":""}]
["4763 材料-KY","孟慶麗          孟慶麗",0,"孟慶麗",null,null,null,null,null,null,null,null,null,null,{"$f":"IFERROR(VLOOKUP(K33490,股價!A:B,2,0)*M33490,\"\")","v":""},{"$f":"IF(O33490=\"\",\"\",RANK(O33490,$O$2:$O$1000))","v":""}]
["4764 雙鍵","陳炯達          陳炯達",14,"陳炯達",null,null,null,null,null,null,null,null,null,null,{"$f":"IFERROR(VLOOKUP(K33523,股價!A:B,2,0)*M33523,\"\")","v":""},{"$f":"IF(O33523=\"\",\"\",RANK(O33523,$O$2:$O$1000))","v":""}]
["4764 雙鍵","塞席爾商RIGH(有)塞席爾商RIGH",5065,"塞席爾商RIGHTPOINTLIMITED",null,null,null,null,null,null,null,null,null,null,{"$f":"IFERROR(VLOOKUP(K33526,股價!A:B,2,0)*M33526,\"\")","v":""},{"$f":"IF(O33526=\"\",\"\",RANK(O33526,$O$2:$O$1000))","v":""}]
["4766 南寶","廖元煌          廖元煌",0,"廖元煌",null,null,null,null,null,null,null,null,null,null,{"$f":"IFERROR(VLOOKUP(K33560,股價!A:B,2,0)*M33560,\"\")","v":""},{"$f":"IF(O33560=\"\",\"\",RANK(O33560,$O$2:$O$1000))","v":""}]
["4767 誠泰科技","張耿豪          張耿豪",1,"張耿豪",null,null,null,null,null,null,null,null,null,null,{"$f":"IFERROR(VLOOKUP(K33589,股價!A:B,2,0)*M33589,\"\")","v":""},{"$f":"IF(O33589=\"\",\"\",RANK(O33589,$O$2:$O$1000))","v":""}]
["4768 晶呈科技","姜守危          姜守危",206,"姜守危",null,null,null,null,null,null,null,null,null,null,{"$f":"IFERROR(VLOOKUP(K33610,股價!A:B,2,0)*M33610,\"\")","v":""},{"$f":"IF(O33610=\"\",\"\",RANK(O33610,$O$2:$O$1000))","v":""}]
["4804 大略-KY","_董監事合計",2101,null,null,null,null,null,null,null,null,null,null,null,{"$f":"IFERROR(VLOOKUP(K33657,股價!A:B,2,0)*M33657,\"\")","v":""},{"$f":"IF(O33657=\"\",\"\",RANK(O33657,$O$2:$O$1000))","v":""}]
["4804 大略-KY","劉銘城          劉銘城",300,"劉銘城",null,null,null,null,null,null,null,null,null,null,{"$f":"IFERROR(VLOOKUP(K33673,股價!A:B,2,0)*M33673,\"\")","v":""},{"$f":"IF(O33673=\"\",\"\",RANK(O33673,$O$2:$O$1000))","v":""}]
["4806 昇華","黃慶家          黃慶家",1957,"黃慶家",null,null,null,null,null,null,null,null,null,null,{"$f":"IFERROR(VLOOKUP(K33698,股價!A:B,2,0)*M33698,\"\")","v":""},{"$f":"IF(O33698=\"\",\"\",RANK(O33698,$O$2:$O$1000))","v":""}]
["4903 聯光通","北濱育樂事業(股)北濱育樂事業",490,"北濱育樂事業",null,null,null,null,null,null,null,null,null,null,{"$f":"IFERROR(VLOOKUP(K33736,股價!A:B,2,0)*M33736,\"\")","v":""},{"$f":"IF(O33736=\"\",\"\",RANK(O33736,$O$2:$O$1000))","v":""}]
["4903 聯光通","聯光通投資(有)  黃俊義",56,"聯光通投資有限公司",null,null,null,null,null,null,null,null,null,null,{"$f":"IFERROR(VLOOKUP(K33757,股價!A:B,2,0)*M33757,\"\")","v":""},{"$f":"IF(O33757=\"\",\"\",RANK(O33757,$O$2:$O$1000))","v":""}]
["4904 遠傳","林暾            林暾",0,"林暾",null,null,null,null,null,null,null,null,null,null,{"$f":"IFERROR(VLOOKUP(K33791,股價!A:B,2,0)*M33791,\"\")","v":""},{"$f":"IF(O33791=\"\",\"\",RANK(O33791,$O$2:$O$1000))","v":""}]
["4904 遠傳","徐旭平          徐旭平",0,"徐旭平",null,null,null,null,null,null,null,null,null,null,{"$f":"IFERROR(VLOOKUP(K33793,股價!A:B,2,0)*M33793,\"\")","v":""},{"$f":"IF(O33793=\"\",\"\",RANK(O33793,$O$2:$O$1000))","v":""}]
["4904 遠傳","盧祖耀          盧祖耀",0,"盧祖耀",null,null,null,null,null,null,null,null,null,null,{"$f":"IFERROR(VLOOKUP(K33832,股價!A:B,2,0)*M33832,\"\")","v":""},{"$f":"IF(O33832=\"\",\"\",RANK(O33832,$O$2:$O$1000))","v":""}]
["4905 台聯電","華盛國際投資(股)張志成",3426,"華盛國際投資",null,null,null,null,null,null,null,null,null,null,{"$f":"IFERROR(VLOOKUP(K33856,股價!A:B,2,0)*M33856,\"\")","v":""},{"$f":"IF(O33856=\"\",\"\",RANK(O33856,$O$2:$O$1000))","v":""}]
["4906 正文","陳鴻文          陳鴻文",7392,"陳鴻文",null,null,null,null,null,null,null,null,null,null,{"$f":"IFERROR(VLOOKUP(K33877,股價!A:B,2,0)*M33877,\"\")","v":""},{"$f":"IF(O33877=\"\",\"\",RANK(O33877,$O$2:$O$1000))","v":""}]
["4911 德英","林能暉          林能暉",0,"林能暉",null,null,null,null,null,null,null,null,null,null,{"$f":"IFERROR(VLOOKUP(K33903,股價!A:B,2,0)*M33903,\"\")","v":""},{"$f":"IF(O33903=\"\",\"\",RANK(O33903,$O$2:$O$1000))","v":""}]
["4912 聯德控股-KY","蔡文龍          蔡文龍",655,"蔡文龍",null,null,null,null,null,null,null,null,null,null,{"$f":"IFERROR(VLOOKUP(K33940,股價!A:B,2,0)*M33940,\"\")","v":""},{"$f":"IF(O33940=\"\",\"\",RANK(O33940,$O$2:$O$1000))","v":""}]
["4915 致伸","國泰託葉友棻    國泰託葉友棻",7380,"國泰世華商業銀行受託葉友棻信託財產專戶",null,null,null,null,null,null,null,null,null,null,{"$f":"IFERROR(VLOOKUP(K33961,股價!A:B,2,0)*M33961,\"\")","v":""},{"$f":"IF(O33961=\"\",\"\",RANK(O33961,$O$2:$O$1000))","v":""}]
["4916 事欣科","派德投資(有)    派德投資(有)",3755,"派德投資",null,null,null,null,null,null,null,null,null,null,{"$f":"IFERROR(VLOOKUP(K33996,股價!A:B,2,0)*M33996,\"\")","v":""},{"$f":"IF(O33996=\"\",\"\",RANK(O33996,$O$2:$O$1000))","v":""}]
["4919 新唐","徐善可          徐善可",0,"徐善可",null,null,null,null,null,null,null,null,null,null,{"$f":"IFERROR(VLOOKUP(K34024,股價!A:B,2,0)*M34024,\"\")","v":""},{"$f":"IF(O34024=\"\",\"\",RANK(O34024,$O$2:$O$1000))","v":""}]
["4919 新唐","謝永珅          謝永珅",7309,"謝永珅",null,null,null,null,null,null,null,null,null,null,{"$f":"IFERROR(VLOOKUP(K34037,股價!A:B,2,0)*M34037,\"\")","v":""},{"$f":"IF(O34037=\"\",\"\",RANK(O34037,$O$2:$O$1000))","v":""}]
["4923 力士","趙培宏          趙培宏",0,"趙培宏",null,null,null,null,null,null,null,null,null,null,{"$f":"IFERROR(VLOOKUP(K34060,股價!A:B,2,0)*M34060,\"\")","v":""},{"$f":"IF(O34060=\"\",\"\",RANK(O34060,$O$2:$O$1000))","v":""}]
["4927 泰鼎-KY","永金山(股)      簡有冬",4000,"永金山",null,null,null,null,null,null,null,null,null,null,{"$f":"IFERROR(VLOOKUP(K34108,股價!A:B,2,0)*M34108,\"\")","v":""},{"$f":"IF(O34108=\"\",\"\",RANK(O34108,$O$2:$O$1000))","v":""}]
["4930 燦星網","_監察人合計",0,null,null,null,null,null,null,null,null,null,null,null,{"$f":"IFERROR(VLOOKUP(K34130,股價!A:B,2,0)*M34130,\"\")","v":""},{"$f":"IF(O34130=\"\",\"\",RANK(O34130,$O$2:$O$1000))","v":""}]
["4930 燦星網","鄭金鴻          鄭金鴻",1311,"鄭金鴻",null,null,null,null,null,null,null,null,null,null,{"$f":"IFERROR(VLOOKUP(K34144,股價!A:B,2,0)*M34144,\"\")","v":""},{"$f":"IF(O34144=\"\",\"\",RANK(O34144,$O$2:$O$1000))","v":""}]
["4931 新盛力","蔣祥敬          蔣祥敬",920,"蔣祥敬",null,null,null,null,null,null,null,null,null,null,{"$f":"IFERROR(VLOOKUP(K34171,股價!A:B,2,0)*M34171,\"\")","v":""},{"$f":"IF(O34171=\"\",\"\",RANK(O34171,$O$2:$O$1000))","v":""}]
["4934 太極","_董監事合計",61134,null,null,null,null,null,null,null,null,null,null,null,{"$f":"IFERROR(VLOOKUP(K34207,股價!A:B,2,0)*M34207,\"\")","v":""},{"$f":"IF(O34207=\"\",\"\",RANK(O34207,$O$2:$O$1000))","v":""}]
["4934 太極","謝清福          謝清福",0,"謝清福",null,null,null,null,null,null,null,null,null,null,{"$f":"IFERROR(VLOOKUP(K34228,股價!A:B,2,0)*M34228,\"\")","v":""},{"$f":"IF(O34228=\"\",\"\",RANK(O34228,$O$2:$O$1000))","v":""}]
["4938 和碩","李西文          李西文",317,"李西文",null,null,null,null,null,null,null,null,null,null,{"$f":"IFERROR(VLOOKUP(K34268,股價!A:B,2,0)*M34268,\"\")","v":""},{"$f":"IF(O34268=\"\",\"\",RANK(O34268,$O$2:$O$1000))","v":""}]
["4938 和碩","華碩電腦(股)    華碩電腦(股)",448506,"華碩電腦",null,null,null,null,null,null,null,null,null,null,{"$f":"IFERROR(VLOOKUP(K34291,股價!A:B,2,0)*M34291,\"\")","v":""},{"$f":"IF(O34291=\"\",\"\",RANK(O34291,$O$2:$O$1000))","v":""}]
["4939 亞電","_大股東合計2    含沿用資料",13388,null,null,null,null,null,null,null,null,null,null,null,{"$f":"IFERROR(VLOOKUP(K34305,股價!A:B,2,0)*M34305,\"\")","v":""},{"$f":"IF(O34305=\"\",\"\",RANK(O34305,$O$2:$O$1000))","v":""}]
["4939 亞電","游在安          游在安",3,"游在安",null,null,null,null,null,null,null,null,null,null,{"$f":"IFERROR(VLOOKUP(K34327,股價!A:B,2,0)*M34327,\"\")","v":""},{"$f":"IF(O34327=\"\",\"\",RANK(O34327,$O$2:$O$1000))","v":""}]
["4943 康控-KY","呂朝勝          呂朝勝",37,"呂朝勝",null,null,null,null,null,null,null,null,null,null,{"$f":"IFERROR(VLOOKUP(K34375,股價!A:B,2,0)*M34375,\"\")","v":""},{"$f":"IF(O34375=\"\",\"\",RANK(O34375,$O$2:$O$1000))","v":""}]
["4944 兆遠","張淑如          張淑如",5,"張淑如",null,null,null,null,null,null,null,null,null,null,{"$f":"IFERROR(VLOOKUP(K34402,股價!A:B,2,0)*M34402,\"\")","v":""},{"$f":"IF(O34402=\"\",\"\",RANK(O34402,$O$2:$O$1000))","v":""}]
["4944 兆遠","黃梨香          黃梨香",315,"黃梨香",null,null,null,null,null,null,null,null,null,null,{"$f":"IFERROR(VLOOKUP(K34411,股價!A:B,2,0)*M34411,\"\")","v":""},{"$f":"IF(O34411=\"\",\"\",RANK(O34411,$O$2:$O$1000))","v":""}]
["4945 陞達科技","康月貞          康月貞",340,"康月貞",null,null,null,null,null,null,null,null,null,null,{"$f":"IFERROR(VLOOKUP(K34439,股價!A:B,2,0)*M34439,\"\")","v":""},{"$f":"IF(O34439=\"\",\"\",RANK(O34439,$O$2:$O$1000))","v":""}]
["4946 辣椒","劉稟洪          劉稟洪",0,"劉稟洪",null,null,null,null,null,null,null,null,null,null,{"$f":"IFERROR(VLOOKUP(K34479,股價!A:B,2,0)*M34479,\"\")","v":""},{"$f":"IF(O34479=\"\",\"\",RANK(O34479,$O$2:$O$1000))","v":""}]
["4950 牧東","悅萊投資有限公司吳炯均",1000,"悅萊投資有限公司",null,null,null,null,null,null,null,null,null,null,{"$f":"IFERROR(VLOOKUP(K34495,股價!A:B,2,0)*M34495,\"\")","v":""},{"$f":"IF(O34495=\"\",\"\",RANK(O34495,$O$2:$O$1000))","v":""}]
["4951 精拓科","詹大為          詹大為",768,"詹大為",null,null,null,null,null,null,null,null,null,null,{"$f":"IFERROR(VLOOKUP(K34536,股價!A:B,2,0)*M34536,\"\")","v":""},{"$f":"IF(O34536=\"\",\"\",RANK(O34536,$O$2:$O$1000))","v":""}]
["4952 凌通","黃洲杰          黃洲杰",0,"黃洲杰",null,null,null,null,null,null,null,null,null,null,{"$f":"IFERROR(VLOOKUP(K34558,股價!A:B,2,0)*M34558,\"\")","v":""},{"$f":"IF(O34558=\"\",\"\",RANK(O34558,$O$2:$O$1000))","v":""}]
["4953 緯軟","_董監事合計",19131,null,null,null,null,null,null,null,null,null,null,null,{"$f":"IFERROR(VLOOKUP(K34573,股價!A:B,2,0)*M34573,\"\")","v":""},{"$f":"IF(O34573=\"\",\"\",RANK(O34573,$O$2:$O$1000))","v":""}]
["4956 光鋐","_董監事合計",20214,null,null,null,null,null,null,null,null,null,null,null,{"$f":"IFERROR(VLOOKUP(K34599,股價!A:B,2,0)*M34599,\"\")","v":""},{"$f":"IF(O34599=\"\",\"\",RANK(O34599,$O$2:$O$1000))","v":""}]
["4958 臻鼎-KY","渣打利國皇家    渣打利國皇家",13916,"渣打國際商業銀行營業部受託保管利國皇家投資管理(亞洲)有限公司投資專戶",null,null,null,null,null,null,null,null,null,null,{"$f":"IFERROR(VLOOKUP(K34642,股價!A:B,2,0)*M34642,\"\")","v":""},{"$f":"IF(O34642=\"\",\"\",RANK(O34642,$O$2:$O$1000))","v":""}]
["4958 臻鼎-KY","新制勞退基金    新制勞退基金",15922,"新制勞工勞退基金",null,null,null,null,null,null,null,null,null,null,{"$f":"IFERROR(VLOOKUP(K34644,股價!A:B,2,0)*M34644,\"\")","v":""},{"$f":"IF(O34644=\"\",\"\",RANK(O34644,$O$2:$O$1000))","v":""}]
["4960 誠美材","恒泰國際投資控股連巍鐘",910,"恒泰國際投資控股有限公司",null,null,null,null,null,null,null,null,null,null,{"$f":"IFERROR(VLOOKUP(K34678,股價!A:B,2,0)*M34678,\"\")","v":""},{"$f":"IF(O34678=\"\",\"\",RANK(O34678,$O$2:$O$1000))","v":""}]
["4961 天鈺","羅文偉          羅文偉",0,"羅文偉",null,null,null,null,null,null,null,null,null,null,{"$f":"IFERROR(VLOOKUP(K34707,股價!A:B,2,0)*M34707,\"\")","v":""},{"$f":"IF(O34707=\"\",\"\",RANK(O34707,$O$2:$O$1000))","v":""}]
["4967 十銓","王美玉          王美玉",0,"王美玉",null,null,null,null,null,null,null,null,null,null,{"$f":"IFERROR(VLOOKUP(K34746,股價!A:B,2,0)*M34746,\"\")","v":""},{"$f":"IF(O34746=\"\",\"\",RANK(O34746,$O$2:$O$1000))","v":""}]
["4967 十銓","蔣幅            蔣幅",0,"蔣幅",null,null,null,null,null,null,null,null,null,null,{"$f":"IFERROR(VLOOKUP(K34762,股價!A:B,2,0)*M34762,\"\")","v":""},{"$f":"IF(O34762=\"\",\"\",RANK(O34762,$O$2:$O$1000))","v":""}]
["4968 立積","張江林          張江林",0,"張江林",null,null,null,null,null,null,null,null,null,null,{"$f":"IFERROR(VLOOKUP(K34778,股價!A:B,2,0)*M34778,\"\")","v":""},{"$f":"IF(O34778=\"\",\"\",RANK(O34778,$O$2:$O$1000))","v":""}]
["4971 IET-KY","王家齊          王家齊",396,"王家齊",null,null,null,null,null,null,null,null,null,null,{"$f":"IFERROR(VLOOKUP(K34803,股價!A:B,2,0)*M34803,\"\")","v":""},{"$f":"IF(O34803=\"\",\"\",RANK(O34803,$O$2:$O$1000))","v":""}]
["4972 湯石照明","湯承翰          湯承翰",1602,"湯承翰",null,null,null,null,null,null,null,null,null,null,{"$f":"IFERROR(VLOOKUP(K34841,股價!A:B,2,0)*M34841,\"\")","v":""},{"$f":"IF(O34841=\"\",\"\",RANK(O34841,$O$2:$O$1000))","v":""}]
["4973 廣穎","袁培榮          袁培榮",956,"袁培榮",null,null,null,null,null,null,null,null,null,null,{"$f":"IFERROR(VLOOKUP(K34866,股價!A:B,2,0)*M34866,\"\")","v":""},{"$f":"IF(O34866=\"\",\"\",RANK(O34866,$O$2:$O$1000))","v":""}]
["4976 佳凌","中部投資(股)    張天翰",28370,"中部投資",null,null,null,null,null,null,null,null,null,null,{"$f":"IFERROR(VLOOKUP(K34909,股價!A:B,2,0)*M34909,\"\")","v":""},{"$f":"IF(O34909=\"\",\"\",RANK(O34909,$O$2:$O$1000))","v":""}]
["4976 佳凌","台新佳凌科技    台新佳凌科技",586,"臺新國際商業銀行受託佳凌科技員工持股信託",null,null,null,null,null,null,null,null,null,null,{"$f":"IFERROR(VLOOKUP(K34912,股價!A:B,2,0)*M34912,\"\")","v":""},{"$f":"IF(O34912=\"\",\"\",RANK(O34912,$O$2:$O$1000))","v":""}]
["4977 眾達-KY","施光訓          施光訓",0,"施光訓",null,null,null,null,null,null,null,null,null,null,{"$f":"IFERROR(VLOOKUP(K34950,股價!A:B,2,0)*M34950,\"\")","v":""},{"$f":"IF(O34950=\"\",\"\",RANK(O34950,$O$2:$O$1000))","v":""}]
["4979 華星光","陳玉女          陳玉女",935,"陳玉女",null,null,null,null,null,null,null,null,null,null,{"$f":"IFERROR(VLOOKUP(K34975,股價!A:B,2,0)*M34975,\"\")","v":""},{"$f":"IF(O34975=\"\",\"\",RANK(O34975,$O$2:$O$1000))","v":""}]
["4989 榮科","劉家和          劉家和",0,"劉家和",null,null,null,null,null,null,null,null,null,null,{"$f":"IFERROR(VLOOKUP(K35013,股價!A:B,2,0)*M35013,\"\")","v":""},{"$f":"IF(O35013=\"\",\"\",RANK(O35013,$O$2:$O$1000))","v":""}]
["4991 環宇-KY","安寶信          安寶信",0,"安寶信",null,null,null,null,null,null,null,null,null,null,{"$f":"IFERROR(VLOOKUP(K35029,股價!A:B,2,0)*M35029,\"\")","v":""},{"$f":"IF(O35029=\"\",\"\",RANK(O35029,$O$2:$O$1000))","v":""}]
["4991 環宇-KY","銓緯投資(股)    顏志光",2500,"銓緯投資",null,null,null,null,null,null,null,null,null,null,{"$f":"IFERROR(VLOOKUP(K35046,股價!A:B,2,0)*M35046,\"\")","v":""},{"$f":"IF(O35046=\"\",\"\",RANK(O35046,$O$2:$O$1000))","v":""}]
["4994 傳奇","張峰旗          張峰旗",31940,"張峰旗",null,null,null,null,null,null,null,null,null,null,{"$f":"IFERROR(VLOOKUP(K35070,股價!A:B,2,0)*M35070,\"\")","v":""},{"$f":"IF(O35070=\"\",\"\",RANK(O35070,$O$2:$O$1000))","v":""}]
["5007 三星","_大股東合計1",133073,null,null,null,null,null,null,null,null,null,null,null,{"$f":"IFERROR(VLOOKUP(K35109,股價!A:B,2,0)*M35109,\"\")","v":""},{"$f":"IF(O35109=\"\",\"\",RANK(O35109,$O$2:$O$1000))","v":""}]
["5007 三星","蔡政達          蔡政達",4144,"蔡政達",null,null,null,null,null,null,null,null,null,null,{"$f":"IFERROR(VLOOKUP(K35133,股價!A:B,2,0)*M35133,\"\")","v":""},{"$f":"IF(O35133=\"\",\"\",RANK(O35133,$O$2:$O$1000))","v":""}]
["5009 榮剛","台灣鋼鐵(有)    林文淵",19636,"台灣鋼鐵",null,null,null,null,null,null,null,null,null,null,{"$f":"IFERROR(VLOOKUP(K35154,股價!A:B,2,0)*M35154,\"\")","v":""},{"$f":"IF(O35154=\"\",\"\",RANK(O35154,$O$2:$O$1000))","v":""}]
["5009 榮剛","精剛投資(有)    精剛投資(有)",16092,"精剛投資",null,null,null,null,null,null,null,null,null,null,{"$f":"IFERROR(VLOOKUP(K35180,股價!A:B,2,0)*M35180,\"\")","v":""},{"$f":"IF(O35180=\"\",\"\",RANK(O35180,$O$2:$O$1000))","v":""}]
["5014 建錩","_董  事合計",27618,null,null,null,null,null,null,null,null,null,null,null,{"$f":"IFERROR(VLOOKUP(K35217,股價!A:B,2,0)*M35217,\"\")","v":""},{"$f":"IF(O35217=\"\",\"\",RANK(O35217,$O$2:$O$1000))","v":""}]
["5014 建錩","連松柏          連松柏",0,"連松柏",null,null,null,null,null,null,null,null,null,null,{"$f":"IFERROR(VLOOKUP(K35233,股價!A:B,2,0)*M35233,\"\")","v":""},{"$f":"IF(O35233=\"\",\"\",RANK(O35233,$O$2:$O$1000))","v":""}]
["5201 凱衛","眾城資本(股)    張道依",1185,"眾城資本股份有限公司",null,null,null,null,null,null,null,null,null,null,{"$f":"IFERROR(VLOOKUP(K35277,股價!A:B,2,0)*M35277,\"\")","v":""},{"$f":"IF(O35277=\"\",\"\",RANK(O35277,$O$2:$O$1000))","v":""}]
["5202 力新","台灣網通投資(股)林仕國",2,"台灣網通投資控股股份有限公司",null,null,null,null,null,null,null,null,null,null,{"$f":"IFERROR(VLOOKUP(K35301,股價!A:B,2,0)*M35301,\"\")","v":""},{"$f":"IF(O35301=\"\",\"\",RANK(O35301,$O$2:$O$1000))","v":""}]
["5202 力新","陳和順          陳和順",0,"陳和順",null,null,null,null,null,null,null,null,null,null,{"$f":"IFERROR(VLOOKUP(K35314,股價!A:B,2,0)*M35314,\"\")","v":""},{"$f":"IF(O35314=\"\",\"\",RANK(O35314,$O$2:$O$1000))","v":""}]
["5203 訊連","洪文湘          洪文湘",0,"洪文湘",null,null,null,null,null,null,null,null,null,null,{"$f":"IFERROR(VLOOKUP(K35337,股價!A:B,2,0)*M35337,\"\")","v":""},{"$f":"IF(O35337=\"\",\"\",RANK(O35337,$O$2:$O$1000))","v":""}]
["5206 坤悅","尤燕莉          尤燕莉",137,"尤燕莉",null,null,null,null,null,null,null,null,null,null,{"$f":"IFERROR(VLOOKUP(K35385,股價!A:B,2,0)*M35385,\"\")","v":""},{"$f":"IF(O35385=\"\",\"\",RANK(O35385,$O$2:$O$1000))","v":""}]
["5209 新鼎","吳國安          吳國安",0,"吳國安",null,null,null,null,null,null,null,null,null,null,{"$f":"IFERROR(VLOOKUP(K35411,股價!A:B,2,0)*M35411,\"\")","v":""},{"$f":"IF(O35411=\"\",\"\",RANK(O35411,$O$2:$O$1000))","v":""}]
["5209 新鼎","郭世明          郭世明",1,"郭世明",null,null,null,null,null,null,null,null,null,null,{"$f":"IFERROR(VLOOKUP(K35421,股價!A:B,2,0)*M35421,\"\")","v":""},{"$f":"IF(O35421=\"\",\"\",RANK(O35421,$O$2:$O$1000))","v":""}]
["5210 寶碩","徐志文          徐志文",10,"徐志文",null,null,null,null,null,null,null,null,null,null,{"$f":"IFERROR(VLOOKUP(K35448,股價!A:B,2,0)*M35448,\"\")","v":""},{"$f":"IF(O35448=\"\",\"\",RANK(O35448,$O$2:$O$1000))","v":""}]
["5211 蒙恬","_監察人合計",0,null,null,null,null,null,null,null,null,null,null,null,{"$f":"IFERROR(VLOOKUP(K35484,股價!A:B,2,0)*M35484,\"\")","v":""},{"$f":"IF(O35484=\"\",\"\",RANK(O35484,$O$2:$O$1000))","v":""}]
["5211 蒙恬","蔡義泰          蔡義泰",585,"蔡義泰",null,null,null,null,null,null,null,null,null,null,{"$f":"IFERROR(VLOOKUP(K35505,股價!A:B,2,0)*M35505,\"\")","v":""},{"$f":"IF(O35505=\"\",\"\",RANK(O35505,$O$2:$O$1000))","v":""}]
["5213 亞昕","永翊開發(股)    蘇素真",40263,"永翊開發",null,null,null,null,null,null,null,null,null,null,{"$f":"IFERROR(VLOOKUP(K35545,股價!A:B,2,0)*M35545,\"\")","v":""},{"$f":"IF(O35545=\"\",\"\",RANK(O35545,$O$2:$O$1000))","v":""}]
["5215 科嘉-KY","CJ Investmen(有)林志峰",2550,"CJ Investment Company Limited",null,null,null,null,null,null,null,null,null,null,{"$f":"IFERROR(VLOOKUP(K35568,股價!A:B,2,0)*M35568,\"\")","v":""},{"$f":"IF(O35568=\"\",\"\",RANK(O35568,$O$2:$O$1000))","v":""}]
["5215 科嘉-KY","林于凱          林于凱",1972,"林于凱",null,null,null,null,null,null,null,null,null,null,{"$f":"IFERROR(VLOOKUP(K35582,股價!A:B,2,0)*M35582,\"\")","v":""},{"$f":"IF(O35582=\"\",\"\",RANK(O35582,$O$2:$O$1000))","v":""}]
["5220 萬達光電","陳安迪          陳安迪",0,"陳安迪",null,null,null,null,null,null,null,null,null,null,{"$f":"IFERROR(VLOOKUP(K35604,股價!A:B,2,0)*M35604,\"\")","v":""},{"$f":"IF(O35604=\"\",\"\",RANK(O35604,$O$2:$O$1000))","v":""}]
["5223 安力-KY","Kuanghe Co.(股) 吳錦松",3963,"Kuanghe Co. Ltd (SAMOA)",null,null,null,null,null,null,null,null,null,null,{"$f":"IFERROR(VLOOKUP(K35652,股價!A:B,2,0)*M35652,\"\")","v":""},{"$f":"IF(O35652=\"\",\"\",RANK(O35652,$O$2:$O$1000))","v":""}]
["5225 東科-KY","_大股東合計1",27957,null,null,null,null,null,null,null,null,null,null,null,{"$f":"IFERROR(VLOOKUP(K35679,股價!A:B,2,0)*M35679,\"\")","v":""},{"$f":"IF(O35679=\"\",\"\",RANK(O35679,$O$2:$O$1000))","v":""}]
["5225 東科-KY","吳淑貞          吳淑貞",2113,"吳淑貞",null,null,null,null,null,null,null,null,null,null,{"$f":"IFERROR(VLOOKUP(K35688,股價!A:B,2,0)*M35688,\"\")","v":""},{"$f":"IF(O35688=\"\",\"\",RANK(O35688,$O$2:$O$1000))","v":""}]
["5228 鈺鎧","張光瑤          張光瑤",0,"張光瑤",null,null,null,null,null,null,null,null,null,null,{"$f":"IFERROR(VLOOKUP(K35720,股價!A:B,2,0)*M35720,\"\")","v":""},{"$f":"IF(O35720=\"\",\"\",RANK(O35720,$O$2:$O$1000))","v":""}]
["5230 雷笛克光學","張育達          張育達",0,"張育達",null,null,null,null,null,null,null,null,null,null,{"$f":"IFERROR(VLOOKUP(K35751,股價!A:B,2,0)*M35751,\"\")","v":""},{"$f":"IF(O35751=\"\",\"\",RANK(O35751,$O$2:$O$1000))","v":""}]
["5234 達興材料","山林投資(股)    彭錦繡",2000,"山林投資",null,null,null,null,null,null,null,null,null,null,{"$f":"IFERROR(VLOOKUP(K35772,股價!A:B,2,0)*M35772,\"\")","v":""},{"$f":"IF(O35772=\"\",\"\",RANK(O35772,$O$2:$O$1000))","v":""}]
["5236 凌陽創新","匯豐惠理台      匯豐惠理台",234,"匯豐銀行託管惠理台灣基金投資專戶",null,null,null,null,null,null,null,null,null,null,{"$f":"IFERROR(VLOOKUP(K35813,股價!A:B,2,0)*M35813,\"\")","v":""},{"$f":"IF(O35813=\"\",\"\",RANK(O35813,$O$2:$O$1000))","v":""}]
["5243 乙盛-KY","林志忠          林志忠",0,"林志忠",null,null,null,null,null,null,null,null,null,null,{"$f":"IFERROR(VLOOKUP(K35835,股價!A:B,2,0)*M35835,\"\")","v":""},{"$f":"IF(O35835=\"\",\"\",RANK(O35835,$O$2:$O$1000))","v":""}]
["5244 弘凱","_董監事合計",13795,null,null,null,null,null,null,null,null,null,null,null,{"$f":"IFERROR(VLOOKUP(K35854,股價!A:B,2,0)*M35854,\"\")","v":""},{"$f":"IF(O35854=\"\",\"\",RANK(O35854,$O$2:$O$1000))","v":""}]
["5244 弘凱","黃詹秀真        黃詹秀真",1223,"黃詹秀真",null,null,null,null,null,null,null,null,null,null,{"$f":"IFERROR(VLOOKUP(K35871,股價!A:B,2,0)*M35871,\"\")","v":""},{"$f":"IF(O35871=\"\",\"\",RANK(O35871,$O$2:$O$1000))","v":""}]
["5251 天鉞電","林猷清          林猷清",0,"林猷清",null,null,null,null,null,null,null,null,null,null,{"$f":"IFERROR(VLOOKUP(K35919,股價!A:B,2,0)*M35919,\"\")","v":""},{"$f":"IF(O35919=\"\",\"\",RANK(O35919,$O$2:$O$1000))","v":""}]
["5251 天鉞電","香港商ARGUS(股) 李家德",7600,"香港商ARGUS HOLDINGS LIMITED",null,null,null,null,null,null,null,null,null,null,{"$f":"IFERROR(VLOOKUP(K35921,股價!A:B,2,0)*M35921,\"\")","v":""},{"$f":"IF(O35921=\"\",\"\",RANK(O35921,$O$2:$O$1000))","v":""}]
["5258 虹堡","陳書獎          陳書獎",168,"陳書獎",null,null,null,null,null,null,null,null,null,null,{"$f":"IFERROR(VLOOKUP(K35955,股價!A:B,2,0)*M35955,\"\")","v":""},{"$f":"IF(O35955=\"\",\"\",RANK(O35955,$O$2:$O$1000))","v":""}]
["5263 智崴","富戊投資(股)    歐陽志宏",3042,"富戊投資",null,null,null,null,null,null,null,null,null,null,{"$f":"IFERROR(VLOOKUP(K35988,股價!A:B,2,0)*M35988,\"\")","v":""},{"$f":"IF(O35988=\"\",\"\",RANK(O35988,$O$2:$O$1000))","v":""}]
["5269 祥碩","曾保順          曾保順",4,"曾保順",null,null,null,null,null,null,null,null,null,null,{"$f":"IFERROR(VLOOKUP(K36018,股價!A:B,2,0)*M36018,\"\")","v":""},{"$f":"IF(O36018=\"\",\"\",RANK(O36018,$O$2:$O$1000))","v":""}]
["5272 笙科","邱德成          邱德成",0,"邱德成",null,null,null,null,null,null,null,null,null,null,{"$f":"IFERROR(VLOOKUP(K36039,股價!A:B,2,0)*M36039,\"\")","v":""},{"$f":"IF(O36039=\"\",\"\",RANK(O36039,$O$2:$O$1000))","v":""}]
["5274 信驊","大通託管JP摩根基大通託管JP摩",910,"大通託管JP摩根基金投資專戶",null,null,null,null,null,null,null,null,null,null,{"$f":"IFERROR(VLOOKUP(K36059,股價!A:B,2,0)*M36059,\"\")","v":""},{"$f":"IF(O36059=\"\",\"\",RANK(O36059,$O$2:$O$1000))","v":""}]
["5276 達輝-KY","常偉桓          常偉桓",0,"常偉桓",null,null,null,null,null,null,null,null,null,null,{"$f":"IFERROR(VLOOKUP(K36102,股價!A:B,2,0)*M36102,\"\")","v":""},{"$f":"IF(O36102=\"\",\"\",RANK(O36102,$O$2:$O$1000))","v":""}]
["5278 尚凡","奔騰國際投資(有)舒雨凡",1201,"奔騰國際投資有限公司",null,null,null,null,null,null,null,null,null,null,{"$f":"IFERROR(VLOOKUP(K36122,股價!A:B,2,0)*M36122,\"\")","v":""},{"$f":"IF(O36122=\"\",\"\",RANK(O36122,$O$2:$O$1000))","v":""}]
["5281 大峽谷-KY","_監察人合計",0,null,null,null,null,null,null,null,null,null,null,null,{"$f":"IFERROR(VLOOKUP(K36138,股價!A:B,2,0)*M36138,\"\")","v":""},{"$f":"IF(O36138=\"\",\"\",RANK(O36138,$O$2:$O$1000))","v":""}]
["5283 禾聯碩","雷鎵駿          雷鎵駿",33,"雷鎵駿",null,null,null,null,null,null,null,null,null,null,{"$f":"IFERROR(VLOOKUP(K36186,股價!A:B,2,0)*M36186,\"\")","v":""},{"$f":"IF(O36186=\"\",\"\",RANK(O36186,$O$2:$O$1000))","v":""}]
["5284 jpp-KY","FREDERIC,MAR    FREDERIC,MAR",0,"FREDERIC,MARIE,MICHEL BOURGON",null,null,null,null,null,null,null,null,null,null,{"$f":"IFERROR(VLOOKUP(K36193,股價!A:B,2,0)*M36193,\"\")","v":""},{"$f":"IF(O36193=\"\",\"\",RANK(O36193,$O$2:$O$1000))","v":""}]
["5285 界霖","_大股東合計2    含沿用資料",21838,null,null,null,null,null,null,null,null,null,null,null,{"$f":"IFERROR(VLOOKUP(K36222,股價!A:B,2,0)*M36222,\"\")","v":""},{"$f":"IF(O36222=\"\",\"\",RANK(O36222,$O$2:$O$1000))","v":""}]
["5287 數字","_董監事合計",7781,null,null,null,null,null,null,null,null,null,null,null,{"$f":"IFERROR(VLOOKUP(K36256,股價!A:B,2,0)*M36256,\"\")","v":""},{"$f":"IF(O36256=\"\",\"\",RANK(O36256,$O$2:$O$1000))","v":""}]
["5288 豐祥-KY","何侑倫          何侑倫",795,"何侑倫",null,null,null,null,null,null,null,null,null,null,{"$f":"IFERROR(VLOOKUP(K36290,股價!A:B,2,0)*M36290,\"\")","v":""},{"$f":"IF(O36290=\"\",\"\",RANK(O36290,$O$2:$O$1000))","v":""}]
["5288 豐祥-KY","詹文龍          詹文龍",70,"詹文龍",null,null,null,null,null,null,null,null,null,null,{"$f":"IFERROR(VLOOKUP(K36306,股價!A:B,2,0)*M36306,\"\")","v":""},{"$f":"IF(O36306=\"\",\"\",RANK(O36306,$O$2:$O$1000))","v":""}]
["5289 宜鼎","傅豪            傅豪",40,"傅豪",null,null,null,null,null,null,null,null,null,null,{"$f":"IFERROR(VLOOKUP(K36327,股價!A:B,2,0)*M36327,\"\")","v":""},{"$f":"IF(O36327=\"\",\"\",RANK(O36327,$O$2:$O$1000))","v":""}]
["5301 寶得利","_經理人合計",4016,null,null,null,null,null,null,null,null,null,null,null,{"$f":"IFERROR(VLOOKUP(K36369,股價!A:B,2,0)*M36369,\"\")","v":""},{"$f":"IF(O36369=\"\",\"\",RANK(O36369,$O$2:$O$1000))","v":""}]
["5306 桂盟","_大股東合計1",0,null,null,null,null,null,null,null,null,null,null,null,{"$f":"IFERROR(VLOOKUP(K36390,股價!A:B,2,0)*M36390,\"\")","v":""},{"$f":"IF(O36390=\"\",\"\",RANK(O36390,$O$2:$O$1000))","v":""}]
["5306 桂盟","高丁男          高丁男",935,"高丁男",null,null,null,null,null,null,null,null,null,null,{"$f":"IFERROR(VLOOKUP(K36410,股價!A:B,2,0)*M36410,\"\")","v":""},{"$f":"IF(O36410=\"\",\"\",RANK(O36410,$O$2:$O$1000))","v":""}]
["5309 系統電","_監察人合計",0,null,null,null,null,null,null,null,null,null,null,null,{"$f":"IFERROR(VLOOKUP(K36426,股價!A:B,2,0)*M36426,\"\")","v":""},{"$f":"IF(O36426=\"\",\"\",RANK(O36426,$O$2:$O$1000))","v":""}]
["5310 天剛","大千世界財務(股)簡慶文",450,"大千世界財務顧問",null,null,null,null,null,null,null,null,null,null,{"$f":"IFERROR(VLOOKUP(K36461,股價!A:B,2,0)*M36461,\"\")","v":""},{"$f":"IF(O36461=\"\",\"\",RANK(O36461,$O$2:$O$1000))","v":""}]
["5312 寶島科","文鍾奇          文鍾奇",0,"文鍾奇",null,null,null,null,null,null,null,null,null,null,{"$f":"IFERROR(VLOOKUP(K36489,股價!A:B,2,0)*M36489,\"\")","v":""},{"$f":"IF(O36489=\"\",\"\",RANK(O36489,$O$2:$O$1000))","v":""}]
["5314 世紀","大都會網路科(股)張碩文",213,"大都會網路科技",null,null,null,null,null,null,null,null,null,null,{"$f":"IFERROR(VLOOKUP(K36524,股價!A:B,2,0)*M36524,\"\")","v":""},{"$f":"IF(O36524=\"\",\"\",RANK(O36524,$O$2:$O$1000))","v":""}]
["5315 光聯","渣打列支敦士    渣打列支敦士",3788,"渣打國際商業銀行營業部受託保管列支敦士登銀行投資專戶",null,null,null,null,null,null,null,null,null,null,{"$f":"IFERROR(VLOOKUP(K36557,股價!A:B,2,0)*M36557,\"\")","v":""},{"$f":"IF(O36557=\"\",\"\",RANK(O36557,$O$2:$O$1000))","v":""}]
["5321 美而快","王志仁          王志仁",0,"王志仁",null,null,null,null,null,null,null,null,null,null,{"$f":"IFERROR(VLOOKUP(K36573,股價!A:B,2,0)*M36573,\"\")","v":""},{"$f":"IF(O36573=\"\",\"\",RANK(O36573,$O$2:$O$1000))","v":""}]
["5324 士開","_董  事合計",21021,null,null,null,null,null,null,null,null,null,null,null,{"$f":"IFERROR(VLOOKUP(K36595,股價!A:B,2,0)*M36595,\"\")","v":""},{"$f":"IF(O36595=\"\",\"\",RANK(O36595,$O$2:$O$1000))","v":""}]
["5324 士開","順霖投資(股)    許玉山",1946,"順霖投資",null,null,null,null,null,null,null,null,null,null,{"$f":"IFERROR(VLOOKUP(K36614,股價!A:B,2,0)*M36614,\"\")","v":""},{"$f":"IF(O36614=\"\",\"\",RANK(O36614,$O$2:$O$1000))","v":""}]
["5340 建榮","台企群益店頭    台企群益店頭",1772,"台灣企銀受保群益店頭市場證券投信基金",null,null,null,null,null,null,null,null,null,null,{"$f":"IFERROR(VLOOKUP(K36657,股價!A:B,2,0)*M36657,\"\")","v":""},{"$f":"IF(O36657=\"\",\"\",RANK(O36657,$O$2:$O$1000))","v":""}]
["5340 建榮","高麟國際企業(股)高啟能",2005,"高麟國際企業",null,null,null,null,null,null,null,null,null,null,{"$f":"IFERROR(VLOOKUP(K36666,股價!A:B,2,0)*M36666,\"\")","v":""},{"$f":"IF(O36666=\"\",\"\",RANK(O36666,$O$2:$O$1000))","v":""}]
["5344 立衛","陳明財          陳明財",133,"陳明財",null,null,null,null,null,null,null,null,null,null,{"$f":"IFERROR(VLOOKUP(K36693,股價!A:B,2,0)*M36693,\"\")","v":""},{"$f":"IF(O36693=\"\",\"\",RANK(O36693,$O$2:$O$1000))","v":""}]
["5347 世界","廖志成          廖志成",119,"廖志成",null,null,null,null,null,null,null,null,null,null,{"$f":"IFERROR(VLOOKUP(K36729,股價!A:B,2,0)*M36729,\"\")","v":""},{"$f":"IF(O36729=\"\",\"\",RANK(O36729,$O$2:$O$1000))","v":""}]
["5351 鈺創","_董  事合計",15525,null,null,null,null,null,null,null,null,null,null,null,{"$f":"IFERROR(VLOOKUP(K36761,股價!A:B,2,0)*M36761,\"\")","v":""},{"$f":"IF(O36761=\"\",\"\",RANK(O36761,$O$2:$O$1000))","v":""}]
["5351 鈺創","徐美玲          徐美玲",54,"徐美玲",null,null,null,null,null,null,null,null,null,null,{"$f":"IFERROR(VLOOKUP(K36777,股價!A:B,2,0)*M36777,\"\")","v":""},{"$f":"IF(O36777=\"\",\"\",RANK(O36777,$O$2:$O$1000))","v":""}]
["5353 台林","_董  事合計",17104,null,null,null,null,null,null,null,null,null,null,null,{"$f":"IFERROR(VLOOKUP(K36800,股價!A:B,2,0)*M36800,\"\")","v":""},{"$f":"IF(O36800=\"\",\"\",RANK(O36800,$O$2:$O$1000))","v":""}]
["5356 協益","正融實業(股)    李佳鍞",1234,"正融實業",null,null,null,null,null,null,null,null,null,null,{"$f":"IFERROR(VLOOKUP(K36845,股價!A:B,2,0)*M36845,\"\")","v":""},{"$f":"IF(O36845=\"\",\"\",RANK(O36845,$O$2:$O$1000))","v":""}]
["5364 力麗店","_大股東合計2    含沿用資料",4332,null,null,null,null,null,null,null,null,null,null,null,{"$f":"IFERROR(VLOOKUP(K36863,股價!A:B,2,0)*M36863,\"\")","v":""},{"$f":"IF(O36863=\"\",\"\",RANK(O36863,$O$2:$O$1000))","v":""}]
["5364 力麗店","郭濟安          郭濟安",0,"郭濟安",null,null,null,null,null,null,null,null,null,null,{"$f":"IFERROR(VLOOKUP(K36881,股價!A:B,2,0)*M36881,\"\")","v":""},{"$f":"IF(O36881=\"\",\"\",RANK(O36881,$O$2:$O$1000))","v":""}]
["5371 中光電","瀚宇彩晶(股)    焦佑麒",16395,"瀚宇彩晶",null,null,null,null,null,null,null,null,null,null,{"$f":"IFERROR(VLOOKUP(K36924,股價!A:B,2,0)*M36924,\"\")","v":""},{"$f":"IF(O36924=\"\",\"\",RANK(O36924,$O$2:$O$1000))","v":""}]
["5381 合正","王春仁          王春仁",1845,"王春仁",null,null,null,null,null,null,null,null,null,null,{"$f":"IFERROR(VLOOKUP(K36934,股價!A:B,2,0)*M36934,\"\")","v":""},{"$f":"IF(O36934=\"\",\"\",RANK(O36934,$O$2:$O$1000))","v":""}]
["5383 金利","建德工業(股)    李金旆",8347,"建德工業",null,null,null,null,null,null,null,null,null,null,{"$f":"IFERROR(VLOOKUP(K36965,股價!A:B,2,0)*M36965,\"\")","v":""},{"$f":"IF(O36965=\"\",\"\",RANK(O36965,$O$2:$O$1000))","v":""}]
["5386 青雲","郭希古          郭希古",0,"郭希古",null,null,null,null,null,null,null,null,null,null,{"$f":"IFERROR(VLOOKUP(K36997,股價!A:B,2,0)*M36997,\"\")","v":""},{"$f":"IF(O36997=\"\",\"\",RANK(O36997,$O$2:$O$1000))","v":""}]
["5388 中磊","林斌            林斌",1382,"林斌",null,null,null,null,null,null,null,null,null,null,{"$f":"IFERROR(VLOOKUP(K37028,股價!A:B,2,0)*M37028,\"\")","v":""},{"$f":"IF(O37028=\"\",\"\",RANK(O37028,$O$2:$O$1000))","v":""}]
["5392 能率","_大股東合計1",17264,null,null,null,null,null,null,null,null,null,null,null,{"$f":"IFERROR(VLOOKUP(K37044,股價!A:B,2,0)*M37044,\"\")","v":""},{"$f":"IF(O37044=\"\",\"\",RANK(O37044,$O$2:$O$1000))","v":""}]
["5392 能率","黃立安          黃立安",0,"黃立安",null,null,null,null,null,null,null,null,null,null,{"$f":"IFERROR(VLOOKUP(K37068,股價!A:B,2,0)*M37068,\"\")","v":""},{"$f":"IF(O37068=\"\",\"\",RANK(O37068,$O$2:$O$1000))","v":""}]
["5403 中菲","阮耀樟          阮耀樟",0,"阮耀樟",null,null,null,null,null,null,null,null,null,null,{"$f":"IFERROR(VLOOKUP(K37112,股價!A:B,2,0)*M37112,\"\")","v":""},{"$f":"IF(O37112=\"\",\"\",RANK(O37112,$O$2:$O$1000))","v":""}]
["5410 國眾","_董監事合計",8217,null,null,null,null,null,null,null,null,null,null,null,{"$f":"IFERROR(VLOOKUP(K37131,股價!A:B,2,0)*M37131,\"\")","v":""},{"$f":"IF(O37131=\"\",\"\",RANK(O37131,$O$2:$O$1000))","v":""}]
["5410 國眾","邱維埠          邱維埠",1,"邱維埠",null,null,null,null,null,null,null,null,null,null,{"$f":"IFERROR(VLOOKUP(K37148,股價!A:B,2,0)*M37148,\"\")","v":""},{"$f":"IF(O37148=\"\",\"\",RANK(O37148,$O$2:$O$1000))","v":""}]
["5425 台半","詹乾隆          詹乾隆",0,"詹乾隆",null,null,null,null,null,null,null,null,null,null,{"$f":"IFERROR(VLOOKUP(K37196,股價!A:B,2,0)*M37196,\"\")","v":""},{"$f":"IF(O37196=\"\",\"\",RANK(O37196,$O$2:$O$1000))","v":""}]
["5425 台半","鄭懿誠          鄭懿誠",0,"鄭懿誠",null,null,null,null,null,null,null,null,null,null,{"$f":"IFERROR(VLOOKUP(K37202,股價!A:B,2,0)*M37202,\"\")","v":""},{"$f":"IF(O37202=\"\",\"\",RANK(O37202,$O$2:$O$1000))","v":""}]
["5432 新門","_董  事合計",4607,null,null,null,null,null,null,null,null,null,null,null,{"$f":"IFERROR(VLOOKUP(K37232,股價!A:B,2,0)*M37232,\"\")","v":""},{"$f":"IF(O37232=\"\",\"\",RANK(O37232,$O$2:$O$1000))","v":""}]
["5434 崇越","吳玉敏          吳玉敏",160,"吳玉敏",null,null,null,null,null,null,null,null,null,null,{"$f":"IFERROR(VLOOKUP(K37265,股價!A:B,2,0)*M37265,\"\")","v":""},{"$f":"IF(O37265=\"\",\"\",RANK(O37265,$O$2:$O$1000))","v":""}]
["5438 東友","_經理人合計",569,null,null,null,null,null,null,null,null,null,null,null,{"$f":"IFERROR(VLOOKUP(K37295,股價!A:B,2,0)*M37295,\"\")","v":""},{"$f":"IF(O37295=\"\",\"\",RANK(O37295,$O$2:$O$1000))","v":""}]
["5438 東友","許婉琪          許婉琪",0,"許婉琪",null,null,null,null,null,null,null,null,null,null,{"$f":"IFERROR(VLOOKUP(K37316,股價!A:B,2,0)*M37316,\"\")","v":""},{"$f":"IF(O37316=\"\",\"\",RANK(O37316,$O$2:$O$1000))","v":""}]
["5439 高技","朱伯昇          朱伯昇",3340,"朱伯昇",null,null,null,null,null,null,null,null,null,null,{"$f":"IFERROR(VLOOKUP(K37336,股價!A:B,2,0)*M37336,\"\")","v":""},{"$f":"IF(O37336=\"\",\"\",RANK(O37336,$O$2:$O$1000))","v":""}]
["5443 均豪","童家慶          童家慶",0,"童家慶",null,null,null,null,null,null,null,null,null,null,{"$f":"IFERROR(VLOOKUP(K37379,股價!A:B,2,0)*M37379,\"\")","v":""},{"$f":"IF(O37379=\"\",\"\",RANK(O37379,$O$2:$O$1000))","v":""}]
["5450 南良","長衍投資(股)    王詩婷",538,"長衍投資股份有限公司",null,null,null,null,null,null,null,null,null,null,{"$f":"IFERROR(VLOOKUP(K37399,股價!A:B,2,0)*M37399,\"\")","v":""},{"$f":"IF(O37399=\"\",\"\",RANK(O37399,$O$2:$O$1000))","v":""}]
["5452 佶優","_經理人合計",10,null,null,null,null,null,null,null,null,null,null,null,{"$f":"IFERROR(VLOOKUP(K37415,股價!A:B,2,0)*M37415,\"\")","v":""},{"$f":"IF(O37415=\"\",\"\",RANK(O37415,$O$2:$O$1000))","v":""}]
["5457 宣德","開泰投資(股)    黃志泰",2030,"開泰投資",null,null,null,null,null,null,null,null,null,null,{"$f":"IFERROR(VLOOKUP(K37463,股價!A:B,2,0)*M37463,\"\")","v":""},{"$f":"IF(O37463=\"\",\"\",RANK(O37463,$O$2:$O$1000))","v":""}]
["5457 宣德","鑫鋒投資(有)    鑫鋒投資(有)",110,"鑫鋒投資有限公司",null,null,null,null,null,null,null,null,null,null,{"$f":"IFERROR(VLOOKUP(K37470,股價!A:B,2,0)*M37470,\"\")","v":""},{"$f":"IF(O37470=\"\",\"\",RANK(O37470,$O$2:$O$1000))","v":""}]
["5468 凱鈺","_監察人合計",0,null,null,null,null,null,null,null,null,null,null,null,{"$f":"IFERROR(VLOOKUP(K37499,股價!A:B,2,0)*M37499,\"\")","v":""},{"$f":"IF(O37499=\"\",\"\",RANK(O37499,$O$2:$O$1000))","v":""}]
["5469 瀚宇博","陳昭如          陳昭如",18,"陳昭如",null,null,null,null,null,null,null,null,null,null,{"$f":"IFERROR(VLOOKUP(K37537,股價!A:B,2,0)*M37537,\"\")","v":""},{"$f":"IF(O37537=\"\",\"\",RANK(O37537,$O$2:$O$1000))","v":""}]
["5471 松翰","林秀玲          林秀玲",6,"林秀玲",null,null,null,null,null,null,null,null,null,null,{"$f":"IFERROR(VLOOKUP(K37562,股價!A:B,2,0)*M37562,\"\")","v":""},{"$f":"IF(O37562=\"\",\"\",RANK(O37562,$O$2:$O$1000))","v":""}]
["5474 聰泰","_監察人合計",0,null,null,null,null,null,null,null,null,null,null,null,{"$f":"IFERROR(VLOOKUP(K37583,股價!A:B,2,0)*M37583,\"\")","v":""},{"$f":"IF(O37583=\"\",\"\",RANK(O37583,$O$2:$O$1000))","v":""}]
["5475 德宏","_大股東合計2    含沿用資料",5808,null,null,null,null,null,null,null,null,null,null,null,{"$f":"IFERROR(VLOOKUP(K37604,股價!A:B,2,0)*M37604,\"\")","v":""},{"$f":"IF(O37604=\"\",\"\",RANK(O37604,$O$2:$O$1000))","v":""}]
["5478 智冠","莊璧華          莊璧華",0,"莊璧華",null,null,null,null,null,null,null,null,null,null,{"$f":"IFERROR(VLOOKUP(K37646,股價!A:B,2,0)*M37646,\"\")","v":""},{"$f":"IF(O37646=\"\",\"\",RANK(O37646,$O$2:$O$1000))","v":""}]
["5481 新華","許(水靜)文      許(水靜)文",5,"許(水靜)文",null,null,null,null,null,null,null,null,null,null,{"$f":"IFERROR(VLOOKUP(K37671,股價!A:B,2,0)*M37671,\"\")","v":""},{"$f":"IF(O37671=\"\",\"\",RANK(O37671,$O$2:$O$1000))","v":""}]
["5483 中美晶","_董  事合計",30624,null,null,null,null,null,null,null,null,null,null,null,{"$f":"IFERROR(VLOOKUP(K37682,股價!A:B,2,0)*M37682,\"\")","v":""},{"$f":"IF(O37682=\"\",\"\",RANK(O37682,$O$2:$O$1000))","v":""}]
["5483 中美晶","郭浩中          郭浩中",0,"郭浩中",null,null,null,null,null,null,null,null,null,null,{"$f":"IFERROR(VLOOKUP(K37703,股價!A:B,2,0)*M37703,\"\")","v":""},{"$f":"IF(O37703=\"\",\"\",RANK(O37703,$O$2:$O$1000))","v":""}]
["5487 通泰","_監察人合計",0,null,null,null,null,null,null,null,null,null,null,null,{"$f":"IFERROR(VLOOKUP(K37742,股價!A:B,2,0)*M37742,\"\")","v":""},{"$f":"IF(O37742=\"\",\"\",RANK(O37742,$O$2:$O$1000))","v":""}]
["5488 松普","李振陽          李振陽",0,"李振陽",null,null,null,null,null,null,null,null,null,null,{"$f":"IFERROR(VLOOKUP(K37766,股價!A:B,2,0)*M37766,\"\")","v":""},{"$f":"IF(O37766=\"\",\"\",RANK(O37766,$O$2:$O$1000))","v":""}]
["5490 同亨","_大股東合計1",0,null,null,null,null,null,null,null,null,null,null,null,{"$f":"IFERROR(VLOOKUP(K37805,股價!A:B,2,0)*M37805,\"\")","v":""},{"$f":"IF(O37805=\"\",\"\",RANK(O37805,$O$2:$O$1000))","v":""}]
["5490 同亨","黃旭男          黃旭男",0,"黃旭男",null,null,null,null,null,null,null,null,null,null,{"$f":"IFERROR(VLOOKUP(K37829,股價!A:B,2,0)*M37829,\"\")","v":""},{"$f":"IF(O37829=\"\",\"\",RANK(O37829,$O$2:$O$1000))","v":""}]
["5493 三聯","柯炎輝          柯炎輝",0,"柯炎輝",null,null,null,null,null,null,null,null,null,null,{"$f":"IFERROR(VLOOKUP(K37850,股價!A:B,2,0)*M37850,\"\")","v":""},{"$f":"IF(O37850=\"\",\"\",RANK(O37850,$O$2:$O$1000))","v":""}]
["5498 凱崴","周家駒          周家駒",0,"周家駒",null,null,null,null,null,null,null,null,null,null,{"$f":"IFERROR(VLOOKUP(K37876,股價!A:B,2,0)*M37876,\"\")","v":""},{"$f":"IF(O37876=\"\",\"\",RANK(O37876,$O$2:$O$1000))","v":""}]
["5508 永信建","洪益源          洪益源",1,"洪益源",null,null,null,null,null,null,null,null,null,null,{"$f":"IFERROR(VLOOKUP(K37913,股價!A:B,2,0)*M37913,\"\")","v":""},{"$f":"IF(O37913=\"\",\"\",RANK(O37913,$O$2:$O$1000))","v":""}]
["5511 德昌","三齊營造(股)    何學文",7718,"三齊營造",null,null,null,null,null,null,null,null,null,null,{"$f":"IFERROR(VLOOKUP(K37934,股價!A:B,2,0)*M37934,\"\")","v":""},{"$f":"IF(O37934=\"\",\"\",RANK(O37934,$O$2:$O$1000))","v":""}]
["5511 德昌","唐銘資產管理(股)詹雨欣",4248,"唐銘資產管理",null,null,null,null,null,null,null,null,null,null,{"$f":"IFERROR(VLOOKUP(K37943,股價!A:B,2,0)*M37943,\"\")","v":""},{"$f":"IF(O37943=\"\",\"\",RANK(O37943,$O$2:$O$1000))","v":""}]
["5512 力麒","大虹投資(股)    賴每",11300,"大虹投資",null,null,null,null,null,null,null,null,null,null,{"$f":"IFERROR(VLOOKUP(K37970,股價!A:B,2,0)*M37970,\"\")","v":""},{"$f":"IF(O37970=\"\",\"\",RANK(O37970,$O$2:$O$1000))","v":""}]
["5515 建國","周政德          周政德",49,"周政德",null,null,null,null,null,null,null,null,null,null,{"$f":"IFERROR(VLOOKUP(K38010,股價!A:B,2,0)*M38010,\"\")","v":""},{"$f":"IF(O38010=\"\",\"\",RANK(O38010,$O$2:$O$1000))","v":""}]
["5515 建國","德慶投資(股)    陳啟德",5760,"德慶投資",null,null,null,null,null,null,null,null,null,null,{"$f":"IFERROR(VLOOKUP(K38033,股價!A:B,2,0)*M38033,\"\")","v":""},{"$f":"IF(O38033=\"\",\"\",RANK(O38033,$O$2:$O$1000))","v":""}]
["5516 雙喜","陳品溦          陳品溦",0,"陳品溦",null,null,null,null,null,null,null,null,null,null,{"$f":"IFERROR(VLOOKUP(K38054,股價!A:B,2,0)*M38054,\"\")","v":""},{"$f":"IF(O38054=\"\",\"\",RANK(O38054,$O$2:$O$1000))","v":""}]
["5519 隆大","郭秀香          郭秀香",10,"郭秀香",null,null,null,null,null,null,null,null,null,null,{"$f":"IFERROR(VLOOKUP(K38081,股價!A:B,2,0)*M38081,\"\")","v":""},{"$f":"IF(O38081=\"\",\"\",RANK(O38081,$O$2:$O$1000))","v":""}]
["5520 力泰","振芳投資(股)    吳良材",3761,"振芳投資",null,null,null,null,null,null,null,null,null,null,{"$f":"IFERROR(VLOOKUP(K38117,股價!A:B,2,0)*M38117,\"\")","v":""},{"$f":"IF(O38117=\"\",\"\",RANK(O38117,$O$2:$O$1000))","v":""}]
["5521 工信","李貴美          李貴美",24883,"李貴美",null,null,null,null,null,null,null,null,null,null,{"$f":"IFERROR(VLOOKUP(K38144,股價!A:B,2,0)*M38144,\"\")","v":""},{"$f":"IF(O38144=\"\",\"\",RANK(O38144,$O$2:$O$1000))","v":""}]
["5522 遠雄","遠見投資(股)    趙文嘉",4024,"遠見投資",null,null,null,null,null,null,null,null,null,null,{"$f":"IFERROR(VLOOKUP(K38180,股價!A:B,2,0)*M38180,\"\")","v":""},{"$f":"IF(O38180=\"\",\"\",RANK(O38180,$O$2:$O$1000))","v":""}]
["5523 豐謙","吳銘欣          吳銘欣",3182,"吳銘欣",null,null,null,null,null,null,null,null,null,null,{"$f":"IFERROR(VLOOKUP(K38201,股價!A:B,2,0)*M38201,\"\")","v":""},{"$f":"IF(O38201=\"\",\"\",RANK(O38201,$O$2:$O$1000))","v":""}]
["5523 豐謙","廖福本          廖福本",0,"廖福本",null,null,null,null,null,null,null,null,null,null,{"$f":"IFERROR(VLOOKUP(K38215,股價!A:B,2,0)*M38215,\"\")","v":""},{"$f":"IF(O38215=\"\",\"\",RANK(O38215,$O$2:$O$1000))","v":""}]
["5525 順天","忠泰投資(股)    吳浚銘",8518,"忠泰投資",null,null,null,null,null,null,null,null,null,null,{"$f":"IFERROR(VLOOKUP(K38237,股價!A:B,2,0)*M38237,\"\")","v":""},{"$f":"IF(O38237=\"\",\"\",RANK(O38237,$O$2:$O$1000))","v":""}]
["5530 龍巖","花旗瑞豐亞洲    花旗瑞豐亞洲",6069,"花旗託管瑞豐(亞洲)證券投資專戶",null,null,null,null,null,null,null,null,null,null,{"$f":"IFERROR(VLOOKUP(K38278,股價!A:B,2,0)*M38278,\"\")","v":""},{"$f":"IF(O38278=\"\",\"\",RANK(O38278,$O$2:$O$1000))","v":""}]
["5530 龍巖","龍一資本(股)    龍一資本(股)",261,"龍一資本股份有限公司",null,null,null,null,null,null,null,null,null,null,{"$f":"IFERROR(VLOOKUP(K38300,股價!A:B,2,0)*M38300,\"\")","v":""},{"$f":"IF(O38300=\"\",\"\",RANK(O38300,$O$2:$O$1000))","v":""}]
["5531 鄉林","廖沛琪          廖沛琪",37,"廖沛琪",null,null,null,null,null,null,null,null,null,null,{"$f":"IFERROR(VLOOKUP(K38321,股價!A:B,2,0)*M38321,\"\")","v":""},{"$f":"IF(O38321=\"\",\"\",RANK(O38321,$O$2:$O$1000))","v":""}]
["5533 皇鼎","黃紋祝          黃紋祝",100,"黃紋祝",null,null,null,null,null,null,null,null,null,null,{"$f":"IFERROR(VLOOKUP(K38349,股價!A:B,2,0)*M38349,\"\")","v":""},{"$f":"IF(O38349=\"\",\"\",RANK(O38349,$O$2:$O$1000))","v":""}]
["5534 長虹","富邦人壽保險(股)蔡明興",14445,"富邦人壽保險",null,null,null,null,null,null,null,null,null,null,{"$f":"IFERROR(VLOOKUP(K38384,股價!A:B,2,0)*M38384,\"\")","v":""},{"$f":"IF(O38384=\"\",\"\",RANK(O38384,$O$2:$O$1000))","v":""}]
["5536 聖暉*","紀家慶          紀家慶",7,"紀家慶",null,null,null,null,null,null,null,null,null,null,{"$f":"IFERROR(VLOOKUP(K38412,股價!A:B,2,0)*M38412,\"\")","v":""},{"$f":"IF(O38412=\"\",\"\",RANK(O38412,$O$2:$O$1000))","v":""}]
["5536 聖暉*","葉惠心          葉惠心",7,"葉惠心",null,null,null,null,null,null,null,null,null,null,{"$f":"IFERROR(VLOOKUP(K38425,股價!A:B,2,0)*M38425,\"\")","v":""},{"$f":"IF(O38425=\"\",\"\",RANK(O38425,$O$2:$O$1000))","v":""}]
["5543 桓鼎-KY","陳秀秀          陳秀秀",2064,"陳秀秀",null,null,null,null,null,null,null,null,null,null,{"$f":"IFERROR(VLOOKUP(K38468,股價!A:B,2,0)*M38468,\"\")","v":""},{"$f":"IF(O38468=\"\",\"\",RANK(O38468,$O$2:$O$1000))","v":""}]
["5546 永固-KY","_監察人合計",0,null,null,null,null,null,null,null,null,null,null,null,{"$f":"IFERROR(VLOOKUP(K38483,股價!A:B,2,0)*M38483,\"\")","v":""},{"$f":"IF(O38483=\"\",\"\",RANK(O38483,$O$2:$O$1000))","v":""}]
["5601 台聯櫃","三慶投資(股)    賴允亮",1078,"三慶投資",null,null,null,null,null,null,null,null,null,null,{"$f":"IFERROR(VLOOKUP(K38504,股價!A:B,2,0)*M38504,\"\")","v":""},{"$f":"IF(O38504=\"\",\"\",RANK(O38504,$O$2:$O$1000))","v":""}]
["5601 台聯櫃","恒健投資(股)    簡智仁",426,"恒健投資",null,null,null,null,null,null,null,null,null,null,{"$f":"IFERROR(VLOOKUP(K38546,股價!A:B,2,0)*M38546,\"\")","v":""},{"$f":"IF(O38546=\"\",\"\",RANK(O38546,$O$2:$O$1000))","v":""}]
["5603 陸海","黃良平          黃良平",1,"黃良平",null,null,null,null,null,null,null,null,null,null,{"$f":"IFERROR(VLOOKUP(K38572,股價!A:B,2,0)*M38572,\"\")","v":""},{"$f":"IF(O38572=\"\",\"\",RANK(O38572,$O$2:$O$1000))","v":""}]
["5604 中連","長連汽車企業股份陳志欣",2176,"長連汽車企業股份有限公司",null,null,null,null,null,null,null,null,null,null,{"$f":"IFERROR(VLOOKUP(K38588,股價!A:B,2,0)*M38588,\"\")","v":""},{"$f":"IF(O38588=\"\",\"\",RANK(O38588,$O$2:$O$1000))","v":""}]
["5607 遠雄港","陳松造          陳松造",27,"陳松造",null,null,null,null,null,null,null,null,null,null,{"$f":"IFERROR(VLOOKUP(K38617,股價!A:B,2,0)*M38617,\"\")","v":""},{"$f":"IF(O38617=\"\",\"\",RANK(O38617,$O$2:$O$1000))","v":""}]
["5609 中菲行","_大股東合計2    含沿用資料",16781,null,null,null,null,null,null,null,null,null,null,null,{"$f":"IFERROR(VLOOKUP(K38656,股價!A:B,2,0)*M38656,\"\")","v":""},{"$f":"IF(O38656=\"\",\"\",RANK(O38656,$O$2:$O$1000))","v":""}]
["5701 劍湖山","_大股東合計1",19188,null,null,null,null,null,null,null,null,null,null,null,{"$f":"IFERROR(VLOOKUP(K38680,股價!A:B,2,0)*M38680,\"\")","v":""},{"$f":"IF(O38680=\"\",\"\",RANK(O38680,$O$2:$O$1000))","v":""}]
["5701 劍湖山","和盟流通(股)    和盟流通(股)",19188,"和盟流通",null,null,null,null,null,null,null,null,null,null,{"$f":"IFERROR(VLOOKUP(K38692,股價!A:B,2,0)*M38692,\"\")","v":""},{"$f":"IF(O38692=\"\",\"\",RANK(O38692,$O$2:$O$1000))","v":""}]
["5703 亞都","智元投資(有)    柯美鈴",4189,"智元投資有限公司",null,null,null,null,null,null,null,null,null,null,{"$f":"IFERROR(VLOOKUP(K38735,股價!A:B,2,0)*M38735,\"\")","v":""},{"$f":"IF(O38735=\"\",\"\",RANK(O38735,$O$2:$O$1000))","v":""}]
["5704 老爺知","老爺大酒店(股)  黃珠英",3088,"老爺大酒店",null,null,null,null,null,null,null,null,null,null,{"$f":"IFERROR(VLOOKUP(K38751,股價!A:B,2,0)*M38751,\"\")","v":""},{"$f":"IF(O38751=\"\",\"\",RANK(O38751,$O$2:$O$1000))","v":""}]
["5706 鳳凰","_經理人合計",535,null,null,null,null,null,null,null,null,null,null,null,{"$f":"IFERROR(VLOOKUP(K38776,股價!A:B,2,0)*M38776,\"\")","v":""},{"$f":"IF(O38776=\"\",\"\",RANK(O38776,$O$2:$O$1000))","v":""}]
["5864 致和證","王維            王維",61,"王維",null,null,null,null,null,null,null,null,null,null,{"$f":"IFERROR(VLOOKUP(K38814,股價!A:B,2,0)*M38814,\"\")","v":""},{"$f":"IF(O38814=\"\",\"\",RANK(O38814,$O$2:$O$1000))","v":""}]
["5864 致和證","黃依如          黃依如",0,"黃依如",null,null,null,null,null,null,null,null,null,null,{"$f":"IFERROR(VLOOKUP(K38839,股價!A:B,2,0)*M38839,\"\")","v":""},{"$f":"IF(O38839=\"\",\"\",RANK(O38839,$O$2:$O$1000))","v":""}]
["5871 中租-KY","CheeWeeGoh      CheeWeeGoh",0,"Chee Wee Goh",null,null,null,null,null,null,null,null,null,null,{"$f":"IFERROR(VLOOKUP(K38855,股價!A:B,2,0)*M38855,\"\")","v":""},{"$f":"IF(O38855=\"\",\"\",RANK(O38855,$O$2:$O$1000))","v":""}]
["5871 中租-KY","曾裕益          曾裕益",0,"曾裕益",null,null,null,null,null,null,null,null,null,null,{"$f":"IFERROR(VLOOKUP(K38885,股價!A:B,2,0)*M38885,\"\")","v":""},{"$f":"IF(O38885=\"\",\"\",RANK(O38885,$O$2:$O$1000))","v":""}]
["5876 上海商銀","王琮暉          王琮暉",210,"王琮暉",null,null,null,null,null,null,null,null,null,null,{"$f":"IFERROR(VLOOKUP(K38923,股價!A:B,2,0)*M38923,\"\")","v":""},{"$f":"IF(O38923=\"\",\"\",RANK(O38923,$O$2:$O$1000))","v":""}]
["5876 上海商銀","林志宏          林志宏",1872,"林志宏",null,null,null,null,null,null,null,null,null,null,{"$f":"IFERROR(VLOOKUP(K38948,股價!A:B,2,0)*M38948,\"\")","v":""},{"$f":"IF(O38948=\"\",\"\",RANK(O38948,$O$2:$O$1000))","v":""}]
["5876 上海商銀","林麗珍          林麗珍",120,"林麗珍",null,null,null,null,null,null,null,null,null,null,{"$f":"IFERROR(VLOOKUP(K38959,股價!A:B,2,0)*M38959,\"\")","v":""},{"$f":"IF(O38959=\"\",\"\",RANK(O38959,$O$2:$O$1000))","v":""}]
["5876 上海商銀","許守銘          許守銘",1380,"許守銘",null,null,null,null,null,null,null,null,null,null,{"$f":"IFERROR(VLOOKUP(K38980,股價!A:B,2,0)*M38980,\"\")","v":""},{"$f":"IF(O38980=\"\",\"\",RANK(O38980,$O$2:$O$1000))","v":""}]
["5876 上海商銀","劉尚松          劉尚松",67,"劉尚松",null,null,null,null,null,null,null,null,null,null,{"$f":"IFERROR(VLOOKUP(K39019,股價!A:B,2,0)*M39019,\"\")","v":""},{"$f":"IF(O39019=\"\",\"\",RANK(O39019,$O$2:$O$1000))","v":""}]
["5876 上海商銀","藍志雄          藍志雄",447,"藍志雄",null,null,null,null,null,null,null,null,null,null,{"$f":"IFERROR(VLOOKUP(K39043,股價!A:B,2,0)*M39043,\"\")","v":""},{"$f":"IF(O39043=\"\",\"\",RANK(O39043,$O$2:$O$1000))","v":""}]
["5880 合庫金","_大股東合計1",0,null,null,null,null,null,null,null,null,null,null,null,{"$f":"IFERROR(VLOOKUP(K39082,股價!A:B,2,0)*M39082,\"\")","v":""},{"$f":"IF(O39082=\"\",\"\",RANK(O39082,$O$2:$O$1000))","v":""}]
["5880 合庫金","林漢奇          林漢奇",0,"林漢奇",null,null,null,null,null,null,null,null,null,null,{"$f":"IFERROR(VLOOKUP(K39106,股價!A:B,2,0)*M39106,\"\")","v":""},{"$f":"IF(O39106=\"\",\"\",RANK(O39106,$O$2:$O$1000))","v":""}]
["5880 合庫金","黃鈴翠          黃鈴翠",56,"黃鈴翠",null,null,null,null,null,null,null,null,null,null,{"$f":"IFERROR(VLOOKUP(K39127,股價!A:B,2,0)*M39127,\"\")","v":""},{"$f":"IF(O39127=\"\",\"\",RANK(O39127,$O$2:$O$1000))","v":""}]
["5902 德記","統一企業(股)    柴佳明",60735,"統一企業",null,null,null,null,null,null,null,null,null,null,{"$f":"IFERROR(VLOOKUP(K39153,股價!A:B,2,0)*M39153,\"\")","v":""},{"$f":"IF(O39153=\"\",\"\",RANK(O39153,$O$2:$O$1000))","v":""}]
["5903 全家","李燕松          李燕松",0,"李燕松",null,null,null,null,null,null,null,null,null,null,{"$f":"IFERROR(VLOOKUP(K39190,股價!A:B,2,0)*M39190,\"\")","v":""},{"$f":"IF(O39190=\"\",\"\",RANK(O39190,$O$2:$O$1000))","v":""}]
["5903 全家","胡素惠          胡素惠",2,"胡素惠",null,null,null,null,null,null,null,null,null,null,{"$f":"IFERROR(VLOOKUP(K39194,股價!A:B,2,0)*M39194,\"\")","v":""},{"$f":"IF(O39194=\"\",\"\",RANK(O39194,$O$2:$O$1000))","v":""}]
["5904 寶雅","_董  事合計",23225,null,null,null,null,null,null,null,null,null,null,null,{"$f":"IFERROR(VLOOKUP(K39226,股價!A:B,2,0)*M39226,\"\")","v":""},{"$f":"IF(O39226=\"\",\"\",RANK(O39226,$O$2:$O$1000))","v":""}]
["5904 寶雅","陳范美津        陳范美津",183,"陳范美津",null,null,null,null,null,null,null,null,null,null,{"$f":"IFERROR(VLOOKUP(K39247,股價!A:B,2,0)*M39247,\"\")","v":""},{"$f":"IF(O39247=\"\",\"\",RANK(O39247,$O$2:$O$1000))","v":""}]
["5905 南仁湖","鄭宜芳          鄭宜芳",14602,"鄭宜芳",null,null,null,null,null,null,null,null,null,null,{"$f":"IFERROR(VLOOKUP(K39287,股價!A:B,2,0)*M39287,\"\")","v":""},{"$f":"IF(O39287=\"\",\"\",RANK(O39287,$O$2:$O$1000))","v":""}]
["5906 台南-KY","連凰樺          連凰樺",0,"連凰樺",null,null,null,null,null,null,null,null,null,null,{"$f":"IFERROR(VLOOKUP(K39310,股價!A:B,2,0)*M39310,\"\")","v":""},{"$f":"IF(O39310=\"\",\"\",RANK(O39310,$O$2:$O$1000))","v":""}]
["5907 大洋-KY","林玉茵          林玉茵",0,"林玉茵",null,null,null,null,null,null,null,null,null,null,{"$f":"IFERROR(VLOOKUP(K39331,股價!A:B,2,0)*M39331,\"\")","v":""},{"$f":"IF(O39331=\"\",\"\",RANK(O39331,$O$2:$O$1000))","v":""}]
["6005 群益證","甘凱中          甘凱中",0,"甘凱中",null,null,null,null,null,null,null,null,null,null,{"$f":"IFERROR(VLOOKUP(K39358,股價!A:B,2,0)*M39358,\"\")","v":""},{"$f":"IF(O39358=\"\",\"\",RANK(O39358,$O$2:$O$1000))","v":""}]
["6005 群益證","泰盛投資(股)    王淳富",71455,"泰盛投資",null,null,null,null,null,null,null,null,null,null,{"$f":"IFERROR(VLOOKUP(K39394,股價!A:B,2,0)*M39394,\"\")","v":""},{"$f":"IF(O39394=\"\",\"\",RANK(O39394,$O$2:$O$1000))","v":""}]
["6005 群益證","陳韋志          陳韋志",0,"陳韋志",null,null,null,null,null,null,null,null,null,null,{"$f":"IFERROR(VLOOKUP(K39421,股價!A:B,2,0)*M39421,\"\")","v":""},{"$f":"IF(O39421=\"\",\"\",RANK(O39421,$O$2:$O$1000))","v":""}]
["6005 群益證","鄭雅云          鄭雅云",0,"鄭雅雲",null,null,null,null,null,null,null,null,null,null,{"$f":"IFERROR(VLOOKUP(K39457,股價!A:B,2,0)*M39457,\"\")","v":""},{"$f":"IF(O39457=\"\",\"\",RANK(O39457,$O$2:$O$1000))","v":""}]
["6015 宏遠證","三商福寶(股)    王顯昌",21503,"三商福寶",null,null,null,null,null,null,null,null,null,null,{"$f":"IFERROR(VLOOKUP(K39478,股價!A:B,2,0)*M39478,\"\")","v":""},{"$f":"IF(O39478=\"\",\"\",RANK(O39478,$O$2:$O$1000))","v":""}]
["6015 宏遠證","李美茜          李美茜",0,"李美茜",null,null,null,null,null,null,null,null,null,null,{"$f":"IFERROR(VLOOKUP(K39492,股價!A:B,2,0)*M39492,\"\")","v":""},{"$f":"IF(O39492=\"\",\"\",RANK(O39492,$O$2:$O$1000))","v":""}]
["6015 宏遠證","張惠雯          張惠雯",0,"張惠雯",null,null,null,null,null,null,null,null,null,null,{"$f":"IFERROR(VLOOKUP(K39514,股價!A:B,2,0)*M39514,\"\")","v":""},{"$f":"IF(O39514=\"\",\"\",RANK(O39514,$O$2:$O$1000))","v":""}]
["6016 康和證","大天投資(股)    蕭祥玲",17872,"大天投資",null,null,null,null,null,null,null,null,null,null,{"$f":"IFERROR(VLOOKUP(K39559,股價!A:B,2,0)*M39559,\"\")","v":""},{"$f":"IF(O39559=\"\",\"\",RANK(O39559,$O$2:$O$1000))","v":""}]
["6016 康和證","呂素玲          呂素玲",111,"呂素玲",null,null,null,null,null,null,null,null,null,null,{"$f":"IFERROR(VLOOKUP(K39577,股價!A:B,2,0)*M39577,\"\")","v":""},{"$f":"IF(O39577=\"\",\"\",RANK(O39577,$O$2:$O$1000))","v":""}]
["6016 康和證","張家嘉          張家嘉",90,"張家嘉",null,null,null,null,null,null,null,null,null,null,{"$f":"IFERROR(VLOOKUP(K39598,股價!A:B,2,0)*M39598,\"\")","v":""},{"$f":"IF(O39598=\"\",\"\",RANK(O39598,$O$2:$O$1000))","v":""}]
["6016 康和證","廖敏秀          廖敏秀",42,"廖敏秀",null,null,null,null,null,null,null,null,null,null,{"$f":"IFERROR(VLOOKUP(K39626,股價!A:B,2,0)*M39626,\"\")","v":""},{"$f":"IF(O39626=\"\",\"\",RANK(O39626,$O$2:$O$1000))","v":""}]
["6020 大展證","昇威投資(股)    昇威投資(股)",52718,"昇威投資",null,null,null,null,null,null,null,null,null,null,{"$f":"IFERROR(VLOOKUP(K39661,股價!A:B,2,0)*M39661,\"\")","v":""},{"$f":"IF(O39661=\"\",\"\",RANK(O39661,$O$2:$O$1000))","v":""}]
["6021 美好證","吳雅瑜          吳雅瑜",8,"吳雅瑜",null,null,null,null,null,null,null,null,null,null,{"$f":"IFERROR(VLOOKUP(K39693,股價!A:B,2,0)*M39693,\"\")","v":""},{"$f":"IF(O39693=\"\",\"\",RANK(O39693,$O$2:$O$1000))","v":""}]
["6021 美好證","黃德威          黃德威",0,"黃德威",null,null,null,null,null,null,null,null,null,null,{"$f":"IFERROR(VLOOKUP(K39724,股價!A:B,2,0)*M39724,\"\")","v":""},{"$f":"IF(O39724=\"\",\"\",RANK(O39724,$O$2:$O$1000))","v":""}]
["6023 元大期","元大金融控股(股)邱文卿",192167,"元大金融控股",null,null,null,null,null,null,null,null,null,null,{"$f":"IFERROR(VLOOKUP(K39745,股價!A:B,2,0)*M39745,\"\")","v":""},{"$f":"IF(O39745=\"\",\"\",RANK(O39745,$O$2:$O$1000))","v":""}]
["6023 元大期","林世明          林世明",20,"林世明",null,null,null,null,null,null,null,null,null,null,{"$f":"IFERROR(VLOOKUP(K39760,股價!A:B,2,0)*M39760,\"\")","v":""},{"$f":"IF(O39760=\"\",\"\",RANK(O39760,$O$2:$O$1000))","v":""}]
["6023 元大期","陳琮翔          陳琮翔",0,"陳琮翔",null,null,null,null,null,null,null,null,null,null,{"$f":"IFERROR(VLOOKUP(K39781,股價!A:B,2,0)*M39781,\"\")","v":""},{"$f":"IF(O39781=\"\",\"\",RANK(O39781,$O$2:$O$1000))","v":""}]
["6024 群益期","第一產物保險(股)李正漢",1475,"第一產物保險",null,null,null,null,null,null,null,null,null,null,{"$f":"IFERROR(VLOOKUP(K39827,股價!A:B,2,0)*M39827,\"\")","v":""},{"$f":"IF(O39827=\"\",\"\",RANK(O39827,$O$2:$O$1000))","v":""}]
["6024 群益期","群益金鼎證券(股)劉敬村",119066,"群益金鼎證券",null,null,null,null,null,null,null,null,null,null,{"$f":"IFERROR(VLOOKUP(K39844,股價!A:B,2,0)*M39844,\"\")","v":""},{"$f":"IF(O39844=\"\",\"\",RANK(O39844,$O$2:$O$1000))","v":""}]
["6026 福邦證","中央電影事業(股)郭台強",6005,"中央電影事業",null,null,null,null,null,null,null,null,null,null,{"$f":"IFERROR(VLOOKUP(K39865,股價!A:B,2,0)*M39865,\"\")","v":""},{"$f":"IF(O39865=\"\",\"\",RANK(O39865,$O$2:$O$1000))","v":""}]
["6026 福邦證","誠曄投資(股)    鄭文宗",8195,"誠曄投資",null,null,null,null,null,null,null,null,null,null,{"$f":"IFERROR(VLOOKUP(K39898,股價!A:B,2,0)*M39898,\"\")","v":""},{"$f":"IF(O39898=\"\",\"\",RANK(O39898,$O$2:$O$1000))","v":""}]
["6103 合邦","_大股東合計1",4921,null,null,null,null,null,null,null,null,null,null,null,{"$f":"IFERROR(VLOOKUP(K39928,股價!A:B,2,0)*M39928,\"\")","v":""},{"$f":"IF(O39928=\"\",\"\",RANK(O39928,$O$2:$O$1000))","v":""}]
["6104 創惟","大通先進星光    大通先進星光",987,"美商摩根大通銀行台北分行受託保管先進星光基金公司之系列基金先進總合國際股票指數基金",null,null,null,null,null,null,null,null,null,null,{"$f":"IFERROR(VLOOKUP(K39961,股價!A:B,2,0)*M39961,\"\")","v":""},{"$f":"IF(O39961=\"\",\"\",RANK(O39961,$O$2:$O$1000))","v":""}]
["6104 創惟","王國肇          王國肇",507,"王國肇",null,null,null,null,null,null,null,null,null,null,{"$f":"IFERROR(VLOOKUP(K39964,股價!A:B,2,0)*M39964,\"\")","v":""},{"$f":"IF(O39964=\"\",\"\",RANK(O39964,$O$2:$O$1000))","v":""}]
["6109 亞元","_董  事合計",8862,null,null,null,null,null,null,null,null,null,null,null,{"$f":"IFERROR(VLOOKUP(K40012,股價!A:B,2,0)*M40012,\"\")","v":""},{"$f":"IF(O40012=\"\",\"\",RANK(O40012,$O$2:$O$1000))","v":""}]
["6109 亞元","黃振昌          黃振昌",608,"黃振昌",null,null,null,null,null,null,null,null,null,null,{"$f":"IFERROR(VLOOKUP(K40032,股價!A:B,2,0)*M40032,\"\")","v":""},{"$f":"IF(O40032=\"\",\"\",RANK(O40032,$O$2:$O$1000))","v":""}]
["6111 大宇資","_監察人合計",0,null,null,null,null,null,null,null,null,null,null,null,{"$f":"IFERROR(VLOOKUP(K40048,股價!A:B,2,0)*M40048,\"\")","v":""},{"$f":"IF(O40048=\"\",\"\",RANK(O40048,$O$2:$O$1000))","v":""}]
["6112 邁達特","新安東京海上產物新安東京海上",738,"新安東京海上產物保險",null,null,null,null,null,null,null,null,null,null,{"$f":"IFERROR(VLOOKUP(K40095,股價!A:B,2,0)*M40095,\"\")","v":""},{"$f":"IF(O40095=\"\",\"\",RANK(O40095,$O$2:$O$1000))","v":""}]
["6113 亞矽","高第投資(股)    魏先威",5368,"高第投資",null,null,null,null,null,null,null,null,null,null,{"$f":"IFERROR(VLOOKUP(K40116,股價!A:B,2,0)*M40116,\"\")","v":""},{"$f":"IF(O40116=\"\",\"\",RANK(O40116,$O$2:$O$1000))","v":""}]
["6114 久威","_大股東合計2    含沿用資料",8025,null,null,null,null,null,null,null,null,null,null,null,{"$f":"IFERROR(VLOOKUP(K40132,股價!A:B,2,0)*M40132,\"\")","v":""},{"$f":"IF(O40132=\"\",\"\",RANK(O40132,$O$2:$O$1000))","v":""}]
["6115 鎰勝","方義雄          方義雄",10916,"方義雄",null,null,null,null,null,null,null,null,null,null,{"$f":"IFERROR(VLOOKUP(K40166,股價!A:B,2,0)*M40166,\"\")","v":""},{"$f":"IF(O40166=\"\",\"\",RANK(O40166,$O$2:$O$1000))","v":""}]
["6116 彩晶","吳欣盈          吳欣盈",0,"吳欣盈",null,null,null,null,null,null,null,null,null,null,{"$f":"IFERROR(VLOOKUP(K40195,股價!A:B,2,0)*M40195,\"\")","v":""},{"$f":"IF(O40195=\"\",\"\",RANK(O40195,$O$2:$O$1000))","v":""}]
["6117 迎廣","博崴投資(股)    許世姿",1900,"博崴投資",null,null,null,null,null,null,null,null,null,null,{"$f":"IFERROR(VLOOKUP(K40229,股價!A:B,2,0)*M40229,\"\")","v":""},{"$f":"IF(O40229=\"\",\"\",RANK(O40229,$O$2:$O$1000))","v":""}]
["6117 迎廣","賴文賢          賴文賢",21808,"賴文賢",null,null,null,null,null,null,null,null,null,null,{"$f":"IFERROR(VLOOKUP(K40236,股價!A:B,2,0)*M40236,\"\")","v":""},{"$f":"IF(O40236=\"\",\"\",RANK(O40236,$O$2:$O$1000))","v":""}]
["6120 達運","_監察人合計",0,null,null,null,null,null,null,null,null,null,null,null,{"$f":"IFERROR(VLOOKUP(K40279,股價!A:B,2,0)*M40279,\"\")","v":""},{"$f":"IF(O40279=\"\",\"\",RANK(O40279,$O$2:$O$1000))","v":""}]
["6120 達運","黃勝凱          黃勝凱",296,"黃勝凱",null,null,null,null,null,null,null,null,null,null,{"$f":"IFERROR(VLOOKUP(K40300,股價!A:B,2,0)*M40300,\"\")","v":""},{"$f":"IF(O40300=\"\",\"\",RANK(O40300,$O$2:$O$1000))","v":""}]
["6121 新普","中國人壽保險(股)中國人壽保險",4351,"中國人壽保險",null,null,null,null,null,null,null,null,null,null,{"$f":"IFERROR(VLOOKUP(K40315,股價!A:B,2,0)*M40315,\"\")","v":""},{"$f":"IF(O40315=\"\",\"\",RANK(O40315,$O$2:$O$1000))","v":""}]
["6121 新普","渣打富達北星    渣打富達北星",4200,"渣打國際商業銀行敦北分行受託保管富達北星基金投資專戶",null,null,null,null,null,null,null,null,null,null,{"$f":"IFERROR(VLOOKUP(K40337,股價!A:B,2,0)*M40337,\"\")","v":""},{"$f":"IF(O40337=\"\",\"\",RANK(O40337,$O$2:$O$1000))","v":""}]
["6123 上奇","_大股東合計1",0,null,null,null,null,null,null,null,null,null,null,null,{"$f":"IFERROR(VLOOKUP(K40383,股價!A:B,2,0)*M40383,\"\")","v":""},{"$f":"IF(O40383=\"\",\"\",RANK(O40383,$O$2:$O$1000))","v":""}]
["6123 上奇","隆蔚(有)        莊子華",2740,"隆蔚",null,null,null,null,null,null,null,null,null,null,{"$f":"IFERROR(VLOOKUP(K40399,股價!A:B,2,0)*M40399,\"\")","v":""},{"$f":"IF(O40399=\"\",\"\",RANK(O40399,$O$2:$O$1000))","v":""}]
["6124 業強","富邦瑞民        陳鈞華",19142,"台北富邦商銀受託保管瑞民有限公司投資專戶（薩摩亞商瑞民有限公司）",null,null,null,null,null,null,null,null,null,null,{"$f":"IFERROR(VLOOKUP(K40434,股價!A:B,2,0)*M40434,\"\")","v":""},{"$f":"IF(O40434=\"\",\"\",RANK(O40434,$O$2:$O$1000))","v":""}]
["6126 信音","_董  事合計",12208,null,null,null,null,null,null,null,null,null,null,null,{"$f":"IFERROR(VLOOKUP(K40467,股價!A:B,2,0)*M40467,\"\")","v":""},{"$f":"IF(O40467=\"\",\"\",RANK(O40467,$O$2:$O$1000))","v":""}]
["6126 信音","甘氏投資(股)    甘信男",7765,"甘氏投資",null,null,null,null,null,null,null,null,null,null,{"$f":"IFERROR(VLOOKUP(K40471,股價!A:B,2,0)*M40471,\"\")","v":""},{"$f":"IF(O40471=\"\",\"\",RANK(O40471,$O$2:$O$1000))","v":""}]
["6127 九豪","陳雋廷          陳雋廷",2314,"陳雋廷",null,null,null,null,null,null,null,null,null,null,{"$f":"IFERROR(VLOOKUP(K40503,股價!A:B,2,0)*M40503,\"\")","v":""},{"$f":"IF(O40503=\"\",\"\",RANK(O40503,$O$2:$O$1000))","v":""}]
["6128 上福","葉哲彰          葉哲彰",1415,"葉哲彰",null,null,null,null,null,null,null,null,null,null,{"$f":"IFERROR(VLOOKUP(K40546,股價!A:B,2,0)*M40546,\"\")","v":""},{"$f":"IF(O40546=\"\",\"\",RANK(O40546,$O$2:$O$1000))","v":""}]
["6130 星寶國際","柯翠婷          柯翠婷",0,"柯翠婷",null,null,null,null,null,null,null,null,null,null,{"$f":"IFERROR(VLOOKUP(K40568,股價!A:B,2,0)*M40568,\"\")","v":""},{"$f":"IF(O40568=\"\",\"\",RANK(O40568,$O$2:$O$1000))","v":""}]
["6133 金橋","吳俊昌          吳俊昌",0,"吳俊昌",null,null,null,null,null,null,null,null,null,null,{"$f":"IFERROR(VLOOKUP(K40587,股價!A:B,2,0)*M40587,\"\")","v":""},{"$f":"IF(O40587=\"\",\"\",RANK(O40587,$O$2:$O$1000))","v":""}]
["6133 金橋","蔡文鐽          蔡文鐽",0,"蔡文鐽",null,null,null,null,null,null,null,null,null,null,{"$f":"IFERROR(VLOOKUP(K40603,股價!A:B,2,0)*M40603,\"\")","v":""},{"$f":"IF(O40603=\"\",\"\",RANK(O40603,$O$2:$O$1000))","v":""}]
["6136 富爾特","_董  事合計",8903,null,null,null,null,null,null,null,null,null,null,null,{"$f":"IFERROR(VLOOKUP(K40639,股價!A:B,2,0)*M40639,\"\")","v":""},{"$f":"IF(O40639=\"\",\"\",RANK(O40639,$O$2:$O$1000))","v":""}]
["6139 亞翔","花旗資本聯合    花旗資本聯合",7298,"花旗託管資本聯合銀行有限公司投資專戶",null,null,null,null,null,null,null,null,null,null,{"$f":"IFERROR(VLOOKUP(K40671,股價!A:B,2,0)*M40671,\"\")","v":""},{"$f":"IF(O40671=\"\",\"\",RANK(O40671,$O$2:$O$1000))","v":""}]
["6140 訊達","侯正著          侯正著",2261,"侯正著",null,null,null,null,null,null,null,null,null,null,{"$f":"IFERROR(VLOOKUP(K40702,股價!A:B,2,0)*M40702,\"\")","v":""},{"$f":"IF(O40702=\"\",\"\",RANK(O40702,$O$2:$O$1000))","v":""}]
["6141 柏承","鍾斌全          鍾斌全",3149,"鍾斌全",null,null,null,null,null,null,null,null,null,null,{"$f":"IFERROR(VLOOKUP(K40734,股價!A:B,2,0)*M40734,\"\")","v":""},{"$f":"IF(O40734=\"\",\"\",RANK(O40734,$O$2:$O$1000))","v":""}]
["6142 友勁","郭金河          郭金河",0,"郭金河",null,null,null,null,null,null,null,null,null,null,{"$f":"IFERROR(VLOOKUP(K40750,股價!A:B,2,0)*M40750,\"\")","v":""},{"$f":"IF(O40750=\"\",\"\",RANK(O40750,$O$2:$O$1000))","v":""}]
["6143 振曜","柯佳成          柯佳成",2598,"柯佳成",null,null,null,null,null,null,null,null,null,null,{"$f":"IFERROR(VLOOKUP(K40773,股價!A:B,2,0)*M40773,\"\")","v":""},{"$f":"IF(O40773=\"\",\"\",RANK(O40773,$O$2:$O$1000))","v":""}]
["6146 耕興","王聖文          王聖文",0,"王聖文",null,null,null,null,null,null,null,null,null,null,{"$f":"IFERROR(VLOOKUP(K40791,股價!A:B,2,0)*M40791,\"\")","v":""},{"$f":"IF(O40791=\"\",\"\",RANK(O40791,$O$2:$O$1000))","v":""}]
["6147 頎邦","高火文          高火文",1224,"高火文",null,null,null,null,null,null,null,null,null,null,{"$f":"IFERROR(VLOOKUP(K40836,股價!A:B,2,0)*M40836,\"\")","v":""},{"$f":"IF(O40836=\"\",\"\",RANK(O40836,$O$2:$O$1000))","v":""}]
["6148 驊宏資","_董監事合計",3805,null,null,null,null,null,null,null,null,null,null,null,{"$f":"IFERROR(VLOOKUP(K40854,股價!A:B,2,0)*M40854,\"\")","v":""},{"$f":"IF(O40854=\"\",\"\",RANK(O40854,$O$2:$O$1000))","v":""}]
["6148 驊宏資","程嘉君          程嘉君",0,"程嘉君",null,null,null,null,null,null,null,null,null,null,{"$f":"IFERROR(VLOOKUP(K40870,股價!A:B,2,0)*M40870,\"\")","v":""},{"$f":"IF(O40870=\"\",\"\",RANK(O40870,$O$2:$O$1000))","v":""}]
["6150 撼訊","鄭吉峰          鄭吉峰",0,"鄭吉峰",null,null,null,null,null,null,null,null,null,null,{"$f":"IFERROR(VLOOKUP(K40907,股價!A:B,2,0)*M40907,\"\")","v":""},{"$f":"IF(O40907=\"\",\"\",RANK(O40907,$O$2:$O$1000))","v":""}]
["6151 晉倫","鐘佩芳          鐘佩芳",161,"鐘佩芳",null,null,null,null,null,null,null,null,null,null,{"$f":"IFERROR(VLOOKUP(K40938,股價!A:B,2,0)*M40938,\"\")","v":""},{"$f":"IF(O40938=\"\",\"\",RANK(O40938,$O$2:$O$1000))","v":""}]
["6153 嘉聯益","王昭程          王昭程",90,"王昭程",null,null,null,null,null,null,null,null,null,null,{"$f":"IFERROR(VLOOKUP(K40970,股價!A:B,2,0)*M40970,\"\")","v":""},{"$f":"IF(O40970=\"\",\"\",RANK(O40970,$O$2:$O$1000))","v":""}]
["6153 嘉聯益","瀚宇博德(股)    焦佑衡",133240,"瀚宇博德",null,null,null,null,null,null,null,null,null,null,{"$f":"IFERROR(VLOOKUP(K41001,股價!A:B,2,0)*M41001,\"\")","v":""},{"$f":"IF(O41001=\"\",\"\",RANK(O41001,$O$2:$O$1000))","v":""}]
["6154 順發","林界源          林界源",0,"林界源",null,null,null,null,null,null,null,null,null,null,{"$f":"IFERROR(VLOOKUP(K41022,股價!A:B,2,0)*M41022,\"\")","v":""},{"$f":"IF(O41022=\"\",\"\",RANK(O41022,$O$2:$O$1000))","v":""}]
["6155 鈞寶","升寶投資(股)    蔡裕江",10460,"升寶投資",null,null,null,null,null,null,null,null,null,null,{"$f":"IFERROR(VLOOKUP(K41041,股價!A:B,2,0)*M41041,\"\")","v":""},{"$f":"IF(O41041=\"\",\"\",RANK(O41041,$O$2:$O$1000))","v":""}]
["6155 鈞寶","劉明雄          劉明雄",0,"劉明雄",null,null,null,null,null,null,null,null,null,null,{"$f":"IFERROR(VLOOKUP(K41058,股價!A:B,2,0)*M41058,\"\")","v":""},{"$f":"IF(O41058=\"\",\"\",RANK(O41058,$O$2:$O$1000))","v":""}]
["6158 禾昌","捷喬聯(股)      陳財福",2040,"捷喬聯",null,null,null,null,null,null,null,null,null,null,{"$f":"IFERROR(VLOOKUP(K41104,股價!A:B,2,0)*M41104,\"\")","v":""},{"$f":"IF(O41104=\"\",\"\",RANK(O41104,$O$2:$O$1000))","v":""}]
["6160 欣技","_監察人合計",0,null,null,null,null,null,null,null,null,null,null,null,{"$f":"IFERROR(VLOOKUP(K41121,股價!A:B,2,0)*M41121,\"\")","v":""},{"$f":"IF(O41121=\"\",\"\",RANK(O41121,$O$2:$O$1000))","v":""}]
["6160 欣技","嚴維群          嚴維群",16,"嚴維群",null,null,null,null,null,null,null,null,null,null,{"$f":"IFERROR(VLOOKUP(K41142,股價!A:B,2,0)*M41142,\"\")","v":""},{"$f":"IF(O41142=\"\",\"\",RANK(O41142,$O$2:$O$1000))","v":""}]
["6163 華電網","王宏仁          王宏仁",2,"王宏仁",null,null,null,null,null,null,null,null,null,null,{"$f":"IFERROR(VLOOKUP(K41175,股價!A:B,2,0)*M41175,\"\")","v":""},{"$f":"IF(O41175=\"\",\"\",RANK(O41175,$O$2:$O$1000))","v":""}]
["6163 華電網","陳俊丞          陳俊丞",0,"陳俊丞",null,null,null,null,null,null,null,null,null,null,{"$f":"IFERROR(VLOOKUP(K41205,股價!A:B,2,0)*M41205,\"\")","v":""},{"$f":"IF(O41205=\"\",\"\",RANK(O41205,$O$2:$O$1000))","v":""}]
["6164 華興","王孔政          王孔政",0,"王孔政",null,null,null,null,null,null,null,null,null,null,{"$f":"IFERROR(VLOOKUP(K41238,股價!A:B,2,0)*M41238,\"\")","v":""},{"$f":"IF(O41238=\"\",\"\",RANK(O41238,$O$2:$O$1000))","v":""}]
["6164 華興","申永順          申永順",0,"申永順",null,null,null,null,null,null,null,null,null,null,{"$f":"IFERROR(VLOOKUP(K41241,股價!A:B,2,0)*M41241,\"\")","v":""},{"$f":"IF(O41241=\"\",\"\",RANK(O41241,$O$2:$O$1000))","v":""}]
["6165 浪凡","廖孟珠          廖孟珠",565,"廖孟珠",null,null,null,null,null,null,null,null,null,null,{"$f":"IFERROR(VLOOKUP(K41289,股價!A:B,2,0)*M41289,\"\")","v":""},{"$f":"IF(O41289=\"\",\"\",RANK(O41289,$O$2:$O$1000))","v":""}]
["6166 凌華","康利投資(股)    康利投資(股)",5944,"康利投資股份有限公司",null,null,null,null,null,null,null,null,null,null,{"$f":"IFERROR(VLOOKUP(K41309,股價!A:B,2,0)*M41309,\"\")","v":""},{"$f":"IF(O41309=\"\",\"\",RANK(O41309,$O$2:$O$1000))","v":""}]
["6167 久正","_經理人合計",226,null,null,null,null,null,null,null,null,null,null,null,{"$f":"IFERROR(VLOOKUP(K41325,股價!A:B,2,0)*M41325,\"\")","v":""},{"$f":"IF(O41325=\"\",\"\",RANK(O41325,$O$2:$O$1000))","v":""}]
["6168 宏齊","_大股東合計1",0,null,null,null,null,null,null,null,null,null,null,null,{"$f":"IFERROR(VLOOKUP(K41350,股價!A:B,2,0)*M41350,\"\")","v":""},{"$f":"IF(O41350=\"\",\"\",RANK(O41350,$O$2:$O$1000))","v":""}]
["6169 昱泉","李侑駿          李侑駿",500,"李侑駿",null,null,null,null,null,null,null,null,null,null,{"$f":"IFERROR(VLOOKUP(K41388,股價!A:B,2,0)*M41388,\"\")","v":""},{"$f":"IF(O41388=\"\",\"\",RANK(O41388,$O$2:$O$1000))","v":""}]
["6170 統振","江玉萍          江玉萍",1742,"江玉萍",null,null,null,null,null,null,null,null,null,null,{"$f":"IFERROR(VLOOKUP(K41409,股價!A:B,2,0)*M41409,\"\")","v":""},{"$f":"IF(O41409=\"\",\"\",RANK(O41409,$O$2:$O$1000))","v":""}]
["6171 大城地產","許錦明          許錦明",697,"許錦明",null,null,null,null,null,null,null,null,null,null,{"$f":"IFERROR(VLOOKUP(K41443,股價!A:B,2,0)*M41443,\"\")","v":""},{"$f":"IF(O41443=\"\",\"\",RANK(O41443,$O$2:$O$1000))","v":""}]
["6173 信昌電","渣打美世一號    焦佑衡",1243,"渣打託管美世QIF一美世投資一號基金斐",null,null,null,null,null,null,null,null,null,null,{"$f":"IFERROR(VLOOKUP(K41472,股價!A:B,2,0)*M41472,\"\")","v":""},{"$f":"IF(O41472=\"\",\"\",RANK(O41472,$O$2:$O$1000))","v":""}]
["6174 安碁","_大股東合計2    含沿用資料",11783,null,null,null,null,null,null,null,null,null,null,null,{"$f":"IFERROR(VLOOKUP(K41484,股價!A:B,2,0)*M41484,\"\")","v":""},{"$f":"IF(O41484=\"\",\"\",RANK(O41484,$O$2:$O$1000))","v":""}]
["6174 安碁","謝雪玲          謝雪玲",11,"謝雪玲",null,null,null,null,null,null,null,null,null,null,{"$f":"IFERROR(VLOOKUP(K41508,股價!A:B,2,0)*M41508,\"\")","v":""},{"$f":"IF(O41508=\"\",\"\",RANK(O41508,$O$2:$O$1000))","v":""}]
["6176 瑞儀","陳世誠          陳世誠",112,"陳世誠",null,null,null,null,null,null,null,null,null,null,{"$f":"IFERROR(VLOOKUP(K41556,股價!A:B,2,0)*M41556,\"\")","v":""},{"$f":"IF(O41556=\"\",\"\",RANK(O41556,$O$2:$O$1000))","v":""}]
["6177 達麗","昕合潤投資(股)  謝岱玲",10453,"昕合潤投資股份有限公司",null,null,null,null,null,null,null,null,null,null,{"$f":"IFERROR(VLOOKUP(K41581,股價!A:B,2,0)*M41581,\"\")","v":""},{"$f":"IF(O41581=\"\",\"\",RANK(O41581,$O$2:$O$1000))","v":""}]
["6177 達麗","曾文哲          曾文哲",0,"曾文哲",null,null,null,null,null,null,null,null,null,null,{"$f":"IFERROR(VLOOKUP(K41592,股價!A:B,2,0)*M41592,\"\")","v":""},{"$f":"IF(O41592=\"\",\"\",RANK(O41592,$O$2:$O$1000))","v":""}]
["6179 亞通","亞通能源科技(股)呂佳蒨",3284,"亞通能源科技",null,null,null,null,null,null,null,null,null,null,{"$f":"IFERROR(VLOOKUP(K41618,股價!A:B,2,0)*M41618,\"\")","v":""},{"$f":"IF(O41618=\"\",\"\",RANK(O41618,$O$2:$O$1000))","v":""}]
["6180 橘子","劉柏園          劉柏園",17491,"劉柏園",null,null,null,null,null,null,null,null,null,null,{"$f":"IFERROR(VLOOKUP(K41655,股價!A:B,2,0)*M41655,\"\")","v":""},{"$f":"IF(O41655=\"\",\"\",RANK(O41655,$O$2:$O$1000))","v":""}]
["6183 關貿","佳亮投資(有)    方國蓉",2600,"佳亮投資",null,null,null,null,null,null,null,null,null,null,{"$f":"IFERROR(VLOOKUP(K41676,股價!A:B,2,0)*M41676,\"\")","v":""},{"$f":"IF(O41676=\"\",\"\",RANK(O41676,$O$2:$O$1000))","v":""}]
["6184 大豐電","王玲惠          王玲惠",2200,"王玲惠",null,null,null,null,null,null,null,null,null,null,{"$f":"IFERROR(VLOOKUP(K41715,股價!A:B,2,0)*M41715,\"\")","v":""},{"$f":"IF(O41715=\"\",\"\",RANK(O41715,$O$2:$O$1000))","v":""}]
["6185 幃翔","_監察人合計",0,null,null,null,null,null,null,null,null,null,null,null,{"$f":"IFERROR(VLOOKUP(K41739,股價!A:B,2,0)*M41739,\"\")","v":""},{"$f":"IF(O41739=\"\",\"\",RANK(O41739,$O$2:$O$1000))","v":""}]
["6185 幃翔","富蔚投資(股)    田素姬",2211,"富蔚投資",null,null,null,null,null,null,null,null,null,null,{"$f":"IFERROR(VLOOKUP(K41752,股價!A:B,2,0)*M41752,\"\")","v":""},{"$f":"IF(O41752=\"\",\"\",RANK(O41752,$O$2:$O$1000))","v":""}]
["6186 新潤","黃文辰          黃文辰",0,"黃文辰",null,null,null,null,null,null,null,null,null,null,{"$f":"IFERROR(VLOOKUP(K41775,股價!A:B,2,0)*M41775,\"\")","v":""},{"$f":"IF(O41775=\"\",\"\",RANK(O41775,$O$2:$O$1000))","v":""}]
["6188 廣明","_監察人合計",0,null,null,null,null,null,null,null,null,null,null,null,{"$f":"IFERROR(VLOOKUP(K41823,股價!A:B,2,0)*M41823,\"\")","v":""},{"$f":"IF(O41823=\"\",\"\",RANK(O41823,$O$2:$O$1000))","v":""}]
["6188 廣明","蔡有智          蔡有智",60,"蔡有智",null,null,null,null,null,null,null,null,null,null,{"$f":"IFERROR(VLOOKUP(K41849,股價!A:B,2,0)*M41849,\"\")","v":""},{"$f":"IF(O41849=\"\",\"\",RANK(O41849,$O$2:$O$1000))","v":""}]
["6189 豐藝","吳麗雪          吳麗雪",130,"吳麗雪",null,null,null,null,null,null,null,null,null,null,{"$f":"IFERROR(VLOOKUP(K41859,股價!A:B,2,0)*M41859,\"\")","v":""},{"$f":"IF(O41859=\"\",\"\",RANK(O41859,$O$2:$O$1000))","v":""}]
["6189 豐藝","謝金龍          謝金龍",7,"謝金龍",null,null,null,null,null,null,null,null,null,null,{"$f":"IFERROR(VLOOKUP(K41880,股價!A:B,2,0)*M41880,\"\")","v":""},{"$f":"IF(O41880=\"\",\"\",RANK(O41880,$O$2:$O$1000))","v":""}]
["6191 精成科","邱基富          邱基富",2480,"邱基富",null,null,null,null,null,null,null,null,null,null,{"$f":"IFERROR(VLOOKUP(K41920,股價!A:B,2,0)*M41920,\"\")","v":""},{"$f":"IF(O41920=\"\",\"\",RANK(O41920,$O$2:$O$1000))","v":""}]
["6192 巨路","_董  事合計",8076,null,null,null,null,null,null,null,null,null,null,null,{"$f":"IFERROR(VLOOKUP(K41943,股價!A:B,2,0)*M41943,\"\")","v":""},{"$f":"IF(O41943=\"\",\"\",RANK(O41943,$O$2:$O$1000))","v":""}]
["6192 巨路","黃麒螢          黃麒螢",0,"黃麒螢",null,null,null,null,null,null,null,null,null,null,{"$f":"IFERROR(VLOOKUP(K41983,股價!A:B,2,0)*M41983,\"\")","v":""},{"$f":"IF(O41983=\"\",\"\",RANK(O41983,$O$2:$O$1000))","v":""}]
["6194 育富","育鼎富投資(股)  孫洪業",3638,"育鼎富投資",null,null,null,null,null,null,null,null,null,null,{"$f":"IFERROR(VLOOKUP(K42006,股價!A:B,2,0)*M42006,\"\")","v":""},{"$f":"IF(O42006=\"\",\"\",RANK(O42006,$O$2:$O$1000))","v":""}]
["6195 詩肯","_大股東合計2    含沿用資料",13114,null,null,null,null,null,null,null,null,null,null,null,{"$f":"IFERROR(VLOOKUP(K42027,股價!A:B,2,0)*M42027,\"\")","v":""},{"$f":"IF(O42027=\"\",\"\",RANK(O42027,$O$2:$O$1000))","v":""}]
["6196 帆宣","_大股東合計2    含沿用資料",13709,null,null,null,null,null,null,null,null,null,null,null,{"$f":"IFERROR(VLOOKUP(K42054,股價!A:B,2,0)*M42054,\"\")","v":""},{"$f":"IF(O42054=\"\",\"\",RANK(O42054,$O$2:$O$1000))","v":""}]
["6197 佳必琪","_大股東合計2    含沿用資料",8177,null,null,null,null,null,null,null,null,null,null,null,{"$f":"IFERROR(VLOOKUP(K42090,股價!A:B,2,0)*M42090,\"\")","v":""},{"$f":"IF(O42090=\"\",\"\",RANK(O42090,$O$2:$O$1000))","v":""}]
["6197 佳必琪","摩根銀行台北分行摩根銀行台北",1280,"摩根銀行台北分行託管梵加德股票指數專戶",null,null,null,null,null,null,null,null,null,null,{"$f":"IFERROR(VLOOKUP(K42117,股價!A:B,2,0)*M42117,\"\")","v":""},{"$f":"IF(O42117=\"\",\"\",RANK(O42117,$O$2:$O$1000))","v":""}]
["6198 瑞築","_董  事合計",7250,null,null,null,null,null,null,null,null,null,null,null,{"$f":"IFERROR(VLOOKUP(K42126,股價!A:B,2,0)*M42126,\"\")","v":""},{"$f":"IF(O42126=\"\",\"\",RANK(O42126,$O$2:$O$1000))","v":""}]
["6199 天品","_大股東合計2    含沿用資料",14478,null,null,null,null,null,null,null,null,null,null,null,{"$f":"IFERROR(VLOOKUP(K42147,股價!A:B,2,0)*M42147,\"\")","v":""},{"$f":"IF(O42147=\"\",\"\",RANK(O42147,$O$2:$O$1000))","v":""}]
["6201 亞弘電","黃煒伯          黃煒伯",931,"黃煒伯",null,null,null,null,null,null,null,null,null,null,{"$f":"IFERROR(VLOOKUP(K42188,股價!A:B,2,0)*M42188,\"\")","v":""},{"$f":"IF(O42188=\"\",\"\",RANK(O42188,$O$2:$O$1000))","v":""}]
["6202 盛群","張治            張治",1112,"張治",null,null,null,null,null,null,null,null,null,null,{"$f":"IFERROR(VLOOKUP(K42210,股價!A:B,2,0)*M42210,\"\")","v":""},{"$f":"IF(O42210=\"\",\"\",RANK(O42210,$O$2:$O$1000))","v":""}]
["6204 艾華","_監察人合計",0,null,null,null,null,null,null,null,null,null,null,null,{"$f":"IFERROR(VLOOKUP(K42251,股價!A:B,2,0)*M42251,\"\")","v":""},{"$f":"IF(O42251=\"\",\"\",RANK(O42251,$O$2:$O$1000))","v":""}]
["6205 詮欣","_經理人合計",137,null,null,null,null,null,null,null,null,null,null,null,{"$f":"IFERROR(VLOOKUP(K42278,股價!A:B,2,0)*M42278,\"\")","v":""},{"$f":"IF(O42278=\"\",\"\",RANK(O42278,$O$2:$O$1000))","v":""}]
["6205 詮欣","陳武雄          陳武雄",1173,"陳武雄",null,null,null,null,null,null,null,null,null,null,{"$f":"IFERROR(VLOOKUP(K42294,股價!A:B,2,0)*M42294,\"\")","v":""},{"$f":"IF(O42294=\"\",\"\",RANK(O42294,$O$2:$O$1000))","v":""}]
["6206 飛捷","飛捷文教基金    徐嘉宏",900,"財團法人飛捷文教基金會",null,null,null,null,null,null,null,null,null,null,{"$f":"IFERROR(VLOOKUP(K42322,股價!A:B,2,0)*M42322,\"\")","v":""},{"$f":"IF(O42322=\"\",\"\",RANK(O42322,$O$2:$O$1000))","v":""}]
["6207 雷科","熊學毅          熊學毅",227,"熊學毅",null,null,null,null,null,null,null,null,null,null,{"$f":"IFERROR(VLOOKUP(K42357,股價!A:B,2,0)*M42357,\"\")","v":""},{"$f":"IF(O42357=\"\",\"\",RANK(O42357,$O$2:$O$1000))","v":""}]
["6207 雷科","鄭再興          鄭再興",623,"鄭再興",null,null,null,null,null,null,null,null,null,null,{"$f":"IFERROR(VLOOKUP(K42359,股價!A:B,2,0)*M42359,\"\")","v":""},{"$f":"IF(O42359=\"\",\"\",RANK(O42359,$O$2:$O$1000))","v":""}]
["6209 今國光","_監察人合計",0,null,null,null,null,null,null,null,null,null,null,null,{"$f":"IFERROR(VLOOKUP(K42398,股價!A:B,2,0)*M42398,\"\")","v":""},{"$f":"IF(O42398=\"\",\"\",RANK(O42398,$O$2:$O$1000))","v":""}]
["6209 今國光","陳張素華        陳張素華",4959,"陳張素華",null,null,null,null,null,null,null,null,null,null,{"$f":"IFERROR(VLOOKUP(K42414,股價!A:B,2,0)*M42414,\"\")","v":""},{"$f":"IF(O42414=\"\",\"\",RANK(O42414,$O$2:$O$1000))","v":""}]
["6213 聯茂","巫勝彥          巫勝彥",0,"巫勝彥",null,null,null,null,null,null,null,null,null,null,{"$f":"IFERROR(VLOOKUP(K42456,股價!A:B,2,0)*M42456,\"\")","v":""},{"$f":"IF(O42456=\"\",\"\",RANK(O42456,$O$2:$O$1000))","v":""}]
["6214 精誠","吳文舜          吳文舜",0,"吳文舜",null,null,null,null,null,null,null,null,null,null,{"$f":"IFERROR(VLOOKUP(K42482,股價!A:B,2,0)*M42482,\"\")","v":""},{"$f":"IF(O42482=\"\",\"\",RANK(O42482,$O$2:$O$1000))","v":""}]
["6214 精誠","張皇裕          張皇裕",72,"張皇裕",null,null,null,null,null,null,null,null,null,null,{"$f":"IFERROR(VLOOKUP(K42493,股價!A:B,2,0)*M42493,\"\")","v":""},{"$f":"IF(O42493=\"\",\"\",RANK(O42493,$O$2:$O$1000))","v":""}]
["6214 精誠","鍾志群          鍾志群",0,"鍾志群",null,null,null,null,null,null,null,null,null,null,{"$f":"IFERROR(VLOOKUP(K42518,股價!A:B,2,0)*M42518,\"\")","v":""},{"$f":"IF(O42518=\"\",\"\",RANK(O42518,$O$2:$O$1000))","v":""}]
["6216 居易","黃振松          黃振松",8,"黃振松",null,null,null,null,null,null,null,null,null,null,{"$f":"IFERROR(VLOOKUP(K42561,股價!A:B,2,0)*M42561,\"\")","v":""},{"$f":"IF(O42561=\"\",\"\",RANK(O42561,$O$2:$O$1000))","v":""}]
["6217 中探針","蔡尚儒          蔡尚儒",244,"蔡尚儒",null,null,null,null,null,null,null,null,null,null,{"$f":"IFERROR(VLOOKUP(K42590,股價!A:B,2,0)*M42590,\"\")","v":""},{"$f":"IF(O42590=\"\",\"\",RANK(O42590,$O$2:$O$1000))","v":""}]
["6218 豪勉","李廣益          李廣益",100,"李廣益",null,null,null,null,null,null,null,null,null,null,{"$f":"IFERROR(VLOOKUP(K42602,股價!A:B,2,0)*M42602,\"\")","v":""},{"$f":"IF(O42602=\"\",\"\",RANK(O42602,$O$2:$O$1000))","v":""}]
["6219 富旺","天衛資產管理(股)天衛資產管理",21150,"天衛資產管理",null,null,null,null,null,null,null,null,null,null,{"$f":"IFERROR(VLOOKUP(K42627,股價!A:B,2,0)*M42627,\"\")","v":""},{"$f":"IF(O42627=\"\",\"\",RANK(O42627,$O$2:$O$1000))","v":""}]
["6220 岳豐","張榮光          張榮光",3095,"張榮光",null,null,null,null,null,null,null,null,null,null,{"$f":"IFERROR(VLOOKUP(K42665,股價!A:B,2,0)*M42665,\"\")","v":""},{"$f":"IF(O42665=\"\",\"\",RANK(O42665,$O$2:$O$1000))","v":""}]
["6221 晉泰","_大股東合計1",35799,null,null,null,null,null,null,null,null,null,null,null,{"$f":"IFERROR(VLOOKUP(K42681,股價!A:B,2,0)*M42681,\"\")","v":""},{"$f":"IF(O42681=\"\",\"\",RANK(O42681,$O$2:$O$1000))","v":""}]
["6222 上揚","_監察人合計",0,null,null,null,null,null,null,null,null,null,null,null,{"$f":"IFERROR(VLOOKUP(K42724,股價!A:B,2,0)*M42724,\"\")","v":""},{"$f":"IF(O42724=\"\",\"\",RANK(O42724,$O$2:$O$1000))","v":""}]
["6223 旺矽","永豐旺矽科技    永豐旺矽科技",779,"永豐商銀受旺矽科技員工持股信託財產專戶",null,null,null,null,null,null,null,null,null,null,{"$f":"IFERROR(VLOOKUP(K42749,股價!A:B,2,0)*M42749,\"\")","v":""},{"$f":"IF(O42749=\"\",\"\",RANK(O42749,$O$2:$O$1000))","v":""}]
["6223 旺矽","許梅芳          許梅芳",244,"許梅芳",null,null,null,null,null,null,null,null,null,null,{"$f":"IFERROR(VLOOKUP(K42761,股價!A:B,2,0)*M42761,\"\")","v":""},{"$f":"IF(O42761=\"\",\"\",RANK(O42761,$O$2:$O$1000))","v":""}]
["6224 聚鼎","朱復華          朱復華",1618,"朱復華",null,null,null,null,null,null,null,null,null,null,{"$f":"IFERROR(VLOOKUP(K42785,股價!A:B,2,0)*M42785,\"\")","v":""},{"$f":"IF(O42785=\"\",\"\",RANK(O42785,$O$2:$O$1000))","v":""}]
["6226 光鼎","_大股東合計2    含沿用資料",6863,null,null,null,null,null,null,null,null,null,null,null,{"$f":"IFERROR(VLOOKUP(K42833,股價!A:B,2,0)*M42833,\"\")","v":""},{"$f":"IF(O42833=\"\",\"\",RANK(O42833,$O$2:$O$1000))","v":""}]
["6227 茂綸","_經理人合計",5,null,null,null,null,null,null,null,null,null,null,null,{"$f":"IFERROR(VLOOKUP(K42858,股價!A:B,2,0)*M42858,\"\")","v":""},{"$f":"IF(O42858=\"\",\"\",RANK(O42858,$O$2:$O$1000))","v":""}]
["6227 茂綸","張聖鑫          張聖鑫",0,"張聖鑫",null,null,null,null,null,null,null,null,null,null,{"$f":"IFERROR(VLOOKUP(K42869,股價!A:B,2,0)*M42869,\"\")","v":""},{"$f":"IF(O42869=\"\",\"\",RANK(O42869,$O$2:$O$1000))","v":""}]
["6228 全譜","三德投資(股)    高偉超",4001,"三德投資",null,null,null,null,null,null,null,null,null,null,{"$f":"IFERROR(VLOOKUP(K42895,股價!A:B,2,0)*M42895,\"\")","v":""},{"$f":"IF(O42895=\"\",\"\",RANK(O42895,$O$2:$O$1000))","v":""}]
["6229 研通","閎崴投資(股)    許劍郎",3128,"閎崴投資",null,null,null,null,null,null,null,null,null,null,{"$f":"IFERROR(VLOOKUP(K42932,股價!A:B,2,0)*M42932,\"\")","v":""},{"$f":"IF(O42932=\"\",\"\",RANK(O42932,$O$2:$O$1000))","v":""}]
["6230 尼得科超眾","王文宇          王文宇",0,"王文宇",null,null,null,null,null,null,null,null,null,null,{"$f":"IFERROR(VLOOKUP(K42953,股價!A:B,2,0)*M42953,\"\")","v":""},{"$f":"IF(O42953=\"\",\"\",RANK(O42953,$O$2:$O$1000))","v":""}]
["6233 旺玖","_經理人合計",0,null,null,null,null,null,null,null,null,null,null,null,{"$f":"IFERROR(VLOOKUP(K42992,股價!A:B,2,0)*M42992,\"\")","v":""},{"$f":"IF(O42992=\"\",\"\",RANK(O42992,$O$2:$O$1000))","v":""}]
["6234 高僑","_經理人合計",0,null,null,null,null,null,null,null,null,null,null,null,{"$f":"IFERROR(VLOOKUP(K43016,股價!A:B,2,0)*M43016,\"\")","v":""},{"$f":"IF(O43016=\"\",\"\",RANK(O43016,$O$2:$O$1000))","v":""}]
["6234 高僑","陳立樺          陳立樺",0,"陳立樺",null,null,null,null,null,null,null,null,null,null,{"$f":"IFERROR(VLOOKUP(K43033,股價!A:B,2,0)*M43033,\"\")","v":""},{"$f":"IF(O43033=\"\",\"\",RANK(O43033,$O$2:$O$1000))","v":""}]
["6235 華孚","邱智科          邱智科",0,"邱智科",null,null,null,null,null,null,null,null,null,null,{"$f":"IFERROR(VLOOKUP(K43052,股價!A:B,2,0)*M43052,\"\")","v":""},{"$f":"IF(O43052=\"\",\"\",RANK(O43052,$O$2:$O$1000))","v":""}]
["6239 力成","_董監事合計",50191,null,null,null,null,null,null,null,null,null,null,null,{"$f":"IFERROR(VLOOKUP(K43100,股價!A:B,2,0)*M43100,\"\")","v":""},{"$f":"IF(O43100=\"\",\"\",RANK(O43100,$O$2:$O$1000))","v":""}]
["6239 力成","陳玉欽          陳玉欽",0,"陳玉欽",null,null,null,null,null,null,null,null,null,null,{"$f":"IFERROR(VLOOKUP(K43126,股價!A:B,2,0)*M43126,\"\")","v":""},{"$f":"IF(O43126=\"\",\"\",RANK(O43126,$O$2:$O$1000))","v":""}]
["6239 力成","謝永達          謝永達",48,"謝永達",null,null,null,null,null,null,null,null,null,null,{"$f":"IFERROR(VLOOKUP(K43136,股價!A:B,2,0)*M43136,\"\")","v":""},{"$f":"IF(O43136=\"\",\"\",RANK(O43136,$O$2:$O$1000))","v":""}]
["6241 易通展","_董  事合計",6582,null,null,null,null,null,null,null,null,null,null,null,{"$f":"IFERROR(VLOOKUP(K43167,股價!A:B,2,0)*M43167,\"\")","v":""},{"$f":"IF(O43167=\"\",\"\",RANK(O43167,$O$2:$O$1000))","v":""}]
["6242 立康","_監察人合計",0,null,null,null,null,null,null,null,null,null,null,null,{"$f":"IFERROR(VLOOKUP(K43199,股價!A:B,2,0)*M43199,\"\")","v":""},{"$f":"IF(O43199=\"\",\"\",RANK(O43199,$O$2:$O$1000))","v":""}]
["6243 迅杰","_大股東合計1",0,null,null,null,null,null,null,null,null,null,null,null,{"$f":"IFERROR(VLOOKUP(K43220,股價!A:B,2,0)*M43220,\"\")","v":""},{"$f":"IF(O43220=\"\",\"\",RANK(O43220,$O$2:$O$1000))","v":""}]
["6244 茂迪","吳寸和          吳寸和",28,"吳寸和",null,null,null,null,null,null,null,null,null,null,{"$f":"IFERROR(VLOOKUP(K43260,股價!A:B,2,0)*M43260,\"\")","v":""},{"$f":"IF(O43260=\"\",\"\",RANK(O43260,$O$2:$O$1000))","v":""}]
["6246 臺龍","王世雄          王世雄",896,"王世雄",null,null,null,null,null,null,null,null,null,null,{"$f":"IFERROR(VLOOKUP(K43283,股價!A:B,2,0)*M43283,\"\")","v":""},{"$f":"IF(O43283=\"\",\"\",RANK(O43283,$O$2:$O$1000))","v":""}]
["6246 臺龍","億銀開發建設(股)溫聖東",1543,"億銀開發建設",null,null,null,null,null,null,null,null,null,null,{"$f":"IFERROR(VLOOKUP(K43304,股價!A:B,2,0)*M43304,\"\")","v":""},{"$f":"IF(O43304=\"\",\"\",RANK(O43304,$O$2:$O$1000))","v":""}]
["6248 沛波","葉俊良          葉俊良",0,"葉俊良",null,null,null,null,null,null,null,null,null,null,{"$f":"IFERROR(VLOOKUP(K43331,股價!A:B,2,0)*M43331,\"\")","v":""},{"$f":"IF(O43331=\"\",\"\",RANK(O43331,$O$2:$O$1000))","v":""}]
["6257 矽格","楊光順          楊光順",822,"楊光順",null,null,null,null,null,null,null,null,null,null,{"$f":"IFERROR(VLOOKUP(K43367,股價!A:B,2,0)*M43367,\"\")","v":""},{"$f":"IF(O43367=\"\",\"\",RANK(O43367,$O$2:$O$1000))","v":""}]
["6257 矽格","摩根梵市場股    摩根梵市場股",6135,"美商摩根大通銀行台北分行受託保管梵加德集團公司經理之梵加德新興市場股票指數基金投資專戶",null,null,null,null,null,null,null,null,null,null,{"$f":"IFERROR(VLOOKUP(K43372,股價!A:B,2,0)*M43372,\"\")","v":""},{"$f":"IF(O43372=\"\",\"\",RANK(O43372,$O$2:$O$1000))","v":""}]
["6261 久元","_大股東合計1",0,null,null,null,null,null,null,null,null,null,null,null,{"$f":"IFERROR(VLOOKUP(K43403,股價!A:B,2,0)*M43403,\"\")","v":""},{"$f":"IF(O43403=\"\",\"\",RANK(O43403,$O$2:$O$1000))","v":""}]
["6261 久元","劉軍廷          劉軍廷",0,"劉軍廷",null,null,null,null,null,null,null,null,null,null,{"$f":"IFERROR(VLOOKUP(K43424,股價!A:B,2,0)*M43424,\"\")","v":""},{"$f":"IF(O43424=\"\",\"\",RANK(O43424,$O$2:$O$1000))","v":""}]
["6264 富裔","祝文定          祝文定",14601,"祝文定",null,null,null,null,null,null,null,null,null,null,{"$f":"IFERROR(VLOOKUP(K43465,股價!A:B,2,0)*M43465,\"\")","v":""},{"$f":"IF(O43465=\"\",\"\",RANK(O43465,$O$2:$O$1000))","v":""}]
["6265 方土昶","周朝鵬          周朝鵬",0,"周朝鵬",null,null,null,null,null,null,null,null,null,null,{"$f":"IFERROR(VLOOKUP(K43487,股價!A:B,2,0)*M43487,\"\")","v":""},{"$f":"IF(O43487=\"\",\"\",RANK(O43487,$O$2:$O$1000))","v":""}]
["6269 台郡","台鵬開發(股)    施振四",15460,"台鵬開發",null,null,null,null,null,null,null,null,null,null,{"$f":"IFERROR(VLOOKUP(K43506,股價!A:B,2,0)*M43506,\"\")","v":""},{"$f":"IF(O43506=\"\",\"\",RANK(O43506,$O$2:$O$1000))","v":""}]
["6270 倍微","金志海          金志海",0,"金志海",null,null,null,null,null,null,null,null,null,null,{"$f":"IFERROR(VLOOKUP(K43550,股價!A:B,2,0)*M43550,\"\")","v":""},{"$f":"IF(O43550=\"\",\"\",RANK(O43550,$O$2:$O$1000))","v":""}]
["6271 同欣電","_大股東合計1",0,null,null,null,null,null,null,null,null,null,null,null,{"$f":"IFERROR(VLOOKUP(K43571,股價!A:B,2,0)*M43571,\"\")","v":""},{"$f":"IF(O43571=\"\",\"\",RANK(O43571,$O$2:$O$1000))","v":""}]
["6271 同欣電","鄭博修          鄭博修",0,"鄭博修",null,null,null,null,null,null,null,null,null,null,{"$f":"IFERROR(VLOOKUP(K43599,股價!A:B,2,0)*M43599,\"\")","v":""},{"$f":"IF(O43599=\"\",\"\",RANK(O43599,$O$2:$O$1000))","v":""}]
["6276 安鈦克","_監察人合計",0,null,null,null,null,null,null,null,null,null,null,null,{"$f":"IFERROR(VLOOKUP(K43634,股價!A:B,2,0)*M43634,\"\")","v":""},{"$f":"IF(O43634=\"\",\"\",RANK(O43634,$O$2:$O$1000))","v":""}]
["6276 安鈦克","利達明珠投資有限利達明珠投資",2803,"利達明珠投資有限公司",null,null,null,null,null,null,null,null,null,null,{"$f":"IFERROR(VLOOKUP(K43640,股價!A:B,2,0)*M43640,\"\")","v":""},{"$f":"IF(O43640=\"\",\"\",RANK(O43640,$O$2:$O$1000))","v":""}]
["6277 宏正","張昌興          張昌興",5,"張昌興",null,null,null,null,null,null,null,null,null,null,{"$f":"IFERROR(VLOOKUP(K43670,股價!A:B,2,0)*M43670,\"\")","v":""},{"$f":"IF(O43670=\"\",\"\",RANK(O43670,$O$2:$O$1000))","v":""}]
["6277 宏正","趙坤郁          趙坤郁",1432,"趙坤郁",null,null,null,null,null,null,null,null,null,null,{"$f":"IFERROR(VLOOKUP(K43691,股價!A:B,2,0)*M43691,\"\")","v":""},{"$f":"IF(O43691=\"\",\"\",RANK(O43691,$O$2:$O$1000))","v":""}]
["6279 胡連","胡盛清          胡盛清",5775,"胡盛清",null,null,null,null,null,null,null,null,null,null,{"$f":"IFERROR(VLOOKUP(K43737,股價!A:B,2,0)*M43737,\"\")","v":""},{"$f":"IF(O43737=\"\",\"\",RANK(O43737,$O$2:$O$1000))","v":""}]
["6279 胡連","劉春香          劉春香",4106,"劉春香",null,null,null,null,null,null,null,null,null,null,{"$f":"IFERROR(VLOOKUP(K43754,股價!A:B,2,0)*M43754,\"\")","v":""},{"$f":"IF(O43754=\"\",\"\",RANK(O43754,$O$2:$O$1000))","v":""}]
["6281 全國電","林忠和          林忠和",235,"林忠和",null,null,null,null,null,null,null,null,null,null,{"$f":"IFERROR(VLOOKUP(K43774,股價!A:B,2,0)*M43774,\"\")","v":""},{"$f":"IF(O43774=\"\",\"\",RANK(O43774,$O$2:$O$1000))","v":""}]
["6282 康舒","陳季杏          陳季杏",0,"陳季杏",null,null,null,null,null,null,null,null,null,null,{"$f":"IFERROR(VLOOKUP(K43817,股價!A:B,2,0)*M43817,\"\")","v":""},{"$f":"IF(O43817=\"\",\"\",RANK(O43817,$O$2:$O$1000))","v":""}]
["6283 淳安","_董監事合計",63557,null,null,null,null,null,null,null,null,null,null,null,{"$f":"IFERROR(VLOOKUP(K43838,股價!A:B,2,0)*M43838,\"\")","v":""},{"$f":"IF(O43838=\"\",\"\",RANK(O43838,$O$2:$O$1000))","v":""}]
["6284 佳邦","洪敏雄          洪敏雄",51,"洪敏雄",null,null,null,null,null,null,null,null,null,null,{"$f":"IFERROR(VLOOKUP(K43871,股價!A:B,2,0)*M43871,\"\")","v":""},{"$f":"IF(O43871=\"\",\"\",RANK(O43871,$O$2:$O$1000))","v":""}]
["6285 啟碁","宋芬瓊          宋芬瓊",718,"宋芬瓊",null,null,null,null,null,null,null,null,null,null,{"$f":"IFERROR(VLOOKUP(K43901,股價!A:B,2,0)*M43901,\"\")","v":""},{"$f":"IF(O43901=\"\",\"\",RANK(O43901,$O$2:$O$1000))","v":""}]
["6285 啟碁","國泰人壽保險(股)國泰人壽保險",20442,"國泰人壽保險",null,null,null,null,null,null,null,null,null,null,{"$f":"IFERROR(VLOOKUP(K43908,股價!A:B,2,0)*M43908,\"\")","v":""},{"$f":"IF(O43908=\"\",\"\",RANK(O43908,$O$2:$O$1000))","v":""}]
["6287 元隆","_監察人合計",0,null,null,null,null,null,null,null,null,null,null,null,{"$f":"IFERROR(VLOOKUP(K43942,股價!A:B,2,0)*M43942,\"\")","v":""},{"$f":"IF(O43942=\"\",\"\",RANK(O43942,$O$2:$O$1000))","v":""}]
["6287 元隆","楊有龍          楊有龍",1,"楊有龍",null,null,null,null,null,null,null,null,null,null,{"$f":"IFERROR(VLOOKUP(K43958,股價!A:B,2,0)*M43958,\"\")","v":""},{"$f":"IF(O43958=\"\",\"\",RANK(O43958,$O$2:$O$1000))","v":""}]
["6290 良維","_董  事合計",12627,null,null,null,null,null,null,null,null,null,null,null,{"$f":"IFERROR(VLOOKUP(K44005,股價!A:B,2,0)*M44005,\"\")","v":""},{"$f":"IF(O44005=\"\",\"\",RANK(O44005,$O$2:$O$1000))","v":""}]
["6290 良維","黃悠宓          黃悠宓",423,"黃悠宓",null,null,null,null,null,null,null,null,null,null,{"$f":"IFERROR(VLOOKUP(K44021,股價!A:B,2,0)*M44021,\"\")","v":""},{"$f":"IF(O44021=\"\",\"\",RANK(O44021,$O$2:$O$1000))","v":""}]
["6291 沛亨","陳建志          陳建志",0,"陳建志",null,null,null,null,null,null,null,null,null,null,{"$f":"IFERROR(VLOOKUP(K44042,股價!A:B,2,0)*M44042,\"\")","v":""},{"$f":"IF(O44042=\"\",\"\",RANK(O44042,$O$2:$O$1000))","v":""}]
["6292 迅德","陳奎謙          陳奎謙",263,"陳奎謙",null,null,null,null,null,null,null,null,null,null,{"$f":"IFERROR(VLOOKUP(K44062,股價!A:B,2,0)*M44062,\"\")","v":""},{"$f":"IF(O44062=\"\",\"\",RANK(O44062,$O$2:$O$1000))","v":""}]
["6404 通訊-KY","China Mobile(股)KOK SIEW YOK",4,"China Mobilemedia Investment Group Ltd",null,null,null,null,null,null,null,null,null,null,{"$f":"IFERROR(VLOOKUP(K44105,股價!A:B,2,0)*M44105,\"\")","v":""},{"$f":"IF(O44105=\"\",\"\",RANK(O44105,$O$2:$O$1000))","v":""}]
["6405 悅城","巫榮賓          巫榮賓",2997,"巫榮賓",null,null,null,null,null,null,null,null,null,null,{"$f":"IFERROR(VLOOKUP(K44139,股價!A:B,2,0)*M44139,\"\")","v":""},{"$f":"IF(O44139=\"\",\"\",RANK(O44139,$O$2:$O$1000))","v":""}]
["6405 悅城","李朝榮          李朝榮",1132,"李朝榮",null,null,null,null,null,null,null,null,null,null,{"$f":"IFERROR(VLOOKUP(K44141,股價!A:B,2,0)*M44141,\"\")","v":""},{"$f":"IF(O44141=\"\",\"\",RANK(O44141,$O$2:$O$1000))","v":""}]
["6409 旭隼","渣打玖壹基金    渣打玖壹基金",1772,"渣打國際商業銀行營業部受託保管玖壹基金系列三所屬全球環境基金投資專戶",null,null,null,null,null,null,null,null,null,null,{"$f":"IFERROR(VLOOKUP(K44176,股價!A:B,2,0)*M44176,\"\")","v":""},{"$f":"IF(O44176=\"\",\"\",RANK(O44176,$O$2:$O$1000))","v":""}]
["6411 晶焱","模里斯克投資(股)連淑娟",1012,"模里斯克投資",null,null,null,null,null,null,null,null,null,null,{"$f":"IFERROR(VLOOKUP(K44209,股價!A:B,2,0)*M44209,\"\")","v":""},{"$f":"IF(O44209=\"\",\"\",RANK(O44209,$O$2:$O$1000))","v":""}]
["6412 群電","林彥里          林彥里",7963,"林彥里",null,null,null,null,null,null,null,null,null,null,{"$f":"IFERROR(VLOOKUP(K44225,股價!A:B,2,0)*M44225,\"\")","v":""},{"$f":"IF(O44225=\"\",\"\",RANK(O44225,$O$2:$O$1000))","v":""}]
["6414 樺漢","摩根梵市場股    摩根梵市場股",832,"美商摩根大通銀行台北分行受託保管梵加德集團公司經理之梵加德新興市場股票指數基金投資專戶",null,null,null,null,null,null,null,null,null,null,{"$f":"IFERROR(VLOOKUP(K44273,股價!A:B,2,0)*M44273,\"\")","v":""},{"$f":"IF(O44273=\"\",\"\",RANK(O44273,$O$2:$O$1000))","v":""}]
["6415 矽力*-KY","施君徽          施君徽",0,"施君徽",null,null,null,null,null,null,null,null,null,null,{"$f":"IFERROR(VLOOKUP(K44293,股價!A:B,2,0)*M44293,\"\")","v":""},{"$f":"IF(O44293=\"\",\"\",RANK(O44293,$O$2:$O$1000))","v":""}]
["6416 瑞祺電通","王怡鈞          王怡鈞",0,"王怡鈞",null,null,null,null,null,null,null,null,null,null,{"$f":"IFERROR(VLOOKUP(K44310,股價!A:B,2,0)*M44310,\"\")","v":""},{"$f":"IF(O44310=\"\",\"\",RANK(O44310,$O$2:$O$1000))","v":""}]
["6416 瑞祺電通","黃文進          黃文進",0,"黃文進",null,null,null,null,null,null,null,null,null,null,{"$f":"IFERROR(VLOOKUP(K44329,股價!A:B,2,0)*M44329,\"\")","v":""},{"$f":"IF(O44329=\"\",\"\",RANK(O44329,$O$2:$O$1000))","v":""}]
["6418 詠昇","_監察人合計",0,null,null,null,null,null,null,null,null,null,null,null,{"$f":"IFERROR(VLOOKUP(K44372,股價!A:B,2,0)*M44372,\"\")","v":""},{"$f":"IF(O44372=\"\",\"\",RANK(O44372,$O$2:$O$1000))","v":""}]
["6418 詠昇","陽文瑜          陽文瑜",0,"陽文瑜",null,null,null,null,null,null,null,null,null,null,{"$f":"IFERROR(VLOOKUP(K44381,股價!A:B,2,0)*M44381,\"\")","v":""},{"$f":"IF(O44381=\"\",\"\",RANK(O44381,$O$2:$O$1000))","v":""}]
["6425 易發","_大股東合計2    含沿用資料",15074,null,null,null,null,null,null,null,null,null,null,null,{"$f":"IFERROR(VLOOKUP(K44413,股價!A:B,2,0)*M44413,\"\")","v":""},{"$f":"IF(O44413=\"\",\"\",RANK(O44413,$O$2:$O$1000))","v":""}]
["6426 統新","中信託博科發(有)葉向賢",1620,"中國信託託管博科發展有限公司投資專戶",null,null,null,null,null,null,null,null,null,null,{"$f":"IFERROR(VLOOKUP(K44444,股價!A:B,2,0)*M44444,\"\")","v":""},{"$f":"IF(O44444=\"\",\"\",RANK(O44444,$O$2:$O$1000))","v":""}]
["6431 光麗-KY","方士慧          方士慧",0,"方士慧",null,null,null,null,null,null,null,null,null,null,{"$f":"IFERROR(VLOOKUP(K44476,股價!A:B,2,0)*M44476,\"\")","v":""},{"$f":"IF(O44476=\"\",\"\",RANK(O44476,$O$2:$O$1000))","v":""}]
["6431 光麗-KY","廖敏政          廖敏政",0,"廖敏政",null,null,null,null,null,null,null,null,null,null,{"$f":"IFERROR(VLOOKUP(K44497,股價!A:B,2,0)*M44497,\"\")","v":""},{"$f":"IF(O44497=\"\",\"\",RANK(O44497,$O$2:$O$1000))","v":""}]
["6432 今展科","陳瓊玉          陳瓊玉",438,"陳瓊玉",null,null,null,null,null,null,null,null,null,null,{"$f":"IFERROR(VLOOKUP(K44515,股價!A:B,2,0)*M44515,\"\")","v":""},{"$f":"IF(O44515=\"\",\"\",RANK(O44515,$O$2:$O$1000))","v":""}]
["6438 迅得","華南安聯台灣    華南安聯台灣",1300,"華南商業銀行信託部受託保管安聯台灣科技證券投資信託基金專戶",null,null,null,null,null,null,null,null,null,null,{"$f":"IFERROR(VLOOKUP(K44560,股價!A:B,2,0)*M44560,\"\")","v":""},{"$f":"IF(O44560=\"\",\"\",RANK(O44560,$O$2:$O$1000))","v":""}]
["6441 廣錠","_大股東合計1",0,null,null,null,null,null,null,null,null,null,null,null,{"$f":"IFERROR(VLOOKUP(K44576,股價!A:B,2,0)*M44576,\"\")","v":""},{"$f":"IF(O44576=\"\",\"\",RANK(O44576,$O$2:$O$1000))","v":""}]
["6442 光聖","_大股東合計2    含沿用資料",21129,null,null,null,null,null,null,null,null,null,null,null,{"$f":"IFERROR(VLOOKUP(K44612,股價!A:B,2,0)*M44612,\"\")","v":""},{"$f":"IF(O44612=\"\",\"\",RANK(O44612,$O$2:$O$1000))","v":""}]
["6443 元晶","大通先進星光    大通先進星光",5356,"美商摩根大通銀行台北分行受託保管先進星光基金公司之系列基金先進總合國際股票指數基金",null,null,null,null,null,null,null,null,null,null,{"$f":"IFERROR(VLOOKUP(K44644,股價!A:B,2,0)*M44644,\"\")","v":""},{"$f":"IF(O44644=\"\",\"\",RANK(O44644,$O$2:$O$1000))","v":""}]
["6443 元晶","行政院國發會    楊淑玲",425,"行政院國家發展基金管理會",null,null,null,null,null,null,null,null,null,null,{"$f":"IFERROR(VLOOKUP(K44649,股價!A:B,2,0)*M44649,\"\")","v":""},{"$f":"IF(O44649=\"\",\"\",RANK(O44649,$O$2:$O$1000))","v":""}]
["6446 藥華藥","_董監事合計",49450,null,null,null,null,null,null,null,null,null,null,null,{"$f":"IFERROR(VLOOKUP(K44680,股價!A:B,2,0)*M44680,\"\")","v":""},{"$f":"IF(O44680=\"\",\"\",RANK(O44680,$O$2:$O$1000))","v":""}]
["6449 鈺邦","華東科技(股)    焦佑衡",4591,"華東科技",null,null,null,null,null,null,null,null,null,null,{"$f":"IFERROR(VLOOKUP(K44723,股價!A:B,2,0)*M44723,\"\")","v":""},{"$f":"IF(O44723=\"\",\"\",RANK(O44723,$O$2:$O$1000))","v":""}]
["6451 訊芯-KY","邱晃泉          邱晃泉",0,"邱晃泉",null,null,null,null,null,null,null,null,null,null,{"$f":"IFERROR(VLOOKUP(K44746,股價!A:B,2,0)*M44746,\"\")","v":""},{"$f":"IF(O44746=\"\",\"\",RANK(O44746,$O$2:$O$1000))","v":""}]
["6456 GIS-KY","大通先進星光    大通先進星光",2711,"美商摩根大通銀行台北分行受託保管先進星光基金公司之系列基金先進總合國際股票指數基金",null,null,null,null,null,null,null,null,null,null,{"$f":"IFERROR(VLOOKUP(K44764,股價!A:B,2,0)*M44764,\"\")","v":""},{"$f":"IF(O44764=\"\",\"\",RANK(O44764,$O$2:$O$1000))","v":""}]
["6461 益得","_大股東合計1",0,null,null,null,null,null,null,null,null,null,null,null,{"$f":"IFERROR(VLOOKUP(K44783,股價!A:B,2,0)*M44783,\"\")","v":""},{"$f":"IF(O44783=\"\",\"\",RANK(O44783,$O$2:$O$1000))","v":""}]
["6462 神盾","林家賢          林家賢",388,"林家賢",null,null,null,null,null,null,null,null,null,null,{"$f":"IFERROR(VLOOKUP(K44827,股價!A:B,2,0)*M44827,\"\")","v":""},{"$f":"IF(O44827=\"\",\"\",RANK(O44827,$O$2:$O$1000))","v":""}]
["6464 台數科","_董監事合計",8895,null,null,null,null,null,null,null,null,null,null,null,{"$f":"IFERROR(VLOOKUP(K44848,股價!A:B,2,0)*M44848,\"\")","v":""},{"$f":"IF(O44848=\"\",\"\",RANK(O44848,$O$2:$O$1000))","v":""}]
["6464 台數科","凱月(股)        凱月(股)",16540,"凱月",null,null,null,null,null,null,null,null,null,null,{"$f":"IFERROR(VLOOKUP(K44880,股價!A:B,2,0)*M44880,\"\")","v":""},{"$f":"IF(O44880=\"\",\"\",RANK(O44880,$O$2:$O$1000))","v":""}]
["6465 威潤","張夢仁          張夢仁",0,"張夢仁",null,null,null,null,null,null,null,null,null,null,{"$f":"IFERROR(VLOOKUP(K44911,股價!A:B,2,0)*M44911,\"\")","v":""},{"$f":"IF(O44911=\"\",\"\",RANK(O44911,$O$2:$O$1000))","v":""}]
["6465 威潤","陸建偉          陸建偉",340,"陸建偉",null,null,null,null,null,null,null,null,null,null,{"$f":"IFERROR(VLOOKUP(K44917,股價!A:B,2,0)*M44917,\"\")","v":""},{"$f":"IF(O44917=\"\",\"\",RANK(O44917,$O$2:$O$1000))","v":""}]
["6470 宇智","_大股東合計1",0,null,null,null,null,null,null,null,null,null,null,null,{"$f":"IFERROR(VLOOKUP(K44947,股價!A:B,2,0)*M44947,\"\")","v":""},{"$f":"IF(O44947=\"\",\"\",RANK(O44947,$O$2:$O$1000))","v":""}]
["6470 宇智","慧盛(股)        游蕙瑛",226,"慧盛",null,null,null,null,null,null,null,null,null,null,{"$f":"IFERROR(VLOOKUP(K44968,股價!A:B,2,0)*M44968,\"\")","v":""},{"$f":"IF(O44968=\"\",\"\",RANK(O44968,$O$2:$O$1000))","v":""}]
["6477 安集","許家榮          許家榮",28,"許家榮",null,null,null,null,null,null,null,null,null,null,{"$f":"IFERROR(VLOOKUP(K45014,股價!A:B,2,0)*M45014,\"\")","v":""},{"$f":"IF(O45014=\"\",\"\",RANK(O45014,$O$2:$O$1000))","v":""}]
["6482 弘煜科","_經理人合計",77,null,null,null,null,null,null,null,null,null,null,null,{"$f":"IFERROR(VLOOKUP(K45031,股價!A:B,2,0)*M45031,\"\")","v":""},{"$f":"IF(O45031=\"\",\"\",RANK(O45031,$O$2:$O$1000))","v":""}]
["6482 弘煜科","鍾濯安          鍾濯安",343,"鍾濯安",null,null,null,null,null,null,null,null,null,null,{"$f":"IFERROR(VLOOKUP(K45051,股價!A:B,2,0)*M45051,\"\")","v":""},{"$f":"IF(O45051=\"\",\"\",RANK(O45051,$O$2:$O$1000))","v":""}]
["6486 互動","加來開發(有)    王榮煌",720,"加來開發",null,null,null,null,null,null,null,null,null,null,{"$f":"IFERROR(VLOOKUP(K45094,股價!A:B,2,0)*M45094,\"\")","v":""},{"$f":"IF(O45094=\"\",\"\",RANK(O45094,$O$2:$O$1000))","v":""}]
["6486 互動","鄭元森          鄭元森",9,"鄭元森",null,null,null,null,null,null,null,null,null,null,{"$f":"IFERROR(VLOOKUP(K45115,股價!A:B,2,0)*M45115,\"\")","v":""},{"$f":"IF(O45115=\"\",\"\",RANK(O45115,$O$2:$O$1000))","v":""}]
["6488 環球晶","摩根梵市場股    摩根梵市場股",2967,"美商摩根大通銀行台北分行受託保管梵加德集團公司經理之梵加德新興市場股票指數基金投資專戶",null,null,null,null,null,null,null,null,null,null,{"$f":"IFERROR(VLOOKUP(K45148,股價!A:B,2,0)*M45148,\"\")","v":""},{"$f":"IF(O45148=\"\",\"\",RANK(O45148,$O$2:$O$1000))","v":""}]
["6491 晶碩","溫木榮          溫木榮",0,"溫木榮",null,null,null,null,null,null,null,null,null,null,{"$f":"IFERROR(VLOOKUP(K45178,股價!A:B,2,0)*M45178,\"\")","v":""},{"$f":"IF(O45178=\"\",\"\",RANK(O45178,$O$2:$O$1000))","v":""}]
["6494 九齊","力華達投資(股)  力華達投資(",433,"力華達投資",null,null,null,null,null,null,null,null,null,null,{"$f":"IFERROR(VLOOKUP(K45189,股價!A:B,2,0)*M45189,\"\")","v":""},{"$f":"IF(O45189=\"\",\"\",RANK(O45189,$O$2:$O$1000))","v":""}]
["6496 科懋","_監察人合計",0,null,null,null,null,null,null,null,null,null,null,null,{"$f":"IFERROR(VLOOKUP(K45214,股價!A:B,2,0)*M45214,\"\")","v":""},{"$f":"IF(O45214=\"\",\"\",RANK(O45214,$O$2:$O$1000))","v":""}]
["6496 科懋","億元投資(股)    李滿祥",519,"億元投資",null,null,null,null,null,null,null,null,null,null,{"$f":"IFERROR(VLOOKUP(K45235,股價!A:B,2,0)*M45235,\"\")","v":""},{"$f":"IF(O45235=\"\",\"\",RANK(O45235,$O$2:$O$1000))","v":""}]
["6504 南六","周依慧          周依慧",2,"周依慧",null,null,null,null,null,null,null,null,null,null,{"$f":"IFERROR(VLOOKUP(K45282,股價!A:B,2,0)*M45282,\"\")","v":""},{"$f":"IF(O45282=\"\",\"\",RANK(O45282,$O$2:$O$1000))","v":""}]
["6504 南六","鐘茂枝          鐘茂枝",749,"鐘茂枝",null,null,null,null,null,null,null,null,null,null,{"$f":"IFERROR(VLOOKUP(K45298,股價!A:B,2,0)*M45298,\"\")","v":""},{"$f":"IF(O45298=\"\",\"\",RANK(O45298,$O$2:$O$1000))","v":""}]
["6505 台塑化","陳瑞士          陳瑞士",11,"陳瑞士",null,null,null,null,null,null,null,null,null,null,{"$f":"IFERROR(VLOOKUP(K45323,股價!A:B,2,0)*M45323,\"\")","v":""},{"$f":"IF(O45323=\"\",\"\",RANK(O45323,$O$2:$O$1000))","v":""}]
["6506 雙邦","劉美青          劉美青",2525,"劉美青",null,null,null,null,null,null,null,null,null,null,{"$f":"IFERROR(VLOOKUP(K45361,股價!A:B,2,0)*M45361,\"\")","v":""},{"$f":"IF(O45361=\"\",\"\",RANK(O45361,$O$2:$O$1000))","v":""}]
["6508 惠光","陳榮東          陳榮東",7987,"陳榮東",null,null,null,null,null,null,null,null,null,null,{"$f":"IFERROR(VLOOKUP(K45382,股價!A:B,2,0)*M45382,\"\")","v":""},{"$f":"IF(O45382=\"\",\"\",RANK(O45382,$O$2:$O$1000))","v":""}]
["6509 聚和","_董監事合計",8218,null,null,null,null,null,null,null,null,null,null,null,{"$f":"IFERROR(VLOOKUP(K45394,股價!A:B,2,0)*M45394,\"\")","v":""},{"$f":"IF(O45394=\"\",\"\",RANK(O45394,$O$2:$O$1000))","v":""}]
["6509 聚和","鄭仲生          鄭仲生",2,"鄭仲生",null,null,null,null,null,null,null,null,null,null,{"$f":"IFERROR(VLOOKUP(K45418,股價!A:B,2,0)*M45418,\"\")","v":""},{"$f":"IF(O45418=\"\",\"\",RANK(O45418,$O$2:$O$1000))","v":""}]
["6515 穎崴","力本國際(股)    周宜靜",1054,"力本國際",null,null,null,null,null,null,null,null,null,null,{"$f":"IFERROR(VLOOKUP(K45457,股價!A:B,2,0)*M45457,\"\")","v":""},{"$f":"IF(O45457=\"\",\"\",RANK(O45457,$O$2:$O$1000))","v":""}]
["6516 勤崴國際","_監察人合計",0,null,null,null,null,null,null,null,null,null,null,null,{"$f":"IFERROR(VLOOKUP(K45481,股價!A:B,2,0)*M45481,\"\")","v":""},{"$f":"IF(O45481=\"\",\"\",RANK(O45481,$O$2:$O$1000))","v":""}]
["6516 勤崴國際","楊衍弘          楊衍弘",1653,"楊衍弘",null,null,null,null,null,null,null,null,null,null,{"$f":"IFERROR(VLOOKUP(K45502,股價!A:B,2,0)*M45502,\"\")","v":""},{"$f":"IF(O45502=\"\",\"\",RANK(O45502,$O$2:$O$1000))","v":""}]
["6517 保勝光學","麥哲倫投資(有)  李淑瑜",1448,"麥哲倫投資",null,null,null,null,null,null,null,null,null,null,{"$f":"IFERROR(VLOOKUP(K45528,股價!A:B,2,0)*M45528,\"\")","v":""},{"$f":"IF(O45528=\"\",\"\",RANK(O45528,$O$2:$O$1000))","v":""}]
["6525 捷敏-KY","王瑞萍          王瑞萍",90,"王瑞萍",null,null,null,null,null,null,null,null,null,null,{"$f":"IFERROR(VLOOKUP(K45565,股價!A:B,2,0)*M45565,\"\")","v":""},{"$f":"IF(O45565=\"\",\"\",RANK(O45565,$O$2:$O$1000))","v":""}]
["6527 明達醫","_董  事合計",1741,null,null,null,null,null,null,null,null,null,null,null,{"$f":"IFERROR(VLOOKUP(K45591,股價!A:B,2,0)*M45591,\"\")","v":""},{"$f":"IF(O45591=\"\",\"\",RANK(O45591,$O$2:$O$1000))","v":""}]
["6530 創威","唐志宗          唐志宗",943,"唐志宗",null,null,null,null,null,null,null,null,null,null,{"$f":"IFERROR(VLOOKUP(K45628,股價!A:B,2,0)*M45628,\"\")","v":""},{"$f":"IF(O45628=\"\",\"\",RANK(O45628,$O$2:$O$1000))","v":""}]
["6531 愛普*","_監察人合計",0,null,null,null,null,null,null,null,null,null,null,null,{"$f":"IFERROR(VLOOKUP(K45649,股價!A:B,2,0)*M45649,\"\")","v":""},{"$f":"IF(O45649=\"\",\"\",RANK(O45649,$O$2:$O$1000))","v":""}]
["6531 愛普*","孫又文          孫又文",0,"孫又文",null,null,null,null,null,null,null,null,null,null,{"$f":"IFERROR(VLOOKUP(K45662,股價!A:B,2,0)*M45662,\"\")","v":""},{"$f":"IF(O45662=\"\",\"\",RANK(O45662,$O$2:$O$1000))","v":""}]
["6532 瑞耘","陳曉妍          陳曉妍",766,"陳曉妍",null,null,null,null,null,null,null,null,null,null,{"$f":"IFERROR(VLOOKUP(K45685,股價!A:B,2,0)*M45685,\"\")","v":""},{"$f":"IF(O45685=\"\",\"\",RANK(O45685,$O$2:$O$1000))","v":""}]
["6533 晶心科","闕河鳴          闕河鳴",0,"闕河鳴",null,null,null,null,null,null,null,null,null,null,{"$f":"IFERROR(VLOOKUP(K45725,股價!A:B,2,0)*M45725,\"\")","v":""},{"$f":"IF(O45725=\"\",\"\",RANK(O45725,$O$2:$O$1000))","v":""}]
["6535 順藥","蔡崇豪          蔡崇豪",0,"蔡崇豪",null,null,null,null,null,null,null,null,null,null,{"$f":"IFERROR(VLOOKUP(K45753,股價!A:B,2,0)*M45753,\"\")","v":""},{"$f":"IF(O45753=\"\",\"\",RANK(O45753,$O$2:$O$1000))","v":""}]
["6538 倉和","吳寶明          吳寶明",442,"吳寶明",null,null,null,null,null,null,null,null,null,null,{"$f":"IFERROR(VLOOKUP(K45769,股價!A:B,2,0)*M45769,\"\")","v":""},{"$f":"IF(O45769=\"\",\"\",RANK(O45769,$O$2:$O$1000))","v":""}]
["6541 泰福-KY","_董監事合計",37830,null,null,null,null,null,null,null,null,null,null,null,{"$f":"IFERROR(VLOOKUP(K45796,股價!A:B,2,0)*M45796,\"\")","v":""},{"$f":"IF(O45796=\"\",\"\",RANK(O45796,$O$2:$O$1000))","v":""}]
["6542 隆中","劉漢明          劉漢明",0,"劉漢明",null,null,null,null,null,null,null,null,null,null,{"$f":"IFERROR(VLOOKUP(K45832,股價!A:B,2,0)*M45832,\"\")","v":""},{"$f":"IF(O45832=\"\",\"\",RANK(O45832,$O$2:$O$1000))","v":""}]
["6546 正基","蔡坤明          蔡坤明",0,"蔡坤明",null,null,null,null,null,null,null,null,null,null,{"$f":"IFERROR(VLOOKUP(K45859,股價!A:B,2,0)*M45859,\"\")","v":""},{"$f":"IF(O45859=\"\",\"\",RANK(O45859,$O$2:$O$1000))","v":""}]
["6547 高端疫苗","李思賢          李思賢",201,"李思賢",null,null,null,null,null,null,null,null,null,null,{"$f":"IFERROR(VLOOKUP(K45873,股價!A:B,2,0)*M45873,\"\")","v":""},{"$f":"IF(O45873=\"\",\"\",RANK(O45873,$O$2:$O$1000))","v":""}]
["6548 長科*","富邦人壽保險(股)蔡明興",27415,"富邦人壽保險",null,null,null,null,null,null,null,null,null,null,{"$f":"IFERROR(VLOOKUP(K45916,股價!A:B,2,0)*M45916,\"\")","v":""},{"$f":"IF(O45916=\"\",\"\",RANK(O45916,$O$2:$O$1000))","v":""}]
["6550 北極星藥業-KY","Masterpiece(股) King Regent",10000,"Masterpiece Enterprise Co., Ltd.",null,null,null,null,null,null,null,null,null,null,{"$f":"IFERROR(VLOOKUP(K45930,股價!A:B,2,0)*M45930,\"\")","v":""},{"$f":"IF(O45930=\"\",\"\",RANK(O45930,$O$2:$O$1000))","v":""}]
["6552 易華電","_大股東合計2    含沿用資料",5819,null,null,null,null,null,null,null,null,null,null,null,{"$f":"IFERROR(VLOOKUP(K45952,股價!A:B,2,0)*M45952,\"\")","v":""},{"$f":"IF(O45952=\"\",\"\",RANK(O45952,$O$2:$O$1000))","v":""}]
["6556 勝品","梁偉正          梁偉正",6,"梁偉正",null,null,null,null,null,null,null,null,null,null,{"$f":"IFERROR(VLOOKUP(K46000,股價!A:B,2,0)*M46000,\"\")","v":""},{"$f":"IF(O46000=\"\",\"\",RANK(O46000,$O$2:$O$1000))","v":""}]
["6558 興能高","周志峰          周志峰",0,"周志峰",null,null,null,null,null,null,null,null,null,null,{"$f":"IFERROR(VLOOKUP(K46027,股價!A:B,2,0)*M46027,\"\")","v":""},{"$f":"IF(O46027=\"\",\"\",RANK(O46027,$O$2:$O$1000))","v":""}]
["6558 興能高","統一國際開發(股)施秋茹",13451,"統一國際開發",null,null,null,null,null,null,null,null,null,null,{"$f":"IFERROR(VLOOKUP(K46036,股價!A:B,2,0)*M46036,\"\")","v":""},{"$f":"IF(O46036=\"\",\"\",RANK(O46036,$O$2:$O$1000))","v":""}]
["6560 欣普羅","陳苑霖          陳苑霖",298,"陳苑霖",null,null,null,null,null,null,null,null,null,null,{"$f":"IFERROR(VLOOKUP(K46064,股價!A:B,2,0)*M46064,\"\")","v":""},{"$f":"IF(O46064=\"\",\"\",RANK(O46064,$O$2:$O$1000))","v":""}]
["6561 是方","邰中和          邰中和",123,"邰中和",null,null,null,null,null,null,null,null,null,null,{"$f":"IFERROR(VLOOKUP(K46104,股價!A:B,2,0)*M46104,\"\")","v":""},{"$f":"IF(O46104=\"\",\"\",RANK(O46104,$O$2:$O$1000))","v":""}]
["6568 宏觀","玖旺投資(有)    劉家成",483,"玖旺投資",null,null,null,null,null,null,null,null,null,null,{"$f":"IFERROR(VLOOKUP(K46120,股價!A:B,2,0)*M46120,\"\")","v":""},{"$f":"IF(O46120=\"\",\"\",RANK(O46120,$O$2:$O$1000))","v":""}]
["6573 虹揚-KY","Luxury Good(有) Luxury Good(",1061,"Luxury Good Investment Limited",null,null,null,null,null,null,null,null,null,null,{"$f":"IFERROR(VLOOKUP(K46161,股價!A:B,2,0)*M46161,\"\")","v":""},{"$f":"IF(O46161=\"\",\"\",RANK(O46161,$O$2:$O$1000))","v":""}]
["6573 虹揚-KY","楊明祥          楊明祥",0,"楊明祥",null,null,null,null,null,null,null,null,null,null,{"$f":"IFERROR(VLOOKUP(K46183,股價!A:B,2,0)*M46183,\"\")","v":""},{"$f":"IF(O46183=\"\",\"\",RANK(O46183,$O$2:$O$1000))","v":""}]
["6574 霈方","台灣茵蝶美學(有)呂慶盛",3882,"台灣茵蝶美學",null,null,null,null,null,null,null,null,null,null,{"$f":"IFERROR(VLOOKUP(K46198,股價!A:B,2,0)*M46198,\"\")","v":""},{"$f":"IF(O46198=\"\",\"\",RANK(O46198,$O$2:$O$1000))","v":""}]
["6576 逸達","_大股東合計1",0,null,null,null,null,null,null,null,null,null,null,null,{"$f":"IFERROR(VLOOKUP(K46224,股價!A:B,2,0)*M46224,\"\")","v":""},{"$f":"IF(O46224=\"\",\"\",RANK(O46224,$O$2:$O$1000))","v":""}]
["6577 勁豐","陳茂雄          陳茂雄",0,"陳茂雄",null,null,null,null,null,null,null,null,null,null,{"$f":"IFERROR(VLOOKUP(K46267,股價!A:B,2,0)*M46267,\"\")","v":""},{"$f":"IF(O46267=\"\",\"\",RANK(O46267,$O$2:$O$1000))","v":""}]
["6578 達邦蛋白","統宇投資(股)    統宇投資(股)",1762,"統宇投資",null,null,null,null,null,null,null,null,null,null,{"$f":"IFERROR(VLOOKUP(K46295,股價!A:B,2,0)*M46295,\"\")","v":""},{"$f":"IF(O46295=\"\",\"\",RANK(O46295,$O$2:$O$1000))","v":""}]
["6579 研揚","_董監事合計",89969,null,null,null,null,null,null,null,null,null,null,null,{"$f":"IFERROR(VLOOKUP(K46308,股價!A:B,2,0)*M46308,\"\")","v":""},{"$f":"IF(O46308=\"\",\"\",RANK(O46308,$O$2:$O$1000))","v":""}]
["6579 研揚","曾鏘聲          曾鏘聲",0,"曾鏘聲",null,null,null,null,null,null,null,null,null,null,{"$f":"IFERROR(VLOOKUP(K46332,股價!A:B,2,0)*M46332,\"\")","v":""},{"$f":"IF(O46332=\"\",\"\",RANK(O46332,$O$2:$O$1000))","v":""}]
["6581 鋼聯","陳美惠          陳美惠",0,"陳美惠",null,null,null,null,null,null,null,null,null,null,{"$f":"IFERROR(VLOOKUP(K46371,股價!A:B,2,0)*M46371,\"\")","v":""},{"$f":"IF(O46371=\"\",\"\",RANK(O46371,$O$2:$O$1000))","v":""}]
["6582 申豐","MULTI-LUCK C(股)Kwok wai Cha",5110,"MULTI-LUCK CORPORATION LIMITED",null,null,null,null,null,null,null,null,null,null,{"$f":"IFERROR(VLOOKUP(K46387,股價!A:B,2,0)*M46387,\"\")","v":""},{"$f":"IF(O46387=\"\",\"\",RANK(O46387,$O$2:$O$1000))","v":""}]
["6582 申豐","何堉輝          何堉輝",0,"何堉輝",null,null,null,null,null,null,null,null,null,null,{"$f":"IFERROR(VLOOKUP(K46403,股價!A:B,2,0)*M46403,\"\")","v":""},{"$f":"IF(O46403=\"\",\"\",RANK(O46403,$O$2:$O$1000))","v":""}]
["6588 東典光電","李建邦          李建邦",307,"李建邦",null,null,null,null,null,null,null,null,null,null,{"$f":"IFERROR(VLOOKUP(K46455,股價!A:B,2,0)*M46455,\"\")","v":""},{"$f":"IF(O46455=\"\",\"\",RANK(O46455,$O$2:$O$1000))","v":""}]
["6588 東典光電","陳以敦          陳以敦",0,"陳以敦",null,null,null,null,null,null,null,null,null,null,{"$f":"IFERROR(VLOOKUP(K46466,股價!A:B,2,0)*M46466,\"\")","v":""},{"$f":"IF(O46466=\"\",\"\",RANK(O46466,$O$2:$O$1000))","v":""}]
["6589 台康生技","行政院國發會    陳(糸秀)暉",15289,"行政院國家發展基金管理會",null,null,null,null,null,null,null,null,null,null,{"$f":"IFERROR(VLOOKUP(K46491,股價!A:B,2,0)*M46491,\"\")","v":""},{"$f":"IF(O46491=\"\",\"\",RANK(O46491,$O$2:$O$1000))","v":""}]
["6590 普鴻","扈端華          扈端華",0,"扈端華",null,null,null,null,null,null,null,null,null,null,{"$f":"IFERROR(VLOOKUP(K46534,股價!A:B,2,0)*M46534,\"\")","v":""},{"$f":"IF(O46534=\"\",\"\",RANK(O46534,$O$2:$O$1000))","v":""}]
["6590 普鴻","陳國榮          陳國榮",801,"陳國榮",null,null,null,null,null,null,null,null,null,null,{"$f":"IFERROR(VLOOKUP(K46537,股價!A:B,2,0)*M46537,\"\")","v":""},{"$f":"IF(O46537=\"\",\"\",RANK(O46537,$O$2:$O$1000))","v":""}]
["6592 和潤企業","ROGER HUANG     ROGER HUANG",0,"ROGER HUANG",null,null,null,null,null,null,null,null,null,null,{"$f":"IFERROR(VLOOKUP(K46575,股價!A:B,2,0)*M46575,\"\")","v":""},{"$f":"IF(O46575=\"\",\"\",RANK(O46575,$O$2:$O$1000))","v":""}]
["6592 和潤企業","黃銘祐          黃銘祐",0,"黃銘祐",null,null,null,null,null,null,null,null,null,null,{"$f":"IFERROR(VLOOKUP(K46600,股價!A:B,2,0)*M46600,\"\")","v":""},{"$f":"IF(O46600=\"\",\"\",RANK(O46600,$O$2:$O$1000))","v":""}]
["6593 台灣銘板","蔡榮發          蔡榮發",66,"蔡榮發",null,null,null,null,null,null,null,null,null,null,{"$f":"IFERROR(VLOOKUP(K46638,股價!A:B,2,0)*M46638,\"\")","v":""},{"$f":"IF(O46638=\"\",\"\",RANK(O46638,$O$2:$O$1000))","v":""}]
["6596 寬宏藝術","陳以亨          陳以亨",0,"陳以亨",null,null,null,null,null,null,null,null,null,null,{"$f":"IFERROR(VLOOKUP(K46659,股價!A:B,2,0)*M46659,\"\")","v":""},{"$f":"IF(O46659=\"\",\"\",RANK(O46659,$O$2:$O$1000))","v":""}]
["6598 ABC-KY","Christopherm    Christopherm",0,"ＣＨＲＩＳＴＯＰＨＥＲＭ．ＢＥＲＮＡＲＤ",null,null,null,null,null,null,null,null,null,null,{"$f":"IFERROR(VLOOKUP(K46671,股價!A:B,2,0)*M46671,\"\")","v":""},{"$f":"IF(O46671=\"\",\"\",RANK(O46671,$O$2:$O$1000))","v":""}]
["6598 ABC-KY","洪玟琴          洪玟琴",0,"洪玟琴",null,null,null,null,null,null,null,null,null,null,{"$f":"IFERROR(VLOOKUP(K46695,股價!A:B,2,0)*M46695,\"\")","v":""},{"$f":"IF(O46695=\"\",\"\",RANK(O46695,$O$2:$O$1000))","v":""}]
["6603 富強鑫","黃營芳          黃營芳",0,"黃營芳",null,null,null,null,null,null,null,null,null,null,{"$f":"IFERROR(VLOOKUP(K46734,股價!A:B,2,0)*M46734,\"\")","v":""},{"$f":"IF(O46734=\"\",\"\",RANK(O46734,$O$2:$O$1000))","v":""}]
["6605 帝寶","許敘銘          許敘銘",8817,"許敘銘",null,null,null,null,null,null,null,null,null,null,{"$f":"IFERROR(VLOOKUP(K46758,股價!A:B,2,0)*M46758,\"\")","v":""},{"$f":"IF(O46758=\"\",\"\",RANK(O46758,$O$2:$O$1000))","v":""}]
["6606 建德工業","永祐實業(股)    柯俊輝",3000,"永祐實業",null,null,null,null,null,null,null,null,null,null,{"$f":"IFERROR(VLOOKUP(K46779,股價!A:B,2,0)*M46779,\"\")","v":""},{"$f":"IF(O46779=\"\",\"\",RANK(O46779,$O$2:$O$1000))","v":""}]
["6609 瀧澤科","(木尾)谷和啟    (木尾)谷和啟",0,"(木尾)谷和啟",null,null,null,null,null,null,null,null,null,null,{"$f":"IFERROR(VLOOKUP(K46805,股價!A:B,2,0)*M46805,\"\")","v":""},{"$f":"IF(O46805=\"\",\"\",RANK(O46805,$O$2:$O$1000))","v":""}]
["6613 朋億*","中盈投資開發(股)黃百堅",360,"中盈投資開發",null,null,null,null,null,null,null,null,null,null,{"$f":"IFERROR(VLOOKUP(K46842,股價!A:B,2,0)*M46842,\"\")","v":""},{"$f":"IF(O46842=\"\",\"\",RANK(O46842,$O$2:$O$1000))","v":""}]
["6615 慧智","亞拉投資(有)    亞拉投資(有)",1598,"亞拉投資",null,null,null,null,null,null,null,null,null,null,{"$f":"IFERROR(VLOOKUP(K46872,股價!A:B,2,0)*M46872,\"\")","v":""},{"$f":"IF(O46872=\"\",\"\",RANK(O46872,$O$2:$O$1000))","v":""}]
["6616 特昇-KY","黃啟瑞          黃啟瑞",0,"黃啟瑞",null,null,null,null,null,null,null,null,null,null,{"$f":"IFERROR(VLOOKUP(K46905,股價!A:B,2,0)*M46905,\"\")","v":""},{"$f":"IF(O46905=\"\",\"\",RANK(O46905,$O$2:$O$1000))","v":""}]
["6624 萬年清","葉永欽          葉永欽",683,"葉永欽",null,null,null,null,null,null,null,null,null,null,{"$f":"IFERROR(VLOOKUP(K46926,股價!A:B,2,0)*M46926,\"\")","v":""},{"$f":"IF(O46926=\"\",\"\",RANK(O46926,$O$2:$O$1000))","v":""}]
["6625 必應","中國信託創業投資王志剛",1572,"中國信託創業投資",null,null,null,null,null,null,null,null,null,null,{"$f":"IFERROR(VLOOKUP(K46939,股價!A:B,2,0)*M46939,\"\")","v":""},{"$f":"IF(O46939=\"\",\"\",RANK(O46939,$O$2:$O$1000))","v":""}]
["6625 必應","豪逸鑫投資(有)  林德明",1814,"豪逸鑫投資",null,null,null,null,null,null,null,null,null,null,{"$f":"IFERROR(VLOOKUP(K46962,股價!A:B,2,0)*M46962,\"\")","v":""},{"$f":"IF(O46962=\"\",\"\",RANK(O46962,$O$2:$O$1000))","v":""}]
["6640 均華","許鴻銘          許鴻銘",438,"許鴻銘",null,null,null,null,null,null,null,null,null,null,{"$f":"IFERROR(VLOOKUP(K47006,股價!A:B,2,0)*M47006,\"\")","v":""},{"$f":"IF(O47006=\"\",\"\",RANK(O47006,$O$2:$O$1000))","v":""}]
["6641 基士德-KY","李作守          李作守",283,"李作守",null,null,null,null,null,null,null,null,null,null,{"$f":"IFERROR(VLOOKUP(K47025,股價!A:B,2,0)*M47025,\"\")","v":""},{"$f":"IF(O47025=\"\",\"\",RANK(O47025,$O$2:$O$1000))","v":""}]
["6642 富致","年富投資(有)    謝憲治",1482,"年富投資有限公司",null,null,null,null,null,null,null,null,null,null,{"$f":"IFERROR(VLOOKUP(K47046,股價!A:B,2,0)*M47046,\"\")","v":""},{"$f":"IF(O47046=\"\",\"\",RANK(O47046,$O$2:$O$1000))","v":""}]
["6643 M31","元大卓越基金    元大卓越基金",418,"元大卓越基金專戶",null,null,null,null,null,null,null,null,null,null,{"$f":"IFERROR(VLOOKUP(K47073,股價!A:B,2,0)*M47073,\"\")","v":""},{"$f":"IF(O47073=\"\",\"\",RANK(O47073,$O$2:$O$1000))","v":""}]
["6649 台生材","振曜科技(股)    林志茂",5534,"振曜科技",null,null,null,null,null,null,null,null,null,null,{"$f":"IFERROR(VLOOKUP(K47109,股價!A:B,2,0)*M47109,\"\")","v":""},{"$f":"IF(O47109=\"\",\"\",RANK(O47109,$O$2:$O$1000))","v":""}]
["6651 全宇昕","陳宇湉          陳宇湉",937,"陳宇湉",null,null,null,null,null,null,null,null,null,null,{"$f":"IFERROR(VLOOKUP(K47140,股價!A:B,2,0)*M47140,\"\")","v":""},{"$f":"IF(O47140=\"\",\"\",RANK(O47140,$O$2:$O$1000))","v":""}]
["6654 天正國際","劉芳呈          劉芳呈",0,"劉芳呈",null,null,null,null,null,null,null,null,null,null,{"$f":"IFERROR(VLOOKUP(K47172,股價!A:B,2,0)*M47172,\"\")","v":""},{"$f":"IF(O47172=\"\",\"\",RANK(O47172,$O$2:$O$1000))","v":""}]
["6655 科定","曹雅琳          曹雅琳",0,"曹雅琳",null,null,null,null,null,null,null,null,null,null,{"$f":"IFERROR(VLOOKUP(K47193,股價!A:B,2,0)*M47193,\"\")","v":""},{"$f":"IF(O47193=\"\",\"\",RANK(O47193,$O$2:$O$1000))","v":""}]
["6661 威健生技","李筱敏          李筱敏",0,"李筱敏",null,null,null,null,null,null,null,null,null,null,{"$f":"IFERROR(VLOOKUP(K47211,股價!A:B,2,0)*M47211,\"\")","v":""},{"$f":"IF(O47211=\"\",\"\",RANK(O47211,$O$2:$O$1000))","v":""}]
["6662 樂斯科","_董監事合計",3586,null,null,null,null,null,null,null,null,null,null,null,{"$f":"IFERROR(VLOOKUP(K47229,股價!A:B,2,0)*M47229,\"\")","v":""},{"$f":"IF(O47229=\"\",\"\",RANK(O47229,$O$2:$O$1000))","v":""}]
["6664 群翊","陳禹水          陳禹水",211,"陳禹水",null,null,null,null,null,null,null,null,null,null,{"$f":"IFERROR(VLOOKUP(K47277,股價!A:B,2,0)*M47277,\"\")","v":""},{"$f":"IF(O47277=\"\",\"\",RANK(O47277,$O$2:$O$1000))","v":""}]
["6666 羅麗芬-KY","張秀瓊          張秀瓊",0,"張秀瓊",null,null,null,null,null,null,null,null,null,null,{"$f":"IFERROR(VLOOKUP(K47304,股價!A:B,2,0)*M47304,\"\")","v":""},{"$f":"IF(O47304=\"\",\"\",RANK(O47304,$O$2:$O$1000))","v":""}]
["6666 羅麗芬-KY","麗珅國際開發(股)麗珅國際開發",97,"麗珅國際開發",null,null,null,null,null,null,null,null,null,null,{"$f":"IFERROR(VLOOKUP(K47313,股價!A:B,2,0)*M47313,\"\")","v":""},{"$f":"IF(O47313=\"\",\"\",RANK(O47313,$O$2:$O$1000))","v":""}]
["6668 中揚光","_大股東合計1",10054,null,null,null,null,null,null,null,null,null,null,null,{"$f":"IFERROR(VLOOKUP(K47345,股價!A:B,2,0)*M47345,\"\")","v":""},{"$f":"IF(O47345=\"\",\"\",RANK(O47345,$O$2:$O$1000))","v":""}]
["6669 緯穎","呂舜星          呂舜星",340,"呂舜星",null,null,null,null,null,null,null,null,null,null,{"$f":"IFERROR(VLOOKUP(K47376,股價!A:B,2,0)*M47376,\"\")","v":""},{"$f":"IF(O47376=\"\",\"\",RANK(O47376,$O$2:$O$1000))","v":""}]
["6670 復盛應用","_大股東合計1",0,null,null,null,null,null,null,null,null,null,null,null,{"$f":"IFERROR(VLOOKUP(K47397,股價!A:B,2,0)*M47397,\"\")","v":""},{"$f":"IF(O47397=\"\",\"\",RANK(O47397,$O$2:$O$1000))","v":""}]
["6671 三能-KY","Great Flyer(有) Great Flyer(",3638,"Great Flyer Offshore Limited",null,null,null,null,null,null,null,null,null,null,{"$f":"IFERROR(VLOOKUP(K47438,股價!A:B,2,0)*M47438,\"\")","v":""},{"$f":"IF(O47438=\"\",\"\",RANK(O47438,$O$2:$O$1000))","v":""}]
["6671 三能-KY","蕭凱峰          蕭凱峰",116,"蕭凱峰",null,null,null,null,null,null,null,null,null,null,{"$f":"IFERROR(VLOOKUP(K47460,股價!A:B,2,0)*M47460,\"\")","v":""},{"$f":"IF(O47460=\"\",\"\",RANK(O47460,$O$2:$O$1000))","v":""}]
["6672 騰輝電子-KY","唐靜洲          唐靜洲",30,"唐靜洲",null,null,null,null,null,null,null,null,null,null,{"$f":"IFERROR(VLOOKUP(K47479,股價!A:B,2,0)*M47479,\"\")","v":""},{"$f":"IF(O47479=\"\",\"\",RANK(O47479,$O$2:$O$1000))","v":""}]
["6674 鋐寶科技","仁寶電腦工業(股)翁宗斌",29060,"仁寶電腦工業",null,null,null,null,null,null,null,null,null,null,{"$f":"IFERROR(VLOOKUP(K47496,股價!A:B,2,0)*M47496,\"\")","v":""},{"$f":"IF(O47496=\"\",\"\",RANK(O47496,$O$2:$O$1000))","v":""}]
["6679 鈺太","莊育民          莊育民",44,"莊育民",null,null,null,null,null,null,null,null,null,null,{"$f":"IFERROR(VLOOKUP(K47544,股價!A:B,2,0)*M47544,\"\")","v":""},{"$f":"IF(O47544=\"\",\"\",RANK(O47544,$O$2:$O$1000))","v":""}]
["6679 鈺太","新展開發投資股份余政宗",1125,"新展開發投資股份有限公司",null,null,null,null,null,null,null,null,null,null,{"$f":"IFERROR(VLOOKUP(K47550,股價!A:B,2,0)*M47550,\"\")","v":""},{"$f":"IF(O47550=\"\",\"\",RANK(O47550,$O$2:$O$1000))","v":""}]
["6683 雍智科技","鄭偉中          鄭偉中",80,"鄭偉中",null,null,null,null,null,null,null,null,null,null,{"$f":"IFERROR(VLOOKUP(K47580,股價!A:B,2,0)*M47580,\"\")","v":""},{"$f":"IF(O47580=\"\",\"\",RANK(O47580,$O$2:$O$1000))","v":""}]
["6689 伊雲谷","_大股東合計1",0,null,null,null,null,null,null,null,null,null,null,null,{"$f":"IFERROR(VLOOKUP(K47613,股價!A:B,2,0)*M47613,\"\")","v":""},{"$f":"IF(O47613=\"\",\"\",RANK(O47613,$O$2:$O$1000))","v":""}]
["6690 安碁資訊","_董監事合計",13296,null,null,null,null,null,null,null,null,null,null,null,{"$f":"IFERROR(VLOOKUP(K47643,股價!A:B,2,0)*M47643,\"\")","v":""},{"$f":"IF(O47643=\"\",\"\",RANK(O47643,$O$2:$O$1000))","v":""}]
["6690 安碁資訊","譚百良          譚百良",96,"譚百良",null,null,null,null,null,null,null,null,null,null,{"$f":"IFERROR(VLOOKUP(K47664,股價!A:B,2,0)*M47664,\"\")","v":""},{"$f":"IF(O47664=\"\",\"\",RANK(O47664,$O$2:$O$1000))","v":""}]
["6691 洋基工程","洋基工程（股    洋基工程（股",2261,"洋基工程（股）員工股票信託管理委員會",null,null,null,null,null,null,null,null,null,null,{"$f":"IFERROR(VLOOKUP(K47684,股價!A:B,2,0)*M47684,\"\")","v":""},{"$f":"IF(O47684=\"\",\"\",RANK(O47684,$O$2:$O$1000))","v":""}]
["6693 廣閎科","廖崇維          廖崇維",1120,"廖崇維",null,null,null,null,null,null,null,null,null,null,{"$f":"IFERROR(VLOOKUP(K47727,股價!A:B,2,0)*M47727,\"\")","v":""},{"$f":"IF(O47727=\"\",\"\",RANK(O47727,$O$2:$O$1000))","v":""}]
["6695 芯鼎","張錦春          張錦春",0,"張錦春",null,null,null,null,null,null,null,null,null,null,{"$f":"IFERROR(VLOOKUP(K47747,股價!A:B,2,0)*M47747,\"\")","v":""},{"$f":"IF(O47747=\"\",\"\",RANK(O47747,$O$2:$O$1000))","v":""}]
["6697 東捷資訊","東元電機(股)    邱純枝",11467,"東元電機",null,null,null,null,null,null,null,null,null,null,{"$f":"IFERROR(VLOOKUP(K47768,股價!A:B,2,0)*M47768,\"\")","v":""},{"$f":"IF(O47768=\"\",\"\",RANK(O47768,$O$2:$O$1000))","v":""}]
["6698 旭暉應材","緯創資通(股)    丘高玲",4589,"緯創資通",null,null,null,null,null,null,null,null,null,null,{"$f":"IFERROR(VLOOKUP(K47811,股價!A:B,2,0)*M47811,\"\")","v":""},{"$f":"IF(O47811=\"\",\"\",RANK(O47811,$O$2:$O$1000))","v":""}]
["6703 軒郁","_大股東合計2    含沿用資料",5442,null,null,null,null,null,null,null,null,null,null,null,{"$f":"IFERROR(VLOOKUP(K47818,股價!A:B,2,0)*M47818,\"\")","v":""},{"$f":"IF(O47818=\"\",\"\",RANK(O47818,$O$2:$O$1000))","v":""}]
["6706 惠特","_董監事合計",7269,null,null,null,null,null,null,null,null,null,null,null,{"$f":"IFERROR(VLOOKUP(K47847,股價!A:B,2,0)*M47847,\"\")","v":""},{"$f":"IF(O47847=\"\",\"\",RANK(O47847,$O$2:$O$1000))","v":""}]
["6708 天擎","至上電子(股)    林志隆",1940,"至上電子",null,null,null,null,null,null,null,null,null,null,{"$f":"IFERROR(VLOOKUP(K47881,股價!A:B,2,0)*M47881,\"\")","v":""},{"$f":"IF(O47881=\"\",\"\",RANK(O47881,$O$2:$O$1000))","v":""}]
["6712 長聖","徐偉成          徐偉成",83,"徐偉成",null,null,null,null,null,null,null,null,null,null,{"$f":"IFERROR(VLOOKUP(K47915,股價!A:B,2,0)*M47915,\"\")","v":""},{"$f":"IF(O47915=\"\",\"\",RANK(O47915,$O$2:$O$1000))","v":""}]
["6715 嘉基","朱妍婗          朱妍婗",1540,"朱妍婗",null,null,null,null,null,null,null,null,null,null,{"$f":"IFERROR(VLOOKUP(K47931,股價!A:B,2,0)*M47931,\"\")","v":""},{"$f":"IF(O47931=\"\",\"\",RANK(O47931,$O$2:$O$1000))","v":""}]
["6715 嘉基","羅偉仁          羅偉仁",1177,"羅偉仁",null,null,null,null,null,null,null,null,null,null,{"$f":"IFERROR(VLOOKUP(K47952,股價!A:B,2,0)*M47952,\"\")","v":""},{"$f":"IF(O47952=\"\",\"\",RANK(O47952,$O$2:$O$1000))","v":""}]
["6721 信實","_董  事合計",8022,null,null,null,null,null,null,null,null,null,null,null,{"$f":"IFERROR(VLOOKUP(K47994,股價!A:B,2,0)*M47994,\"\")","v":""},{"$f":"IF(O47994=\"\",\"\",RANK(O47994,$O$2:$O$1000))","v":""}]
["6721 信實","黃映智          黃映智",0,"黃映智",null,null,null,null,null,null,null,null,null,null,{"$f":"IFERROR(VLOOKUP(K48015,股價!A:B,2,0)*M48015,\"\")","v":""},{"$f":"IF(O48015=\"\",\"\",RANK(O48015,$O$2:$O$1000))","v":""}]
["6727 亞泰金屬","高明            高明",100,"高明",null,null,null,null,null,null,null,null,null,null,{"$f":"IFERROR(VLOOKUP(K48035,股價!A:B,2,0)*M48035,\"\")","v":""},{"$f":"IF(O48035=\"\",\"\",RANK(O48035,$O$2:$O$1000))","v":""}]
["6732 昇佳電子","_大股東合計2    含沿用資料",6777,null,null,null,null,null,null,null,null,null,null,null,{"$f":"IFERROR(VLOOKUP(K48078,股價!A:B,2,0)*M48078,\"\")","v":""},{"$f":"IF(O48078=\"\",\"\",RANK(O48078,$O$2:$O$1000))","v":""}]
["6732 昇佳電子","王照勳          王照勳",60,"王照勳",null,null,null,null,null,null,null,null,null,null,{"$f":"IFERROR(VLOOKUP(K48086,股價!A:B,2,0)*M48086,\"\")","v":""},{"$f":"IF(O48086=\"\",\"\",RANK(O48086,$O$2:$O$1000))","v":""}]
["6733 博晟生醫","李伯偉          李伯偉",200,"李伯偉",null,null,null,null,null,null,null,null,null,null,{"$f":"IFERROR(VLOOKUP(K48119,股價!A:B,2,0)*M48119,\"\")","v":""},{"$f":"IF(O48119=\"\",\"\",RANK(O48119,$O$2:$O$1000))","v":""}]
["6735 美達科技","陳梅開發投資(有)廖德和",5364,"陳梅開發投資",null,null,null,null,null,null,null,null,null,null,{"$f":"IFERROR(VLOOKUP(K48149,股價!A:B,2,0)*M48149,\"\")","v":""},{"$f":"IF(O48149=\"\",\"\",RANK(O48149,$O$2:$O$1000))","v":""}]
["6741 91APP*-KY","花旗託管挪威    花旗託管挪威",1776,"花旗託管挪威中央銀行投資專戶",null,null,null,null,null,null,null,null,null,null,{"$f":"IFERROR(VLOOKUP(K48182,股價!A:B,2,0)*M48182,\"\")","v":""},{"$f":"IF(O48182=\"\",\"\",RANK(O48182,$O$2:$O$1000))","v":""}]
["6743 安普新","_董  事合計",32164,null,null,null,null,null,null,null,null,null,null,null,{"$f":"IFERROR(VLOOKUP(K48198,股價!A:B,2,0)*M48198,\"\")","v":""},{"$f":"IF(O48198=\"\",\"\",RANK(O48198,$O$2:$O$1000))","v":""}]
["6747 亨泰光","_經理人合計",210,null,null,null,null,null,null,null,null,null,null,null,{"$f":"IFERROR(VLOOKUP(K48220,股價!A:B,2,0)*M48220,\"\")","v":""},{"$f":"IF(O48220=\"\",\"\",RANK(O48220,$O$2:$O$1000))","v":""}]
["6747 亨泰光","葉宜            葉宜",97,"葉宜",null,null,null,null,null,null,null,null,null,null,{"$f":"IFERROR(VLOOKUP(K48239,股價!A:B,2,0)*M48239,\"\")","v":""},{"$f":"IF(O48239=\"\",\"\",RANK(O48239,$O$2:$O$1000))","v":""}]
["6752 叡揚","胡瑞柔          胡瑞柔",205,"胡瑞柔",null,null,null,null,null,null,null,null,null,null,{"$f":"IFERROR(VLOOKUP(K48283,股價!A:B,2,0)*M48283,\"\")","v":""},{"$f":"IF(O48283=\"\",\"\",RANK(O48283,$O$2:$O$1000))","v":""}]
["6753 龍德造船","_監察人合計",0,null,null,null,null,null,null,null,null,null,null,null,{"$f":"IFERROR(VLOOKUP(K48302,股價!A:B,2,0)*M48302,\"\")","v":""},{"$f":"IF(O48302=\"\",\"\",RANK(O48302,$O$2:$O$1000))","v":""}]
["6753 龍德造船","黃守龍          黃守龍",1812,"黃守龍",null,null,null,null,null,null,null,null,null,null,{"$f":"IFERROR(VLOOKUP(K48318,股價!A:B,2,0)*M48318,\"\")","v":""},{"$f":"IF(O48318=\"\",\"\",RANK(O48318,$O$2:$O$1000))","v":""}]
["6754 匯僑設計","蔡志谷          蔡志谷",560,"蔡志谷",null,null,null,null,null,null,null,null,null,null,{"$f":"IFERROR(VLOOKUP(K48354,股價!A:B,2,0)*M48354,\"\")","v":""},{"$f":"IF(O48354=\"\",\"\",RANK(O48354,$O$2:$O$1000))","v":""}]
["6761 穩得","_大股東合計1",0,null,null,null,null,null,null,null,null,null,null,null,{"$f":"IFERROR(VLOOKUP(K48386,股價!A:B,2,0)*M48386,\"\")","v":""},{"$f":"IF(O48386=\"\",\"\",RANK(O48386,$O$2:$O$1000))","v":""}]
["6761 穩得","劉昇昌          劉昇昌",23,"劉昇昌",null,null,null,null,null,null,null,null,null,null,{"$f":"IFERROR(VLOOKUP(K48417,股價!A:B,2,0)*M48417,\"\")","v":""},{"$f":"IF(O48417=\"\",\"\",RANK(O48417,$O$2:$O$1000))","v":""}]
["6763 綠界科技","_董  事合計",5407,null,null,null,null,null,null,null,null,null,null,null,{"$f":"IFERROR(VLOOKUP(K48449,股價!A:B,2,0)*M48449,\"\")","v":""},{"$f":"IF(O48449=\"\",\"\",RANK(O48449,$O$2:$O$1000))","v":""}]
["6763 綠界科技","鴻崴國際投資股份鴻崴國際投資",121,"鴻崴國際投資股份有限公司",null,null,null,null,null,null,null,null,null,null,{"$f":"IFERROR(VLOOKUP(K48470,股價!A:B,2,0)*M48470,\"\")","v":""},{"$f":"IF(O48470=\"\",\"\",RANK(O48470,$O$2:$O$1000))","v":""}]
["6767 台微醫","梁晃千          梁晃千",1216,"梁晃千",null,null,null,null,null,null,null,null,null,null,{"$f":"IFERROR(VLOOKUP(K48488,股價!A:B,2,0)*M48488,\"\")","v":""},{"$f":"IF(O48488=\"\",\"\",RANK(O48488,$O$2:$O$1000))","v":""}]
["6768 志強-KY","Preferred Gr    葉倫君",18519,"Preferred Grand Fund SPC-Stone Wall Fund Segregated Portfolio",null,null,null,null,null,null,null,null,null,null,{"$f":"IFERROR(VLOOKUP(K48506,股價!A:B,2,0)*M48506,\"\")","v":""},{"$f":"IF(O48506=\"\",\"\",RANK(O48506,$O$2:$O$1000))","v":""}]
["6770 力積電","花旗瑞銀歐洲    花旗瑞銀歐洲",76921,"花旗託管瑞銀歐洲SE投資專戶",null,null,null,null,null,null,null,null,null,null,{"$f":"IFERROR(VLOOKUP(K48549,股價!A:B,2,0)*M48549,\"\")","v":""},{"$f":"IF(O48549=\"\",\"\",RANK(O48549,$O$2:$O$1000))","v":""}]
["6770 力積電","陳冠州          陳冠州",71,"陳冠州",null,null,null,null,null,null,null,null,null,null,{"$f":"IFERROR(VLOOKUP(K48559,股價!A:B,2,0)*M48559,\"\")","v":""},{"$f":"IF(O48559=\"\",\"\",RANK(O48559,$O$2:$O$1000))","v":""}]
["6776 展碁國際","宏榮投資(股)    葉紫華",1290,"宏榮投資",null,null,null,null,null,null,null,null,null,null,{"$f":"IFERROR(VLOOKUP(K48590,股價!A:B,2,0)*M48590,\"\")","v":""},{"$f":"IF(O48590=\"\",\"\",RANK(O48590,$O$2:$O$1000))","v":""}]
["6781 AES-KY","李政憲          李政憲",10,"李政憲",null,null,null,null,null,null,null,null,null,null,{"$f":"IFERROR(VLOOKUP(K48622,股價!A:B,2,0)*M48622,\"\")","v":""},{"$f":"IF(O48622=\"\",\"\",RANK(O48622,$O$2:$O$1000))","v":""}]
["6782 視陽","劉培毅          劉培毅",389,"劉培毅",null,null,null,null,null,null,null,null,null,null,{"$f":"IFERROR(VLOOKUP(K48653,股價!A:B,2,0)*M48653,\"\")","v":""},{"$f":"IF(O48653=\"\",\"\",RANK(O48653,$O$2:$O$1000))","v":""}]
["6788 華景電","陳佩稜          陳佩稜",31,"陳佩稜",null,null,null,null,null,null,null,null,null,null,{"$f":"IFERROR(VLOOKUP(K48674,股價!A:B,2,0)*M48674,\"\")","v":""},{"$f":"IF(O48674=\"\",\"\",RANK(O48674,$O$2:$O$1000))","v":""}]
["6789 采鈺","大通富達投資    大通富達投資",2061,"美商摩根大通銀行台北分行受託保管富達投資基金投資專戶",null,null,null,null,null,null,null,null,null,null,{"$f":"IFERROR(VLOOKUP(K48693,股價!A:B,2,0)*M48693,\"\")","v":""},{"$f":"IF(O48693=\"\",\"\",RANK(O48693,$O$2:$O$1000))","v":""}]
["6790 永豐實","林智健          林智健",0,"林智健",null,null,null,null,null,null,null,null,null,null,{"$f":"IFERROR(VLOOKUP(K48737,股價!A:B,2,0)*M48737,\"\")","v":""},{"$f":"IF(O48737=\"\",\"\",RANK(O48737,$O$2:$O$1000))","v":""}]
["6791 虎門科技","王正青          王正青",0,"王正青",null,null,null,null,null,null,null,null,null,null,{"$f":"IFERROR(VLOOKUP(K48756,股價!A:B,2,0)*M48756,\"\")","v":""},{"$f":"IF(O48756=\"\",\"\",RANK(O48756,$O$2:$O$1000))","v":""}]
["6791 虎門科技","蔡國忠          蔡國忠",0,"蔡國忠",null,null,null,null,null,null,null,null,null,null,{"$f":"IFERROR(VLOOKUP(K48773,股價!A:B,2,0)*M48773,\"\")","v":""},{"$f":"IF(O48773=\"\",\"\",RANK(O48773,$O$2:$O$1000))","v":""}]
["6796 晉弘","張銘杰          張銘杰",0,"張銘杰",null,null,null,null,null,null,null,null,null,null,{"$f":"IFERROR(VLOOKUP(K48821,股價!A:B,2,0)*M48821,\"\")","v":""},{"$f":"IF(O48821=\"\",\"\",RANK(O48821,$O$2:$O$1000))","v":""}]
["6796 晉弘","裕群光電科技股份裕群光電科技",1271,"裕群光電科技股份有限公司",null,null,null,null,null,null,null,null,null,null,{"$f":"IFERROR(VLOOKUP(K48827,股價!A:B,2,0)*M48827,\"\")","v":""},{"$f":"IF(O48827=\"\",\"\",RANK(O48827,$O$2:$O$1000))","v":""}]
["6799 來頡","鄭培毓          鄭培毓",50,"鄭培毓",null,null,null,null,null,null,null,null,null,null,{"$f":"IFERROR(VLOOKUP(K48857,股價!A:B,2,0)*M48857,\"\")","v":""},{"$f":"IF(O48857=\"\",\"\",RANK(O48857,$O$2:$O$1000))","v":""}]
["6806 森崴能源","_大股東合計2    含沿用資料",32753,null,null,null,null,null,null,null,null,null,null,null,{"$f":"IFERROR(VLOOKUP(K48890,股價!A:B,2,0)*M48890,\"\")","v":""},{"$f":"IF(O48890=\"\",\"\",RANK(O48890,$O$2:$O$1000))","v":""}]
["6807 峰源-KY","_董  事合計",11357,null,null,null,null,null,null,null,null,null,null,null,{"$f":"IFERROR(VLOOKUP(K48920,股價!A:B,2,0)*M48920,\"\")","v":""},{"$f":"IF(O48920=\"\",\"\",RANK(O48920,$O$2:$O$1000))","v":""}]
["6811 宏碁資訊","_董  事合計",26304,null,null,null,null,null,null,null,null,null,null,null,{"$f":"IFERROR(VLOOKUP(K48941,股價!A:B,2,0)*M48941,\"\")","v":""},{"$f":"IF(O48941=\"\",\"\",RANK(O48941,$O$2:$O$1000))","v":""}]
["6811 宏碁資訊","創新工業技術移轉劉文雄",554,"創新工業技術移轉",null,null,null,null,null,null,null,null,null,null,{"$f":"IFERROR(VLOOKUP(K48961,股價!A:B,2,0)*M48961,\"\")","v":""},{"$f":"IF(O48961=\"\",\"\",RANK(O48961,$O$2:$O$1000))","v":""}]
["6829 千附精密","千附實業(股)    張瓊如",37278,"千附實業",null,null,null,null,null,null,null,null,null,null,{"$f":"IFERROR(VLOOKUP(K49004,股價!A:B,2,0)*M49004,\"\")","v":""},{"$f":"IF(O49004=\"\",\"\",RANK(O49004,$O$2:$O$1000))","v":""}]
["6830 汎銓","_經理人合計",2744,null,null,null,null,null,null,null,null,null,null,null,{"$f":"IFERROR(VLOOKUP(K49028,股價!A:B,2,0)*M49028,\"\")","v":""},{"$f":"IF(O49028=\"\",\"\",RANK(O49028,$O$2:$O$1000))","v":""}]
["6830 汎銓","周學良          周學良",440,"周學良",null,null,null,null,null,null,null,null,null,null,{"$f":"IFERROR(VLOOKUP(K49040,股價!A:B,2,0)*M49040,\"\")","v":""},{"$f":"IF(O49040=\"\",\"\",RANK(O49040,$O$2:$O$1000))","v":""}]
["6834 天二科技","廖震益          廖震益",2825,"廖震益",null,null,null,null,null,null,null,null,null,null,{"$f":"IFERROR(VLOOKUP(K49088,股價!A:B,2,0)*M49088,\"\")","v":""},{"$f":"IF(O49088=\"\",\"\",RANK(O49088,$O$2:$O$1000))","v":""}]
["6834 天二科技","麒威投資(有)    廖震益",1880,"麒威投資有限公司",null,null,null,null,null,null,null,null,null,null,{"$f":"IFERROR(VLOOKUP(K49095,股價!A:B,2,0)*M49095,\"\")","v":""},{"$f":"IF(O49095=\"\",\"\",RANK(O49095,$O$2:$O$1000))","v":""}]
["6835 圓裕","鍾志龍          鍾志龍",398,"鍾志龍",null,null,null,null,null,null,null,null,null,null,{"$f":"IFERROR(VLOOKUP(K49124,股價!A:B,2,0)*M49124,\"\")","v":""},{"$f":"IF(O49124=\"\",\"\",RANK(O49124,$O$2:$O$1000))","v":""}]
["6841 長佳智能","_董監事合計",32652,null,null,null,null,null,null,null,null,null,null,null,{"$f":"IFERROR(VLOOKUP(K49162,股價!A:B,2,0)*M49162,\"\")","v":""},{"$f":"IF(O49162=\"\",\"\",RANK(O49162,$O$2:$O$1000))","v":""}]
["6841 長佳智能","謝耀方          謝耀方",0,"謝耀方",null,null,null,null,null,null,null,null,null,null,{"$f":"IFERROR(VLOOKUP(K49187,股價!A:B,2,0)*M49187,\"\")","v":""},{"$f":"IF(O49187=\"\",\"\",RANK(O49187,$O$2:$O$1000))","v":""}]
["6843 進典","詠硯投資(股)    黃彥文",6850,"詠硯投資股份有限公司",null,null,null,null,null,null,null,null,null,null,{"$f":"IFERROR(VLOOKUP(K49208,股價!A:B,2,0)*M49208,\"\")","v":""},{"$f":"IF(O49208=\"\",\"\",RANK(O49208,$O$2:$O$1000))","v":""}]
["6846 綠茵","曾秋雪          曾秋雪",124,"曾秋雪",null,null,null,null,null,null,null,null,null,null,{"$f":"IFERROR(VLOOKUP(K49233,股價!A:B,2,0)*M49233,\"\")","v":""},{"$f":"IF(O49233=\"\",\"\",RANK(O49233,$O$2:$O$1000))","v":""}]
["6859 伯特光","_大股東合計2    含沿用資料",11165,null,null,null,null,null,null,null,null,null,null,null,{"$f":"IFERROR(VLOOKUP(K49271,股價!A:B,2,0)*M49271,\"\")","v":""},{"$f":"IF(O49271=\"\",\"\",RANK(O49271,$O$2:$O$1000))","v":""}]
["6861 睿生光電","_大股東合計2    含沿用資料",10362,null,null,null,null,null,null,null,null,null,null,null,{"$f":"IFERROR(VLOOKUP(K49296,股價!A:B,2,0)*M49296,\"\")","v":""},{"$f":"IF(O49296=\"\",\"\",RANK(O49296,$O$2:$O$1000))","v":""}]
["6861 睿生光電","李易謙          李易謙",9,"李易謙",null,null,null,null,null,null,null,null,null,null,{"$f":"IFERROR(VLOOKUP(K49307,股價!A:B,2,0)*M49307,\"\")","v":""},{"$f":"IF(O49307=\"\",\"\",RANK(O49307,$O$2:$O$1000))","v":""}]
["6865 偉康","_監察人合計",0,null,null,null,null,null,null,null,null,null,null,null,{"$f":"IFERROR(VLOOKUP(K49355,股價!A:B,2,0)*M49355,\"\")","v":""},{"$f":"IF(O49355=\"\",\"\",RANK(O49355,$O$2:$O$1000))","v":""}]
["6865 偉康","偉鈞科技(股)    偉鈞科技(股)",1822,"偉鈞科技股份有限公司",null,null,null,null,null,null,null,null,null,null,{"$f":"IFERROR(VLOOKUP(K49367,股價!A:B,2,0)*M49367,\"\")","v":""},{"$f":"IF(O49367=\"\",\"\",RANK(O49367,$O$2:$O$1000))","v":""}]
["6874 倍力","宋祥榮          宋祥榮",53,"宋祥榮",null,null,null,null,null,null,null,null,null,null,{"$f":"IFERROR(VLOOKUP(K49391,股價!A:B,2,0)*M49391,\"\")","v":""},{"$f":"IF(O49391=\"\",\"\",RANK(O49391,$O$2:$O$1000))","v":""}]
["7402 邑錡","張寶釵          張寶釵",0,"張寶釵",null,null,null,null,null,null,null,null,null,null,{"$f":"IFERROR(VLOOKUP(K49430,股價!A:B,2,0)*M49430,\"\")","v":""},{"$f":"IF(O49430=\"\",\"\",RANK(O49430,$O$2:$O$1000))","v":""}]
["7556 意德士","莊雅月          莊雅月",142,"莊雅月",null,null,null,null,null,null,null,null,null,null,{"$f":"IFERROR(VLOOKUP(K49454,股價!A:B,2,0)*M49454,\"\")","v":""},{"$f":"IF(O49454=\"\",\"\",RANK(O49454,$O$2:$O$1000))","v":""}]
["8011 台通","王賀廷          王賀廷",0,"王賀廷",null,null,null,null,null,null,null,null,null,null,{"$f":"IFERROR(VLOOKUP(K49475,股價!A:B,2,0)*M49475,\"\")","v":""},{"$f":"IF(O49475=\"\",\"\",RANK(O49475,$O$2:$O$1000))","v":""}]
["8016 矽創","毛穎文          毛穎文",1772,"毛穎文",null,null,null,null,null,null,null,null,null,null,{"$f":"IFERROR(VLOOKUP(K49501,股價!A:B,2,0)*M49501,\"\")","v":""},{"$f":"IF(O49501=\"\",\"\",RANK(O49501,$O$2:$O$1000))","v":""}]
["8021 尖點","許兆慶          許兆慶",0,"許兆慶",null,null,null,null,null,null,null,null,null,null,{"$f":"IFERROR(VLOOKUP(K49538,股價!A:B,2,0)*M49538,\"\")","v":""},{"$f":"IF(O49538=\"\",\"\",RANK(O49538,$O$2:$O$1000))","v":""}]
["8024 佑華","張志揚          張志揚",0,"張志揚",null,null,null,null,null,null,null,null,null,null,{"$f":"IFERROR(VLOOKUP(K49564,股價!A:B,2,0)*M49564,\"\")","v":""},{"$f":"IF(O49564=\"\",\"\",RANK(O49564,$O$2:$O$1000))","v":""}]
["8027 鈦昇","_董監事合計",8643,null,null,null,null,null,null,null,null,null,null,null,{"$f":"IFERROR(VLOOKUP(K49579,股價!A:B,2,0)*M49579,\"\")","v":""},{"$f":"IF(O49579=\"\",\"\",RANK(O49579,$O$2:$O$1000))","v":""}]
["8027 鈦昇","陳坤山          陳坤山",949,"陳坤山",null,null,null,null,null,null,null,null,null,null,{"$f":"IFERROR(VLOOKUP(K49595,股價!A:B,2,0)*M49595,\"\")","v":""},{"$f":"IF(O49595=\"\",\"\",RANK(O49595,$O$2:$O$1000))","v":""}]
["8028 昇陽半導體","廖學專          廖學專",97,"廖學專",null,null,null,null,null,null,null,null,null,null,{"$f":"IFERROR(VLOOKUP(K49635,股價!A:B,2,0)*M49635,\"\")","v":""},{"$f":"IF(O49635=\"\",\"\",RANK(O49635,$O$2:$O$1000))","v":""}]
["8032 光菱","陳世凱          陳世凱",104,"陳世凱",null,null,null,null,null,null,null,null,null,null,{"$f":"IFERROR(VLOOKUP(K49658,股價!A:B,2,0)*M49658,\"\")","v":""},{"$f":"IF(O49658=\"\",\"\",RANK(O49658,$O$2:$O$1000))","v":""}]
["8034 榮群","_大股東合計2    含沿用資料",3508,null,null,null,null,null,null,null,null,null,null,null,{"$f":"IFERROR(VLOOKUP(K49698,股價!A:B,2,0)*M49698,\"\")","v":""},{"$f":"IF(O49698=\"\",\"\",RANK(O49698,$O$2:$O$1000))","v":""}]
["8038 長園科","_監察人合計",0,null,null,null,null,null,null,null,null,null,null,null,{"$f":"IFERROR(VLOOKUP(K49726,股價!A:B,2,0)*M49726,\"\")","v":""},{"$f":"IF(O49726=\"\",\"\",RANK(O49726,$O$2:$O$1000))","v":""}]
["8039 台虹","_大股東合計1",20936,null,null,null,null,null,null,null,null,null,null,null,{"$f":"IFERROR(VLOOKUP(K49742,股價!A:B,2,0)*M49742,\"\")","v":""},{"$f":"IF(O49742=\"\",\"\",RANK(O49742,$O$2:$O$1000))","v":""}]
["8039 台虹","富邦人壽保險(股)蔡明興",10453,"富邦人壽保險",null,null,null,null,null,null,null,null,null,null,{"$f":"IFERROR(VLOOKUP(K49769,股價!A:B,2,0)*M49769,\"\")","v":""},{"$f":"IF(O49769=\"\",\"\",RANK(O49769,$O$2:$O$1000))","v":""}]
["8040 九暘","聯發科技(股)    何旭峰",13125,"聯發科技",null,null,null,null,null,null,null,null,null,null,{"$f":"IFERROR(VLOOKUP(K49805,股價!A:B,2,0)*M49805,\"\")","v":""},{"$f":"IF(O49805=\"\",\"\",RANK(O49805,$O$2:$O$1000))","v":""}]
["8042 金山電","富安投資(有)    江慶盈",3127,"富安投資有限公司",null,null,null,null,null,null,null,null,null,null,{"$f":"IFERROR(VLOOKUP(K49832,股價!A:B,2,0)*M49832,\"\")","v":""},{"$f":"IF(O49832=\"\",\"\",RANK(O49832,$O$2:$O$1000))","v":""}]
["8044 網家","_監察人合計",0,null,null,null,null,null,null,null,null,null,null,null,{"$f":"IFERROR(VLOOKUP(K49846,股價!A:B,2,0)*M49846,\"\")","v":""},{"$f":"IF(O49846=\"\",\"\",RANK(O49846,$O$2:$O$1000))","v":""}]
["8044 網家","賀陳旦          賀陳旦",0,"賀陳旦",null,null,null,null,null,null,null,null,null,null,{"$f":"IFERROR(VLOOKUP(K49862,股價!A:B,2,0)*M49862,\"\")","v":""},{"$f":"IF(O49862=\"\",\"\",RANK(O49862,$O$2:$O$1000))","v":""}]
["8046 南電","富邦人壽保險(股)蔡明興",2861,"富邦人壽保險",null,null,null,null,null,null,null,null,null,null,{"$f":"IFERROR(VLOOKUP(K49903,股價!A:B,2,0)*M49903,\"\")","v":""},{"$f":"IF(O49903=\"\",\"\",RANK(O49903,$O$2:$O$1000))","v":""}]
["8047 星雲","陳穎釧          陳穎釧",1,"陳穎釧",null,null,null,null,null,null,null,null,null,null,{"$f":"IFERROR(VLOOKUP(K49930,股價!A:B,2,0)*M49930,\"\")","v":""},{"$f":"IF(O49930=\"\",\"\",RANK(O49930,$O$2:$O$1000))","v":""}]
["8048 德勝","王冀翹          王冀翹",26,"王冀翹",null,null,null,null,null,null,null,null,null,null,{"$f":"IFERROR(VLOOKUP(K49946,股價!A:B,2,0)*M49946,\"\")","v":""},{"$f":"IF(O49946=\"\",\"\",RANK(O49946,$O$2:$O$1000))","v":""}]
["8049 晶采","_董  事合計",9138,null,null,null,null,null,null,null,null,null,null,null,{"$f":"IFERROR(VLOOKUP(K49974,股價!A:B,2,0)*M49974,\"\")","v":""},{"$f":"IF(O49974=\"\",\"\",RANK(O49974,$O$2:$O$1000))","v":""}]
["8050 廣積","李英珍          李英珍",101,"李英珍",null,null,null,null,null,null,null,null,null,null,{"$f":"IFERROR(VLOOKUP(K50009,股價!A:B,2,0)*M50009,\"\")","v":""},{"$f":"IF(O50009=\"\",\"\",RANK(O50009,$O$2:$O$1000))","v":""}]
["8050 廣積","蔡友福          蔡友福",2,"蔡友福",null,null,null,null,null,null,null,null,null,null,{"$f":"IFERROR(VLOOKUP(K50037,股價!A:B,2,0)*M50037,\"\")","v":""},{"$f":"IF(O50037=\"\",\"\",RANK(O50037,$O$2:$O$1000))","v":""}]
["8054 安國","_監察人合計",0,null,null,null,null,null,null,null,null,null,null,null,{"$f":"IFERROR(VLOOKUP(K50050,股價!A:B,2,0)*M50050,\"\")","v":""},{"$f":"IF(O50050=\"\",\"\",RANK(O50050,$O$2:$O$1000))","v":""}]
["8059 凱碩","金寶電子工業(股)蕭慶華",129959,"金寶電子工業",null,null,null,null,null,null,null,null,null,null,{"$f":"IFERROR(VLOOKUP(K50093,股價!A:B,2,0)*M50093,\"\")","v":""},{"$f":"IF(O50093=\"\",\"\",RANK(O50093,$O$2:$O$1000))","v":""}]
["8059 凱碩","蔡建文          蔡建文",0,"蔡建文",null,null,null,null,null,null,null,null,null,null,{"$f":"IFERROR(VLOOKUP(K50108,股價!A:B,2,0)*M50108,\"\")","v":""},{"$f":"IF(O50108=\"\",\"\",RANK(O50108,$O$2:$O$1000))","v":""}]
["8064 東捷","匯豐摩根士丹    匯豐摩根士丹",2131,"匯豐銀行託管摩根士丹利國際有限公司專戶",null,null,null,null,null,null,null,null,null,null,{"$f":"IFERROR(VLOOKUP(K50134,股價!A:B,2,0)*M50134,\"\")","v":""},{"$f":"IF(O50134=\"\",\"\",RANK(O50134,$O$2:$O$1000))","v":""}]
["8066 來思達","璦德國際(股)    謝采琁",985,"璦德國際股份有限公司",null,null,null,null,null,null,null,null,null,null,{"$f":"IFERROR(VLOOKUP(K50171,股價!A:B,2,0)*M50171,\"\")","v":""},{"$f":"IF(O50171=\"\",\"\",RANK(O50171,$O$2:$O$1000))","v":""}]
["8068 全達","_經理人合計",0,null,null,null,null,null,null,null,null,null,null,null,{"$f":"IFERROR(VLOOKUP(K50197,股價!A:B,2,0)*M50197,\"\")","v":""},{"$f":"IF(O50197=\"\",\"\",RANK(O50197,$O$2:$O$1000))","v":""}]
["8068 全達","富邦佳豐投資    皇甫青",4131,"台北富邦商業銀行受託保管佳豐投資控股股份有限公司投資專戶",null,null,null,null,null,null,null,null,null,null,{"$f":"IFERROR(VLOOKUP(K50213,股價!A:B,2,0)*M50213,\"\")","v":""},{"$f":"IF(O50213=\"\",\"\",RANK(O50213,$O$2:$O$1000))","v":""}]
["8069 元太","李政昊          李政昊",823,"李政昊",null,null,null,null,null,null,null,null,null,null,{"$f":"IFERROR(VLOOKUP(K50242,股價!A:B,2,0)*M50242,\"\")","v":""},{"$f":"IF(O50242=\"\",\"\",RANK(O50242,$O$2:$O$1000))","v":""}]
["8070 長華*","洪全成          洪全成",0,"洪全成",null,null,null,null,null,null,null,null,null,null,{"$f":"IFERROR(VLOOKUP(K50281,股價!A:B,2,0)*M50281,\"\")","v":""},{"$f":"IF(O50281=\"\",\"\",RANK(O50281,$O$2:$O$1000))","v":""}]
["8071 能率網通","宋和業          宋和業",0,"宋和業",null,null,null,null,null,null,null,null,null,null,{"$f":"IFERROR(VLOOKUP(K50305,股價!A:B,2,0)*M50305,\"\")","v":""},{"$f":"IF(O50305=\"\",\"\",RANK(O50305,$O$2:$O$1000))","v":""}]
["8071 能率網通","能率創新(股)    黃立安",7199,"能率創新",null,null,null,null,null,null,null,null,null,null,{"$f":"IFERROR(VLOOKUP(K50317,股價!A:B,2,0)*M50317,\"\")","v":""},{"$f":"IF(O50317=\"\",\"\",RANK(O50317,$O$2:$O$1000))","v":""}]
["8074 鉅橡","全程投資(股)    馮興運",3751,"全程投資",null,null,null,null,null,null,null,null,null,null,{"$f":"IFERROR(VLOOKUP(K50360,股價!A:B,2,0)*M50360,\"\")","v":""},{"$f":"IF(O50360=\"\",\"\",RANK(O50360,$O$2:$O$1000))","v":""}]
["8076 伍豐","_大股東合計2    含沿用資料",33721,null,null,null,null,null,null,null,null,null,null,null,{"$f":"IFERROR(VLOOKUP(K50376,股價!A:B,2,0)*M50376,\"\")","v":""},{"$f":"IF(O50376=\"\",\"\",RANK(O50376,$O$2:$O$1000))","v":""}]
["8077 洛碁","_大股東合計1",0,null,null,null,null,null,null,null,null,null,null,null,{"$f":"IFERROR(VLOOKUP(K50401,股價!A:B,2,0)*M50401,\"\")","v":""},{"$f":"IF(O50401=\"\",\"\",RANK(O50401,$O$2:$O$1000))","v":""}]
["8080 永利聯合","兆遠投資控股(股)謝明圜",3006,"兆遠投資控股",null,null,null,null,null,null,null,null,null,null,{"$f":"IFERROR(VLOOKUP(K50439,股價!A:B,2,0)*M50439,\"\")","v":""},{"$f":"IF(O50439=\"\",\"\",RANK(O50439,$O$2:$O$1000))","v":""}]
["8081 致新","大鵬投資(股)    謝南強",8588,"大鵬投資",null,null,null,null,null,null,null,null,null,null,{"$f":"IFERROR(VLOOKUP(K50464,股價!A:B,2,0)*M50464,\"\")","v":""},{"$f":"IF(O50464=\"\",\"\",RANK(O50464,$O$2:$O$1000))","v":""}]
["8083 瑞穎","_大股東合計1",8077,null,null,null,null,null,null,null,null,null,null,null,{"$f":"IFERROR(VLOOKUP(K50485,股價!A:B,2,0)*M50485,\"\")","v":""},{"$f":"IF(O50485=\"\",\"\",RANK(O50485,$O$2:$O$1000))","v":""}]
["8084 巨虹","_大股東合計1",0,null,null,null,null,null,null,null,null,null,null,null,{"$f":"IFERROR(VLOOKUP(K50510,股價!A:B,2,0)*M50510,\"\")","v":""},{"$f":"IF(O50510=\"\",\"\",RANK(O50510,$O$2:$O$1000))","v":""}]
["8085 福華","徐金藍          徐金藍",7347,"徐金藍",null,null,null,null,null,null,null,null,null,null,{"$f":"IFERROR(VLOOKUP(K50548,股價!A:B,2,0)*M50548,\"\")","v":""},{"$f":"IF(O50548=\"\",\"\",RANK(O50548,$O$2:$O$1000))","v":""}]
["8086 宏捷科","台灣人壽保險(股)台灣人壽保險",1348,"台灣人壽保險",null,null,null,null,null,null,null,null,null,null,{"$f":"IFERROR(VLOOKUP(K50573,股價!A:B,2,0)*M50573,\"\")","v":""},{"$f":"IF(O50573=\"\",\"\",RANK(O50573,$O$2:$O$1000))","v":""}]
["8086 宏捷科","蔡文惠          蔡文惠",2589,"蔡文惠",null,null,null,null,null,null,null,null,null,null,{"$f":"IFERROR(VLOOKUP(K50584,股價!A:B,2,0)*M50584,\"\")","v":""},{"$f":"IF(O50584=\"\",\"\",RANK(O50584,$O$2:$O$1000))","v":""}]
["8088 品安","謝吳沛          謝吳沛",3936,"謝吳沛",null,null,null,null,null,null,null,null,null,null,{"$f":"IFERROR(VLOOKUP(K50632,股價!A:B,2,0)*M50632,\"\")","v":""},{"$f":"IF(O50632=\"\",\"\",RANK(O50632,$O$2:$O$1000))","v":""}]
["8089 康全電訊","中信康全電訊    中信康全電訊",386,"中國信託商銀受康全電訊股份有限公司員工持股會信託財產專戶",null,null,null,null,null,null,null,null,null,null,{"$f":"IFERROR(VLOOKUP(K50644,股價!A:B,2,0)*M50644,\"\")","v":""},{"$f":"IF(O50644=\"\",\"\",RANK(O50644,$O$2:$O$1000))","v":""}]
["8089 康全電訊","陳念祖          陳念祖",453,"陳念祖",null,null,null,null,null,null,null,null,null,null,{"$f":"IFERROR(VLOOKUP(K50668,股價!A:B,2,0)*M50668,\"\")","v":""},{"$f":"IF(O50668=\"\",\"\",RANK(O50668,$O$2:$O$1000))","v":""}]
["8096 擎亞","申東洙          申東洙",0,"申東洙",null,null,null,null,null,null,null,null,null,null,{"$f":"IFERROR(VLOOKUP(K50711,股價!A:B,2,0)*M50711,\"\")","v":""},{"$f":"IF(O50711=\"\",\"\",RANK(O50711,$O$2:$O$1000))","v":""}]
["8096 擎亞","黃峙豪          黃峙豪",1435,"黃峙豪",null,null,null,null,null,null,null,null,null,null,{"$f":"IFERROR(VLOOKUP(K50731,股價!A:B,2,0)*M50731,\"\")","v":""},{"$f":"IF(O50731=\"\",\"\",RANK(O50731,$O$2:$O$1000))","v":""}]
["8097 常珵","莫佼諭          莫佼諭",748,"莫佼諭",null,null,null,null,null,null,null,null,null,null,{"$f":"IFERROR(VLOOKUP(K50752,股價!A:B,2,0)*M50752,\"\")","v":""},{"$f":"IF(O50752=\"\",\"\",RANK(O50752,$O$2:$O$1000))","v":""}]
["8099 大世科","許秋嬋          許秋嬋",101,"許秋嬋",null,null,null,null,null,null,null,null,null,null,{"$f":"IFERROR(VLOOKUP(K50778,股價!A:B,2,0)*M50778,\"\")","v":""},{"$f":"IF(O50778=\"\",\"\",RANK(O50778,$O$2:$O$1000))","v":""}]
["8101 華冠","陳文熙          陳文熙",0,"陳文熙",null,null,null,null,null,null,null,null,null,null,{"$f":"IFERROR(VLOOKUP(K50815,股價!A:B,2,0)*M50815,\"\")","v":""},{"$f":"IF(O50815=\"\",\"\",RANK(O50815,$O$2:$O$1000))","v":""}]
["8101 華冠","華宇光能(股)    李森田",17492,"華宇光能",null,null,null,null,null,null,null,null,null,null,{"$f":"IFERROR(VLOOKUP(K50819,股價!A:B,2,0)*M50819,\"\")","v":""},{"$f":"IF(O50819=\"\",\"\",RANK(O50819,$O$2:$O$1000))","v":""}]
["8103 瀚荃","蔡更生          蔡更生",45,"蔡更生",null,null,null,null,null,null,null,null,null,null,{"$f":"IFERROR(VLOOKUP(K50851,股價!A:B,2,0)*M50851,\"\")","v":""},{"$f":"IF(O50851=\"\",\"\",RANK(O50851,$O$2:$O$1000))","v":""}]
["8104 錸寶","渣打託管瑞士    渣打託管瑞士",652,"渣打託管瑞士信貸國際公司投資專戶",null,null,null,null,null,null,null,null,null,null,{"$f":"IFERROR(VLOOKUP(K50872,股價!A:B,2,0)*M50872,\"\")","v":""},{"$f":"IF(O50872=\"\",\"\",RANK(O50872,$O$2:$O$1000))","v":""}]
["8105 凌巨","洪堯勳          洪堯勳",0,"洪堯勳",null,null,null,null,null,null,null,null,null,null,{"$f":"IFERROR(VLOOKUP(K50912,股價!A:B,2,0)*M50912,\"\")","v":""},{"$f":"IF(O50912=\"\",\"\",RANK(O50912,$O$2:$O$1000))","v":""}]
["8107 大億金茂","周渼玲          周渼玲",0,"周渼玲",null,null,null,null,null,null,null,null,null,null,{"$f":"IFERROR(VLOOKUP(K50935,股價!A:B,2,0)*M50935,\"\")","v":""},{"$f":"IF(O50935=\"\",\"\",RANK(O50935,$O$2:$O$1000))","v":""}]
["8109 博大","_大股東合計1",0,null,null,null,null,null,null,null,null,null,null,null,{"$f":"IFERROR(VLOOKUP(K50953,股價!A:B,2,0)*M50953,\"\")","v":""},{"$f":"IF(O50953=\"\",\"\",RANK(O50953,$O$2:$O$1000))","v":""}]
["8110 華東","華新科技(股)    束耀先",31870,"華新科技",null,null,null,null,null,null,null,null,null,null,{"$f":"IFERROR(VLOOKUP(K50998,股價!A:B,2,0)*M50998,\"\")","v":""},{"$f":"IF(O50998=\"\",\"\",RANK(O50998,$O$2:$O$1000))","v":""}]
["8111 立碁","曹書溶          曹書溶",18,"曹書溶",null,null,null,null,null,null,null,null,null,null,{"$f":"IFERROR(VLOOKUP(K51019,股價!A:B,2,0)*M51019,\"\")","v":""},{"$f":"IF(O51019=\"\",\"\",RANK(O51019,$O$2:$O$1000))","v":""}]
["8112 至上","郭友祺          郭友祺",16,"郭友祺",null,null,null,null,null,null,null,null,null,null,{"$f":"IFERROR(VLOOKUP(K51050,股價!A:B,2,0)*M51050,\"\")","v":""},{"$f":"IF(O51050=\"\",\"\",RANK(O51050,$O$2:$O$1000))","v":""}]
["8114 振樺電","吳俊廷          吳俊廷",0,"吳俊廷",null,null,null,null,null,null,null,null,null,null,{"$f":"IFERROR(VLOOKUP(K51082,股價!A:B,2,0)*M51082,\"\")","v":""},{"$f":"IF(O51082=\"\",\"\",RANK(O51082,$O$2:$O$1000))","v":""}]
["8114 振樺電","姜益民          姜益民",0,"姜益民",null,null,null,null,null,null,null,null,null,null,{"$f":"IFERROR(VLOOKUP(K51087,股價!A:B,2,0)*M51087,\"\")","v":""},{"$f":"IF(O51087=\"\",\"\",RANK(O51087,$O$2:$O$1000))","v":""}]
["8121 越峰","玉濤投資(有)    吳亦圭",4054,"玉濤投資",null,null,null,null,null,null,null,null,null,null,{"$f":"IFERROR(VLOOKUP(K51118,股價!A:B,2,0)*M51118,\"\")","v":""},{"$f":"IF(O51118=\"\",\"\",RANK(O51118,$O$2:$O$1000))","v":""}]
["8121 越峰","華夏海灣塑膠(股)吳亦圭",3567,"華夏海灣塑膠",null,null,null,null,null,null,null,null,null,null,{"$f":"IFERROR(VLOOKUP(K51139,股價!A:B,2,0)*M51139,\"\")","v":""},{"$f":"IF(O51139=\"\",\"\",RANK(O51139,$O$2:$O$1000))","v":""}]
["8147 正淩","李銘賀          李銘賀",100,"李銘賀",null,null,null,null,null,null,null,null,null,null,{"$f":"IFERROR(VLOOKUP(K51184,股價!A:B,2,0)*M51184,\"\")","v":""},{"$f":"IF(O51184=\"\",\"\",RANK(O51184,$O$2:$O$1000))","v":""}]
["8147 正淩","賴志翔          賴志翔",0,"賴志翔",null,null,null,null,null,null,null,null,null,null,{"$f":"IFERROR(VLOOKUP(K51202,股價!A:B,2,0)*M51202,\"\")","v":""},{"$f":"IF(O51202=\"\",\"\",RANK(O51202,$O$2:$O$1000))","v":""}]
["8150 南茂","采富投資有限公司采富投資有限",830,"采富投資有限公司",null,null,null,null,null,null,null,null,null,null,{"$f":"IFERROR(VLOOKUP(K51223,股價!A:B,2,0)*M51223,\"\")","v":""},{"$f":"IF(O51223=\"\",\"\",RANK(O51223,$O$2:$O$1000))","v":""}]
["8155 博智","_大股東合計1",0,null,null,null,null,null,null,null,null,null,null,null,{"$f":"IFERROR(VLOOKUP(K51251,股價!A:B,2,0)*M51251,\"\")","v":""},{"$f":"IF(O51251=\"\",\"\",RANK(O51251,$O$2:$O$1000))","v":""}]
["8163 達方","_董  事合計",64108,null,null,null,null,null,null,null,null,null,null,null,{"$f":"IFERROR(VLOOKUP(K51286,股價!A:B,2,0)*M51286,\"\")","v":""},{"$f":"IF(O51286=\"\",\"\",RANK(O51286,$O$2:$O$1000))","v":""}]
["8171 天宇","_董監事合計",9310,null,null,null,null,null,null,null,null,null,null,null,{"$f":"IFERROR(VLOOKUP(K51318,股價!A:B,2,0)*M51318,\"\")","v":""},{"$f":"IF(O51318=\"\",\"\",RANK(O51318,$O$2:$O$1000))","v":""}]
["8176 智捷","凡恩科技(有)    謝金生",3619,"凡恩科技",null,null,null,null,null,null,null,null,null,null,{"$f":"IFERROR(VLOOKUP(K51349,股價!A:B,2,0)*M51349,\"\")","v":""},{"$f":"IF(O51349=\"\",\"\",RANK(O51349,$O$2:$O$1000))","v":""}]
["8182 加高","_董監事合計",59617,null,null,null,null,null,null,null,null,null,null,null,{"$f":"IFERROR(VLOOKUP(K51370,股價!A:B,2,0)*M51370,\"\")","v":""},{"$f":"IF(O51370=\"\",\"\",RANK(O51370,$O$2:$O$1000))","v":""}]
["8182 加高","鄭森豪          鄭森豪",1270,"鄭森豪",null,null,null,null,null,null,null,null,null,null,{"$f":"IFERROR(VLOOKUP(K51389,股價!A:B,2,0)*M51389,\"\")","v":""},{"$f":"IF(O51389=\"\",\"\",RANK(O51389,$O$2:$O$1000))","v":""}]
["8183 精星","復華台灣好收    復華台灣好收",773,"復華臺灣好收益基金專戶",null,null,null,null,null,null,null,null,null,null,{"$f":"IFERROR(VLOOKUP(K51406,股價!A:B,2,0)*M51406,\"\")","v":""},{"$f":"IF(O51406=\"\",\"\",RANK(O51406,$O$2:$O$1000))","v":""}]
["8210 勤誠","吳德豐          吳德豐",0,"吳德豐",null,null,null,null,null,null,null,null,null,null,{"$f":"IFERROR(VLOOKUP(K51452,股價!A:B,2,0)*M51452,\"\")","v":""},{"$f":"IF(O51452=\"\",\"\",RANK(O51452,$O$2:$O$1000))","v":""}]
["8210 勤誠","芃威投資開發(股)芃威投資開發",12387,"芃威投資開發",null,null,null,null,null,null,null,null,null,null,{"$f":"IFERROR(VLOOKUP(K51469,股價!A:B,2,0)*M51469,\"\")","v":""},{"$f":"IF(O51469=\"\",\"\",RANK(O51469,$O$2:$O$1000))","v":""}]
["8213 志超","林經堯          林經堯",0,"林經堯",null,null,null,null,null,null,null,null,null,null,{"$f":"IFERROR(VLOOKUP(K51490,股價!A:B,2,0)*M51490,\"\")","v":""},{"$f":"IF(O51490=\"\",\"\",RANK(O51490,$O$2:$O$1000))","v":""}]
["8215 明基材","李焜耀          李焜耀",4580,"李焜耀",null,null,null,null,null,null,null,null,null,null,{"$f":"IFERROR(VLOOKUP(K51523,股價!A:B,2,0)*M51523,\"\")","v":""},{"$f":"IF(O51523=\"\",\"\",RANK(O51523,$O$2:$O$1000))","v":""}]
["8222 寶一","峻興投資(股)    李培禎",1161,"峻興投資",null,null,null,null,null,null,null,null,null,null,{"$f":"IFERROR(VLOOKUP(K51553,股價!A:B,2,0)*M51553,\"\")","v":""},{"$f":"IF(O51553=\"\",\"\",RANK(O51553,$O$2:$O$1000))","v":""}]
["8227 巨有科技","葉瑞斌          葉瑞斌",0,"葉瑞斌",null,null,null,null,null,null,null,null,null,null,{"$f":"IFERROR(VLOOKUP(K51586,股價!A:B,2,0)*M51586,\"\")","v":""},{"$f":"IF(O51586=\"\",\"\",RANK(O51586,$O$2:$O$1000))","v":""}]
["8234 新漢","_大股東合計1",0,null,null,null,null,null,null,null,null,null,null,null,{"$f":"IFERROR(VLOOKUP(K51594,股價!A:B,2,0)*M51594,\"\")","v":""},{"$f":"IF(O51594=\"\",\"\",RANK(O51594,$O$2:$O$1000))","v":""}]
["8240 華宏","_經理人合計",740,null,null,null,null,null,null,null,null,null,null,null,{"$f":"IFERROR(VLOOKUP(K51637,股價!A:B,2,0)*M51637,\"\")","v":""},{"$f":"IF(O51637=\"\",\"\",RANK(O51637,$O$2:$O$1000))","v":""}]
["8240 華宏","晶贊投資(有)    林立修",2594,"晶贊投資",null,null,null,null,null,null,null,null,null,null,{"$f":"IFERROR(VLOOKUP(K51657,股價!A:B,2,0)*M51657,\"\")","v":""},{"$f":"IF(O51657=\"\",\"\",RANK(O51657,$O$2:$O$1000))","v":""}]
["8249 菱光","_經理人合計",398,null,null,null,null,null,null,null,null,null,null,null,{"$f":"IFERROR(VLOOKUP(K51673,股價!A:B,2,0)*M51673,\"\")","v":""},{"$f":"IF(O51673=\"\",\"\",RANK(O51673,$O$2:$O$1000))","v":""}]
["8255 朋程","陳志明          陳志明",0,"陳志明",null,null,null,null,null,null,null,null,null,null,{"$f":"IFERROR(VLOOKUP(K51720,股價!A:B,2,0)*M51720,\"\")","v":""},{"$f":"IF(O51720=\"\",\"\",RANK(O51720,$O$2:$O$1000))","v":""}]
["8261 富鼎","花旗（台灣）    花旗（台灣）",453,"花旗（台灣）受託管柏克萊資本證券投資專戶",null,null,null,null,null,null,null,null,null,null,{"$f":"IFERROR(VLOOKUP(K51741,股價!A:B,2,0)*M51741,\"\")","v":""},{"$f":"IF(O51741=\"\",\"\",RANK(O51741,$O$2:$O$1000))","v":""}]
["8271 宇瞻","_大股東合計1",0,null,null,null,null,null,null,null,null,null,null,null,{"$f":"IFERROR(VLOOKUP(K51757,股價!A:B,2,0)*M51757,\"\")","v":""},{"$f":"IF(O51757=\"\",\"\",RANK(O51757,$O$2:$O$1000))","v":""}]
["8277 商丞","_董監事合計",11616,null,null,null,null,null,null,null,null,null,null,null,{"$f":"IFERROR(VLOOKUP(K51791,股價!A:B,2,0)*M51791,\"\")","v":""},{"$f":"IF(O51791=\"\",\"\",RANK(O51791,$O$2:$O$1000))","v":""}]
["8279 生展","王姿惠          王姿惠",10,"王姿惠",null,null,null,null,null,null,null,null,null,null,{"$f":"IFERROR(VLOOKUP(K51820,股價!A:B,2,0)*M51820,\"\")","v":""},{"$f":"IF(O51820=\"\",\"\",RANK(O51820,$O$2:$O$1000))","v":""}]
["8284 三竹","李淑娟          李淑娟",873,"李淑娟",null,null,null,null,null,null,null,null,null,null,{"$f":"IFERROR(VLOOKUP(K51854,股價!A:B,2,0)*M51854,\"\")","v":""},{"$f":"IF(O51854=\"\",\"\",RANK(O51854,$O$2:$O$1000))","v":""}]
["8284 三竹","邱宏哲          邱宏哲",3975,"邱宏哲",null,null,null,null,null,null,null,null,null,null,{"$f":"IFERROR(VLOOKUP(K51861,股價!A:B,2,0)*M51861,\"\")","v":""},{"$f":"IF(O51861=\"\",\"\",RANK(O51861,$O$2:$O$1000))","v":""}]
["8291 尚茂","蓋曼群島商日本大奧山一寸法師",5773,"蓋曼群島商日本大拓",null,null,null,null,null,null,null,null,null,null,{"$f":"IFERROR(VLOOKUP(K51904,股價!A:B,2,0)*M51904,\"\")","v":""},{"$f":"IF(O51904=\"\",\"\",RANK(O51904,$O$2:$O$1000))","v":""}]
["8299 群聯","陳寶鳳          陳寶鳳",0,"陳寶鳳",null,null,null,null,null,null,null,null,null,null,{"$f":"IFERROR(VLOOKUP(K51925,股價!A:B,2,0)*M51925,\"\")","v":""},{"$f":"IF(O51925=\"\",\"\",RANK(O51925,$O$2:$O$1000))","v":""}]
["8341 日友","大通羅伯全球    大通羅伯全球",3000,"大通託管斯威德銀行羅伯全球基金投資專戶",null,null,null,null,null,null,null,null,null,null,{"$f":"IFERROR(VLOOKUP(K51945,股價!A:B,2,0)*M51945,\"\")","v":""},{"$f":"IF(O51945=\"\",\"\",RANK(O51945,$O$2:$O$1000))","v":""}]
["8342 益張","陳景松          陳景松",610,"陳景松",null,null,null,null,null,null,null,null,null,null,{"$f":"IFERROR(VLOOKUP(K51988,股價!A:B,2,0)*M51988,\"\")","v":""},{"$f":"IF(O51988=\"\",\"\",RANK(O51988,$O$2:$O$1000))","v":""}]
["8349 恒耀","友信投資(股)    吳榮彬",21760,"友信投資股份有限公司",null,null,null,null,null,null,null,null,null,null,{"$f":"IFERROR(VLOOKUP(K52008,股價!A:B,2,0)*M52008,\"\")","v":""},{"$f":"IF(O52008=\"\",\"\",RANK(O52008,$O$2:$O$1000))","v":""}]
["8349 恒耀","黃正安          黃正安",0,"黃正安",null,null,null,null,null,null,null,null,null,null,{"$f":"IFERROR(VLOOKUP(K52024,股價!A:B,2,0)*M52024,\"\")","v":""},{"$f":"IF(O52024=\"\",\"\",RANK(O52024,$O$2:$O$1000))","v":""}]
["8358 金居","_經理人合計",65,null,null,null,null,null,null,null,null,null,null,null,{"$f":"IFERROR(VLOOKUP(K52059,股價!A:B,2,0)*M52059,\"\")","v":""},{"$f":"IF(O52059=\"\",\"\",RANK(O52059,$O$2:$O$1000))","v":""}]
["8367 建新國際","_董監事合計",30091,null,null,null,null,null,null,null,null,null,null,null,{"$f":"IFERROR(VLOOKUP(K52092,股價!A:B,2,0)*M52092,\"\")","v":""},{"$f":"IF(O52092=\"\",\"\",RANK(O52092,$O$2:$O$1000))","v":""}]
["8367 建新國際","東和鋼鐵企業(股)林祺燮",8204,"東和鋼鐵企業",null,null,null,null,null,null,null,null,null,null,{"$f":"IFERROR(VLOOKUP(K52096,股價!A:B,2,0)*M52096,\"\")","v":""},{"$f":"IF(O52096=\"\",\"\",RANK(O52096,$O$2:$O$1000))","v":""}]
["8374 羅昇","李良猷          李良猷",0,"李良猷",null,null,null,null,null,null,null,null,null,null,{"$f":"IFERROR(VLOOKUP(K52128,股價!A:B,2,0)*M52128,\"\")","v":""},{"$f":"IF(O52128=\"\",\"\",RANK(O52128,$O$2:$O$1000))","v":""}]
["8383 千附","薛柏青          薛柏青",0,"薛柏青",null,null,null,null,null,null,null,null,null,null,{"$f":"IFERROR(VLOOKUP(K52171,股價!A:B,2,0)*M52171,\"\")","v":""},{"$f":"IF(O52171=\"\",\"\",RANK(O52171,$O$2:$O$1000))","v":""}]
["8390 金益鼎","黃日東          黃日東",1401,"黃日東",null,null,null,null,null,null,null,null,null,null,{"$f":"IFERROR(VLOOKUP(K52193,股價!A:B,2,0)*M52193,\"\")","v":""},{"$f":"IF(O52193=\"\",\"\",RANK(O52193,$O$2:$O$1000))","v":""}]
["8401 白紗科","林河州          林河州",1623,"林河州",null,null,null,null,null,null,null,null,null,null,{"$f":"IFERROR(VLOOKUP(K52212,股價!A:B,2,0)*M52212,\"\")","v":""},{"$f":"IF(O52212=\"\",\"\",RANK(O52212,$O$2:$O$1000))","v":""}]
["8403 盛弘","_監察人合計",0,null,null,null,null,null,null,null,null,null,null,null,{"$f":"IFERROR(VLOOKUP(K52230,股價!A:B,2,0)*M52230,\"\")","v":""},{"$f":"IF(O52230=\"\",\"\",RANK(O52230,$O$2:$O$1000))","v":""}]
["8404 百和興業-KY","杜文賓          杜文賓",25,"杜文賓",null,null,null,null,null,null,null,null,null,null,{"$f":"IFERROR(VLOOKUP(K52275,股價!A:B,2,0)*M52275,\"\")","v":""},{"$f":"IF(O52275=\"\",\"\",RANK(O52275,$O$2:$O$1000))","v":""}]
["8404 百和興業-KY","楊樹梅          楊樹梅",0,"楊樹梅",null,null,null,null,null,null,null,null,null,null,{"$f":"IFERROR(VLOOKUP(K52296,股價!A:B,2,0)*M52296,\"\")","v":""},{"$f":"IF(O52296=\"\",\"\",RANK(O52296,$O$2:$O$1000))","v":""}]
["8409 商之器","陳奇材          陳奇材",871,"陳奇材",null,null,null,null,null,null,null,null,null,null,{"$f":"IFERROR(VLOOKUP(K52327,股價!A:B,2,0)*M52327,\"\")","v":""},{"$f":"IF(O52327=\"\",\"\",RANK(O52327,$O$2:$O$1000))","v":""}]
["8411 福貞-KY","Leader Enter(有)李榮福",15742,"Leader Enterprises Limited",null,null,null,null,null,null,null,null,null,null,{"$f":"IFERROR(VLOOKUP(K52359,股價!A:B,2,0)*M52359,\"\")","v":""},{"$f":"IF(O52359=\"\",\"\",RANK(O52359,$O$2:$O$1000))","v":""}]
["8411 福貞-KY","_董監事合計",10078,null,null,null,null,null,null,null,null,null,null,null,{"$f":"IFERROR(VLOOKUP(K52364,股價!A:B,2,0)*M52364,\"\")","v":""},{"$f":"IF(O52364=\"\",\"\",RANK(O52364,$O$2:$O$1000))","v":""}]
["8415 大國鋼","柯文玲          柯文玲",0,"柯文玲",null,null,null,null,null,null,null,null,null,null,{"$f":"IFERROR(VLOOKUP(K52395,股價!A:B,2,0)*M52395,\"\")","v":""},{"$f":"IF(O52395=\"\",\"\",RANK(O52395,$O$2:$O$1000))","v":""}]
["8416 實威","先創國際(股)    陳銘輝",752,"先創國際",null,null,null,null,null,null,null,null,null,null,{"$f":"IFERROR(VLOOKUP(K52416,股價!A:B,2,0)*M52416,\"\")","v":""},{"$f":"IF(O52416=\"\",\"\",RANK(O52416,$O$2:$O$1000))","v":""}]
["8420 明揚","鄭紹廷          鄭紹廷",0,"鄭紹廷",null,null,null,null,null,null,null,null,null,null,{"$f":"IFERROR(VLOOKUP(K52461,股價!A:B,2,0)*M52461,\"\")","v":""},{"$f":"IF(O52461=\"\",\"\",RANK(O52461,$O$2:$O$1000))","v":""}]
["8421 旭源","莊雅萍          莊雅萍",3244,"莊雅萍",null,null,null,null,null,null,null,null,null,null,{"$f":"IFERROR(VLOOKUP(K52479,股價!A:B,2,0)*M52479,\"\")","v":""},{"$f":"IF(O52479=\"\",\"\",RANK(O52479,$O$2:$O$1000))","v":""}]
["8422 可寧衛","岡聯企業(股)    許正翰",5526,"岡聯企業",null,null,null,null,null,null,null,null,null,null,{"$f":"IFERROR(VLOOKUP(K52502,股價!A:B,2,0)*M52502,\"\")","v":""},{"$f":"IF(O52502=\"\",\"\",RANK(O52502,$O$2:$O$1000))","v":""}]
["8424 惠普","張昌吉          張昌吉",0,"張昌吉",null,null,null,null,null,null,null,null,null,null,{"$f":"IFERROR(VLOOKUP(K52542,股價!A:B,2,0)*M52542,\"\")","v":""},{"$f":"IF(O52542=\"\",\"\",RANK(O52542,$O$2:$O$1000))","v":""}]
["8426 紅木-KY","梁佑瑋          梁佑瑋",327,"梁佑瑋",null,null,null,null,null,null,null,null,null,null,{"$f":"IFERROR(VLOOKUP(K52563,股價!A:B,2,0)*M52563,\"\")","v":""},{"$f":"IF(O52563=\"\",\"\",RANK(O52563,$O$2:$O$1000))","v":""}]
["8429 金麗-KY","歐淑卿          歐淑卿",1488,"歐淑卿",null,null,null,null,null,null,null,null,null,null,{"$f":"IFERROR(VLOOKUP(K52595,股價!A:B,2,0)*M52595,\"\")","v":""},{"$f":"IF(O52595=\"\",\"\",RANK(O52595,$O$2:$O$1000))","v":""}]
["8431 匯鑽科","謝福麟          謝福麟",1095,"謝福麟",null,null,null,null,null,null,null,null,null,null,{"$f":"IFERROR(VLOOKUP(K52626,股價!A:B,2,0)*M52626,\"\")","v":""},{"$f":"IF(O52626=\"\",\"\",RANK(O52626,$O$2:$O$1000))","v":""}]
["8432 東生華","林全            林全",0,"林全",null,null,null,null,null,null,null,null,null,null,{"$f":"IFERROR(VLOOKUP(K52647,股價!A:B,2,0)*M52647,\"\")","v":""},{"$f":"IF(O52647=\"\",\"\",RANK(O52647,$O$2:$O$1000))","v":""}]
["8433 弘帆","_董  事合計",10383,null,null,null,null,null,null,null,null,null,null,null,{"$f":"IFERROR(VLOOKUP(K52666,股價!A:B,2,0)*M52666,\"\")","v":""},{"$f":"IF(O52666=\"\",\"\",RANK(O52666,$O$2:$O$1000))","v":""}]
["8433 弘帆","傳門投資(有)    曾莉鈞",2270,"傳門投資",null,null,null,null,null,null,null,null,null,null,{"$f":"IFERROR(VLOOKUP(K52683,股價!A:B,2,0)*M52683,\"\")","v":""},{"$f":"IF(O52683=\"\",\"\",RANK(O52683,$O$2:$O$1000))","v":""}]
["8437 大地-KY","_董  事合計",10905,null,null,null,null,null,null,null,null,null,null,null,{"$f":"IFERROR(VLOOKUP(K52729,股價!A:B,2,0)*M52729,\"\")","v":""},{"$f":"IF(O52729=\"\",\"\",RANK(O52729,$O$2:$O$1000))","v":""}]
["8437 大地-KY","程釱坤          程釱坤",1654,"程釱坤",null,null,null,null,null,null,null,null,null,null,{"$f":"IFERROR(VLOOKUP(K52746,股價!A:B,2,0)*M52746,\"\")","v":""},{"$f":"IF(O52746=\"\",\"\",RANK(O52746,$O$2:$O$1000))","v":""}]
["8438 昶昕","陳國山          陳國山",3751,"陳國山",null,null,null,null,null,null,null,null,null,null,{"$f":"IFERROR(VLOOKUP(K52767,股價!A:B,2,0)*M52767,\"\")","v":""},{"$f":"IF(O52767=\"\",\"\",RANK(O52767,$O$2:$O$1000))","v":""}]
["8440 綠電","游瑞琳          游瑞琳",0,"游瑞琳",null,null,null,null,null,null,null,null,null,null,{"$f":"IFERROR(VLOOKUP(K52800,股價!A:B,2,0)*M52800,\"\")","v":""},{"$f":"IF(O52800=\"\",\"\",RANK(O52800,$O$2:$O$1000))","v":""}]
["8442 威宏-KY","劉普揚          劉普揚",30,"劉普揚",null,null,null,null,null,null,null,null,null,null,{"$f":"IFERROR(VLOOKUP(K52830,股價!A:B,2,0)*M52830,\"\")","v":""},{"$f":"IF(O52830=\"\",\"\",RANK(O52830,$O$2:$O$1000))","v":""}]
["8443 阿瘦","伊蘿興投資(有)  羅榮科",1517,"伊蘿興投資有限公司",null,null,null,null,null,null,null,null,null,null,{"$f":"IFERROR(VLOOKUP(K52841,股價!A:B,2,0)*M52841,\"\")","v":""},{"$f":"IF(O52841=\"\",\"\",RANK(O52841,$O$2:$O$1000))","v":""}]
["8446 華研","王治平          王治平",30,"王治平",null,null,null,null,null,null,null,null,null,null,{"$f":"IFERROR(VLOOKUP(K52893,股價!A:B,2,0)*M52893,\"\")","v":""},{"$f":"IF(O52893=\"\",\"\",RANK(O52893,$O$2:$O$1000))","v":""}]
["8446 華研","鄭期成          鄭期成",0,"鄭期成",null,null,null,null,null,null,null,null,null,null,{"$f":"IFERROR(VLOOKUP(K52914,股價!A:B,2,0)*M52914,\"\")","v":""},{"$f":"IF(O52914=\"\",\"\",RANK(O52914,$O$2:$O$1000))","v":""}]
["8450 霹靂","黃文姬          黃文姬",2,"黃文姬",null,null,null,null,null,null,null,null,null,null,{"$f":"IFERROR(VLOOKUP(K52934,股價!A:B,2,0)*M52934,\"\")","v":""},{"$f":"IF(O52934=\"\",\"\",RANK(O52934,$O$2:$O$1000))","v":""}]
["8454 富邦媒","_董  事合計",121363,null,null,null,null,null,null,null,null,null,null,null,{"$f":"IFERROR(VLOOKUP(K52950,股價!A:B,2,0)*M52950,\"\")","v":""},{"$f":"IF(O52950=\"\",\"\",RANK(O52950,$O$2:$O$1000))","v":""}]
["8454 富邦媒","張家麒          張家麒",0,"張家麒",null,null,null,null,null,null,null,null,null,null,{"$f":"IFERROR(VLOOKUP(K52975,股價!A:B,2,0)*M52975,\"\")","v":""},{"$f":"IF(O52975=\"\",\"\",RANK(O52975,$O$2:$O$1000))","v":""}]
["8462 柏文","富邦人壽保險(股)蔡明興",3339,"富邦人壽保險",null,null,null,null,null,null,null,null,null,null,{"$f":"IFERROR(VLOOKUP(K53013,股價!A:B,2,0)*M53013,\"\")","v":""},{"$f":"IF(O53013=\"\",\"\",RANK(O53013,$O$2:$O$1000))","v":""}]
["8463 潤泰材","李志宏          李志宏",700,"李志宏",null,null,null,null,null,null,null,null,null,null,{"$f":"IFERROR(VLOOKUP(K53034,股價!A:B,2,0)*M53034,\"\")","v":""},{"$f":"IF(O53034=\"\",\"\",RANK(O53034,$O$2:$O$1000))","v":""}]
["8464 億豐","王淑娟          王淑娟",4,"王淑娟",null,null,null,null,null,null,null,null,null,null,{"$f":"IFERROR(VLOOKUP(K53072,股價!A:B,2,0)*M53072,\"\")","v":""},{"$f":"IF(O53072=\"\",\"\",RANK(O53072,$O$2:$O$1000))","v":""}]
["8464 億豐","劉建成          劉建成",29,"劉建成",null,null,null,null,null,null,null,null,null,null,{"$f":"IFERROR(VLOOKUP(K53097,股價!A:B,2,0)*M53097,\"\")","v":""},{"$f":"IF(O53097=\"\",\"\",RANK(O53097,$O$2:$O$1000))","v":""}]
["8466 美吉吉-KY","MAGIC VISION(股)陳俊志",2797,"MAGIC VISION DEVELOPMENT LTD"]
["8467 波力-KY","BONNY SPORTS(股)BONNY SPORTS",8135,"BONNY SPORTS CENTER HOLDING CO. LTD."]
["8472 夠麻吉","陳昱邦          陳昱邦",337,"陳昱邦"]
["8473 山林水","洪福生          洪福生",0,"洪福生"]
["8473 山林水","新特國際(股)    林妙如",752,"新特國際"]
["8476 台境","益鑫投資(股)    柯俐羽",17541,"益鑫投資"]
["8477 創業家","程九如          程九如",1111,"程九如"]
["8478 東哥遊艇","郭怡慧          郭怡慧",9576,"郭怡慧"]
["8481 政伸","劉文慶          劉文慶",0,"劉文慶"]
["8482 商億-KY","陳俊樑          陳俊樑",1125,"陳俊樑"]
["8488 吉源-KY","_大股東合計1",0]
["8489 三貝德","_監察人合計",0]
["8499 鼎炫-KY","傅青炫          傅青炫",2250,"傅青炫"]
["8905 裕國","詹義郎          詹義郎",1829,"詹義郎"]
["8908 欣雄","_經理人合計",0]
["8908 欣雄","黃正雄          黃正雄",1540,"黃正雄"]
["8916 光隆","麗秋投資(有)    許麗紅",3162,"麗秋投資"]
["8917 欣泰","殷旺(股)        莊鴻江",2782,"殷旺"]
["8921 沈氏","林進忠          林進忠",0,"林進忠"]
["8923 時報","周湘琦          周湘琦",0,"周湘琦"]
["8923 時報","達威投資(有)    余範英",1694,"達威投資"]
["8926 台汽電","江明德          江明德",0,"江明德"]
["8927 北基","曾宜男          曾宜男",643,"曾宜男"]
["8928 鉅明","高清松          高清松",540,"高清松"]
["8929 富堡","安侯投資(股)    林均隆",11600,"安侯投資"]
["8930 青鋼","_董  事合計",6586]
["8931 大汽電","尚益染整加工(股)施振誠",2205,"尚益染整加工"]
["8933 愛地雅","余澤民          余澤民",24000,"余澤民"]
["8935 邦泰","沈泰宇          沈泰宇",1254,"沈泰宇"]
["8936 國統","周煌燦          周煌燦",0,"周煌燦"]
["8936 國統","鄭舜仁          鄭舜仁",0,"鄭舜仁"]
["8938 明安","(竹世)本昭則    (竹世)本昭則",0,"(竹世)本昭則"]
["8938 明安","呂宛蓉          呂宛蓉",2381,"呂宛蓉"]
["8941 關中","_董  事合計",10286]
["8941 關中","偉碩投資(股)    蔡坤參",443,"偉碩投資"]
["8942 森鉅","尤信正          尤信正",3082,"尤信正"]
["8996 高力","黃宏興          黃宏興",219,"黃宏興"]
["9802 鈺齊-KY","周淑卿          周淑卿",0,"周淑卿"]
["9802 鈺齊-KY","廖芳祝          廖芳祝",1798,"廖芳祝"]
["9904 寶成","胡嘉和          胡嘉和",0,"胡嘉和"]
["9904 寶成","蔡佩君          蔡佩君",4178,"蔡佩君"]
["9905 大華","蔡博賢          蔡博賢",0,"蔡博賢"]
["9906 欣巴巴","王秉逸          王秉逸",0,"王秉逸"]
["9907 統一實","_董  事合計",758917]
["9908 大台北","王豫元          王豫元",0,"王豫元"]
["9908 大台北","新光紡織(股)    新光紡織(股)",10738,"新光紡織"]
["9910 豐泰","陳惠玲          陳惠玲",57045,"陳惠玲"]
["9911 櫻花","張永政          張永政",67,"張永政"]
["9911 櫻花","雅適國際(股)    李惠恂",2313,"雅適國際"]
["9912 偉聯","余宏俊          余宏俊",150,"余宏俊"]
["9914 美利達","鼎弘投資(股)    曾進成",390,"鼎弘投資"]
["9917 中保科","江雍正          江雍正",0,"江雍正"]
["9917 中保科","林明昇          林明昇",3466,"林明昇"]
["9917 中保科","鄧經忠          鄧經忠",0,"鄧經忠"]
["9918 欣天然","郭欽銘          郭欽銘",0,"郭欽銘"]
["9919 康那香","_董監事合計",49792]
["9921 巨大","邱大儒          邱大儒",6455,"邱大儒"]
["9924 福興","巴黎財務新加    巴黎財務新加",11261,"匯豐託管法國巴黎財富管理銀行新加坡分行"]
["9924 福興","張瑞璧          張瑞璧",598,"張瑞璧"]
["9925 新保","_董  事合計",62045]
["9925 新保","黃聖幃          黃聖幃",4,"黃聖幃"]
["9926 新海","_董監事合計",21720]
["9926 新海","吳欣盈          吳欣盈",0,"吳欣盈"]
["9927 泰銘","_經理人合計",0]
["9928 中視","_董  事合計",31168]
["9928 中視","夢龍(股)        魯淑華",2697,"夢龍"]
["9929 秋雨","永豐證券客戶    永豐證券客戶",7325,"永豐商銀託管永豐金證券客戶代理專戶"]
["9930 中聯資源","侯智元          侯智元",0,"侯智元"]
["9930 中聯資源","環球水泥(股)    侯智元",17020,"環球水泥"]
["9931 欣高","國軍退除役官兵輔陳榮信",23482,"國軍退除役官兵輔導委員會"]
["9933 中鼎","陳一芳          陳一芳",0,"陳一芳"]
["9933 中鼎","彭俊賓          彭俊賓",100,"彭俊賓"]
["9934 成霖","明霖投資(股)    林鴻光",37974,"明霖投資"]
["9935 慶豐富","李俊德          李俊德",0,"李俊德"]
["9937 全國","松鼠物流股份有限陳榮泉",1646,"松鼠物流股份有限公司"]
["9938 百和","_董  事合計",23504]
["9938 百和","群益證香港客    群益證香港客",11111,"群益金鼎證券( 股) 公司託管群益證券( 香港) 有限公司客戶群益證券託管有限公司投資"]
["9939 宏全","黃俊豪          黃俊豪",21,"黃俊豪"]
["9940 信義","_董  事合計",239924]
["9940 信義","吳志偉          吳志偉",0,"吳志偉"]
["9940 信義","吳國雋          吳國雋",0,"吳國雋"]
["9940 信義","吳曉真          吳曉真",17,"吳曉真"]
["9940 信義","李少康          李少康",12,"李少康"]
["9940 信義","李伊俐          李伊俐",0,"李伊俐"]
["9940 信義","李佳諭          李佳諭",0,"李佳諭"]
["9940 信義","李明山          李明山",1,"李明山"]
["9940 信義","周君衡          周君衡",22436,"周君衡"]
["9940 信義","周君澔          周君澔",21668,"周君澔"]
["9940 信義","周俊吉          周俊吉",9379,"周俊吉"]
["9940 信義","周俊榮          周俊榮",130,"周俊榮"]
["9940 信義","周素香          周素香",813,"周素香"]
["9940 信義","周耕宇          周耕宇",20307,"周耕宇"]
["9940 信義","周清源          周清源",0,"周清源"]
["9940 信義","周莊雲          周莊雲",366,"周莊雲"]
["9940 信義","林武雄          林武雄",12,"林武雄"]
["9940 信義","林俊安          林俊安",0,"林俊安"]
["9940 信義","林家正          林家正",0,"林家正"]
["9940 信義","林根弘          林根弘",0,"林根弘"]
["9940 信義","林隆呈          林隆呈",1,"林隆呈"]
["9940 信義","林慶龍          林慶龍",0,"林慶龍"]
["9940 信義","花旗託管挪威    花旗託管挪威",6244,"花旗託管挪威中央銀行投資專戶"]
["9940 信義","邱千惠          邱千惠",83,"邱千惠"]
["9940 信義","邱香幗          邱香幗",0,"邱香幗"]
["9940 信義","邱嘉鈴          邱嘉鈴",0,"邱嘉鈴"]
["9940 信義","信泓浚          信泓浚",1,"信泓浚"]
["9940 信義","信業(股)        周俊吉",9381,"信業"]
["9940 信義","信義1(股)       劉元智",210238,"信義"]
["9940 信義","施閔堯          施閔堯",3,"施閔堯"]
["9940 信義","洪正龍          洪正龍",0,"洪正龍"]
["9940 信義","洪建煥          洪建煥",0,"洪建煥"]
["9940 信義","洪振祐          洪振祐",0,"洪振祐"]
["9940 信義","國泰世華皆添    國泰世華皆添",7278,"國泰世華商業銀行受託保管皆添有限公司投資專戶"]
["9940 信義","張旭            張旭",0,"張旭"]
["9940 信義","張艾玲          張艾玲",0,"張艾玲"]
["9940 信義","張俊達          張俊達",4,"張俊達"]
["9940 信義","張家榮          張家榮",47,"張家榮"]
["9940 信義","張偉祥          張偉祥",62,"張偉祥"]
["9940 信義","張登來          張登來",108,"張登來"]
["9940 信義","張嘉洋          張嘉洋",436,"張嘉洋"]
["9940 信義","張靜枝          張靜枝",90,"張靜枝"]
["9940 信義","許玲綾          許玲綾",5,"許玲綾"]
["9940 信義","許乾豪          許乾豪",0,"許乾豪"]
["9940 信義","許順吉          許順吉",4,"許順吉"]
["9940 信義","郭禮偉          郭禮偉",0,"郭禮偉"]
["9940 信義","陳世強          陳世強",20,"陳世強"]
["9940 信義","陳世曜          陳世曜",0,"陳世曜"]
["9940 信義","陳志桓          陳志桓",48,"陳志桓"]
["9940 信義","陳建宇          陳建宇",0,"陳建宇"]
["9940 信義","陳昱曉          陳昱曉",29,"陳昱曉"]
["9940 信義","陳進堂          陳進堂",22,"陳進堂"]
["9940 信義","陳毓禮          陳毓禮",6,"陳毓禮"]
["9940 信義","陳鴻明          陳鴻明",0,"陳鴻明"]
["9940 信義","陳麗心          陳麗心",511,"陳麗心"]
["9940 信義","馮其義          馮其義",2,"馮其義"]
["9940 信義","馮昌俊          馮昌俊",0,"馮昌俊"]
["9940 信義","楊百川          楊百川",79,"楊百川"]
["9940 信義","楊景淵          楊景淵",3,"楊景淵"]
["9940 信義","溫家政          溫家政",0,"溫家政"]
["9940 信義","葉宗富          葉宗富",62,"葉宗富"]
["9940 信義","詹宏志          詹宏志",0,"詹宏志"]
["9940 信義","詹智偉          詹智偉",0,"詹智偉"]
["9940 信義","劉大成          劉大成",0,"劉大成"]
["9940 信義","劉元智          劉元智",0,"劉元智"]
["9940 信義","劉育榮          劉育榮",92,"劉育榮"]
["9940 信義","劉東圜          劉東圜",1,"劉東圜"]
["9940 信義","劉韋德          劉韋德",0,"劉韋德"]
["9940 信義","蔡政良          蔡政良",0,"蔡政良"]
["9940 信義","鄭堡聰          鄭堡聰",0,"鄭堡聰"]
["9940 信義","盧漢寶          盧漢寶",67,"盧漢寶"]
["9940 信義","顏漏有          顏漏有",0,"顏漏有"]
["9940 信義","魏世芳          魏世芳",0,"魏世芳"]
["9940 信義","蘇上堯          蘇上堯",1,"蘇上堯"]
["9940 信義","蘇守仁          蘇守仁",196,"蘇守仁"]
["9940 信義","蘇啟榮          蘇啟榮",25,"蘇啟榮"]
["9941 裕融","_大股東合計1",0]
["9941 裕融","_大股東合計2    含沿用資料",60089]
["9941 裕融","_經理人合計",62]
["9941 裕融","_董  事合計",219122]
["9941 裕融","_董監事合計",219122]
["9941 裕融","_監察人合計",0]
["9941 裕融","大通託梵加德新  大通託梵加德",2524,"摩根大通託管梵加德新興市場股票指數基金戶"]
["9941 裕融","中華郵政(股)    吳宏謀",5343,"中華郵政"]
["9941 裕融","左自生          左自生",0,"左自生"]
["9941 裕融","李世杰          李世杰",3,"李世杰"]
["9941 裕融","李振成          李振成",1,"李振成"]
["9941 裕融","周鐘麒          周鐘麒",0,"周鐘麒"]
["9941 裕融","林群盛          林群盛",27,"林群盛"]
["9941 裕融","泛德投資(股)    毛曉玲",6903,"泛德投資"]
["9941 裕融","花旗挪威中央    花旗挪威中央",2585,"花旗商銀託管挪威中央銀行投資專戶"]
["9941 裕融","姚振祥          姚振祥",0,"姚振祥"]
["9941 裕融","威文投資(股)    毛曉玲",11336,"威文投資"]
["9941 裕融","威泰投資(股)    毛曉玲",10851,"威泰投資"]
["9941 裕融","胡銘琦          胡銘琦",2,"胡銘琦"]
["9941 裕融","張樑            張樑",0,"張樑"]
["9941 裕融","莊文凱          莊文凱",0,"莊文凱"]
["9941 裕融","莊怡雪          莊怡雪",0,"莊怡雪"]
["9941 裕融","許國興          許國興",0,"許國興"]
["9941 裕融","陳吉慶          陳吉慶",0,"陳吉慶"]
["9941 裕融","陳明宗          陳明宗",0,"陳明宗"]
["9941 裕融","陳法科          陳法科",0,"陳法科"]
["9941 裕融","陳俊            陳俊",2,"陳俊"]
["9941 裕融","富邦人壽保險(股)蔡明興",11995,"富邦人壽保險"]
["9941 裕融","曾文正          曾文正",0,"曾文正"]
["9941 裕融","童景郁          童景郁",0,"童景郁"]
["9941 裕融","黃高乾          黃高乾",0,"黃高乾"]
["9941 裕融","瑞和投資(股)    瑞和投資(股)",67,"瑞和投資"]
["9941 裕融","裕隆汽車製造(股)左自生",213376,"裕隆汽車製造"]
["9941 裕融","裕隆汽車製造(股)姚振祥",213376,"裕隆汽車製造"]
["9941 裕融","裕隆汽車製造(股)嚴陳莉蓮",213376,"裕隆汽車製造"]
["9941 裕融","裕隆經管企業(股)許國興",18,"裕隆經管企業股份有限公司"]
["9941 裕融","鄒培欽          鄒培欽",0,"鄒培欽"]
["9941 裕融","廖淑華          廖淑華",8,"廖淑華"]
["9941 裕融","劉俊杰          劉俊杰",8552,"劉俊杰"]
["9941 裕融","樂文實業(股)    李振成",5728,"樂文實業"]
["9941 裕融","樂文實業(股)    張樑",5728,"樂文實業"]
["9941 裕融","樂文實業(股)    蔡文榮",5728,"樂文實業"]
["9941 裕融","蔡文榮          蔡文榮",0,"蔡文榮"]
["9941 裕融","賴柏安          賴柏安",0,"賴柏安"]
["9941 裕融","謝易宏          謝易宏",0,"謝易宏"]
["9941 裕融","韓宗信          韓宗信",20,"韓宗信"]
["9941 裕融","闕源龍          闕源龍",0,"闕源龍"]
["9941 裕融","嚴陳莉蓮        嚴陳莉蓮",106,"嚴陳莉蓮"]
["9942 茂順","_大股東合計1",0]
["9942 茂順","_大股東合計2    含沿用資料",11273]
["9942 茂順","_經理人合計",7024]
["9942 茂順","_董  事合計",12489]
["9942 茂順","_董監事合計",12489]
["9942 茂順","_監察人合計",0]
["9942 茂順","石正復          石正復",6658,"石正復"]
["9942 茂順","石凱茵          石凱茵",2886,"石凱茵"]
["9942 茂順","石銘賀          石銘賀",3275,"石銘賀"]
["9942 茂順","石銘耀          石銘耀",3087,"石銘耀"]
["9942 茂順","吳啟宏          吳啟宏",0,"吳啟宏"]
["9942 茂順","吳樹敏          吳樹敏",25,"吳樹敏"]
["9942 茂順","李彥霆          李彥霆",6,"李彥霆"]
["9942 茂順","李素英          李素英",0,"李素英"]
["9942 茂順","林力忠          林力忠",1,"林力忠"]
["9942 茂順","林錦隆          林錦隆",3,"林錦隆"]
["9942 茂順","邱奕龍          邱奕龍",1800,"邱奕龍"]
["9942 茂順","邱學基          邱學基",0,"邱學基"]
["9942 茂順","施賢德          施賢德",12,"施賢德"]
["9942 茂順","唐迪投資(股)    粘紫雯",4235,"唐迪投資"]
["9942 茂順","翁銘振          翁銘振",6,"翁銘振"]
["9942 茂順","許阿美          許阿美",1957,"許阿美"]
["9942 茂順","許春堂          許春堂",1471,"許春堂"]
["9942 茂順","許淑君          許淑君",786,"許淑君"]
["9942 茂順","陳仁安          陳仁安",920,"陳仁安"]
["9942 茂順","陳玉琴          陳玉琴",13,"陳玉琴"]
["9942 茂順","陳信忠          陳信忠",1624,"陳信忠"]
["9942 茂順","陳美靜          陳美靜",1657,"陳美靜"]
["9942 茂順","陳國課          陳國課",0,"陳國課"]
["9942 茂順","曾彥霖          曾彥霖",0,"曾彥霖"]
["9942 茂順","黃富傑          黃富傑",11,"黃富傑"]
["9942 茂順","黃豪偉          黃豪偉",0,"黃豪偉"]
["9942 茂順","蕭博文          蕭博文",3,"蕭博文"]
["9942 茂順","薛汝青          薛汝青",0,"薛汝青"]
["9942 茂順","粘西湖          粘西湖",350,"粘西湖"]
["9943 好樂迪","_大股東合計1",0]
["9943 好樂迪","_大股東合計2    含沿用資料",39834]
["9943 好樂迪","_經理人合計",1]
["9943 好樂迪","_董  事合計",47875]
["9943 好樂迪","_董監事合計",47875]
["9943 好樂迪","_監察人合計",0]
["9943 好樂迪","中都國際(股)    林弘民",4969,"中都國際"]
["9943 好樂迪","年代國際高科(股)年代國際高科",3652,"年代國際高科技媒體園區開發"]
["9943 好樂迪","李天行          李天行",1,"李天行"]
["9943 好樂迪","李俊德          李俊德",0,"李俊德"]
["9943 好樂迪","佳訊傳播(股)    陳美純",794,"佳訊傳播"]
["9943 好樂迪","東台有線電視事業練台生",6375,"東台有線電視事業"]
["9943 好樂迪","林弘民          林弘民",0,"林弘民"]
["9943 好樂迪","林秀娟          林秀娟",0,"林秀娟"]
["9943 好樂迪","林佳霖          林佳霖",666,"林佳霖"]
["9943 好樂迪","邱惠美          邱惠美",0,"邱惠美"]
["9943 好樂迪","金源發投資(股)  戴子珊",6208,"金源發投資股份有限公司"]
["9943 好樂迪","金霙實業(有)    蘇崑玉",2259,"金霙實業有限公司"]
["9943 好樂迪","范君佩          范君佩",0,"范君佩"]
["9943 好樂迪","孫世昌          孫世昌",238,"孫世昌"]
["9943 好樂迪","孫清榮          孫清榮",0,"孫清榮"]
["9943 好樂迪","財訊投資(股)    蘇崑玉",7090,"財訊投資"]
["9943 好樂迪","高心華          高心華",4,"高心華"]
["9943 好樂迪","陳美純          陳美純",0,"陳美純"]
["9943 好樂迪","楊實秋          楊實秋",0,"楊實秋"]
["9943 好樂迪","鼎順發投資(股)  蘇崑玉",3324,"鼎順發投資股份有限公司"]
["9943 好樂迪","蔡富女          蔡富女",2536,"蔡富女"]
["9943 好樂迪","蔡麗薇          蔡麗薇",0,"蔡麗薇"]
["9943 好樂迪","鄭景文          鄭景文",0,"鄭景文"]
["9943 好樂迪","錢櫃企業(股)    高心華",40567,"錢櫃企業"]
["9943 好樂迪","戴子芳          戴子芳",332,"戴子芳"]
["9943 好樂迪","顏瓊章          顏瓊章",684,"顏瓊章"]
["9943 好樂迪","洄瀾有線電視(股)練台生",8390,"洄瀾有線電視"]
["9943 好樂迪","恒洲投資(股)    顏瓊章",309,"恒洲投資"]
["9944 新麗","_大股東合計1",0]
["9944 新麗","_大股東合計2    含沿用資料",30526]
["9944 新麗","_經理人合計",1849]
["9944 新麗","_董  事合計",29117]
["9944 新麗","_董監事合計",29117]
["9944 新麗","_監察人合計",0]
["9944 新麗","中島建設股份有限簡勝宏",3930,"中島建設股份有限公司"]
["9944 新麗","天王投資(股)    洪源和",5162,"天王投資"]
["9944 新麗","王淑芬          王淑芬",0,"王淑芬"]
["9944 新麗","兆圓開發(股)    洪源和",3693,"兆圓開發"]
["9944 新麗","吳東曜          吳東曜",0,"吳東曜"]
["9944 新麗","呂光武          呂光武",0,"呂光武"]
["9944 新麗","施中南          施中南",0,"施中南"]
["9944 新麗","盈宏國際投資(股)簡勝宏",4442,"盈宏國際投資"]
["9944 新麗","香擘國際開發(股)簡裘裘",600,"香擘國際開發"]
["9944 新麗","張宏榮          張宏榮",360,"張宏榮"]
["9944 新麗","啟偉聯合投資(股)游象錄",5096,"啟偉聯合投資"]
["9944 新麗","啟傑國際投資(股)楊蕙芳",2001,"啟傑國際投資"]
["9944 新麗","勝宏投資(股)    簡秀霞",4632,"勝宏投資"]
["9944 新麗","博楊開發(股)    游象錄",3443,"博楊開發"]
["9944 新麗","黃慧茹          黃慧茹",1,"黃慧茹"]
["9944 新麗","椰子(股)        洪聖翔",2569,"椰子"]
["9944 新麗","葉秉澍          葉秉澍",0,"葉秉澍"]
["9944 新麗","戴川淵          戴川淵",25,"戴川淵"]
["9944 新麗","簡勝宏          簡勝宏",500,"簡勝宏"]
["9944 新麗","簡瑞瑞          簡瑞瑞",1222,"簡瑞瑞"]
["9944 新麗","簡裘裘          簡裘裘",0,"簡裘裘"]
["9944 新麗","簡嘉菁          簡嘉菁",241,"簡嘉菁"]
["9944 新麗","簡榮富          簡榮富",0,"簡榮富"]
["9944 新麗","麗邦投資(股)    簡瑞瑞",24075,"麗邦投資"]
["9944 新麗","麗邦投資(股)    簡嘉菁",24075,"麗邦投資"]
["9945 潤泰新","_大股東合計1",0]
["9945 潤泰新","_大股東合計2    含沿用資料",671036]
["9945 潤泰新","_經理人合計",3571]
["9945 潤泰新","_董  事合計",878774]
["9945 潤泰新","_董監事合計",878774]
["9945 潤泰新","_監察人合計",0]
["9945 潤泰新","大通先進星光    大通先進星光",30482,"美商摩根大通銀行台北分行受託保管先進星光基金公司之系列基金先進總合國際股票指數基金"]
["9945 潤泰新","尹崇堯          尹崇堯",0,"尹崇堯"]
["9945 潤泰新","王國榮          王國榮",121,"王國榮"]
["9945 潤泰新","王培守          王培守",7,"王培守"]
["9945 潤泰新","李安憲          李安憲",0,"李安憲"]
["9945 潤泰新","李志宏          李志宏",1969,"李志宏"]
["9945 潤泰新","周佩玲          周佩玲",354,"周佩玲"]
["9945 潤泰新","宜泰投資(股)    張坤隆",138513,"宜泰投資"]
["9945 潤泰新","林金賜          林金賜",204,"林金賜"]
["9945 潤泰新","林春妙          林春妙",0,"林春妙"]
["9945 潤泰新","花旗挪威央行    花旗挪威央行",33107,"花旗台灣銀行託管挪威中央銀行投資專戶"]
["9945 潤泰新","長春投資(股)    尹衍樑",124599,"長春投資"]
["9945 潤泰新","侯凱淋          侯凱淋",0,"侯凱淋"]
["9945 潤泰新","柯順雄          柯順雄",0,"柯順雄"]
["9945 潤泰新","盈家投資(股)    侯凱淋",38652,"盈家投資"]
["9945 潤泰新","盈家投資(股)    簡滄圳",38652,"盈家投資"]
["9945 潤泰新","胡鈺苓          胡鈺苓",33,"胡鈺苓"]
["9945 潤泰新","徐盛育          徐盛育",340,"徐盛育"]
["9945 潤泰新","財團法人唐獎    財團法人唐獎",29484,"財團法人唐獎教育基金會"]
["9945 潤泰新","高介文          高介文",1,"高介文"]
["9945 潤泰新","張文仁          張文仁",39,"張文仁"]
["9945 潤泰新","張國鎮          張國鎮",0,"張國鎮"]
["9945 潤泰新","張維澄          張維澄",0,"張維澄"]
["9945 潤泰新","莊國誌          莊國誌",0,"莊國誌"]
["9945 潤泰新","陳柏宇          陳柏宇",1,"陳柏宇"]
["9945 潤泰新","陳麗玉          陳麗玉",228,"陳麗玉"]
["9945 潤泰新","童旭宏          童旭宏",0,"童旭宏"]
["9945 潤泰新","匯弘投資(股)    尹衍樑",233903,"匯弘投資"]
["9945 潤泰新","楊文娟          楊文娟",162,"楊文娟"]
["9945 潤泰新","楊璦禎          楊璦禎",0,"楊璦禎"]
["9945 潤泰新","葉天政          葉天政",0,"葉天政"]
["9945 潤泰新","趙義隆          趙義隆",0,"趙義隆"]
["9945 潤泰新","劉文潭          劉文潭",233,"劉文潭"]
["9945 潤泰新","摩根梵加德新    摩根梵加德新",33081,"摩根託管梵加德新興市場股票指數基金專戶"]
["9945 潤泰新","潤泰全球(股)    尹崇堯",812208,"潤泰全球"]
["9945 潤泰新","潤泰全球(股)    徐盛育",812208,"潤泰全球"]
["9945 潤泰新","潤泰興(股)      李志宏",27914,"潤泰興"]
["9945 潤泰新","潤泰興(股)      陳麗玉",27914,"潤泰興"]
["9945 潤泰新","潤華染織廠(股)  張坤隆",47867,"潤華染織廠"]
["9945 潤泰新","蔡佩錦          蔡佩錦",0,"蔡佩錦"]
["9945 潤泰新","蔡嘉生          蔡嘉生",0,"蔡嘉生"]
["9945 潤泰新","鄭文清          鄭文清",168,"鄭文清"]
["9945 潤泰新","簡滄圳          簡滄圳",610,"簡滄圳"]
["9945 潤泰新","魏玉慈          魏玉慈",21,"魏玉慈"]
["9945 潤泰新","龔慧芝          龔慧芝",30,"龔慧芝"]
["9946 三發地產","_大股東合計1",49483]
["9946 三發地產","_大股東合計2    含沿用資料",194117]
["9946 三發地產","_經理人合計",3902]
["9946 三發地產","_董  事合計",13183]
["9946 三發地產","_董監事合計",13183]
["9946 三發地產","_監察人合計",0]
["9946 三發地產","上善實業(股)    高明賢",13183,"上善實業股份有限公司"]
["9946 三發地產","上善實業(股)    鍾鼎興",13183,"上善實業股份有限公司"]
["9946 三發地產","上善實業(股)    鍾鼎晟",13183,"上善實業股份有限公司"]
["9946 三發地產","仁和投資(股)    仁和投資(股)",1426,"仁和投資股份有限公司"]
["9946 三發地產","王慧君          王慧君",0,"王慧君"]
["9946 三發地產","名發建設開發(股)鍾鼎興",4937,"名發建設開發股份有限公司"]
["9946 三發地產","吳彥鋒          吳彥鋒",0,"吳彥鋒"]
["9946 三發地產","吳錦昌          吳錦昌",0,"吳錦昌"]
["9946 三發地產","卓成投資(股)    卓成投資(股)",1301,"卓成投資股份有限公司"]
["9946 三發地產","尚峰投資(股)    尚峰投資(股)",20482,"尚峰投資"]
["9946 三發地產","金基投資(有)    楊顯玲",27263,"金基投資"]
["9946 三發地產","長邑投資股份有限鍾鼎晟",17479,"長邑投資股份有限公司"]
["9946 三發地產","城新投資(股)    城新投資(股)",49483,"城新投資"]
["9946 三發地產","胡定華          胡定華",0,"胡定華"]
["9946 三發地產","高明賢          高明賢",0,"高明賢"]
["9946 三發地產","許旭輝          許旭輝",0,"許旭輝"]
["9946 三發地產","智邑投資(有)    楊顯玲",20657,"智邑投資"]
["9946 三發地產","智裕投資(股)    智裕投資(股)",15534,"智裕投資"]
["9946 三發地產","黃正男          黃正男",0,"黃正男"]
["9946 三發地產","黃麗貞          黃麗貞",8,"黃麗貞"]
["9946 三發地產","楊顯玲          楊顯玲",106,"楊顯玲"]
["9946 三發地產","瑞銀楊顯玲戶    瑞銀楊顯玲戶",19000,"瑞士銀行臺北分行受楊顯玲信託財產專戶"]
["9946 三發地產","劉書宏          劉書宏",32,"劉書宏"]
["9946 三發地產","蔡文玲          蔡文玲",24,"蔡文玲"]
["9946 三發地產","鍾俊榮          鍾俊榮",19282,"鍾俊榮"]
["9946 三發地產","鍾鼎興          鍾鼎興",3505,"鍾鼎興"]
["9946 三發地產","鍾鼎晟          鍾鼎晟",3838,"鍾鼎晟"]
["9949 琉園","_大股東合計1",0]
["9949 琉園","_大股東合計2    含沿用資料",17853]
["9949 琉園","_經理人合計",45]
["9949 琉園","_董  事合計",7080]
["9949 琉園","_董監事合計",7080]
["9949 琉園","_監察人合計",0]
["9949 琉園","大立高分子實(有)洪秀惠",3537,"大立高分子實業有限公司"]
["9949 琉園","王小樨          王小樨",3349,"王小樨"]
["9949 琉園","王永山          王永山",4168,"王永山"]
["9949 琉園","王曉由          王曉由",3349,"王曉由"]
["9949 琉園","向利(股)        李芳眉",1188,"向利"]
["9949 琉園","洪秀惠          洪秀惠",508,"洪秀惠"]
["9949 琉園","格林山(有)      黃仲銘",100,"格林山"]
["9949 琉園","陳仙宮          陳仙宮",2301,"陳仙宮"]
["9949 琉園","黃仲銘          黃仲銘",0,"黃仲銘"]
["9949 琉園","黃模春          黃模春",1158,"黃模春"]
["9949 琉園","溫子苓          溫子苓",1633,"溫子苓"]
["9949 琉園","葉如萍          葉如萍",45,"葉如萍"]
["9949 琉園","賈堅一          賈堅一",2146,"賈堅一"]
["9949 琉園","廖椿沄          廖椿沄",0,"廖椿沄"]
["9949 琉園","蔡明哲          蔡明哲",3,"蔡明哲"]
["9949 琉園","戴湘綺          戴湘綺",1493,"戴湘綺"]
["9949 琉園","韓道暐          韓道暐",0,"韓道暐"]
["9950 萬國通","_大股東合計1",0]
["9950 萬國通","_大股東合計2    含沿用資料",42865]
["9950 萬國通","_經理人合計",579]
["9950 萬國通","_董  事合計",91110]
["9950 萬國通","_董監事合計",91110]
["9950 萬國通","_監察人合計",0]
["9950 萬國通","吳榮彬          吳榮彬",2320,"吳榮彬"]
["9950 萬國通","李佳相          李佳相",0,"李佳相"]
["9950 萬國通","李姿蓉          李姿蓉",0,"李姿蓉"]
["9950 萬國通","李國安          李國安",4435,"李國安"]
["9950 萬國通","振悅投資(有)    振悅投資(有)",10428,"振悅投資"]
["9950 萬國通","捷朗投資(股)    捷朗投資(股)",10428,"捷朗投資"]
["9950 萬國通","許慈慧          許慈慧",0,"許慈慧"]
["9950 萬國通","陸鵬舉          陸鵬舉",0,"陸鵬舉"]
["9950 萬國通","頂富投資(有)    黃上源",10428,"頂富投資"]
["9950 萬國通","頂富投資(有)    謝旻翰",10428,"頂富投資"]
["9950 萬國通","富立建設(股)    陳聰徒",2907,"富立建設"]
["9950 萬國通","黃上源          黃上源",0,"黃上源"]
["9950 萬國通","黃國強          黃國強",0,"黃國強"]
["9950 萬國通","黃雅萍          黃雅萍",0,"黃雅萍"]
["9950 萬國通","黃德丹          黃德丹",27,"黃德丹"]
["9950 萬國通","億邁投資(有)    謝明景",5848,"億邁投資"]
["9950 萬國通","蔡培元          蔡培元",104,"蔡培元"]
["9950 萬國通","鄭子汶          鄭子汶",0,"鄭子汶"]
["9950 萬國通","謝玉珠          謝玉珠",11,"謝玉珠"]
["9950 萬國通","謝奇諺          謝奇諺",437,"謝奇諺"]
["9950 萬國通","謝明振          謝明振",80682,"謝明振"]
["9950 萬國通","謝明景          謝明景",3412,"謝明景"]
["9950 萬國通","謝旻翰          謝旻翰",437,"謝旻翰"]
["9950 萬國通","涂水城          涂水城",3087,"涂水城"]
["9951 皇田","_大股東合計1",0]
["9951 皇田","_大股東合計2    含沿用資料",10701]
["9951 皇田","_經理人合計",7491]
["9951 皇田","_董  事合計",11100]
["9951 皇田","_董監事合計",11100]
["9951 皇田","_監察人合計",0]
["9951 皇田","上德投資(股)    林欣雨",1906,"上德投資"]
["9951 皇田","大億金茂(股)    許芳銘",9450,"大億金茂"]
["9951 皇田","全球人壽保險(股)彭騰德",2621,"全球人壽保險"]
["9951 皇田","吳雅娟          吳雅娟",0,"吳雅娟"]
["9951 皇田","君凱亞投資(股)  君凱亞投資(",2297,"君凱亞投資股份有限公司"]
["9951 皇田","李英德          李英德",0,"李英德"]
["9951 皇田","周幼珊          周幼珊",2038,"周幼珊"]
["9951 皇田","林永清          林永清",4635,"林永清"]
["9951 皇田","林孟雨          林孟雨",778,"林孟雨"]
["9951 皇田","邱芳才          邱芳才",0,"邱芳才"]
["9951 皇田","垣沼健一郎      垣沼健一郎",8,"垣沼健一郎"]
["9951 皇田","許竹如          許竹如",0,"許竹如"]
["9951 皇田","許芳銘          許芳銘",0,"許芳銘"]
["9951 皇田","陳家彬          陳家彬",2,"陳家彬"]
["9951 皇田","陳發強          陳發強",0,"陳發強"]
["9951 皇田","富邦人壽保險(股)蔡明興",1797,"富邦人壽保險"]
["9951 皇田","萊康投資(股)    周幼珊",963,"萊康投資"]
["9951 皇田","萊康投資(股)    林永清",963,"萊康投資"]
["9951 皇田","楊耿旻          楊耿旻",0,"楊耿旻"]
["9951 皇田","楊國誠          楊國誠",4,"楊國誠"]
["9951 皇田","臺銀人壽保險(股)劉玉枝",985,"臺銀人壽保險"]
["9951 皇田","劉典昌          劉典昌",687,"劉典昌"]
["9951 皇田","摩根寶源亞小    摩根寶源亞小",1095,"美商摩根大通銀行台北分行受託保管寶源國際精選基金亞洲小型公司基金投資專戶"]
["9951 皇田","賴維祥          賴維祥",0,"賴維祥"]
["9951 皇田","顏鴻名          顏鴻名",26,"顏鴻名"]
["9955 佳龍","Regular Int'(股)Regular Int'",179,"英屬維京群島商Regular International Co., Ltd."]
["9955 佳龍","_大股東合計1",0]
["9955 佳龍","_大股東合計2    含沿用資料",21912]
["9955 佳龍","_經理人合計",0]
["9955 佳龍","_董  事合計",40418]
["9955 佳龍","_董監事合計",40418]
["9955 佳龍","_監察人合計",0]
["9955 佳龍","巨瀚投資(股)    周康記",2193,"巨瀚投資"]
["9955 佳龍","吳介評          吳介評",4330,"吳介評"]
["9955 佳龍","吳界欣          吳界欣",4349,"吳界欣"]
["9955 佳龍","吳耀勳          吳耀勳",29857,"吳耀勳"]
["9955 佳龍","周康記          周康記",118,"周康記"]
["9955 佳龍","昇龍投資開發(股)昇龍投資開發",1639,"昇龍投資開發"]
["9955 佳龍","林明珠          林明珠",1787,"林明珠"]
["9955 佳龍","林俊堯          林俊堯",5525,"林俊堯"]
["9955 佳龍","徐嘉男          徐嘉男",0,"徐嘉男"]
["9955 佳龍","富康投資(有)    徐嘉男",4019,"富康投資"]
["9955 佳龍","賀士郡          賀士郡",0,"賀士郡"]
["9955 佳龍","黃彥菁          黃彥菁",0,"黃彥菁"]
["9955 佳龍","楊明曄          楊明曄",2955,"楊明曄"]
["9955 佳龍","端木正          端木正",0,"端木正"]
["9955 佳龍","緯創資通(股)    林憲銘",5676,"緯創資通"]
["9955 佳龍","蔡政哲          蔡政哲",0,"蔡政哲"]
["9958 世紀鋼","_大股東合計1",0]
["9958 世紀鋼","_大股東合計2    含沿用資料",33464]
["9958 世紀鋼","_經理人合計",9249]
["9958 世紀鋼","_董  事合計",43793]
["9958 世紀鋼","_董監事合計",43793]
["9958 世紀鋼","_監察人合計",0]
["9958 世紀鋼","毛恩洸          毛恩洸",0,"毛恩洸"]
["9958 世紀鋼","台灣人壽保險(股)台灣人壽保險",2849,"台灣人壽保險"]
["9958 世紀鋼","向鋒投資(股)    賴文祥",11682,"向鋒投資"]
["9958 世紀鋼","余俊德          余俊德",135,"余俊德"]
["9958 世紀鋼","李光明          李光明",0,"李光明"]
["9958 世紀鋼","李育慶          李育慶",100,"李育慶"]
["9958 世紀鋼","李建安          李建安",10,"李建安"]
["9958 世紀鋼","周聖皓          周聖皓",257,"周聖皓"]
["9958 世紀鋼","易仲金          易仲金",4,"易仲金"]
["9958 世紀鋼","林元偉          林元偉",0,"林元偉"]
["9958 世紀鋼","林明政          林明政",6,"林明政"]
["9958 世紀鋼","林聖忠          林聖忠",0,"林聖忠"]
["9958 世紀鋼","邱秀華          邱秀華",3,"邱秀華"]
["9958 世紀鋼","冠增投資(股)    周聖皓",14184,"冠增投資"]
["9958 世紀鋼","徐發信          徐發信",13,"徐發信"]
["9958 世紀鋼","袁志豪          袁志豪",5055,"袁志豪"]
["9958 世紀鋼","祥鼎投資(股)    陳杏雪",17410,"祥鼎投資"]
["9958 世紀鋼","陳志昌          陳志昌",511,"陳志昌"]
["9958 世紀鋼","陳杏雪          陳杏雪",2499,"陳杏雪"]
["9958 世紀鋼","陳錦稷          陳錦稷",0,"陳錦稷"]
["9958 世紀鋼","富邦人壽保險(股)富邦人壽保險",4559,"富邦人壽保險"]
["9958 世紀鋼","粟明德          粟明德",0,"粟明德"]
["9958 世紀鋼","匯豐宏利遠見    匯豐宏利遠見",2511,"匯豐銀行託管宏利遠見基金單位信託投資戶"]
["9958 世紀鋼","新光鋼鐵(股)    粟明德",6001,"新光鋼鐵"]
["9958 世紀鋼","劉博文          劉博文",1,"劉博文"]
["9958 世紀鋼","賴文祥          賴文祥",12489,"賴文祥"]
["9958 世紀鋼","賴俊成          賴俊成",8983,"賴俊成"]
["9958 世紀鋼","瞿生元          瞿生元",0,"瞿生元"]
["9960 邁達康","_大股東合計1",0]
["9960 邁達康","_大股東合計2    含沿用資料",16621]
["9960 邁達康","_經理人合計",604]
["9960 邁達康","_董  事合計",4930]
["9960 邁達康","_董監事合計",4930]
["9960 邁達康","_監察人合計",0]
["9960 邁達康","三隆投資(股)    陳和順",1182,"三隆投資"]
["9960 邁達康","大立高分子實(有)洪秀惠",1567,"大立高分子實業有限公司"]
["9960 邁達康","五傑投資股份(股)五傑投資股份",1602,"五傑投資股份有公司"]
["9960 邁達康","王順生          王順生",11,"王順生"]
["9960 邁達康","古立雄          古立雄",0,"古立雄"]
["9960 邁達康","石碧真          石碧真",2540,"石碧真"]
["9960 邁達康","吳文            吳文",753,"吳文"]
["9960 邁達康","吳沖            吳沖",4431,"吳沖"]
["9960 邁達康","李久恒          李久恒",1263,"李久恒"]
["9960 邁達康","林淑蕙          林淑蕙",2377,"林淑蕙"]
["9960 邁達康","施姵瑜          施姵瑜",84,"施姵瑜"]
["9960 邁達康","星裕國際(股)    林彥男",2765,"星裕國際"]
["9960 邁達康","張晉銘          張晉銘",3,"張晉銘"]
["9960 邁達康","游國琛          游國琛",593,"游國琛"]
["9960 邁達康","黃瓊瑤          黃瓊瑤",412,"黃瓊瑤"]
["9960 邁達康","新光吳倩怡      新光吳倩怡",2572,"臺灣新光商業銀行受託保管吳倩怡投資專戶"]
["9960 邁達康","謝國榮          謝國榮",0,"謝國榮"]
["9962 有益","_大股東合計1",0]
["9962 有益","_大股東合計2    含沿用資料",14728]
["9962 有益","_經理人合計",181]
["9962 有益","_董  事合計",12165]
["9962 有益","_董監事合計",12165]
["9962 有益","_監察人合計",0]
["9962 有益","中路鋼鐵(股)    陳俊男",1509,"中路鋼鐵"]
["9962 有益","王守謙          王守謙",1883,"王守謙"]
["9962 有益","李建興          李建興",1,"李建興"]
["9962 有益","周琦嵐          周琦嵐",44,"周琦嵐"]
["9962 有益","怡富投資(股)    怡富投資(股)",1550,"怡富投資股份有限公司"]
["9962 有益","林志學          林志學",0,"林志學"]
["9962 有益","張美瑤          張美瑤",0,"張美瑤"]
["9962 有益","張睿芯          張睿芯",0,"張睿芯"]
["9962 有益","許峰銘          許峰銘",0,"許峰銘"]
["9962 有益","陳聰智          陳聰智",0,"陳聰智"]
["9962 有益","陳麗紋          陳麗紋",0,"陳麗紋"]
["9962 有益","黃建程          黃建程",2486,"黃建程"]
["9962 有益","黃建樺          黃建樺",2142,"黃建樺"]
["9962 有益","黃景聰          黃景聰",0,"黃景聰"]
["9962 有益","裕勝投資開發(股)黃景聰",5409,"裕勝投資開發"]
["9962 有益","劉建良          劉建良",136,"劉建良"]
["9962 有益","劉憲同          劉憲同",4000,"劉憲同"]
["9962 有益","劉憲榮          劉憲榮",1872,"劉憲榮"]
["9962 有益","劉鴻陞          劉鴻陞",500,"劉鴻陞"]
["9962 有益","潘有諒          潘有諒",0,"潘有諒"]
["9962 有益","憲旺鋼鐵(股)    林欣穎",3300,"憲旺鋼鐵"]
["9962 有益","蕭漢俊          蕭漢俊",742,"蕭漢俊"]
["9962 有益","鴻育實業(股)    劉憲同",1500,"鴻育實業"]

{"sheet":"股價","index":3,"n_rows":1797,"n_cols":2,"rows_kept":1797,"cut":false,"hidden":false,"merged":[]}
["2023/05/16"]
["證券代碼","收盤價(元)"]
["1101 台泥",37.75]
["1102 亞泥",44.35]
["1103 嘉泥",19.899999999999999]
["1104 環泥",27.6]
["1108 幸福",15.3]
["1109 信大",18.3]
["1110 東泥",19.149999999999999]
["1201 味全",20.149999999999999]
["1203 味王",38.700000000000003]
["1210 大成",53]
["1213 大飲",6.81]
["1215 卜蜂",92.6]
["1216 統一",74.900000000000006]
["1217 愛之味",11.25]
["1218 泰山",31.1]
["1219 福壽",20.85]
["1220 台榮",15]
["1225 福懋油",60.5]
["1227 佳格",40.799999999999997]
["1229 聯華",61.5]
["1231 聯華食",91.5]
["1232 大統益",151]
["1233 天仁",34]
["1234 黑松",37.35]
["1235 興泰",72]
["1236 宏亞",23.35]
["1240 茂生農經",45.45]
["1256 鮮活果汁-KY",318]
["1258 其祥-KY",26.85]
["1259 安心",75.8]
["1264 德麥",282]
["1268 漢來美食",164]
["1301 台塑",93.1]
["1303 南亞",78.8]
["1304 台聚",23.2]
["1305 華夏",23.65]
["1307 三芳",22.6]
["1308 亞聚",25.9]
["1309 台達化",19.850000000000001]
["1310 台苯",16.3]
["1312 國喬",19.05]
["1313 聯成",14.25]
["1314 中石化",9.8699999999999992]
["1315 達新",70.099999999999994]
["1316 上曜",13.2]
["1319 東陽",48.2]
["1321 大洋",34.15]
["1323 永裕",32.950000000000003]
["1324 地球",11.45]
["1325 恒大",23.5]
["1326 台化",69.099999999999994]
["1336 台翰",24.75]
["1337 再生-KY",8.4499999999999993]
["1338 廣華-KY",42.6]
["1339 昭輝",43.6]
["1340 勝悅-KY",13.5]
["1341 富林-KY",70]
["1342 八貫",127.5]
["1402 遠東新",31.95]
["1409 新纖",16.95]
["1410 南染",37.5]
["1413 宏洲",9.14]
["1414 東和",16.850000000000001]
["1416 廣豐",11.75]
["1417 嘉裕",13.3]
["1418 東華",15.1]
["1419 新紡",41.2]
["1423 利華",23.1]
["1432 大魯閣",15.55]
["1434 福懋",27.75]
["1435 中福",26.3]
["1436 華友聯",57.9]
["1437 勤益控",28.3]
["1438 三地開發",30.85]
["1439 雋揚",22.3]
["1440 南紡",16.149999999999999]
["1441 大東",8.23]
["1442 名軒",32.25]
["1443 立益物流",28.9]
["1444 力麗",10.4]
["1445 大宇",20.2]
["1446 宏和",30.75]
["1447 力鵬",7.8]
["1449 佳和",15.05]
["1451 年興",20.75]
["1452 宏益",17.55]
["1453 大將",15]
["1454 台富",15.9]
["1455 集盛",10.199999999999999]
["1456 怡華",16.649999999999999]
["1457 宜進",18.649999999999999]
["1459 聯發",9]
["1460 宏遠",7.97]
["1463 強盛",14.55]
["1464 得力",15]
["1465 偉全",14.35]
["1466 聚隆",11.5]
["1467 南緯",11.5]
["1468 昶和",14.75]
["1470 大統新創",20.2]
["1471 首利",8.9700000000000006]
["1472 三洋實業",30.65]
["1473 台南",23.9]
["1474 弘裕",12.2]
["1475 業旺",56.3]
["1476 儒鴻",479]
["1477 聚陽",225.5]
["1503 士電",115]
["1504 東元",47]
["1506 正道",19.25]
["1512 瑞利",13.35]
["1513 中興電",105]
["1514 亞力",47.75]
["1515 力山",29.15]
["1516 川飛",20.5]
["1517 利奇",18.55]
["1519 華城",109.5]
["1521 大億",37.549999999999997]
["1522 堤維西",28.5]
["1524 耿鼎",22.25]
["1525 江申",78]
["1526 日馳",40.299999999999997]
["1527 鑽全",41.85]
["1528 恩德",11.35]
["1529 樂事綠能",36.450000000000003]
["1530 亞崴",32.6]
["1531 高林股",14.25]
["1532 勤美",33.85]
["1533 車王電",53.9]
["1535 中宇",52.7]
["1536 和大",70.7]
["1537 廣隆",139]
["1538 正峰",9]
["1539 巨庭",27.75]
["1540 喬福",16.649999999999999]
["1541 錩泰",34.35]
["1558 伸興",108.5]
["1560 中砂",111]
["1565 精華",237.5]
["1568 倉佑",24.5]
["1569 濱川",22.4]
["1570 力肯",18.3]
["1580 新麥",121]
["1582 信錦",59.1]
["1583 程泰",66.599999999999994]
["1584 精剛",35.700000000000003]
["1586 和勤",34.299999999999997]
["1587 吉茂",22.15]
["1589 永冠-KY",76.900000000000006]
["1590 亞德客-KY",1060]
["1591 駿吉-KY",27.7]
["1593 祺驊",72.599999999999994]
["1595 川寶",38.65]
["1597 直得",73.900000000000006]
["1598 岱宇",40.799999999999997]
["1599 宏佳騰",37.549999999999997]
["1603 華電",26.85]
["1604 聲寶",26.6]
["1605 華新",46.6]
["1608 華榮",18.350000000000001]
["1609 大亞",30.6]
["1611 中電",18.100000000000001]
["1612 宏泰",22.4]
["1614 三洋電",36.85]
["1615 大山",36.5]
["1616 億泰",9.3699999999999992]
["1617 榮星",15.3]
["1618 合機",18.8]
["1626 艾美特-KY",18.75]
["1701 中化",25.8]
["1702 南僑",51.2]
["1707 葡萄王",175]
["1708 東鹼",36]
["1709 和益",25.25]
["1710 東聯",21.1]
["1711 永光",20.55]
["1712 興農",35.25]
["1713 國化",30]
["1714 和桐",9.2200000000000006]
["1717 長興",32.15]
["1718 中纖",8.16]
["1720 生達",68.099999999999994]
["1721 三晃",16]
["1722 台肥",59.8]
["1723 中碳",112]
["1725 元禎",23.5]
["1726 永記",74.900000000000006]
["1727 中華化",37.5]
["1730 花仙子",58.8]
["1731 美吾華",23.3]
["1732 毛寶",27]
["1733 五鼎",26.9]
["1734 杏輝",32.799999999999997]
["1735 日勝化",17.5]
["1736 喬山",61.2]
["1737 臺鹽",33.75]
["1742 台蠟",17.7]
["1752 南光",68.099999999999994]
["1760 寶齡富錦",138.5]
["1762 中化生",96.6]
["1773 勝一",124]
["1776 展宇",19.8]
["1777 生泰",86.7]
["1781 合世",14.3]
["1783 和康生",60.9]
["1784 訊聯",66.099999999999994]
["1785 光洋科",36]
["1786 科妍",70.3]
["1788 杏昌",144]
["1789 神隆",26.15]
["1795 美時",280.5]
["1796 金穎生技",147.5]
["1799 易威",20.3]
["1802 台玻",18.55]
["1805 寶徠",9.92]
["1806 冠軍",9.01]
["1808 潤隆",75.099999999999994]
["1809 中釉",14.35]
["1810 和成",23.2]
["1813 寶利徠",22.4]
["1815 富喬",11.8]
["1817 凱撒衛",38.25]
["1903 士紙",43.2]
["1904 正隆",31.7]
["1905 華紙",24.05]
["1906 寶隆",15.75]
["1907 永豐餘",30.75]
["1909 榮成",16.350000000000001]
["2002 中鋼",29.2]
["2006 東和鋼鐵",57.6]
["2007 燁興",10.5]
["2008 高興昌",19.3]
["2009 第一銅",31.65]
["2010 春源",16.45]
["2012 春雨",26.95]
["2013 中鋼構",56.6]
["2014 中鴻",23.25]
["2015 豐興",67]
["2017 官田鋼",17.399999999999999]
["2020 美亞",23.55]
["2022 聚亨",10.8]
["2023 燁輝",15.25]
["2024 志聯",18.45]
["2025 千興",5.18]
["2027 大成鋼",44.7]
["2028 威致",25.7]
["2029 盛餘",25.45]
["2030 彰源",22.45]
["2031 新光鋼",45.5]
["2032 新鋼",18.100000000000001]
["2033 佳大",15]
["2034 允強",28.5]
["2035 唐榮",31.25]
["2038 海光",19.850000000000001]
["2049 上銀",234.5]
["2059 川湖",421.5]
["2061 風青",20.85]
["2062 橋椿",21.3]
["2063 世鎧",46.2]
["2064 晉椿",17.25]
["2065 世豐",59.4]
["2066 世德",95]
["2067 嘉鋼",11.9]
["2069 運錩",19.100000000000001]
["2070 精湛",31.35]
["2101 南港",39.200000000000003]
["2102 泰豐",20.45]
["2103 台橡",26.65]
["2104 國際中橡",19.95]
["2105 正新",39.75]
["2106 建大",30.4]
["2107 厚生",21.8]
["2108 南帝",39.049999999999997]
["2109 華豐",14.55]
["2114 鑫永銓",101]
["2115 六暉-KY",33]
["2201 裕隆",79.599999999999994]
["2204 中華",80.8]
["2206 三陽工業",60.8]
["2207 和泰車",740]
["2208 台船",24.2]
["2211 長榮鋼",60.9]
["2221 大甲",39.9]
["2227 裕日車",193]
["2228 劍麟",82.5]
["2230 泰茂",81]
["2231 為升",162]
["2233 宇隆",109]
["2235 謚源",44.3]
["2236 百達-KY",39.049999999999997]
["2239 英利-KY",72.8]
["2241 艾姆勒",33.950000000000003]
["2243 宏旭-KY",18.2]
["2247 汎德永業",288]
["2250 IKKA-KY",70.599999999999994]
["2301 光寶科",78.599999999999994]
["2302 麗正",19.399999999999999]
["2303 聯電",48.8]
["2305 全友",21.5]
["2308 台達電",300.5]
["2312 金寶",13.05]
["2313 華通",41.8]
["2314 台揚",46.85]
["2316 楠梓電",28.1]
["2317 鴻海",102]
["2321 東訊",20.25]
["2323 中環",8.42]
["2324 仁寶",26]
["2327 國巨",491]
["2328 廣宇",36.9]
["2329 華泰",19]
["2330 台積電",505]
["2331 精英",25.4]
["2332 友訊",19.05]
["2337 旺宏",32.049999999999997]
["2338 光罩",78.099999999999994]
["2340 台亞",35.6]
["2342 茂矽",38.75]
["2344 華邦電",24.1]
["2345 智邦",295.5]
["2347 聯強",64.099999999999994]
["2348 海悅",65.900000000000006]
["2349 錸德",8.94]
["2351 順德",118]
["2352 佳世達",36.299999999999997]
["2353 宏碁",29.85]
["2354 鴻準",52.8]
["2355 敬鵬",30.2]
["2356 英業達",30.8]
["2357 華碩",303.5]
["2358 廷鑫",12.4]
["2359 所羅門",30.65]
["2360 致茂",190]
["2362 藍天",31.75]
["2363 矽統",17.350000000000001]
["2364 倫飛",106.5]
["2365 昆盈",10.5]
["2367 燿華",17.899999999999999]
["2368 金像電",95.1]
["2369 菱生",14]
["2371 大同",38.049999999999997]
["2373 震旦行",80.599999999999994]
["2374 佳能",19.8]
["2375 凱美",69]
["2376 技嘉",144.5]
["2377 微星",154.5]
["2379 瑞昱",374]
["2380 虹光",9.93]
["2382 廣達",101]
["2383 台光電",170.5]
["2385 群光",100]
["2387 精元",40.25]
["2388 威盛",75.599999999999994]
["2390 云辰",11.75]
["2392 正崴",39.5]
["2393 億光",41.8]
["2395 研華",395]
["2397 友通",69.7]
["2399 映泰",15.45]
["2401 凌陽",23.2]
["2402 毅嘉",28.65]
["2404 漢唐",221.5]
["2405 輔信",11.95]
["2406 國碩",18.100000000000001]
["2408 南亞科",64.599999999999994]
["2409 友達",17.05]
["2412 中華電",126]
["2413 環科",33.049999999999997]
["2414 精技",34.700000000000003]
["2415 錩新",23.5]
["2417 圓剛",21.2]
["2419 仲琦",26.1]
["2420 新巨",44.7]
["2421 建準",64.8]
["2423 固緯",34]
["2424 隴華",28.7]
["2425 承啟",28.15]
["2426 鼎元",17.8]
["2427 三商電",17.100000000000001]
["2428 興勤",148.5]
["2429 銘旺科",19.8]
["2430 燦坤",42.15]
["2431 聯昌",10.55]
["2433 互盛電",53.2]
["2434 統懋",30.25]
["2436 偉詮電",47.1]
["2438 翔耀",22.8]
["2439 美律",86.9]
["2440 太空梭",11.6]
["2441 超豐",53.2]
["2442 新美齊",15.95]
["2443 昶虹",3.35]
["2444 兆勁",15]
["2449 京元電子",45.75]
["2450 神腦",35.9]
["2451 創見",71.5]
["2453 凌群",66.3]
["2454 聯發科",680]
["2455 全新",94.2]
["2457 飛宏",74.400000000000006]
["2458 義隆",97.1]
["2459 敦吉",57]
["2460 建通",20.85]
["2461 光群雷",22.55]
["2462 良得電",30.05]
["2464 盟立",36.35]
["2465 麗臺",34.1]
["2466 冠西電",35.65]
["2467 志聖",47.25]
["2468 華經",24.8]
["2471 資通",60.5]
["2472 立隆電",62.3]
["2474 可成",186]
["2476 鉅祥",50.4]
["2477 美隆電",20.2]
["2478 大毅",47.4]
["2480 敦陽科",110.5]
["2481 強茂",65.8]
["2482 連宇",63.1]
["2483 百容",26.6]
["2484 希華",34.75]
["2485 兆赫",18.850000000000001]
["2486 一詮",27.65]
["2488 漢平",31.05]
["2489 瑞軒",12.3]
["2491 吉祥全",14.65]
["2492 華新科",98.2]
["2493 揚博",58.1]
["2495 普安",24.4]
["2496 卓越",51.3]
["2497 怡利電",68.099999999999994]
["2498 宏達電",57.6]
["2501 國建",16.3]
["2504 國產",28.6]
["2505 國揚",18.350000000000001]
["2506 太設",9.25]
["2509 全坤建",15.65]
["2511 太子",11.9]
["2514 龍邦",16.600000000000001]
["2515 中工",10.35]
["2516 新建",5.0999999999999996]
["2520 冠德",29.15]
["2524 京城",32.299999999999997]
["2527 宏璟",22.6]
["2528 皇普",24.2]
["2530 華建",22.9]
["2534 宏盛",22.35]
["2535 達欣工",32.450000000000003]
["2536 宏普",25.5]
["2537 聯上發",6.99]
["2538 基泰",13]
["2539 櫻花建",37.65]
["2540 愛山林",76.599999999999994]
["2542 興富發",41.65]
["2543 皇昌",9.65]
["2545 皇翔",45.6]
["2546 根基",66.8]
["2547 日勝生",9.16]
["2548 華固",96.3]
["2596 綠意",22.15]
["2597 潤弘",118]
["2601 益航",8.99]
["2603 長榮",151]
["2605 新興",22.15]
["2606 裕民",53.4]
["2607 榮運",27.1]
["2608 嘉里大榮",38.549999999999997]
["2609 陽明",60.9]
["2610 華航",19.100000000000001]
["2611 志信",12.7]
["2612 中航",40.049999999999997]
["2613 中櫃",21.95]
["2614 東森",19.25]
["2615 萬海",59.6]
["2616 山隆",32.299999999999997]
["2617 台航",30.1]
["2618 長榮航",28.05]
["2630 亞航",30.7]
["2633 台灣高鐵",32.25]
["2634 漢翔",53.7]
["2636 台驊投控",75.3]
["2637 慧洋-KY",62.9]
["2640 大車隊",131]
["2641 正德",18.2]
["2642 宅配通",44.75]
["2643 捷迅",70.7]
["2645 長榮航太",102.5]
["2701 萬企",12.75]
["2702 華園",23.3]
["2704 國賓",44.6]
["2705 六福",18.7]
["2706 第一店",15.4]
["2707 晶華",276]
["2712 遠雄來",34.549999999999997]
["2718 晶悅",48]
["2719 燦星旅",49.55]
["2722 夏都",50.9]
["2723 美食-KY",159.5]
["2724 富驛-KY",13.35]
["2726 雅茗-KY",26.25]
["2727 王品",314.5]
["2729 瓦城",275]
["2731 雄獅",182.5]
["2732 六角",176.5]
["2734 易飛網",38.5]
["2736 富野",26.9]
["2739 寒舍",60.7]
["2740 天蔥",42.1]
["2743 山富",89.1]
["2745 五福",59]
["2748 雲品",80.7]
["2752 豆府",263.5]
["2753 八方雲集",171.5]
["2754 亞洲藏壽司",168]
["2755 揚秦",144]
["2756 聯發國際",137.5]
["2801 彰銀",18.100000000000001]
["2809 京城銀",35.4]
["2812 台中銀",14.65]
["2816 旺旺保",17.350000000000001]
["2820 華票",15.25]
["2832 台產",22]
["2834 臺企銀",14]
["2836 高雄銀",12.4]
["2838 聯邦銀",16.3]
["2845 遠東銀",11.2]
["2849 安泰銀",15.25]
["2850 新產",50.9]
["2851 中再保",19.600000000000001]
["2852 第一保",15.95]
["2855 統一證",16.3]
["2867 三商壽",5.1100000000000003]
["2880 華南金",22.1]
["2881 富邦金",59.8]
["2882 國泰金",43.6]
["2883 開發金",13]
["2884 玉山金",25.7]
["2885 元大金",22.95]
["2886 兆豐金",35.15]
["2887 台新金",18.399999999999999]
["2888 新光金",8.39]
["2889 國票金",12.15]
["2890 永豐金",17.100000000000001]
["2891 中信金",23.55]
["2892 第一金",27.55]
["2897 王道銀行",10.15]
["2901 欣欣",25]
["2903 遠百",23.3]
["2904 匯僑",20.2]
["2905 三商",15.05]
["2906 高林",16.3]
["2908 特力",20.95]
["2910 統領",29.6]
["2911 麗嬰房",7.12]
["2912 統一超",289.5]
["2913 農林",22.2]
["2915 潤泰全",55.5]
["2916 滿心",41.65]
["2923 鼎固-KY",23.2]
["2924 宏太-KY",31]
["2926 誠品生活",63.5]
["2929 淘帝-KY",13]
["2937 集雅社",33.25]
["2939 凱羿-KY",33]
["2945 三商家購",41.5]
["2947 振宇五金",92.1]
["3002 歐格",12.2]
["3003 健和興",73.5]
["3004 豐達科",96]
["3005 神基",61.8]
["3006 晶豪科",79.5]
["3008 大立光",2190]
["3010 華立",82.6]
["3011 今皓",30.05]
["3013 晟銘電",20.5]
["3014 聯陽",102.5]
["3015 全漢",47.9]
["3016 嘉晶",62.2]
["3017 奇鋐",175.5]
["3018 隆銘綠能",7.38]
["3019 亞光",62.6]
["3021 鴻名",21.25]
["3022 威強電",93]
["3023 信邦",357]
["3024 憶聲",13.95]
["3025 星通",30]
["3026 禾伸堂",102.5]
["3027 盛達",40.950000000000003]
["3028 增你強",32.700000000000003]
["3029 零壹",60.9]
["3030 德律",63.3]
["3031 佰鴻",18.25]
["3032 偉訓",48.25]
["3033 威健",30.35]
["3034 聯詠",406]
["3035 智原",162]
["3036 文曄",65]
["3037 欣興",161]
["3038 全台",28.85]
["3040 遠見",31.6]
["3041 揚智",18.350000000000001]
["3042 晶技",86.2]
["3043 科風",40.35]
["3044 健鼎",110.5]
["3045 台灣大",103.5]
["3046 建碁",82.1]
["3047 訊舟",15.15]
["3048 益登",26.7]
["3049 和鑫",9.57]
["3050 鈺德",15.35]
["3051 力特",17.55]
["3052 夆典",12]
["3054 立萬利",18.8]
["3055 蔚華科",28.8]
["3056 總太",48.7]
["3057 喬鼎",11.55]
["3058 立德",24.7]
["3059 華晶科",33.299999999999997]
["3060 銘異",16.600000000000001]
["3062 建漢",21.6]
["3064 泰偉",13.7]
["3066 李洲",21.7]
["3067 全域",37.299999999999997]
["3071 協禧",30.85]
["3073 天方能源",33.799999999999997]
["3078 僑威",54.3]
["3081 聯亞",98.1]
["3083 網龍",44.9]
["3085 新零售",21.5]
["3086 華義",72.099999999999994]
["3088 艾訊",74.599999999999994]
["3089 億杰",71]
["3090 日電貿",56.7]
["3092 鴻碩",34.85]
["3093 港建*",34.35]
["3094 聯傑",32.9]
["3095 及成",20.350000000000001]
["3105 穩懋",148]
["3114 好德",26.4]
["3115 富榮綱",10.3]
["3118 進階",31.3]
["3122 笙泉",24.8]
["3128 昇銳",37.9]
["3130 一零四",214.5]
["3131 弘塑",368]
["3138 耀登",145.5]
["3141 晶宏",97.1]
["3147 大綜",62.9]
["3149 正達",14.3]
["3152 璟德",202.5]
["3162 精確",51.4]
["3163 波若威",53.4]
["3164 景岳",24.7]
["3167 大量",41.45]
["3169 亞信",115.5]
["3171 新洲",18.75]
["3176 基亞",33.1]
["3178 公準",74.7]
["3188 鑫龍騰",14.35]
["3189 景碩",108]
["3191 和進",9.1]
["3202 樺晟",20.8]
["3205 佰研",40.6]
["3206 志豐",36.25]
["3207 耀勝",85.9]
["3209 全科",41.15]
["3211 順達",75.599999999999994]
["3213 茂訊",51.9]
["3217 優群",102]
["3218 大學光",390]
["3219 倚強科",53.6]
["3221 台嘉碩",27.95]
["3224 三顧",52.7]
["3226 至寶電",59]
["3227 原相",104.5]
["3228 金麗科",159]
["3229 晟鈦",19.399999999999999]
["3230 錦明",14.9]
["3231 緯創",48.45]
["3232 昱捷",29.95]
["3234 光環",21.9]
["3236 千如",28.4]
["3252 海灣",18.649999999999999]
["3257 虹冠電",63]
["3259 鑫創",18.3]
["3260 威剛",72.400000000000006]
["3264 欣銓",53]
["3265 台星科",57.8]
["3266 昇陽",12.75]
["3268 海德威",21]
["3272 東碩",42.4]
["3276 宇環",14.15]
["3284 太普高",15.75]
["3285 微端",19.95]
["3287 廣寰科",16.2]
["3288 點晶",23.45]
["3289 宜特",79]
["3290 東浦",27.55]
["3293 鈊象",546]
["3294 英濟",17.8]
["3296 勝德",16.600000000000001]
["3297 杭特",16.649999999999999]
["3303 岱稜",26.45]
["3305 昇貿",47.3]
["3306 鼎天",25.4]
["3308 聯德",39.700000000000003]
["3310 佳穎",67.2]
["3311 閎暉",34]
["3312 弘憶股",21.1]
["3313 斐成",10.3]
["3317 尼克森",50.9]
["3321 同泰",6.2]
["3322 建舜電",19.399999999999999]
["3323 加百裕",32.049999999999997]
["3324 雙鴻",238]
["3325 旭品",19.95]
["3332 幸康",47.95]
["3338 泰碩",44.35]
["3339 泰谷",13.1]
["3346 麗清",39.5]
["3349 寶德",14.15]
["3354 律勝",13.8]
["3356 奇偶",39.4]
["3357 臺慶科",104]
["3360 尚立",13.35]
["3362 先進光",90.1]
["3363 上詮",38.25]
["3372 典範",11.8]
["3373 熱映",21.8]
["3374 精材",99.1]
["3376 新日興",92.6]
["3379 彬台",12.4]
["3380 明泰",35.299999999999997]
["3388 崇越電",73.8]
["3390 旭軟",17.399999999999999]
["3402 漢科",50]
["3406 玉晶光",394]
["3413 京鼎",184.5]
["3416 融程電",115]
["3419 譁裕",20.100000000000001]
["3426 台興",40.1]
["3430 奇鈦科",46.35]
["3432 台端",12.75]
["3434 哲固",27.35]
["3437 榮創",18.8]
["3438 類比科",58.3]
["3441 聯一光",40.799999999999997]
["3443 創意",1130]
["3444 利機",63.5]
["3447 展達",47.55]
["3450 聯鈞",35.799999999999997]
["3454 晶睿",189]
["3455 由田",82.6]
["3465 進泰電子",90.4]
["3466 致振",30.6]
["3479 安勤",122]
["3481 群創",13.25]
["3483 力致",72.5]
["3484 崧騰",44.3]
["3489 森寶",11.1]
["3490 單井",25.15]
["3491 昇達科",162.5]
["3492 長盛",19.850000000000001]
["3494 誠研",7]
["3498 陽程",32.35]
["3499 環天科",19.3]
["3501 維熹",54.7]
["3504 揚明光",76.3]
["3508 位速",30.75]
["3511 矽瑪",31.65]
["3512 皇龍",31.6]
["3515 華擎",135]
["3516 亞帝歐",17]
["3518 柏騰",29.95]
["3520 華盈",18.850000000000001]
["3521 鴻翊",22.9]
["3522 御頂",17.350000000000001]
["3523 迎輝",16.95]
["3526 凡甲",134.5]
["3527 聚積",105.5]
["3528 安馳",58.2]
["3529 力旺",1800]
["3530 晶相光",78]
["3531 先益",27.05]
["3532 台勝科",146.5]
["3533 嘉澤",892]
["3535 晶彩科",19.600000000000001]
["3536 誠創",2.92]
["3537 堡達",38.15]
["3540 曜越",44.1]
["3541 西柏",58.2]
["3543 州巧",21.75]
["3545 敦泰",77.099999999999994]
["3546 宇峻",83.5]
["3548 兆利",72.900000000000006]
["3550 聯穎",15.9]
["3551 世禾",60.9]
["3552 同致",144.5]
["3555 重鵬",26.6]
["3556 禾瑞亞",63.7]
["3557 嘉威",68.8]
["3558 神準",267.5]
["3563 牧德",194]
["3564 其陽",33.700000000000003]
["3567 逸昌",29.9]
["3570 大塚",143.5]
["3576 聯合再生",20.3]
["3577 泓格",74.3]
["3580 友威科",53.6]
["3581 博磊",23.15]
["3583 辛耘",90.1]
["3587 閎康",180]
["3588 通嘉",52.8]
["3591 艾笛森",23.15]
["3592 瑞鼎",336.5]
["3593 力銘",12.8]
["3594 磐儀",50.4]
["3596 智易",112.5]
["3597 映興",25.8]
["3605 宏致",28.1]
["3607 谷崧",14.4]
["3609 三一東林",49.6]
["3611 鼎翰",236]
["3615 安可",18.649999999999999]
["3617 碩天",150]
["3622 洋華",31.1]
["3623 富晶通",16.399999999999999]
["3624 光頡",65.2]
["3625 西勝",14.35]
["3628 盈正",49.55]
["3629 地心引力",84.8]
["3630 新鉅科",28.45]
["3631 晟楠",31.4]
["3632 研勤",15.3]
["3642 駿熠電",3.87]
["3645 達邁",33.450000000000003]
["3646 艾恩特",29.8]
["3652 精聯",28.25]
["3653 健策",469.5]
["3661 世芯-KY",1410]
["3663 鑫科",31.8]
["3664 安瑞-KY",35.85]
["3665 貿聯-KY",259.5]
["3666 光耀",22.15]
["3669 圓展",41.6]
["3672 康聯訊",27.1]
["3673 TPK-KY",38.950000000000003]
["3675 德微",311.5]
["3679 新至陞",91.8]
["3680 家登",340.5]
["3682 亞太電",6.62]
["3684 榮昌",59.7]
["3685 元創精密",20.2]
["3686 達能",15.1]
["3687 歐買尬",86.3]
["3689 湧德",39.299999999999997]
["3691 碩禾",101]
["3693 營邦",188.5]
["3694 海華",25.6]
["3701 大眾控",61.4]
["3702 大聯大",50.3]
["3703 欣陸",30.7]
["3704 合勤控",41.25]
["3705 永信",45.1]
["3706 神達",28.25]
["3707 漢磊",76.599999999999994]
["3708 上緯投控",95.4]
["3709 鑫聯大投控",21.8]
["3710 連展投控",11.55]
["3711 日月光投控",104]
["3712 永崴投控",35.9]
["3713 新晶投控",27.2]
["3714 富采",47.6]
["3715 定穎投控",27.85]
["4102 永日",29.75]
["4104 佳醫",91.1]
["4105 東洋",75.099999999999994]
["4106 雃博",31.3]
["4107 邦特",114]
["4108 懷特",21]
["4109 加捷生醫",15.25]
["4111 濟生",29]
["4113 聯上",16.149999999999999]
["4114 健喬",44.25]
["4116 明基醫",59.4]
["4119 旭富",116]
["4120 友華",39.25]
["4121 優盛",28.75]
["4123 晟德",50.5]
["4126 太醫",84.4]
["4127 天良",14.9]
["4128 中天",60.8]
["4129 聯合",59.7]
["4130 健亞",28.15]
["4131 晶宇",29.2]
["4133 亞諾法",35]
["4137 麗豐-KY",232]
["4138 曜亞",102]
["4139 馬光-KY",37.5]
["4142 國光生",37.299999999999997]
["4147 中裕",111]
["4148 全宇生技-KY",57.9]
["4153 鈺緯",43.8]
["4154 樂威科-KY",30]
["4155 訊映",35.299999999999997]
["4157 太景*-KY",15]
["4160 創源",46.5]
["4161 聿新科",33.950000000000003]
["4162 智擎",93.1]
["4163 鐿鈦",136.5]
["4164 承業醫",66.900000000000006]
["4167 松瑞藥",17.05]
["4168 醣聯",30.65]
["4171 瑞基",51.7]
["4173 久裕",22.4]
["4174 浩鼎",83]
["4175 杏一",124]
["4183 福永生技",19.649999999999999]
["4188 安克",16.2]
["4190 佐登-KY",81.400000000000006]
["4192 杏國",18.2]
["4198 欣大健康",25]
["4205 中華食",104.5]
["4207 環泰",15]
["4303 信立",19.100000000000001]
["4304 勝昱",9.6999999999999993]
["4305 世坤",31.8]
["4306 炎洲",16.55]
["4401 東隆興",27]
["4402 福大",10.35]
["4406 新昕纖",10.1]
["4413 飛寶企業",14.85]
["4414 如興",2.92]
["4416 三圓",86]
["4417 金洲",42.85]
["4419 元勝",27]
["4420 光明",29.8]
["4426 利勤",22]
["4430 耀億",22.75]
["4432 銘旺實",23.1]
["4433 興采",34.549999999999997]
["4438 廣越",117]
["4439 冠星-KY",123]
["4440 宜新實業",32.6]
["4502 健信",36.950000000000003]
["4503 金雨",60.7]
["4506 崇友",75.5]
["4510 高鋒",13.5]
["4513 福裕",20.6]
["4523 永彰",34.700000000000003]
["4526 東台",16.350000000000001]
["4527 方土霖",32.200000000000003]
["4528 江興鍛",34.65]
["4529 淳紳",9.9700000000000006]
["4530 宏易",6.95]
["4532 瑞智",18.100000000000001]
["4533 協易機",12.95]
["4534 慶騰",9.4499999999999993]
["4535 至興",39.4]
["4536 拓凱",196]
["4538 大詠城",20.6]
["4540 全球傳動",40.549999999999997]
["4541 晟田",41.5]
["4542 科嶠",26.6]
["4543 萬在",28]
["4545 銘鈺",29.75]
["4549 桓達",98.7]
["4550 長佳",27.75]
["4551 智伸科",131]
["4552 力達-KY",33.1]
["4554 橙的",28.7]
["4555 氣立",48.6]
["4556 旭然",30.15]
["4557 永新-KY",115]
["4558 寶緯",29.35]
["4560 強信-KY",39.700000000000003]
["4561 健椿",23.45]
["4562 穎漢",16.899999999999999]
["4563 百德",38.6]
["4564 元翎",23]
["4566 時碩工業",54.3]
["4568 科際精密",56.5]
["4571 鈞興-KY",79.599999999999994]
["4572 駐龍",156]
["4576 大銀微系統",74.900000000000006]
["4577 達航",30.55]
["4580 捷流閥業",93.9]
["4581 光隆精密-KY",62.5]
["4583 台灣精銳",198]
["4584 君帆",47.6]
["4609 唐鋒",8.14]
["4702 中美實",13.35]
["4706 大恭",17.25]
["4707 磐亞",12.8]
["4711 永純",17.25]
["4712 南璋",4.03]
["4714 永捷",12.2]
["4716 大立",12.65]
["4720 德淵",14.85]
["4721 美琪瑪",94.1]
["4722 國精化",35.9]
["4726 永昕",38.049999999999997]
["4728 雙美",228]
["4729 熒茂",17.350000000000001]
["4735 豪展",37.65]
["4736 泰博",179.5]
["4737 華廣",74.3]
["4739 康普",87.3]
["4741 泓瀚",32.35]
["4743 合一",226]
["4744 皇將",42.2]
["4745 合富-KY",28.35]
["4746 台耀",88.5]
["4747 強生",57]
["4754 國碳科",40.799999999999997]
["4755 三福化",130.5]
["4760 勤凱",77.2]
["4763 材料-KY",520]
["4764 雙鍵",49.15]
["4766 南寶",162.5]
["4767 誠泰科技",27.3]
["4768 晶呈科技",185.5]
["4770 上品",285]
["4804 大略-KY",5.85]
["4806 昇華",5.58]
["4807 日成-KY",20.3]
["4903 聯光通",20.05]
["4904 遠傳",78.099999999999994]
["4905 台聯電",50.9]
["4906 正文",29.7]
["4907 富宇",35.75]
["4908 前鼎",38.65]
["4909 新復興",19.2]
["4911 德英",73.099999999999994]
["4912 聯德控股-KY",70.3]
["4915 致伸",62.5]
["4916 事欣科",32.25]
["4919 新唐",121.5]
["4923 力士",49.15]
["4924 欣厚-KY",12.7]
["4927 泰鼎-KY",57.2]
["4930 燦星網",25.2]
["4931 新盛力",45.6]
["4933 友輝",34.299999999999997]
["4934 太極",29.45]
["4935 茂林-KY",55.2]
["4938 和碩",71.3]
["4939 亞電",16.95]
["4942 嘉彰",38.5]
["4943 康控-KY",15.05]
["4944 兆遠",9.57]
["4945 陞達科技",49.5]
["4946 辣椒",25.5]
["4950 牧東",19.75]
["4951 精拓科",69.099999999999994]
["4952 凌通",53.8]
["4953 緯軟",115.5]
["4956 光鋐",15.85]
["4958 臻鼎-KY",107.5]
["4960 誠美材",11.35]
["4961 天鈺",153.5]
["4966 譜瑞-KY",926]
["4967 十銓",56.1]
["4968 立積",160.5]
["4971 IET-KY",54.9]
["4972 湯石照明",29.45]
["4973 廣穎",25.25]
["4974 亞泰",67.2]
["4976 佳凌",42.75]
["4977 眾達-KY",101.5]
["4979 華星光",43.9]
["4987 科誠",62.6]
["4989 榮科",26]
["4991 環宇-KY",27.75]
["4994 傳奇",47.6]
["4995 晶達",48.9]
["4999 鑫禾",37.4]
["5007 三星",52.7]
["5009 榮剛",55.2]
["5011 久陽",26.9]
["5013 強新",33.950000000000003]
["5014 建錩",15.75]
["5015 華祺",50.8]
["5016 松和",29.6]
["5201 凱衛",28.4]
["5202 力新",15.05]
["5203 訊連",92.8]
["5205 中茂",37.049999999999997]
["5206 坤悅",21.15]
["5209 新鼎",187]
["5210 寶碩",15.65]
["5211 蒙恬",28.45]
["5212 凌網",47.35]
["5213 亞昕",26.45]
["5215 科嘉-KY",47]
["5220 萬達光電",30.7]
["5222 全訊",191]
["5223 安力-KY",39.5]
["5225 東科-KY",47.1]
["5227 立凱-KY",76.099999999999994]
["5228 鈺鎧",21.3]
["5230 雷笛克光學",21]
["5234 達興材料",95.1]
["5236 凌陽創新",88.2]
["5243 乙盛-KY",67.5]
["5244 弘凱",30.7]
["5245 智晶",48.7]
["5251 天鉞電",19.95]
["5258 虹堡",87.6]
["5263 智崴",115]
["5269 祥碩",1200]
["5272 笙科",27.1]
["5274 信驊",2750]
["5276 達輝-KY",13.2]
["5278 尚凡",187]
["5281 大峽谷-KY",15.95]
["5283 禾聯碩",107.5]
["5284 jpp-KY",155]
["5285 界霖",71.599999999999994]
["5287 數字",209]
["5288 豐祥-KY",188]
["5289 宜鼎",299.5]
["5291 邑昇",31.95]
["5299 杰力",129]
["5301 寶得利",12.4]
["5302 太欣",9.59]
["5306 桂盟",143]
["5309 系統電",42.3]
["5310 天剛",28.7]
["5312 寶島科",73.599999999999994]
["5314 世紀",23.2]
["5315 光聯",21.05]
["5321 美而快",109]
["5324 士開",9.8699999999999992]
["5328 華容",13.7]
["5340 建榮",43.5]
["5344 立衛",15.95]
["5345 天揚",5.0999999999999996]
["5347 世界",90.3]
["5348 系通",10.85]
["5351 鈺創",41.95]
["5353 台林",43.75]
["5355 佳總",7.92]
["5356 協益",27.95]
["5364 力麗店",26.4]
["5371 中光電",73]
["5381 合正",17.399999999999999]
["5383 金利",28.8]
["5386 青雲",36.5]
["5388 中磊",86.7]
["5392 能率",21.05]
["5398 慕康生醫",15.9]
["5403 中菲",98.1]
["5410 國眾",34.4]
["5425 台半",90]
["5426 振發",11.55]
["5432 新門",30.9]
["5434 崇越",189]
["5438 東友",20.05]
["5439 高技",72]
["5443 均豪",28.05]
["5450 南良",20.3]
["5452 佶優",20.2]
["5455 昇益",28]
["5457 宣德",50.4]
["5460 同協",11.4]
["5464 霖宏",29.7]
["5465 富驊",34.299999999999997]
["5468 凱鈺",16.2]
["5469 瀚宇博",39.700000000000003]
["5471 松翰",49.15]
["5474 聰泰",82.2]
["5475 德宏",15]
["5478 智冠",95.7]
["5481 新華",13.1]
["5483 中美晶",148.5]
["5484 慧友",19.600000000000001]
["5487 通泰",26.05]
["5488 松普",11.85]
["5489 彩富",39.65]
["5490 同亨",24.2]
["5493 三聯",52]
["5498 凱崴",12]
["5508 永信建",64.900000000000006]
["5511 德昌",49.6]
["5512 力麒",9.51]
["5514 三豐",20.25]
["5515 建國",13.8]
["5516 雙喜",26.7]
["5519 隆大",24.25]
["5520 力泰",59.5]
["5521 工信",7.56]
["5522 遠雄",60.4]
["5523 豐謙",25.2]
["5525 順天",26.9]
["5529 鉅陞",12.15]
["5530 龍巖",37.9]
["5531 鄉林",11]
["5533 皇鼎",19.5]
["5534 長虹",78.400000000000006]
["5536 聖暉*",147.5]
["5538 東明-KY",39.950000000000003]
["5543 桓鼎-KY",45.7]
["5546 永固-KY",40.200000000000003]
["5601 台聯櫃",40.6]
["5603 陸海",20.5]
["5604 中連",49]
["5607 遠雄港",69.3]
["5608 四維航",23.75]
["5609 中菲行",83.7]
["5701 劍湖山",7.9]
["5703 亞都",21.9]
["5704 老爺知",55.2]
["5706 鳳凰",66.8]
["5864 致和證",17.8]
["5871 中租-KY",208]
["5876 上海商銀",46.55]
["5878 台名",49.35]
["5880 合庫金",27.5]
["5902 德記",44]
["5903 全家",211.5]
["5904 寶雅",550]
["5905 南仁湖",12.35]
["5906 台南-KY",59.2]
["5907 大洋-KY",15.7]
["6005 群益證",13.25]
["6015 宏遠證",9.7100000000000009]
["6016 康和證",10.8]
["6020 大展證",18.5]
["6021 美好證",16.8]
["6023 元大期",52.3]
["6024 群益期",43.95]
["6026 福邦證",12.1]
["6101 寬魚國際",36.950000000000003]
["6103 合邦",28.05]
["6104 創惟",105.5]
["6108 競國",17.3]
["6109 亞元",16.25]
["6111 大宇資",84.1]
["6112 邁達特",61.9]
["6113 亞矽",15.95]
["6114 久威",23.3]
["6115 鎰勝",45.4]
["6116 彩晶",12.1]
["6117 迎廣",14.5]
["6118 建達",31.55]
["6120 達運",10.199999999999999]
["6121 新普",307.5]
["6122 擎邦",34.200000000000003]
["6123 上奇",68.2]
["6124 業強",27.5]
["6125 廣運",28.7]
["6126 信音",24.7]
["6127 九豪",22.8]
["6128 上福",34.299999999999997]
["6129 普誠",32.4]
["6130 星寶國際",31.05]
["6133 金橋",18.5]
["6134 萬旭",22.9]
["6136 富爾特",19.399999999999999]
["6138 茂達",146.5]
["6139 亞翔",59.2]
["6140 訊達",20.3]
["6141 柏承",17.8]
["6142 友勁",12.5]
["6143 振曜",88.3]
["6144 得利影",14.55]
["6146 耕興",250]
["6147 頎邦",64.3]
["6148 驊宏資",36.549999999999997]
["6150 撼訊",69.099999999999994]
["6151 晉倫",29.2]
["6152 百一",10.3]
["6153 嘉聯益",22.9]
["6154 順發",16.45]
["6155 鈞寶",25.45]
["6156 松上",19.45]
["6158 禾昌",25.45]
["6160 欣技",33.5]
["6161 捷波",31.65]
["6163 華電網",23.3]
["6164 華興",11.65]
["6165 浪凡",32.15]
["6166 凌華",60.2]
["6167 久正",16.25]
["6168 宏齊",23.35]
["6169 昱泉",20.85]
["6170 統振",39.049999999999997]
["6171 大城地產",21.65]
["6173 信昌電",42]
["6174 安碁",28.1]
["6175 立敦",37.15]
["6176 瑞儀",114]
["6177 達麗",31.85]
["6179 亞通",30.2]
["6180 橘子",72.5]
["6182 合晶",42.8]
["6183 關貿",62.8]
["6184 大豐電",51]
["6185 幃翔",20.6]
["6186 新潤",43.4]
["6187 萬潤",61]
["6188 廣明",54.4]
["6189 豐藝",41.8]
["6190 萬泰科",31.6]
["6191 精成科",37.5]
["6192 巨路",73.8]
["6194 育富",28.95]
["6195 詩肯",46.15]
["6196 帆宣",127.5]
["6197 佳必琪",54.5]
["6198 瑞築",31.45]
["6199 天品",18.3]
["6201 亞弘電",43.65]
["6202 盛群",67]
["6203 海韻電",77.8]
["6204 艾華",56]
["6205 詮欣",70]
["6206 飛捷",70]
["6207 雷科",27.8]
["6208 日揚",54.1]
["6209 今國光",29.7]
["6210 慶生",34.85]
["6212 理銘",48.1]
["6213 聯茂",67.099999999999994]
["6214 精誠",92.3]
["6215 和椿",26.95]
["6216 居易",26.6]
["6217 中探針",41.25]
["6218 豪勉",26.65]
["6219 富旺",11.35]
["6220 岳豐",27.4]
["6221 晉泰",62.2]
["6222 上揚",14.8]
["6223 旺矽",142]
["6224 聚鼎",59.5]
["6225 天瀚",10.6]
["6226 光鼎",11.45]
["6227 茂綸",41.4]
["6228 全譜",13.5]
["6229 研通",28.1]
["6230 尼得科超眾",173]
["6231 系微",114]
["6233 旺玖",26.3]
["6234 高僑",35]
["6235 華孚",96]
["6236 康呈",20.399999999999999]
["6237 驊訊",41.5]
["6239 力成",94.7]
["6240 松崗",23.2]
["6241 易通展",14.55]
["6242 立康",77.8]
["6243 迅杰",41.65]
["6244 茂迪",35]
["6245 立端",119.5]
["6246 臺龍",13.75]
["6248 沛波",29.75]
["6257 矽格",53]
["6259 百徽",21.1]
["6261 久元",64.400000000000006]
["6263 普萊德",111.5]
["6264 富裔",7.54]
["6265 方土昶",10.35]
["6266 泰詠",43.35]
["6269 台郡",95]
["6270 倍微",22.95]
["6271 同欣電",170.5]
["6274 台燿",63.7]
["6275 元山",34.299999999999997]
["6276 安鈦克",36.1]
["6277 宏正",85.3]
["6278 台表科",95.2]
["6279 胡連",140.5]
["6281 全國電",84.2]
["6282 康舒",39.25]
["6283 淳安",31.1]
["6284 佳邦",53.9]
["6285 啟碁",86.6]
["6287 元隆",23.4]
["6288 聯嘉",32.049999999999997]
["6290 良維",58.3]
["6291 沛亨",162.5]
["6292 迅德",44.5]
["6294 智基",107.5]
["6404 通訊-KY",21.95]
["6405 悅城",23.2]
["6409 旭隼",1740]
["6411 晶焱",103]
["6412 群電",79.5]
["6414 樺漢",277]
["6415 矽力*-KY",388]
["6416 瑞祺電通",96.7]
["6417 韋僑",139.5]
["6418 詠昇",19.149999999999999]
["6419 京晨科",31.15]
["6425 易發",20.9]
["6426 統新",59.7]
["6431 光麗-KY",21.25]
["6432 今展科",36.6]
["6435 大中",100.5]
["6438 迅得",115.5]
["6441 廣錠",54.8]
["6442 光聖",48.55]
["6443 元晶",35.1]
["6446 藥華藥",334]
["6449 鈺邦",52.8]
["6451 訊芯-KY",82]
["6456 GIS-KY",74.099999999999994]
["6457 紘康",49.2]
["6461 益得",33.299999999999997]
["6462 神盾",85.2]
["6464 台數科",90.6]
["6465 威潤",21]
["6469 大樹",370]
["6470 宇智",60.4]
["6472 保瑞",787]
["6477 安集",51.2]
["6482 弘煜科",44.3]
["6485 點序",95.8]
["6486 互動",72]
["6488 環球晶",475.5]
["6491 晶碩",356.5]
["6492 生華科",49.3]
["6494 九齊",64.7]
["6496 科懋",31.5]
["6499 益安",56.5]
["6504 南六",81.099999999999994]
["6505 台塑化",88.2]
["6506 雙邦",19.5]
["6508 惠光",37.299999999999997]
["6509 聚和",42.5]
["6510 精測",471]
["6512 啟發電",19.95]
["6514 芮特-KY",57.9]
["6515 穎崴",662]
["6516 勤崴國際",91.3]
["6517 保勝光學",144.5]
["6523 達爾膚",125.5]
["6525 捷敏-KY",73.099999999999994]
["6527 明達醫",77.7]
["6530 創威",25.4]
["6531 愛普*",280]
["6532 瑞耘",51.5]
["6533 晶心科",427]
["6535 順藥",49.1]
["6538 倉和",110]
["6541 泰福-KY",79]
["6542 隆中",50]
["6546 正基",84.5]
["6547 高端疫苗",58.6]
["6548 長科*",40.950000000000003]
["6550 北極星藥業-KY",93.7]
["6552 易華電",33.5]
["6556 勝品",124.5]
["6558 興能高",29.7]
["6560 欣普羅",34.200000000000003]
["6561 是方",369.5]
["6568 宏觀",160.5]
["6569 醫揚",109]
["6570 維田",64.5]
["6573 虹揚-KY",15.9]
["6574 霈方",60.8]
["6576 逸達",87.3]
["6577 勁豐",73.8]
["6578 達邦蛋白",17.8]
["6579 研揚",97]
["6581 鋼聯",90.2]
["6582 申豐",56.2]
["6585 鼎基",58]
["6588 東典光電",30.5]
["6589 台康生技",110]
["6590 普鴻",88.1]
["6591 動力-KY",49.85]
["6592 和潤企業",126]
["6593 台灣銘板",63.3]
["6596 寬宏藝術",50.9]
["6598 ABC-KY",26.6]
["6603 富強鑫",16.899999999999999]
["6605 帝寶",100]
["6606 建德工業",28.7]
["6609 瀧澤科",34.549999999999997]
["6612 奈米醫材",160.5]
["6613 朋億*",102]
["6615 慧智",42.45]
["6616 特昇-KY",13.85]
["6624 萬年清",43]
["6625 必應",91.6]
["6629 泰金-KY",47.2]
["6640 均華",88.1]
["6641 基士德-KY",55.1]
["6642 富致",51.5]
["6643 M31",600]
["6649 台生材",40.700000000000003]
["6651 全宇昕",79.900000000000006]
["6654 天正國際",50]
["6655 科定",128.5]
["6661 威健生技",22.2]
["6662 樂斯科",31.05]
["6664 群翊",112]
["6666 羅麗芬-KY",82.3]
["6667 信紘科",72.3]
["6668 中揚光",39.200000000000003]
["6669 緯穎",1045]
["6670 復盛應用",211.5]
["6671 三能-KY",41.6]
["6672 騰輝電子-KY",80.2]
["6674 鋐寶科技",27.45]
["6679 鈺太",272.5]
["6680 鑫創電子",89.9]
["6683 雍智科技",193.5]
["6684 安格",43.6]
["6689 伊雲谷",143]
["6690 安碁資訊",183]
["6691 洋基工程",299]
["6693 廣閎科",66.5]
["6695 芯鼎",41.55]
["6697 東捷資訊",42.05]
["6698 旭暉應材",38.299999999999997]
["6703 軒郁",213]
["6706 惠特",80.900000000000006]
["6708 天擎",47.25]
["6712 長聖",214.5]
["6715 嘉基",136]
["6716 應廣",109]
["6719 力智",280]
["6721 信實",52.6]
["6727 亞泰金屬",62.4]
["6728 上洋",142]
["6732 昇佳電子",328]
["6733 博晟生醫",36.950000000000003]
["6735 美達科技",52]
["6741 91APP*-KY",141]
["6743 安普新",54.7]
["6747 亨泰光",226.5]
["6751 智聯服務",112]
["6752 叡揚",176.5]
["6753 龍德造船",115]
["6754 匯僑設計",54.2]
["6756 威鋒電子",198.5]
["6761 穩得",83.2]
["6762 達亞",220]
["6763 綠界科技",532]
["6767 台微醫",42.7]
["6768 志強-KY",69.5]
["6770 力積電",30.25]
["6776 展碁國際",54.2]
["6781 AES-KY",652]
["6782 視陽",223]
["6788 華景電",121.5]
["6789 采鈺",208]
["6790 永豐實",37.5]
["6791 虎門科技",132.5]
["6792 詠業",83]
["6796 晉弘",95.8]
["6799 來頡",139.5]
["6803 崑鼎",319]
["6804 明係",76.3]
["6806 森崴能源",106]
["6807 峰源-KY",27.5]
["6811 宏碁資訊",255]
["6823 濾能",85]
["6829 千附精密",126]
["6830 汎銓",140.5]
["6834 天二科技",26.6]
["6835 圓裕",42.25]
["6840 東研信超",70]
["6841 長佳智能",97.7]
["6843 進典",72.599999999999994]
["6846 綠茵",90.4]
["6855 數泓科",83]
["6859 伯特光",139]
["6861 睿生光電",103.5]
["6863 永道-KY",158]
["6865 偉康",85.4]
["6874 倍力",180]
["7402 邑錡",64.2]
["7556 意德士",99.3]
["8011 台通",17.850000000000001]
["8016 矽創",220.5]
["8021 尖點",29.1]
["8024 佑華",22.85]
["8027 鈦昇",45.1]
["8028 昇陽半導體",56.8]
["8032 光菱",30.2]
["8033 雷虎",62.9]
["8034 榮群",15.55]
["8038 長園科",57.1]
["8039 台虹",41.7]
["8040 九暘",42.85]
["8042 金山電",39.1]
["8043 蜜望實",27.25]
["8044 網家",53.1]
["8046 南電",288.5]
["8047 星雲",11.75]
["8048 德勝",47.95]
["8049 晶采",36.35]
["8050 廣積",78.7]
["8054 安國",31]
["8059 凱碩",13.1]
["8064 東捷",19.600000000000001]
["8066 來思達",28.95]
["8067 志旭",14.7]
["8068 全達",29]
["8069 元太",198]
["8070 長華*",34.25]
["8071 能率網通",14.7]
["8072 陞泰",27.25]
["8074 鉅橡",20.95]
["8076 伍豐",34.4]
["8077 洛碁",37.200000000000003]
["8080 永利聯合",11.4]
["8081 致新",187]
["8083 瑞穎",146]
["8084 巨虹",99.5]
["8085 福華",38.299999999999997]
["8086 宏捷科",77.2]
["8087 華鎂鑫",35.4]
["8088 品安",32.049999999999997]
["8089 康全電訊",20.75]
["8091 翔名",90.5]
["8092 建暐",11.35]
["8093 保銳",14.9]
["8096 擎亞",11.45]
["8097 常珵",55.6]
["8099 大世科",49.85]
["8101 華冠",4.8499999999999996]
["8103 瀚荃",37]
["8104 錸寶",39.799999999999997]
["8105 凌巨",13.85]
["8107 大億金茂",16.899999999999999]
["8109 博大",87.9]
["8110 華東",12.85]
["8111 立碁",20.6]
["8112 至上",44.65]
["8114 振樺電",104.5]
["8121 越峰",28.4]
["8131 福懋科",42]
["8147 正淩",61.4]
["8150 南茂",37.75]
["8155 博智",131]
["8163 達方",45.1]
["8171 天宇",54.2]
["8176 智捷",11.7]
["8182 加高",29.55]
["8183 精星",51.8]
["8201 無敵",12.2]
["8210 勤誠",88.1]
["8213 志超",38.700000000000003]
["8215 明基材",34.299999999999997]
["8222 寶一",53]
["8227 巨有科技",174]
["8234 新漢",39.9]
["8240 華宏",29.1]
["8249 菱光",29.35]
["8255 朋程",169.5]
["8261 富鼎",99.4]
["8271 宇瞻",48.65]
["8277 商丞",9.5299999999999994]
["8279 生展",180.5]
["8284 三竹",60.6]
["8289 泰藝",40]
["8291 尚茂",5.91]
["8299 群聯",373.5]
["8341 日友",157]
["8342 益張",57.5]
["8349 恒耀",62.7]
["8354 冠好",14.25]
["8358 金居",53.2]
["8367 建新國際",44.6]
["8374 羅昇",31.3]
["8383 千附",41.5]
["8390 金益鼎",44.75]
["8401 白紗科",20.75]
["8403 盛弘",36.6]
["8404 百和興業-KY",24.1]
["8409 商之器",22]
["8410 森田",37]
["8411 福貞-KY",14.9]
["8415 大國鋼",35.4]
["8416 實威",147]
["8418 捷必勝-KY",9.8699999999999992]
["8420 明揚",91.9]
["8421 旭源",14.15]
["8422 可寧衛",202]
["8423 保綠-KY",19.95]
["8424 惠普",70.5]
["8426 紅木-KY",57.9]
["8429 金麗-KY",10.65]
["8431 匯鑽科",64.3]
["8432 東生華",45.1]
["8433 弘帆",68.400000000000006]
["8435 鉅邁",62.3]
["8436 大江",177]
["8437 大地-KY",106]
["8438 昶昕",24.5]
["8440 綠電",43]
["8442 威宏-KY",83.6]
["8443 阿瘦",11.8]
["8444 綠河-KY",54]
["8446 華研",110.5]
["8450 霹靂",24.8]
["8454 富邦媒",716]
["8455 大拓-KY",21.8]
["8462 柏文",143.5]
["8463 潤泰材",25.1]
["8464 億豐",338]
["8466 美吉吉-KY",43.35]
["8467 波力-KY",57.5]
["8472 夠麻吉",38.299999999999997]
["8473 山林水",29.4]
["8476 台境",72.099999999999994]
["8477 創業家",17.100000000000001]
["8478 東哥遊艇",505]
["8481 政伸",57.5]
["8482 商億-KY",73.7]
["8488 吉源-KY",15.5]
["8489 三貝德",24.35]
["8499 鼎炫-KY",100]
["8905 裕國",27.85]
["8906 花王",16.75]
["8908 欣雄",70.2]
["8916 光隆",52.1]
["8917 欣泰",68.3]
["8921 沈氏",15]
["8923 時報",20.5]
["8924 大田",108]
["8926 台汽電",49.4]
["8927 北基",46.7]
["8928 鉅明",35.9]
["8929 富堡",21.9]
["8930 青鋼",20.100000000000001]
["8931 大汽電",67.099999999999994]
["8932 宏大",61.5]
["8933 愛地雅",11.4]
["8935 邦泰",12.25]
["8936 國統",27.1]
["8937 合騏",18.55]
["8938 明安",79.599999999999994]
["8940 新天地",28.5]
["8941 關中",54.7]
["8942 森鉅",69.7]
["8996 高力",207.5]
["9103 美德醫療-DR",6.52]
["910322 康師傅-DR",25.9]
["9105 泰金寶-DR",3.8]
["910861 神州-DR",6.3]
["9110 越南控-DR",5.87]
["911608 明輝-DR",3.21]
["911622 泰聚亨-DR",5.15]
["911868 同方友友-DR",1.19]
["912000 晨訊科-DR",2.14]
["9136 巨騰-DR",6.34]
["9802 鈺齊-KY",117.5]
["9902 台火",12.15]
["9904 寶成",31.25]
["9905 大華",25.55]
["9906 欣巴巴",48.7]
["9907 統一實",19.3]
["9908 大台北",32.299999999999997]
["9910 豐泰",197]
["9911 櫻花",64.2]
["9912 偉聯",10.050000000000001]
["9914 美利達",173]
["9917 中保科",111]
["9918 欣天然",41.5]
["9919 康那香",17.55]
["9921 巨大",201]
["9924 福興",43.8]
["9925 新保",41.7]
["9926 新海",52.9]
["9927 泰銘",45.15]
["9928 中視",21]
["9929 秋雨",9.06]
["9930 中聯資源",52.3]
["9931 欣高",40.15]
["9933 中鼎",40.799999999999997]
["9934 成霖",13.55]
["9935 慶豐富",19.399999999999999]
["9937 全國",61.6]
["9938 百和",54.9]
["9939 宏全",99.5]
["9940 信義",29.4]
["9941 裕融",190]
["9942 茂順",159.5]
["9943 好樂迪",79.3]
["9944 新麗",21.95]
["9945 潤泰新",35.1]
["9946 三發地產",14.15]
["9949 琉園",15]
["9950 萬國通",12.15]
["9951 皇田",70.599999999999994]
["9955 佳龍",26.7]
["9958 世紀鋼",98.9]
["9960 邁達康",30.85]
["9962 有益",19.95]